{"text_format":"1","workbook":"xlsx","n_sheets":20,"sheets":["Participation","PRI_both_methods","PRI","PRI_MOE","Unemp","Timely","Calculated Fields","Churn","tbl_data_dashboard","DD_Jun2016","tbl_churn_data","Tables_June16","StatewideCharts","AllCountiesData","LgMedSmCountyData","Comp PAI 2013-14","HowTo","LrgCtyDashboard","MedCtyDashboard","SmCtyDashboard"],"not_rendered":{"charts":47,"images":6,"macros":1,"external_links":2,"defined_names":23,"comments":4,"pivot_tables":16},"unopened":[],"bounds":{"document_bytes":16777216,"sheet_cells":100000,"rows_first":2000,"rows_last":500,"rows_between":2000,"halvings":0,"cell_chars":16384,"cell_head_chars":4096},"cells_cut":0,"cells_raw":0,"read":"whole","date_system":"1900"}

{"sheet":"Participation","index":0,"n_rows":64,"n_cols":22,"rows_kept":64,"cut":false,"hidden":true,"merged":[]}
[]
[null,"PRIOR YEAR",null,null,null,null,null,"CURRENT Quarter"]
["Sum of qtr_calfresh_pers_ly","Column Labels",null,null,null,null,null,"Sum of qtr_calfresh_pers_curr_qtr"]
[null,2012,2013,null,null,null,null,null,"2013",null,null,null,"2014",null,null,null,"2015",null,null,null,"2016"]
["Row Labels",4,1,2,3,4,null,null,"Qtr1","Qtr2","Qtr3","Qtr4","Qtr1","Qtr2","Qtr3","Qtr4","Qtr1","Qtr2","Qtr3","Qtr4","Qtr1","Qtr2"]
["California",3905210,3956654,3996483,4074650,4147355,null,"California",4194682,4202850,4221057,4285622,4351103,4393812,4476030,4477428,4445534,4462799,4480570,4483272,4431790,4369738]
["Alameda",120874,122112,123210,124622,126571,null,"Alameda",126482,126214,125835,129167,128065,127457,125434,123955,121684,119790,121577,121539,118228,117298]
["Alpine",144,152,145,147,137,null,"Alpine",151,153,171,154,176,180,194,185,171,163,171,164,158,155]
["Amador",3032,3081,3214,3287,3340,null,"Amador",3319,3262,3280,3261,3428,3411,3373,3308,3278,3438,3445,3440,3384,3415]
["Butte",28120,28228,28623,29226,29899,null,"Butte",29807,29770,30211,30365,30348,30559,31036,31231,31299,31927,32207,32287,32167,32218]
["Calaveras",4774,4875,5000,4998,4951,null,"Calaveras",5004,5023,4969,4866,5060,5094,5231,5378,5421,5509,5498,5406,5246,5156]
["Colusa",1628,1707,1810,1728,1600,null,"Colusa",1820,1840,1710,1624,1749,1810,1722,1540,1627,1725,1563,1319,1325,1434]
["Contra Costa",66920,67029,67462,68789,70227,null,"Contra Costa",68857,68625,67763,70212,71039,71884,76061,77345,72012,71323,72362,71977,70493,69736]
["Del Norte",5203,5366,5423,5445,5247,null,"Del Norte",5251,5149,5132,5032,5205,5175,5227,5167,5136,5146,5205,5281,5361,5369]
["El Dorado",11284,11341,11522,11620,11772,null,"El Dorado",11975,11947,11765,11497,11899,12431,12479,12578,13063,13261,13278,13063,12975,12850]
["Fresno",208200,211602,213832,215016,215286,null,"Fresno",219915,220493,217757,220916,226573,230446,224430,223686,227846,229388,227770,227643,226870,224870]
["Glenn",3253,3384,3422,3419,3436,null,"Glenn",3555,3606,3549,3412,3606,3735,3697,3565,3684,3682,3645,3551,3581,3655]
["Humboldt",14973,15105,15302,15495,15547,null,"Humboldt",15689,15819,16507,16624,17196,18257,19098,19813,20309,20875,21066,21435,21226,21361]
["Imperial",35463,35317,35099,36091,37524,null,"Imperial",36983,36277,37083,38207,38782,38209,40394,42202,42073,42432,43485,44547,43457,42432]
["Inyo",1838,1954,1945,1951,1967,null,"Inyo",1992,2058,2132,2028,2152,2198,2149,2093,2064,2073,2076,2138,2104,2089]
["Kern",134045,136622,138799,140798,140403,null,"Kern",144045,144678,144653,142748,147170,147731,148150,147285,149749,157116,160254,161315,163371,165582]
["Kings",22197,22772,23029,22949,22594,null,"Kings",23337,23729,23543,22985,23815,24396,24002,23550,24051,24693,24942,24665,25133,24891]
["Lake",9863,9935,10174,10039,10118,null,"Lake",10232,10263,10453,10290,10622,10896,11036,11283,11629,11957,12127,14694,12618,12649]
["Lassen",2980,2931,2948,2933,2956,null,"Lassen",2939,2954,2971,3015,3149,3235,3168,3216,3182,3212,3205,3144,3164,3154]
["Los Angeles",1055754,1058962,1059973,1093422,1124832,null,"Los Angeles",1133944,1134472,1148512,1169214,1177757,1180079,1193453,1190842,1185400,1178282,1183107,1171844,1148399,1115699]
["Madera",25548,26172,26783,26670,25845,null,"Madera",26692,27189,26856,26658,28263,29027,28885,28701,29310,29932,29699,29653,30164,29647]
["Marin",8995,8957,9221,9408,9538,null,"Marin",9420,9542,9774,9846,9998,10224,10397,10475,10403,10485,10687,10717,10420,10351]
["Mariposa",1704,1730,1783,1804,1746,null,"Mariposa",1837,1828,1855,1905,2034,2059,1974,1972,2033,2127,2152,2075,2098,2101]
["Mendocino",13222,13454,13785,13660,13612,null,"Mendocino",13483,13205,13202,13061,13415,14074,14007,13591,13178,13008,13204,13395,13099,12720]
["Merced",51481,52771,53475,53940,53540,null,"Merced",55147,55780,55568,54349,55842,57288,57733,57128,57836,58981,58778,57934,58122,57715]
["Modoc",1000,1021,1046,997,959,null,"Modoc",965,955,935,952,963,997,1001,1033,1023,1012,966,972,1061,1050]
["Mono",570,698,709,709,619,null,"Mono",703,606,656,644,823,920,855,778,849,852,856,768,797,790]
["Monterey",39133,44819,47110,44518,41994,null,"Monterey",48096,50064,46145,43325,51281,53709,49132,45843,52560,54990,50601,48021,54487,55488]
["Napa",6993,7073,7209,7287,7181,null,"Napa",7165,7097,6710,6599,7164,7455,7324,7124,7421,7653,7444,7414,7533,7533]
["Nevada",6345,6509,6919,7105,7339,null,"Nevada",7389,7327,7452,7422,7593,7813,7804,7687,7705,7675,7776,7833,7694,7768]
["Orange",205059,209924,213200,218827,225212,null,"Orange",227792,230478,232862,240817,245759,248563,270245,273208,253714,254662,257750,260178,257551,254598]
["Placer",17899,17900,18082,17815,17834,null,"Placer",17706,17632,17673,18178,18465,18437,18455,18731,18407,18325,18190,18090,17969,17795]
["Plumas",1514,1564,1662,1654,1612,null,"Plumas",1759,1729,1604,1660,1844,1951,1793,1888,2030,2151,1993,2010,2208,2239]
["Riverside",253780,259798,259750,267997,276481,null,"Riverside",276891,274951,278117,284797,287272,285410,289618,296194,292785,290231,295239,299730,293265,287669]
["Sacramento",199285,200011,200900,204104,208709,null,"Sacramento",210145,209287,210033,213386,213072,215919,217077,220147,219747,219096,219932,220373,218604,215894]
["San Benito",6125,6211,6186,6114,6053,null,"San Benito",6390,6339,6232,5979,6378,6390,6169,5905,6193,6283,5988,5936,5967,5850]
["San Bernardino",342917,346744,350194,361404,368935,null,"San Bernardino",368618,369163,373620,378592,382585,385964,392265,399898,398410,398523,403228,405834,396730,392070]
["San Diego",235332,240771,243130,246971,253631,null,"San Diego",253991,256921,260576,270406,272951,276963,300896,285499,287399,289089,291188,293435,291088,287392]
["San Francisco",51367,50905,50876,50894,50994,null,"San Francisco",50440,50482,50124,50731,50484,51155,53900,54246,50987,51449,52180,52684,52672,52749]
["San Joaquin",102770,104725,106481,107532,108719,null,"San Joaquin",110995,112172,113230,113328,114754,116685,118029,119161,120014,122470,122077,121228,119261,118036]
["San Luis Obispo",17122,17679,17630,17269,17603,null,"San Luis Obispo",17743,17852,17319,17380,17988,18502,17983,17677,18402,18578,18642,18677,18697,18513]
["San Mateo",25111,26275,27156,28106,28900,null,"San Mateo",28487,28842,29339,31071,32181,32354,32208,32074,31880,31947,31752,31527,30873,30014]
["Santa Barbara",30550,31120,33118,32030,31696,null,"Santa Barbara",33164,34310,32221,32271,34841,36132,34497,34829,37090,37966,36443,36809,39696,40218]
["Santa Clara",99799,100983,103487,105676,108071,null,"Santa Clara",108748,110071,110622,112280,112246,113186,113439,113741,112449,111985,110974,109453,106496,105301]
["Santa Cruz",19790,20577,22588,22390,21161,null,"Santa Cruz",23021,24017,22732,22237,23647,24910,23719,23430,25385,26274,25934,25930,27374,27613]
["Shasta",24418,24418,24673,25025,24689,null,"Shasta",23749,23665,23709,22949,23916,24283,24671,24856,24775,25180,25293,25247,24753,24569]
["Sierra",239,262,266,302,292,null,"Sierra",314,306,305,293,299,306,294,298,320,324,317,307,297,271]
["Siskiyou",5784,5978,6089,6100,6114,null,"Siskiyou",6426,6527,6486,6523,6927,7024,6907,6911,6993,7132,6992,7026,7116,6942]
["Solano",38995,39019,39399,40161,41119,null,"Solano",41335,41065,41287,41998,42499,43407,43531,43554,43385,43830,44119,44388,43644,42828]
["Sonoma",31820,31838,33291,34447,34288,null,"Sonoma",40348,34800,34451,34664,34735,35221,34951,35567,35677,36090,36183,35691,35037,34425]
["Stanislaus",84867,85530,86863,88848,89458,null,"Stanislaus",90507,90467,91048,90962,92065,92163,92778,91500,91585,92704,92572,92379,90153,89096]
["Sutter",11259,11667,11972,11946,11901,null,"Sutter",12365,12460,12440,12119,12740,12986,13083,12903,13047,13160,13236,13230,13253,13467]
["Tehama",9262,9410,9592,9899,9693,null,"Tehama",9737,9682,9916,10181,10409,10963,11155,10646,10255,10371,10543,10600,10136,10196]
["Trinity",1463,1531,1513,1557,1638,null,"Trinity",1613,1548,1516,1561,1609,1775,1838,1880,1829,1808,1867,1862,1796,1757]
["Tulare",105927,108269,109820,110086,110559,null,"Tulare",114115,115236,114774,116505,120087,123505,132774,133499,123898,125269,123955,125031,125618,125132]
["Tuolumne",5073,5211,5167,5103,5153,null,"Tuolumne",5253,5227,5153,5192,5409,5567,5556,5465,5414,5559,5603,5707,5609,5493]
["Ventura",62970,63349,64668,64382,66179,null,"Ventura",66999,67793,66971,69194,69753,71740,77031,78777,74220,75528,75003,76720,76144,75635]
["Yolo",16160,16466,16835,16880,16929,null,"Yolo",16966,16990,16629,17295,17981,18353,18273,18981,20044,20591,20610,21088,21479,21293]
["Yuba",13017,12840,12923,13058,12952,null,"Yuba",12871,12913,12919,12695,13040,13249,13449,13409,13204,13517,13621,13868,13569,13507]

{"sheet":"PRI_both_methods","index":1,"n_rows":70,"n_cols":11,"rows_kept":70,"cut":false,"hidden":true,"merged":[[68,0,68,3],[43,0,43,3],[44,0,44,3],[45,0,45,3],[69,0,69,3],[66,0,66,3],[67,0,67,3]]}
[null,null,null,null,null,null,"Clean table"]
["Single Year Counties","2013 PRI","2014 PRI","2015 PRI (using the OLD 2014 Methodology)","2015 PRI (using NEW REFINED Methodology)*",null,"County",{"$f":"B2","v":"2013 PRI"},{"$f":"C2","v":"2014 PRI"},{"$f":"D2","v":"2015 PRI (using the OLD 2014 Methodology)"},{"$f":"E2","v":"2015 PRI (using NEW REFINED Methodology)*"}]
["California",0.58445879084383345,0.63447971898872491,0.67277677227828037,0.69733016424114824,null,"California",0.58445879084383345,0.63447971898872491,0.67277677227828037,0.69733016424114824]
["Alameda County",0.56717244038342607,0.58770588854592853,0.60987809222801859,0.6372229790855547,null,"Alameda",0.56717244038342607,0.58770588854592853,0.60987809222801859,0.6372229790855547]
["Butte County",0.52065366997840645,0.56693046889491883,0.59685328025900941,0.60002261475812002,null,"Alpine              ",0.70134951054248518,0.80292964974253522,0.66597195415907617,0.66597195415907617]
["Contra Costa County",0.47067971198742864,0.57143348851746278,0.5354193677348732,0.55604114791387682,null,"Amador              ",0.65704441950440784,0.66465992098604165,0.72542229212323805,0.73183059517474591]
["El Dorado County",0.44106704599832475,0.45696364279304263,0.64643510242871283,0.65409556790410273,null,"Butte",0.52065366997840645,0.56693046889491883,0.59685328025900941,0.60002261475812002]
["Fresno County",0.78293622520574913,0.80626906421255717,0.85375579918835032,0.87322270167921334,null,"Calaveras           ",0.82427123354235265,0.80293519722539908,0.82877755266851627,0.83412168219338856]
["Humboldt County",0.474035923417713,0.56563435374326043,0.65366844238754673,0.65877861627084822,null,"Colusa              ",0.46113151104422845,0.39141984295657661,0.3776273460903154,0.39781260650221328]
["Imperial County",0.81464017162211388,0.89508144333471995,0.89838759244901978,0.90733457568972442,null,"Contra Costa",0.47067971198742864,0.57143348851746278,0.5354193677348732,0.55604114791387682]
["Kern County",0.64036520264020891,0.6560986851203231,0.74693773553561449,0.76605508020541824,null,"Del Norte           ",0.86431084940613745,0.91507601883208589,0.90211682407480931,0.90731769369194393]
["Kings County",0.66930047437077489,0.61675060236025636,0.67474763879559019,0.68600653300893477,null,"El Dorado",0.44106704599832475,0.45696364279304263,0.64643510242871283,0.65409556790410273]
["Lake County",0.58994489464318189,0.6317675039698486,0.81449989498413278,0.83474883738835326,null,"Fresno",0.78293622520574913,0.80626906421255717,0.85375579918835032,0.87322270167921334]
["Los Angeles County",0.54211494769640123,0.58334051625028915,0.63436994966242644,0.66276061455130608,null,"Glenn               ",0.56850757302200194,0.55838355889207381,0.54233833346410831,0.55587898296053628]
["Madera County",0.69096227737139893,0.74120990607815518,0.89656219704480911,0.91808234301547598,null,"Humboldt",0.474035923417713,0.56563435374326043,0.65366844238754673,0.65877861627084822]
["Marin County",0.41976609833322831,0.45416962715835596,0.42925282304347467,0.44650733867359088,null,"Imperial",0.81464017162211388,0.89508144333471995,0.89838759244901978,0.90733457568972442]
["Mendocino County",0.58791930175161367,0.69491422244138812,0.6648515258526434,0.68801460976166073,null,"Inyo                ",0.73946492362442684,0.72042269416670368,0.78783026095429742,0.80302969461806784]
["Merced County",0.78565860623862072,0.76763611001397902,0.71924057081335036,0.73586842548148068,null,"Kern",0.64036520264020891,0.6560986851203231,0.74693773553561449,0.76605508020541824]
["Monterey County",0.56469538837346811,0.65190822926998127,0.72314144791323864,0.75962434950577884,null,"Kings",0.66930047437077489,0.61675060236025636,0.67474763879559019,0.68600653300893477]
["Napa County",0.40661393682295693,0.52160944627671246,0.37274244210740309,0.38161673999826451,null,"Lake",0.58994489464318189,0.6317675039698486,0.81449989498413278,0.83474883738835326]
["Nevada County",0.44248242080254063,0.61057440393830054,0.42039559282234817,0.42800062583066384,null,"Lassen              ",0.67780447504446817,0.78611426364455528,0.84802942394227487,0.85393368079206677]
["Orange County",0.51788536634810356,0.58262619430581397,0.58535493763804924,0.61073927765205804,null,"Los Angeles",0.54211494769640123,0.58334051625028915,0.63436994966242644,0.66276061455130608]
["Placer County",0.44976744876628461,0.44945277490867924,0.46121403447851866,0.47371604310456833,null,"Madera",0.69096227737139893,0.74120990607815518,0.89656219704480911,0.91808234301547598]
["Riverside County",0.59124914316236565,0.63751163857777993,0.66813191240093062,0.69484033727327177,null,"Marin",0.41976609833322831,0.45416962715835596,0.42925282304347467,0.44650733867359088]
["Sacramento County",0.68101648407910953,0.7368741653264238,0.81048475667766173,0.83260287264778898,null,"Mariposa            ",0.58782568148826908,0.63584459078564948,0.68669250275697535,0.68894049645505728]
["San Bernardino County",0.84152610654688464,0.85480513964161331,0.90360277678628242,0.92665518793589696,null,"Mendocino",0.58791930175161367,0.69491422244138812,0.6648515258526434,0.68801460976166073]
["San Diego County",0.4659832261291611,0.5173190533272255,0.54997622118609224,0.57292109557354953,null,"Merced",0.78565860623862072,0.76763611001397902,0.71924057081335036,0.73586842548148068]
["San Francisco County",0.40594685641860467,0.51877955213904448,0.49532500802598922,0.50698302103297233,null,"Modoc               ",0.36099657830335341,0.4472268901875262,0.48897679653511594,0.49576448172215082]
["San Joaquin County",0.71282208923144241,0.75448405858440615,0.90425868038583568,0.92455081561557007,null,"Mono                ",0.31554896752066686,0.49939412291526875,0.60732792982295192,0.69164149189032076]
["San Luis Obispo County",0.36625752524840383,0.39378556835265566,0.40199773530535732,0.40872986695625607,null,"Monterey",0.56469538837346811,0.65190822926998127,0.72314144791323864,0.75962434950577884]
["San Mateo County",0.42299145074748989,0.5047687081036859,0.42301447742646581,0.44253944353777569,null,"Napa",0.40661393682295693,0.52160944627671246,0.37274244210740309,0.38161673999826451]
["Santa Barbara County",0.41419200848854154,0.42200119780622236,0.48042329024914165,0.50750380291810415,null,"Nevada",0.44248242080254063,0.61057440393830054,0.42039559282234817,0.42800062583066384]
["Santa Clara County",0.50311228218070525,0.65194601619115522,0.64838042332710599,0.68854903421894531,null,"Orange",0.51788536634810356,0.58262619430581397,0.58535493763804924,0.61073927765205804]
["Santa Cruz County",0.54467417520778982,0.50502675093748539,0.5625865548580371,0.57953642042354159,null,"Placer",0.44976744876628461,0.44945277490867924,0.46121403447851866,0.47371604310456833]
["Shasta County",0.58273132182190857,0.83034253379074596,0.68802202754921316,0.69300660294121874,null,"Plumas              ",0.43854437804865226,0.5261404932248257,0.58302511336132146,0.59469382647241054]
["Solano County",0.66764538469704438,0.76925949545071659,0.65904918245549171,0.67496232970642456,null,"Riverside",0.59124914316236565,0.63751163857777993,0.66813191240093062,0.69484033727327177]
["Sonoma County",0.49066532056361034,0.50345315035929272,0.59704516148187359,0.61995535705282345,null,"Sacramento",0.68101648407910953,0.7368741653264238,0.81048475667766173,0.83260287264778898]
["Stanislaus County",0.72214889693563,0.79497781177320248,0.84763916078607604,0.87422444234218655,null,"San Benito          ",0.72675062462478957,0.70741531862364759,0.75036040365303192,0.78347499663269027]
["Sutter County",0.53769509167762497,0.8091986651521671,0.58081523430024806,0.59198717459615158,null,"San Bernardino",0.84152610654688464,0.85480513964161331,0.90360277678628242,0.92665518793589696]
["Tulare County",0.77504881539151371,0.90358518151528189,0.88638956313704098,0.91335509939391257,null,"San Diego",0.4659832261291611,0.5173190533272255,0.54997622118609224,0.57292109557354953]
["Ventura County",0.60105354961794943,0.64997993128460252,0.7992226104353618,0.8310954940650721,null,"San Francisco",0.40594685641860467,0.51877955213904448,0.49532500802598922,0.50698302103297233]
["Yolo County",0.39257891056597655,0.3707119276196772,0.49698114267716353,0.50741494929932407,null,"San Joaquin",0.71282208923144241,0.75448405858440615,0.90425868038583568,0.92455081561557007]
["Yuba County",0.89556978387526243,0.76618871197473415,0.71452450591554295,0.72442693271347103,null,"San Luis Obispo",0.36625752524840383,0.39378556835265566,0.40199773530535732,0.40872986695625607]
["Sources: 1) 2013, 2014 and 2015 American Community Survey Single-Year Estimates",null,null,null,null,null,"San Mateo",0.42299145074748989,0.5047687081036859,0.42301447742646581,0.44253944353777569]
["                2) 2013, 2014 and 2015 ACS PUMS Single-Year Estimates",null,null,null,null,null,"Santa Barbara",0.41419200848854154,0.42200119780622236,0.48042329024914165,0.50750380291810415]
["                3) Medi-Cal Eligibility Data Systems (MEDS)",null,null,null,null,null,"Santa Clara",0.50311228218070525,0.65194601619115522,0.64838042332710599,0.68854903421894531]
[null,null,null,null,null,null,"Santa Cruz",0.54467417520778982,0.50502675093748539,0.5625865548580371,0.57953642042354159]
["Five Year Counties","2013 PRI","2014 PRI","2015 PRI (using the OLD 2014 Methodology)","2015 PRI (using NEW REFINED Methodology)*",null,"Shasta",0.58273132182190857,0.83034253379074596,0.68802202754921316,0.69300660294121874]
["  Alpine              ",0.70134951054248518,0.80292964974253522,0.66597195415907617,0.66597195415907617,null,"Sierra",0.43626999716296844,0.56159427452170951,0.59693299147620482,0.60385382870597404]
["  Amador              ",0.65704441950440784,0.66465992098604165,0.72542229212323805,0.73183059517474591,null,"Siskiyou",0.62649903974722321,0.60582435845117577,0.60891891927817021,0.61723183482887178]
["  Calaveras           ",0.82427123354235265,0.80293519722539908,0.82877755266851627,0.83412168219338856,null,"Solano",0.66764538469704438,0.76925949545071659,0.65904918245549171,0.67496232970642456]
["  Colusa              ",0.46113151104422845,0.39141984295657661,0.3776273460903154,0.39781260650221328,null,"Sonoma",0.49066532056361034,0.50345315035929272,0.59704516148187359,0.61995535705282345]
["  Del Norte           ",0.86431084940613745,0.91507601883208589,0.90211682407480931,0.90731769369194393,null,"Stanislaus",0.72214889693563,0.79497781177320248,0.84763916078607604,0.87422444234218655]
["  Glenn               ",0.56850757302200194,0.55838355889207381,0.54233833346410831,0.55587898296053628,null,"Sutter",0.53769509167762497,0.8091986651521671,0.58081523430024806,0.59198717459615158]
["  Inyo                ",0.73946492362442684,0.72042269416670368,0.78783026095429742,0.80302969461806784,null,"Tehama",0.69231531437680793,0.76327104213104657,0.68278862206195789,0.69554949293710311]
["  Lassen              ",0.67780447504446817,0.78611426364455528,0.84802942394227487,0.85393368079206677,null,"Trinity",0.50150279286577459,0.5912422140107656,0.56123503582719936,0.56469445800616525]
["  Mariposa            ",0.58782568148826908,0.63584459078564948,0.68669250275697535,0.68894049645505728,null,"Tulare",0.77504881539151371,0.90358518151528189,0.88638956313704098,0.91335509939391257]
["  Modoc               ",0.36099657830335341,0.4472268901875262,0.48897679653511594,0.49576448172215082,null,"Tuolumne",0.5308063709413704,0.55096208037690064,0.61580153533595838,0.61887154616755258]
["  Mono                ",0.31554896752066686,0.49939412291526875,0.60732792982295192,0.69164149189032076,null,"Ventura",0.60105354961794943,0.64997993128460252,0.7992226104353618,0.8310954940650721]
["  Plumas              ",0.43854437804865226,0.5261404932248257,0.58302511336132146,0.59469382647241054,null,"Yolo",0.39257891056597655,0.3707119276196772,0.49698114267716353,0.50741494929932407]
["  San Benito          ",0.72675062462478957,0.70741531862364759,0.75036040365303192,0.78347499663269027,null,"Yuba",0.89556978387526243,0.76618871197473415,0.71452450591554295,0.72442693271347103]
["  Sierra              ",0.43626999716296844,0.56159427452170951,0.59693299147620482,0.60385382870597404]
["  Siskiyou            ",0.62649903974722321,0.60582435845117577,0.60891891927817021,0.61723183482887178]
["  Tehama              ",0.69231531437680793,0.76327104213104657,0.68278862206195789,0.69554949293710311]
["  Trinity             ",0.50150279286577459,0.5912422140107656,0.56123503582719936,0.56469445800616525]
["  Tuolumne            ",0.5308063709413704,0.55096208037690064,0.61580153533595838,0.61887154616755258]
["Sources: 1) 2009-2013, 2010-2014, and 2011-2015 American Community Survey Five-Years Estimates"]
["                2)  2009-2013 and 2010-2014 ACS PUMS five-Year Estimates"]
["                3) Medi-Cal Eligibility Data Systems (MEDS)"]
["*NOTE: NEW METHODOLOGY includes a more precise estimates of eligible individuals"]

{"sheet":"PRI","index":2,"n_rows":63,"n_cols":10,"rows_kept":63,"cut":false,"hidden":true,"merged":[]}
[]
[null,null,null,null,null,null,null,null,"2015 Methodology Adjusted to remove undoc children!"]
["Max of ann_eligibles_excl_undocs_ssi_2yr_prior","Column Labels",null,null,"Max of ann_eligibles_excl_undocs_ssi_yr_of_report","Column Labels"]
["Row Labels",2012,2013,null,"Row Labels",2012,2013,2014,2015,2016]
["California",0.50900000000000001,0.55200000000000005,null,"California",0.56999999999999995,0.58399999999999996,0.63400000000000001,0.69733016424114824,0]
["Alameda",0.47199999999999998,0.52500000000000002,null,"Alameda",0.56499999999999995,0.56699999999999995,0.58770588854592853,0.6372229790855547,0]
["Alpine",0.01,0.72099999999999997,null,"Alpine",0.749,0.70099999999999996,0.80292964974253522,0.66597195415907617,0]
["Amador",0.75700000000000001,0.70299999999999996,null,"Amador",0.76700000000000002,0.65700000000000003,0.66465992098604165,0.73183059517474591,0]
["Butte",0.51600000000000001,0.443,null,"Butte",0.51200000000000001,0.52100000000000002,0.56693046889491883,0.60002261475812002,0]
["Calaveras",0.80600000000000005,0.95499999999999996,null,"Calaveras",0.83099999999999996,0.82399999999999995,0.80293519722539908,0.83412168219338856,0]
["Colusa",0.379,0.38,null,"Colusa",0.38900000000000001,0.46100000000000002,0.39141984295657661,0.39781260650221328,0]
["Contra Costa",0.48499999999999999,0.432,null,"Contra Costa",0.50700000000000001,0.47099999999999997,0.57143348851746278,0.55604114791387682,0]
["Del Norte",0.85899999999999999,0.95399999999999996,null,"Del Norte",0.94399999999999995,0.86399999999999999,0.91507601883208589,0.90731769369194393,0]
["El Dorado",0.47299999999999998,0.435,null,"El Dorado",0.60599999999999998,0.441,0.45696364279304263,0.65409556790410273,0]
["Fresno",0.78300000000000003,0.78900000000000003,null,"Fresno",0.75800000000000001,0.78300000000000003,0.80626906421255717,0.87322270167921334,0]
["Glenn",0.56599999999999995,0.54400000000000004,null,"Glenn",0.53700000000000003,0.56899999999999995,0.55838355889207381,0.55587898296053628,0]
["Humboldt",0.49399999999999999,0.5,null,"Humboldt",0.46700000000000003,0.47399999999999998,0.56563435374326043,0.65877861627084822,0]
["Imperial",0.70699999999999996,0.65100000000000002,null,"Imperial",0.80800000000000005,0.81499999999999995,0.89508144333471995,0.90733457568972442,0]
["Inyo",0.65900000000000003,0.68799999999999994,null,"Inyo",0.77700000000000002,0.73899999999999999,0.72042269416670368,0.80302969461806784,0]
["Kern",0.59599999999999997,0.626,null,"Kern",0.65400000000000003,0.64,0.6560986851203231,0.76605508020541824,0]
["Kings",0.57199999999999995,0.78300000000000003,null,"Kings",0.68600000000000005,0.66900000000000004,0.61675060236025636,0.68600653300893477,0]
["Lake",0.48499999999999999,0.52,null,"Lake",0.52300000000000002,0.59,0.6317675039698486,0.83474883738835326,0]
["Lassen",0.74099999999999999,0.71699999999999997,null,"Lassen",0.65800000000000003,0.67800000000000005,0.78611426364455528,0.85393368079206677,0]
["Los Angeles",0.47399999999999998,0.52100000000000002,null,"Los Angeles",0.53900000000000003,0.54200000000000004,0.58334051625028915,0.66276061455130608,0]
["Madera",0.68300000000000005,0.75700000000000001,null,"Madera",0.69299999999999995,0.69099999999999995,0.74120990607815518,0.91808234301547598,0]
["Marin",0.307,0.311,null,"Marin",0.46300000000000002,0.42,0.45416962715835596,0.44650733867359088,0]
["Mariposa",0.5,0.57399999999999995,null,"Mariposa",0.623,0.58799999999999997,0.63584459078564948,0.68894049645505728,0]
["Mendocino",0.52,0.61099999999999999,null,"Mendocino",0.68700000000000006,0.58799999999999997,0.69491422244138812,0.68801460976166073,0]
["Merced",0.77500000000000002,0.63200000000000001,null,"Merced",0.79,0.78600000000000003,0.76763611001397902,0.73586842548148068,0]
["Modoc",0.49399999999999999,0.41399999999999998,null,"Modoc",0.40899999999999997,0.36099999999999999,0.4472268901875262,0.49576448172215082,0]
["Mono",0.22900000000000001,0.23200000000000001,null,"Mono",0.313,0.316,0.49939412291526875,0.69164149189032076,0]
["Monterey",0.439,0.47599999999999998,null,"Monterey",0.55600000000000005,0.56499999999999995,0.65190822926998127,0.75962434950577884,0]
["Napa",0.309,0.312,null,"Napa",0.39300000000000002,0.40699999999999997,0.52160944627671246,0.38161673999826451,0]
["Nevada",0.39100000000000001,0.39500000000000002,null,"Nevada",0.495,0.442,0.61057440393830054,0.42800062583066384,0]
["Orange",0.39500000000000002,0.45,null,"Orange",0.48199999999999998,0.51800000000000002,0.58262619430581397,0.61073927765205804,0]
["Placer",0.33,0.41599999999999998,null,"Placer",0.42599999999999999,0.45,0.44945277490867924,0.47371604310456833,0]
["Plumas",0.38800000000000001,0.44700000000000001,null,"Plumas",0.46100000000000002,0.439,0.5261404932248257,0.59469382647241054,0]
["Riverside",0.47799999999999998,0.55400000000000005,null,"Riverside",0.55400000000000005,0.59099999999999997,0.63751163857777993,0.69484033727327177,0]
["Sacramento",0.69,0.70299999999999996,null,"Sacramento",0.65800000000000003,0.68100000000000005,0.7368741653264238,0.83260287264778898,0]
["San Benito",0.74299999999999999,0.82899999999999996,null,"San Benito",0.72099999999999997,0.72699999999999998,0.70741531862364759,0.78347499663269027,0]
["San Bernardino",0.69699999999999995,0.78800000000000003,null,"San Bernardino",0.75600000000000001,0.84199999999999997,0.85480513964161331,0.92665518793589696,0]
["San Diego",0.33700000000000002,0.41199999999999998,null,"San Diego",0.438,0.46600000000000003,0.5173190533272255,0.57292109557354953,0]
["San Francisco",0.39400000000000002,0.42599999999999999,null,"San Francisco",0.42,0.40600000000000003,0.51877955213904448,0.50698302103297233,0]
["San Joaquin",0.63,0.72399999999999998,null,"San Joaquin",0.77600000000000002,0.71299999999999997,0.75448405858440615,0.92455081561557007,0]
["San Luis Obispo",0.34599999999999997,0.34499999999999997,null,"San Luis Obispo",0.40200000000000002,0.36599999999999999,0.39378556835265566,0.40872986695625607,0]
["San Mateo",0.29899999999999999,0.32600000000000001,null,"San Mateo",0.38200000000000001,0.42299999999999999,0.5047687081036859,0.44253944353777569,0]
["Santa Barbara",0.32900000000000001,0.47799999999999998,null,"Santa Barbara",0.41799999999999998,0.41399999999999998,0.42200119780622236,0.50750380291810415,0]
["Santa Clara",0.433,0.48,null,"Santa Clara",0.47699999999999998,0.503,0.65194601619115522,0.68854903421894531,0]
["Santa Cruz",0.46,0.499,null,"Santa Cruz",0.58799999999999997,0.54500000000000004,0.50502675093748539,0.57953642042354159,0]
["Shasta",0.58899999999999997,0.57699999999999996,null,"Shasta",0.74,0.58299999999999996,0.83034253379074596,0.69300660294121874,0]
["Sierra",0.59399999999999997,0.40899999999999997,null,"Sierra",0.45600000000000002,0.436,0.56159427452170951,0.60385382870597404,0]
["Siskiyou",0.59399999999999997,0.58299999999999996,null,"Siskiyou",0.59699999999999998,0.626,0.60582435845117577,0.61723183482887178,0]
["Solano",0.65300000000000002,0.65400000000000003,null,"Solano",0.61699999999999999,0.66800000000000004,0.76925949545071659,0.67496232970642456,0]
["Sonoma",0.33400000000000002,0.45500000000000002,null,"Sonoma",0.45500000000000002,0.49099999999999999,0.50345315035929272,0.61995535705282345,0]
["Stanislaus",0.63100000000000001,0.65,null,"Stanislaus",0.75,0.72199999999999998,0.79497781177320248,0.87422444234218655,0]
["Sutter",0.52800000000000002,0.53500000000000003,null,"Sutter",0.72699999999999998,0.53800000000000003,0.8091986651521671,0.59198717459615158,0]
["Tehama",0.63100000000000001,0.629,null,"Tehama",0.66600000000000004,0.69199999999999995,0.76327104213104657,0.69554949293710311,0]
["Trinity",0.59199999999999997,0.495,null,"Trinity",0.50600000000000001,0.502,0.5912422140107656,0.56469445800616525,0]
["Tulare",0.78300000000000003,0.80200000000000005,null,"Tulare",0.57199999999999995,0.77500000000000002,0.90358518151528189,0.91335509939391257,0]
["Tuolumne",0.70399999999999996,0.60399999999999998,null,"Tuolumne",0.57399999999999995,0.53100000000000003,0.55096208037690064,0.61887154616755258,0]
["Ventura",0.57699999999999996,0.60099999999999998,null,"Ventura",0.61499999999999999,0.60099999999999998,0.64997993128460252,0.8310954940650721,0]
["Yolo",0.38700000000000001,0.308,null,"Yolo",0.38300000000000001,0.39300000000000002,0.3707119276196772,0.50741494929932407,0]
["Yuba",0.77700000000000002,0.94799999999999995,null,"Yuba",0.66300000000000003,0.89600000000000002,0.76600000000000001,0.72442693271347103,0]

{"sheet":"PRI_MOE","index":3,"n_rows":66,"n_cols":35,"rows_kept":66,"cut":false,"hidden":true,"merged":[[5,23,5,26],[5,27,6,27],[5,28,6,28],[5,29,6,29],[1,0,1,3],[2,0,2,3],[3,0,3,3],[5,15,5,18],[5,19,5,22]]}
[null,null,null,null,null,null,null,null,null,null,null,null,null,"Details and sources here: R:\\Advocacy and Policy\\^ALLIANCE to TRANSFORM CALFRESH\\^Data Dashboard Analysis\\Participation Rates\\2015 ACS Margins of Error.xls"]
["Sources: 1) 2015 American Community Survey Single-Year Estimates"]
["              2) 2015 ACS PUMS Single-Year Estimates"]
["              3) Medi-Cal Eligibility Data Systems (MEDS)"]
[]
[null,null,null,null,null,null,null,null,null,null,null,null,null,null,"ACS 2015","Under .50",null,null,null,".50 to .99",null,null,null,"1.00 to 1.24",null,null,null,"Sum (E7+I7+M7)","Sq of Sum","Under 125% MoE",null,null,"PRI 2015"]
[null,"  Under 125% FPL1","Adjusting to 130%  (130/125) = 1.04","2015 Childonly HHs","Estimating Undocs. (ChildonlyHH *0.94*1.77*1.70)","Percent of SSI Below 130% FPL (PUMS 2014)2","CY_2015SSI (CDSS)","Adjusted SSI","Undocumented Children (NEW)3","Adjsued Deno","DFA256 (CY2015)","PRI NEW","PRI OLD","Source","County","Estimate","MoE","Standard Error (@1.645)","SE Squared","Estimate","MoE","Standard Error (@1.645)","SE Squared","Estimate","MoE","Standard Error (@1.645)","SE Squared",null,null,null,"Low adjusted denominator","High adjusted denominator","High","Low","Point"]
["California",7768650,{"$f":"+B8*1.04","v":8079396},321046,{"$f":"+D8*0.94*1.77*1.7","v":908065.76915999991},0.43099999999999999,1225021,{"$f":"+G8*F8","v":527984.05099999998},233916,{"$f":"+C8-E8-H8-I8","v":6409430.1798400003},4469489,{"$f":"+K8/J8","v":0.69733016424114824},{"$f":"+K8/(C8-E8-H8)","v":0.67277677227828037}]
["Alameda",239570,{"$f":"+B9*1.04","v":249152.80000000002},9197,{"$f":"+D9*0.94*1.77*1.7","v":26013.34662},0.50364210526315789,49716,{"$f":"+G9*F9","v":25039.070905263157},8501,{"$f":"+C9-E9-H9-I9","v":189599.38247473686},120817.08333333333,{"$f":"+K9/J9","v":0.6372229790855547},{"$f":"+K9/(C9-E9-H9)","v":0.60987809222801859},"1-year","Alameda",82636,6447,3919.1489361702129,15359728.383884111,100548,9486,5766.5653495440729,33253275.930562355,56386,6623,4026.1398176291791,16209801.831099119,64822806.145545587,8051.2611524869562,13244.324595841043,{"$f":"J9-AD9","v":176355.05787889581},{"$f":"J9+AD9","v":202843.70707057792},{"$f":"K9/AE9","v":0.68507864070617819},{"$f":"K9/AF9","v":0.59561662068863663},{"$f":"K9/J9","v":0.6372229790855547}]
["Butte",59620,{"$f":"+B10*1.04","v":62004.800000000003},982,{"$f":"+D10*0.94*1.77*1.7","v":2777.54772},0.51134292080210653,11048,5649.3165890216733,283,53294.935690978324,31978.166666666668,{"$f":"+K10/J10","v":0.60002261475812002},0.59685328025900941,"1-year","Butte",21346,3612,2195.744680851064,4821294.7034857413,26450,4033,2451.6717325227964,6010694.2840513308,11824,2529,1537.386018237082,2363555.7690708693,13195544.75660794,3632.5672404799257,5975.5731105894774,{"$f":"J10-AD10","v":47319.362580388843},{"$f":"J10+AD10","v":59270.508801567805},{"$f":"K10/AE10","v":0.67579453574295989},{"$f":"K10/AF10","v":0.53952914043182287},{"$f":"K10/J10","v":0.60002261475812002}]
["Contra Costa",152865,158979.6,5486,15516.931559999999,0.37275931329821504,25214,9398.7533255011949,4972,129091.91511449881,71780.416666666672,{"$f":"+K11/J11","v":0.55604114791387682},0.5354193677348732,"1-year","Contra Costa",54576,6450,3920.9726443768996,15374026.477951976,60000,6772,4116.7173252279636,16947361.535832077,38289,7070,4297.8723404255315,18471706.654594835,50793094.66837889,7126.9274353243482,11723.795631108553,117368.11948339026,140815.71074560736,0.61158359682865093,0.50974721702994219,0.55604114791387682]
["El Dorado",21394,22249.760000000002,357,1009.7602199999999,0.3064622485987471,2996,918.16089680184632,238,20083.838883198157,13136.75,0.65409556790410273,0.64643510242871283,"1-year","El Dorado",7748,2355,1431.61094224924,2049509.8899677568,8155,2317,1408.5106382978722,1983902.2181982794,5491,1981,1204.2553191489362,1450230.8736985063,5483642.9818645427,2341.7179552338371,3852.1260363596621,16231.712846838494,23935.96491955782,0.80932617056238088,0.54882892936002348,0.65409556790410273]
["Fresno",311966,324444.64,13775,38962.036500000002,0.45154119337435955,40165,18136.152031881153,5960,261386.45146811887,228248.58333333334,0.87322270167921334,0.85375579918835032,"1-year","Fresno",115105,10565,6422.4924012158053,41248408.643674761,126978,9782,5946.5045592705164,35360916.473425038,69883,8169,4965.9574468085102,24660733.363512896,101270058.4806127,10063.302563304589,16554.13271663605,244832.31875148282,277940.58418475493,0.93226492522426008,0.8212135842011834,0.87322270167921334]
["Humboldt",35272,36682.880000000005,647,1830.0136199999997,0.43539531478770133,6323,2753.0045754026355,249,31850.861804597371,20982.666666666668,0.65877861627084822,0.65366844238754673,"1-year","Humboldt",11835,1790,1088.1458966565349,1184061.4924104542,15961,2656,1614.5896656534953,2606899.7884350657,7476,2075,1261.3981762917933,1591125.3591522621,5382086.6399977822,2319.9324645337806,3816.2889041580693,28034.5729004393,35667.150708755442,0.74845679801092568,0.58829108156138521,0.65877861627084822]
["Imperial",53126,55251.040000000001,904,2556.9278399999998,0.44760543245175127,10332,4624.659328091494,474,47595.452831908508,43185,0.90733457568972442,0.89838759244901978,"1-year","Imperial",14934,3784,2300.3039513677813,5291398.2686782284,27704,5227,3177.5075987841947,10096554.540331298,10488,3554,2160.4863221884498,4667701.1483633742,20055653.9573729,4478.3539339106392,7366.8922212830012,40228.560610625507,54962.345053191508,1.0734910557200898,0.78571974973422953,0.90733457568972442]
["Kern",245436,255253.44,10210,28878.5766,0.42501806564484845,31991,13596.752938044347,5310,207468.11046195566,158932,0.76605508020541824,0.74693773553561449,"1-year","Kern",80802,9785,5948.3282674772036,35382609.177668348,105699,10847,6593.9209726443769,43479793.793479368,58935,9069,5513.0699088145893,30393939.819476902,109256342.79062462,10452.575892602963,17194.487343331875,190273.62311862377,224662.59780528754,0.8352813038143273,0.70742527484590256,0.76605508020541824]
["Kings",40612,42236.480000000003,1311,3708.1110599999997,0.43929912390488113,4485,1970.256570713392,600,35958.112369286609,24667.5,0.68600653300893477,0.67474763879559019,"1-year","Kings",12519,3551,2158.6626139817631,4659824.2810025783,18934,4621,2809.1185410334347,7891146.977577813,9159,3295,2003.0395136778116,4012167.293354644,16563138.551935034,4069.7836001358887,6694.7940222235375,29263.318347063072,42652.906391510143,0.84294951472841706,0.57833104674222036,0.68600653300893477]
["Lake",17546,18247.84,364,1029.55944,0.54756380510440839,3815,2088.9559164733182,367,14762.324643526681,12322.833333333334,0.83474883738835326,0.81449989498413278,"1-year","Lake",6418,1804,1096.6565349544073,1202655.5556582073,5978,1782,1083.2826747720364,1173501.3534612576,5150,2391,1453.4954407294833,2112648.9962213952,4488805.9053408597,2118.6802272501764,3485.2289738265404,11277.09566970014,18247.55361735322,1.0927311157289312,0.67531426906533143,0.83474883738835326]
["Los Angeles",2243097,2332820.88,105760,299137.92959999997,0.45211970155744435,392248,177343.04869650444,79520,1776819.9017034955,1177606.25,0.66276061455130608,0.63436994966242644,"1-year","Los Angeles",702785,22487,13669.908814589666,186866406.99919623,965344,30674,18646.808510638297,347703467.63241279,574968,22880,13908.814589665653,193455123.28969613,728024997.92130518,26981.938364789607,44385.288610078904,1732434.6130934167,1821205.1903135744,0.67974066155217194,0.64660822199679779,0.66276061455130608]
["Madera",41983,43662.32,2860,8089.3955999999998,0.52542003054767616,4534,2382.2544185031638,778,32412.669981496838,29757.5,0.91808234301547598,0.89656219704480911,"1-year","Madera",13924,3986,2423.1003039513676,5871415.0830092095,20303,6233,3789.0577507598782,14356958.638593508,7756,3060,1860.1823708206687,3460278.4527120036,23688652.174314719,4867.0989484820129,8006.3777702529114,24406.292211243926,40419.047751749749,1.2192552536222927,0.73622466770538386,0.91808234301547598]
["Marin",28760,29910.400000000001,1279,3617.60034,0.4853742182771838,3361,1631.3427476296147,953,23708.456912370384,10586,0.44650733867359088,0.42925282304347467,"1-year","Marin",8226,2031,1234.6504559270516,1524361.7483208762,9801,2339,1421.8844984802431,2021755.5270184125,10733,4118,2503.3434650455929,6266728.503986476,9812845.7793257646,3132.5462134381614,5153.0385211057755,18555.418391264608,28861.495433476161,0.57050721125122161,0.3667862611069489,0.44650733867359088]
["Mendocino",22482,23381.280000000002,594,1680.1052400000001,0.54756380510440839,3396,1859.5266821345708,668,19173.64807786543,13191.75,0.68801460976166073,0.6648515258526434,"1-year","Mendocino",6134,1528,928.87537993920967,862809.47145721107,12073,2826,1717.9331306990882,2951294.2415535706,4275,1592,967.78115501519756,936600.36400254979,4750704.0770133315,2179.6109921298644,3585.460082053627,15588.187995811802,22759.108159919058,0.84626577531296954,0.57962508492454545,0.68801460976166073]
["Merced",93446,97183.84,3942,11149.789319999998,0.44895579349093606,10749,4825.8258242340717,1835,79373.224855765933,58408.25,0.73586842548148068,0.71924057081335036,"1-year","Merced",35910,5984,3637.6899696048631,13232788.314963831,34208,4818,2928.8753799392098,8578310.99121405,23328,5125,3115.5015197568387,9706349.7196071707,31517449.025785051,5614.0403477161663,9235.0963719930933,70138.128483772845,88608.321227759021,0.83276031543261564,0.65917341837305898,0.73586842548148068]
["Monterey",89925,93522,6814,19273.12644,0.32882834947323614,8611,2831.5409173140365,3430,67987.332642685971,51644.833333333336,0.75962434950577884,0.72314144791323864,"1-year","Monterey",26925,4845,2945.288753799392,8674725.8432571758,36712,5877,3572.644376899696,12763787.843793018,26288,5008,3044.3768996960484,9268230.7074029241,30706744.394453116,5541.366654035186,9115.5481458878803,58871.784496798093,77102.88078857385,0.87724253264553553,0.6698171690231679,0.75962434950577884]
["Napa",22111,22995.440000000002,807,2282.5672199999995,0.26775226908702615,2195,587.71623064602238,468,19657.156549353978,7501.5,0.38161673999826451,0.37274244210740309,"1-year","Napa",7052,2386,1450.4559270516718,2103822.3963193246,7937,2182,1326.4437689969604,1759453.0723108617,7122,2644,1607.2948328267478,2583396.6796315629,6446672.1482617492,2539.0297651389888,4176.7039636536365,15480.452585700343,23833.860513007614,0.48457885571958742,0.31474128985130073,0.38161673999826451]
["Nevada",19277,20048.080000000002,162,458.21051999999997,0.60180863477246205,1972,1186.7666277712951,327,18076.102852228705,7736.583333333333,0.42800062583066384,0.42039559282234817,"1-year","Nevada",5462,1538,934.95440729483278,874139.74372003204,7646,2506,1523.4042553191489,2320760.5251244907,6169,1840,1118.5410334346504,1251134.0434770558,4446034.3123215782,2108.5621433388151,3468.584725792351,14607.518126436355,21544.687578021058,0.52963024015228433,0.35909470978942648,0.42800062583066384]
["Orange",525106,546110.24,27898,78908.377079999991,0.40478795085216013,69569,28160.692952833928,18248,420793.16996716603,256994.91666666666,0.61073927765205804,0.58535493763804924,"1-year","Orange",177737,14146,8599.3920972644373,73949544.442494065,218435,15631,9502.1276595744675,90290430.058850154,128934,10765,6544.0729483282676,42824890.753041826,207064865.25438604,14389.748616789177,23671.136474618197,397122.03349254781,444464.30644178425,0.64714343449162781,0.5782127224660002,0.61073927765205804]
["Placer",41321,42973.840000000004,759,2146.8011399999996,0.23832958380202474,5482,1306.5227784026997,1043,38477.516081597299,18227.416666666668,0.47371604310456833,0.46121403447851866,"1-year","Placer",12765,1938,1178.1155015197569,1387956.1349211482,20889,4048,2460.7902735562311,6055488.7704289509,7667,1979,1203.0395136778116,1447304.0714701454,8890748.9768202454,2981.7358999113662,4904.9555553541977,33572.560526243105,43382.471636951494,0.54292601996855749,0.42015625156638764,0.47371604310456833]
["Riverside",489332,508905.28,16447,46519.681619999988,0.3684958867937303,58900,21704.407732150714,16939,423742.19064784935,294433.16666666669,0.69484033727327177,0.66813191240093062,"1-year","Riverside",158508,11821,7186.0182370820667,51638858.103676051,217673,18461,11222.492401215806,125944335.69534652,113151,10714,6513.0699088145893,42420079.637106083,220003273.43612865,14832.507321290243,24399.47454352245,399342.71610432689,448141.66519137181,0.73729444608111261,0.6570091324602314,0.69484033727327177]
["Sacramento",312513,325013.52,9477,26805.315419999995,0.41336298767491431,64922,26836.351885830787,7209,264162.85269416921,219942.75,0.83260287264778898,0.81048475667766173,"1-year","Sacramento",107353,9069,5513.0699088145893,30393939.819476902,142620,10694,6500.9118541033431,42261854.934821367,62540,7560,4595.744680851064,21120869.171570849,93776663.925869122,9683.8351868394129,15929.908882350834,248232.94381181838,280092.76157652005,0.8860336852256615,0.78524967500780152,0.83260287264778898]
["San Bernardino",511787,532258.48,20850,58973.391000000003,0.41827139820957043,69764,29180.285824692473,11048,433056.80317530752,401294.33333333331,0.92665518793589696,0.90360277678628242,"1-year","San Bernardino",181265,13891,8444.376899696048,71307501.224120244,211244,12501,7599.3920972644373,57750760.247965187,119278,11453,6962.3100303951369,48473760.959340729,177532022.43142617,13324.114320712884,21918.168057572693,411138.63511773484,454974.9712328802,0.97605600412235038,0.88201408584282259,0.92665518793589696]
["San Diego",581014,604254.56000000006,15635,44222.972099999999,0.37886273747001231,80779,30604.153070090124,21203,508224.43482990994,291172.5,0.57292109557354953,0.54997622118609224,"1-year","San Diego",200816,14381,8742.2492401215804,76426921.776406348,243444,15633,9503.3434650455929,90313537.014624774,136754,10775,6550.1519756838907,42904490.904555574,209644949.69558668,14479.121164476341,23818.154315563581,484406.28051434638,532042.58914547355,0.60109150461639504,0.54727291750771156,0.57292109557354953]
["San Francisco",133618,138962.72,4016,11359.095360000001,0.5298650708519167,42533,22536.751058544574,2416,102650.87358145542,52042.25,0.50698302103297233,0.49532500802598922,"1-year","San Francisco",49405,4578,2782.9787234042551,7744970.5749207772,55801,6605,4015.1975683890578,16121811.513197402,28412,4999,3038.905775075988,9234948.3097901922,33101730.397908375,5753.4103276151245,9464.3599889268808,93186.513592528543,112115.2335703823,0.55847405374089043,0.46418535949737433,0.50698302103297233]
["San Joaquin",160339,166752.56,7141,20198.032859999999,0.43490518673000422,28453,12374.35727802881,2945,131235.16986197117,121333.58333333333,0.92455081561557007,0.90425868038583568,"1-year","San Joaquin",50158,5764,3503.9513677811551,12277675.187775427,73659,9152,5563.5258358662613,30952819.72635138,36522,5295,3218.8449848024316,10360963.036187766,53591457.950314574,7320.6186863075018,12042.417738975841,119192.75212299533,143277.58760094701,1.0179610854872188,0.84684272931275517,0.92455081561557007]
["San Luis Obispo",49437,51414.48,1098,3105.6490799999997,0.44194107452339687,4628,2045.3032928942807,762,45501.527627105723,18597.833333333332,0.40872986695625607,0.40199773530535732,"1-year","San Luis Obispo",20227,3021,1836.4741641337387,3372637.3555307142,19514,4462,2712.4620060790271,7357450.1344222603,9696,2863,1740.4255319148936,3029081.0321412403,13759168.522094214,3709.3353207945779,6101.856602707081,39399.671024398645,51603.3842298128,0.47203016801374903,0.36039948950845774,0.40872986695625607]
["San Mateo",84345,87718.8,3206,9068.0427599999985,0.3036064584276445,11429,3469.918213369549,3317,71863.839026630463,31802.583333333332,0.44253944353777569,0.42301447742646581,"1-year","San Mateo",30842,3661,2225.5319148936169,4952992.3042100491,33408,4821,2930.6990881458964,8588997.1452591885,20095,4133,2512.4620060790271,6312465.331990649,19854454.781459887,4455.8337919473488,7329.846587753389,64533.992438877074,79193.685614383852,0.49280359282675607,0.40157978614846873,0.44253944353777569]
["Santa Barbara",89878,93473.12000000001,4409,12470.68014,0.3891446571359341,8587,3341.5851708262662,4144,73516.85468917375,37310.083333333336,0.50750380291810415,0.48042329024914165,"1-year","Santa Barbara",29966,4572,2779.3313069908813,7724682.5140196411,37119,5238,3184.19452887538,10139094.797719903,22793,4769,2899.0881458966564,8404712.0776785128,26268489.389418058,5125.2794450076626,8431.0846870376045,65085.770002136145,81947.939376211347,0.57324486338732417,0.45529007339706301,0.50750380291810415]
["Santa Clara",212059,220541.36000000002,11104,31407.219840000002,0.40825001101176056,44789,18285.109743205743,9967,160882.03041679427,110775.16666666667,0.68854903421894531,0.64838042332710599,"1-year","Santa Clara",75195,7641,4644.9848024316107,21575883.814820629,78890,7505,4562.3100303951369,20814672.813444074,57974,8168,4965.3495440729484,24654696.094825435,67045252.723090142,8188.1165552946386,13469.45173345968,147412.57868333458,174351.48215025396,0.75146346164006239,0.63535546300204093,0.68854903421894531]
["Santa Cruz",55356,57570.240000000005,2766,7823.5203600000004,0.62326542663123707,5648,3520.2031296132268,1352,44874.516510386777,26006.416666666668,0.57953642042354159,0.5625865548580371,"1-year","Santa Cruz",21319,3818,2320.9726443768996,5386914.0159458974,21145,4988,3032.2188449848022,9194351.1238809675,12892,4417,2685.1063829787236,7209796.287913084,21791061.427739948,4668.0896979106938,7679.0075530630911,37195.508957323684,52553.52406344987,0.69918163229074681,0.49485580900850973,0.57953642042354159]
["Shasta",41655,43321.200000000004,639,1807.3859399999997,0.52393131165509688,9711,5087.8969674826458,262,36163.91709251736,25061.833333333332,0.69300660294121874,0.68802202754921316,"1-year","Shasta",15488,3513,2135.5623100303951,4560626.3800223572,19236,3595,2185.4103343465044,4776018.3294684999,6931,1837,1116.7173252279636,1247057.5844642974,10583702.293955155,3253.2602561054277,5351.6131212934288,30812.303971223933,41515.530213810787,0.81337096235123962,0.60367369040600916,0.69300660294121874]
["Solano",75208,78216.320000000007,2409,6813.7601399999994,0.38746871648194492,12196,4725.5684662138001,1572,65104.991393786215,43943.416666666664,0.67496232970642456,0.65904918245549171,"1-year","Solano",19602,3531,2146.5045592705169,4607481.8229691163,31774,5090,3094.2249240121582,9574227.880378047,23832,5766,3505.1671732522796,12286196.912445376,26467906.615792539,5144.6969411028031,8463.0264681141107,56641.964925672102,73568.017861900327,0.77581024465395942,0.59731684968264231,0.67496232970642456]
["Sonoma",70708,73536.320000000007,3267,9240.5788200000006,0.44411445128576604,9141,4059.6501992031872,2226,58010.09098079682,35963.666666666664,0.61995535705282345,0.59704516148187359,"1-year","Sonoma",23558,3991,2426.1398176291791,5886154.4146857467,31170,4504,2737.9939209726444,7496610.7112831557,15980,3797,2308.2066869300911,5327818.1095887879,18710583.23555769,4325.5731684434249,7115.5678620894341,50894.523118707388,65125.658842886252,0.7066313713714204,0.55221962135428004,0.61995535705282345]
["Stanislaus",129564,134746.56,5363,15169.03098,0.51678986272439287,20958,10830.881942977825,3307,105439.64707702218,92177.916666666672,0.87422444234218655,0.84763916078607604,"1-year","Stanislaus",40917,6572,3995.1367781155013,15961117.875851108,63884,9173,5576.2917933130702,31095030.164170697,24763,3958,2406.0790273556231,5789216.2858805815,52845364.325902387,7269.4817095789149,11958.297412257316,93481.349664764857,117397.9444892795,0.98605675888535571,0.78517487735983438,0.87422444234218655]
["Sutter",25423,26439.920000000002,703,1988.4073799999999,0.45085900015477481,3931,1772.3267296084198,428,22251.185890391582,13172.416666666666,0.59198717459615158,0.58081523430024806,"1-year","Sutter",6229,1924,1169.6048632218844,1367975.5360722831,11523,2730,1659.5744680851064,2754187.4151199642,7671,3260,1981.7629179331307,3927384.2628948363,8049547.2140870839,2837.1723976676294,4667.14859416325,17584.037296228333,26918.334484554831,0.74911218878568164,0.48934738790116156,0.59198717459615158]
["Tulare",164826,171419.04,7958,22508.884679999999,0.45442307692307693,17916,8141.4438461538466,4156,136612.71147384617,124775.91666666667,0.91335509939391257,0.88638956313704098,"1-year","Tulare",41231,6653,4044.3768996960484,16356984.506795021,84497,8749,5318.5410334346507,28286878.724328123,39098,6214,3777.5075987841947,14269563.658872332,58913426.889995471,7675.5082496207033,12626.211070626057,123986.50040322011,149238.92254447221,1.0063669533447535,0.83608159680651861,0.91335509939391257]
["Ventura",113734,118283.36,6719,19004.422739999998,0.28846600139243445,15583,4495.1656996983056,3635,91148.771560301699,75753.333333333328,0.8310954940650721,0.7992226104353618,"1-year","Ventura",32724,4706,2860.7902735562311,8184120.9892739356,48130,6068,3688.7537993920973,13606904.592529634,32880,5293,3217.6291793313071,10353137.535684261,32144163.117487829,5669.5822701049001,9326.4628343225613,81822.308725979135,100475.23439462426,0.92582737535589887,0.75395030217900505,0.8310954940650721]
["Yolo",45173,46979.92,941,2661.58086,0.47633998654406817,5442,2592.2422067728189,858,40868.096933227178,20737.083333333332,0.50741494929932407,0.49698114267716353,"1-year","Yolo",23859,3552,2159.2705167173253,4662449.1643647049,13679,2950,1793.3130699088147,3215971.766705777,7635,2315,1407.2948328267478,1980478.7465008639,9858899.677571347,3139.8884817093976,5165.1165524119588,35702.980380815221,46033.213485639135,0.58082219221329423,0.45048089766321936,0.50741494929932407]
["Yuba",21456,22314.240000000002,545,1541.5106999999998,0.45085900015477481,3886,1752.038074601455,260,18760.691225398547,13590.75,0.72442693271347103,0.71452450591554295,"1-year","Yuba",5806,2077,1262.613981762918,1594194.0669432103,11176,3556,2161.7021276595747,4672956.0887279324,4474,2033,1235.8662613981762,1527365.4160623052,7794515.5717334487,2791.8659659327218,4592.6195139593274,14168.071711439219,23353.310739357876,0.95925192057200748,0.58196245284807491,0.72442693271347103]
["Alpine              ",260,{"$f":"+B49*1.04","v":270.40000000000003},1,{"$f":"+D49*0.94*1.77*1.7","v":2.8284599999999998},0.43914406433147063,36,{"$f":"+G49*F49","v":15.809186315932942},null,{"$f":"+C49-E49-H49-I49","v":251.76235368406708},167.66666666666666,{"$f":"+K49/J49","v":0.66597195415907617},{"$f":"+K49/(C49-E49-H49)","v":0.66597195415907617},"5-year","Alpine",128,64,38.90577507598784,1513.6593342633566,67,32,19.45288753799392,378.41483356583916,65,37,22.492401215805472,505.90811245276751,2397.9822802819635,48.969197259930283,80.55432949258531,171.20802419148177,332.31668317665242,0.97931546992882534,0.50453881840635328,0.66597195415907617]
["Amador  ",5003,{"$f":"+B50*1.04","v":5203.12},73,{"$f":"+D50*0.94*1.77*1.7","v":206.47757999999996},0.43914406433147063,716,{"$f":"+G50*F50","v":314.42715006133295},41,{"$f":"+C50-E50-H50-I50","v":4641.215269938667},3396.5833333333335,{"$f":"+K50/J50","v":0.73183059517474591},{"$f":"+K50/(C50-E50-H50)","v":0.72542229212323805},"5-year","Amador",2194,546,331.91489361702128,110167.49660479855,1997,536,325.83586626139817,106169.01174231575,812,276,167.78115501519756,28150.515978233751,244487.02432534806,494.45629162277635,813.38059971946711,3827.8346702191998,5454.5958696581338,0.88733804512482484,0.62270118896016657,0.73183059517474591]
["Calaveras  ",7042,7323.68,103,291.33137999999997,0.43914406433147063,1086,476.91045386397712,42,6513.4381661360239,5433,0.83412168219338856,0.82877755266851627,"5-year","Calaveras",2459,536,325.83586626139817,106169.01174231575,3131,726,441.33738601823705,194778.68829741038,1452,447,271.73252279635255,73838.56394527026,374786.26398499636,612.19789609651252,1007.0655390787631,5506.3726270572606,7520.5037052147873,0.98667496153516354,0.72242501472776444,0.83412168219338856]
["Colusa  ",4503,4683.12,124,350.72903999999994,0.42461122379986477,549,233.11156186612575,208,3891.2793981338737,1548,0.39781260650221328,0.3776273460903154,"5-year","Colusa",885,266,161.70212765957447,26147.57808963332,2286,541,328.87537993920972,108159.01553015955,1332,405,246.20060790273556,60614.73933167653,194921.33295146941,441.49896143872115,726.26579156669629,{"$f":"J52-AD52","v":3165.0136065671772},{"$f":"J52+AD52","v":4617.5451897005696},{"$f":"K52/AE52","v":0.48909742340064843},{"$f":"K52/AF52","v":0.33524306452978797},{"$f":"K52/J52","v":0.39781260650221328}]
["Del Norte  ",6805,7077.2,161,455.38206000000002,0.4532510678690081,1908,864.80303749406744,33,5724.0149025059327,5193.5,0.90731769369194393,0.90211682407480931,"5-year","Del Norte",2460,476,289.36170212765956,83730.19465821638,2747,560,340.42553191489361,115889.54277953824,1598,391,237.68996960486322,56496.521650760806,256116.25908851545,506.07930118561006,832.50045045032857,4891.5144520556041,6556.5153529562613,1.0617366157054877,0.792112840498163,0.90731769369194393]
["Glenn",7437,7734.4800000000005,219,619.43273999999997,0.42461122379986477,1094,464.52467883705208,162,6488.522581162948,3606.8333333333335,0.55587898296053628,0.54233833346410831,"5-year","Glenn",2180,559,339.81762917933128,115476.0211010615,3541,677,411.55015197568389,169373.52759120852,1716,389,236.47416413373861,55920.030302750347,340769.57899502036,583.7547250301451,960.2765226745887,5528.2460584883593,7448.7991038375367,0.65243719168310399,0.4842167553525687,0.55587898296053628]
["Inyo",2954,3072.1600000000003,87,246.07601999999997,0.43914406433147063,420,184.44050701921768,50,2591.6434729807825,2081.1666666666665,0.80302969461806784,0.78783026095429742,"5-year","Inyo",745,149,90.577507598784194,8204.2848828078077,1274,269,163.52583586626139,26740.69899575946,935,282,171.42857142857142,29387.755102040814,64332.738980608083,253.63899341506638,417.23614416778418,2174.4073288129985,3008.8796171485665,0.95711904530912717,0.69167495263201384,0.80302969461806784]
["Lassen  ",4337,4510.4800000000005,112,316.78751999999997,0.4532510678690081,956,433.30802088277176,26,3734.3844591172287,3188.9166666666665,0.85393368079206677,0.84802942394227487,"5-year","Lassen",1393,376,228.57142857142856,52244.897959183669,2170,497,302.12765957446805,91281.122679945664,774,190,115.5015197568389,13340.601066139447,156866.62170526877,396.0639111371658,651.52513382063773,3082.8593252965911,4385.9095929378664,1.0344022643199497,0.7270821705493925,0.85393368079206677]
["Mariposa",3218,3346.7200000000003,30,84.853800000000007,0.43914406433147063,449,197.1756848848303,10,3054.69051511517,2104.5,0.68894049645505728,0.68669250275697535,"5-year","Mariposa",1016,300,182.370820668693,33259.11623137258,1635,449,272.94832826747722,74500.789904010511,567,226,137.38601823708206,18874.918007039843,126634.82414242293,355.85787070461561,585.38619730909272,2469.3043178060771,3640.076712424263,0.85226433405737623,0.57814715629946689,0.68894049645505728]
["Modoc",2255,2345.2000000000003,38,107.48147999999999,0.4532510678690081,425,192.63170384432843,28,2017.0868161556718,1000,0.49576448172215082,0.48897679653511594,"5-year","Modoc",721,227,137.99392097264439,19042.322225404427,952,301,182.97872340425531,33481.21321865097,582,218,132.52279635258358,17562.291553108342,70085.826997163735,264.7372791980074,435.49282428072217,1581.5939918749496,2452.5796404363941,0.63227351971318446,0.40773395632611031,0.49576448172215082]
["Mono ",1540,1601.6000000000001,67,189.50681999999998,0.43914406433147063,96,42.157830175821182,167,1202.935349824179,832,0.69164149189032076,0.60732792982295192,"5-year","Mono",225,152,92.401215805471125,8537.9846823292464,459,293,178.11550151975683,31725.131881634497,856,426,258.96656534954406,67063.681968939665,107326.79853290341,327.60768997827785,538.91465001426707,664.02069980991189,1741.8499998384459,1.2529729874959852,0.47765307005607072,0.69164149189032076]
["Plumas  ",3896,4051.84,83,234.76217999999997,0.4532510678690081,663,300.50545799715235,69,3447.5723620028475,2050.25,0.59469382647241054,0.58302511336132146,"5-year","Plumas",1484,358,217.629179331307,47362.459696418184,1203,303,184.19452887537994,33927.624467623173,1209,322,195.74468085106383,38315.980081484835,119606.06424552618,345.84109681402265,568.90860425906726,2878.6637577437805,4016.4809662619145,0.71222281327046377,0.51045928443877087,0.59469382647241054]
["San Benito ",9195,9562.8000000000011,406,1148.3547599999999,0.32882834947323614,910,299.23379802064488,343,7772.2114419793561,6089.333333333333,0.78347499663269027,0.75036040365303192,"5-year","San Benito",2214,544,330.69908814589667,109361.88690052753,3988,809,491.79331306990883,241860.66278027737,2993,998,606.68693009118545,368069.03114346694,719291.58082427178,848.1105946893199,1395.1419282639313,6377.0695137154253,9167.3533702432869,0.95487956031163745,0.66424114871572049,0.78347499663269027]
["Sierra  ",558,580.32000000000005,2,5.6569199999999995,0.60180863477246205,85,51.153733955659277,6,517.50934604434076,312.5,0.60385382870597404,0.59693299147620482,"5-year","Sierra",168,106,64.437689969604861,4152.2158886189145,270,140,85.106382978723403,7243.0964237211401,120,83,50.455927051671729,2545.8005746436188,13941.112886983674,118.07248996689988,194.22924599555031,323.28010004879047,711.73859203989105,0.96665399433134458,0.43906569560090009,0.60385382870597404]
["Siskiyou",12692,13199.68,162,458.21051999999997,0.4532510678690081,2556,1158.5097294731847,156,11426.959750526816,7053.083333333333,0.61723183482887178,0.60891891927817021,"5-year","Siskiyou",3774,523,317.93313069908817,101081.47559612348,6252,568,345.28875379939211,119224.32350033722,2666,441,268.08510638297872,71869.624264373022,292175.42336083372,540.5325368197864,889.1760230685486,10537.783727458267,12316.135773595364,0.66931373007353889,0.5726701510107155,0.61723183482887178]
["Tehama  ",17109,17793.36,422,1193.6101199999998,0.42461122379986477,3151,1337.9499661933739,280,14981.799913806626,10420.583333333334,0.69554949293710311,0.68278862206195789,"5-year","Tehama",5474,935,568.38905775075989,323066.12097079668,6839,1173,713.06990881458967,508468.69485684723,4796,1004,610.33434650455922,372508.01452314737,1204042.8303507913,1097.2888545641897,1805.0401657580921,13176.759748048535,16786.840079564718,0.79083048735684902,0.62075907579644607,0.69554949293710311]
["Trinity ",3482,3621.28,30,84.853800000000007,0.42461122379986477,640,271.75118323191344,20,3244.6750167680871,1832.25,0.56469445800616525,0.56123503582719936,"5-year","Trinity",1138,327,198.78419452887539,39515.155994493769,1424,444,269.90881458966567,72850.768193198513,920,312,189.66565349544072,35973.060115852582,148338.98430354486,385.14800311509453,633.56846512433049,2611.1065516437566,3878.2434818924175,0.70171399127567313,0.47244326163501732,0.56469445800616525]
["Tuolumne",9779,10170.16,125,353.5575,0.43914406433147063,1697,745.22747717050561,45,9026.3750228294939,5586.166666666667,0.61887154616755258,0.61580153533595838,"5-year","Tuolumne",2686,565,343.46504559270517,117968.23754399904,4324,701,426.13981762917933,181595.14416903022,2769,977,593.92097264437689,352742.12174684269,652305.50345987198,807.65432176140303,1328.591359297508,7697.7836635319854,10354.966382127002,0.72568506869463745,0.53946738796840199,0.61887154616755258]

{"sheet":"Unemp","index":4,"n_rows":64,"n_cols":23,"rows_kept":64,"cut":false,"hidden":true,"merged":[]}
[]
[]
["Sum of ann_unempl_pct_2yr_prior","Column Labels",null,null,null,null,null,"Sum of ann_unempl_pct_yr_of_report","Column Labels"]
[null,2012,2013,null,null,null,null,null,2012,2013,null,null,null,2014,null,null,null,2015,null,null,null,2016]
["Row Labels",4,1,2,3,4,null,"Row Labels",4,1,2,3,4,1,2,3,4,1,2,3,4,1,2]
["California",0.124,0.11799999999999999,0.11799999999999999,0.11799999999999999,0.11799999999999999,null,"California",0.105,8.8999999999999996E-2,8.8999999999999996E-2,8.8999999999999996E-2,8.8999999999999996E-2,7.4999999999999997E-2,7.4999999999999997E-2,7.4999999999999997E-2,7.4999999999999997E-2,6.2E-2,6.2E-2,6.2E-2,6.2E-2,0,0]
["Alameda",0.113,0.104,0.104,0.104,0.104,null,"Alameda",0.09,7.2999999999999995E-2,7.2999999999999995E-2,7.2999999999999995E-2,7.2999999999999995E-2,5.8999999999999997E-2,5.8999999999999997E-2,5.8999999999999997E-2,5.8999999999999997E-2,4.7E-2,4.7E-2,4.7E-2,4.7E-2,0,0]
["Alpine",0.154,0.14799999999999999,0.14799999999999999,0.14799999999999999,0.14799999999999999,null,"Alpine",0.13300000000000001,9.8000000000000004E-2,9.8000000000000004E-2,9.8000000000000004E-2,9.8000000000000004E-2,8.7999999999999995E-2,8.7999999999999995E-2,8.7999999999999995E-2,8.7999999999999995E-2,7.9000000000000001E-2,7.9000000000000001E-2,7.9000000000000001E-2,7.9000000000000001E-2,0,0]
["Amador",0.13300000000000001,0.128,0.128,0.128,0.128,null,"Amador",0.11799999999999999,0.10299999999999999,0.10299999999999999,0.10299999999999999,0.10299999999999999,8.3000000000000004E-2,8.3000000000000004E-2,8.3000000000000004E-2,8.3000000000000004E-2,6.6000000000000003E-2,6.6000000000000003E-2,6.6000000000000003E-2,6.6000000000000003E-2,0,0]
["Butte",0.13900000000000001,0.13600000000000001,0.13600000000000001,0.13600000000000001,0.13600000000000001,null,"Butte",0.122,0.10299999999999999,0.10299999999999999,0.10299999999999999,0.10299999999999999,8.6999999999999994E-2,8.6999999999999994E-2,8.6999999999999994E-2,8.6999999999999994E-2,7.1999999999999995E-2,7.1999999999999995E-2,7.1999999999999995E-2,7.1999999999999995E-2,0,0]
["Calaveras",0.153,0.14599999999999999,0.14599999999999999,0.14599999999999999,0.14599999999999999,null,"Calaveras",0.13,0.1,0.1,0.1,0.1,8.1000000000000003E-2,8.1000000000000003E-2,8.1000000000000003E-2,8.1000000000000003E-2,6.5000000000000002E-2,6.5000000000000002E-2,6.5000000000000002E-2,6.5000000000000002E-2,0,0]
["Colusa",0.20200000000000001,0.20499999999999999,0.20499999999999999,0.20499999999999999,0.20499999999999999,null,"Colusa",0.2,0.19,0.19,0.19,0.19,0.17499999999999999,0.17499999999999999,0.17499999999999999,0.17499999999999999,0.153,0.153,0.153,0.153,0,0]
["Contra Costa",0.111,0.104,0.104,0.104,0.104,null,"Contra Costa",0.09,7.4999999999999997E-2,7.4999999999999997E-2,7.4999999999999997E-2,7.4999999999999997E-2,6.2E-2,6.2E-2,6.2E-2,6.2E-2,0.05,0.05,0.05,0.05,0,0]
["Del Norte",0.13100000000000001,0.13100000000000001,0.13100000000000001,0.13100000000000001,0.13100000000000001,null,"Del Norte",0.13400000000000001,0.11799999999999999,0.11799999999999999,0.11799999999999999,0.11799999999999999,0.10199999999999999,0.10199999999999999,0.10199999999999999,0.10199999999999999,8.5999999999999993E-2,8.5999999999999993E-2,8.5999999999999993E-2,8.5999999999999993E-2,0,0]
["El Dorado",0.125,0.11899999999999999,0.11899999999999999,0.11899999999999999,0.11899999999999999,null,"El Dorado",0.104,8.5000000000000006E-2,8.5000000000000006E-2,8.5000000000000006E-2,8.5000000000000006E-2,7.0000000000000007E-2,7.0000000000000007E-2,7.0000000000000007E-2,7.0000000000000007E-2,5.7000000000000002E-2,5.7000000000000002E-2,5.7000000000000002E-2,5.7000000000000002E-2,0,0]
["Fresno",0.16900000000000001,0.16500000000000001,0.16500000000000001,0.16500000000000001,0.16500000000000001,null,"Fresno",0.152,0.13200000000000001,0.13200000000000001,0.13200000000000001,0.13200000000000001,0.11600000000000001,0.11600000000000001,0.11600000000000001,0.11600000000000001,0.10199999999999999,0.10199999999999999,0.10199999999999999,0.10199999999999999,0,0]
["Glenn",0.159,0.158,0.158,0.158,0.158,null,"Glenn",0.14699999999999999,0.121,0.121,0.121,0.121,0.107,0.107,0.107,0.107,8.6999999999999994E-2,8.6999999999999994E-2,8.6999999999999994E-2,8.6999999999999994E-2,0,0]
["Humboldt",0.114,0.114,0.114,0.114,0.114,null,"Humboldt",0.105,8.2000000000000003E-2,8.2000000000000003E-2,8.2000000000000003E-2,8.2000000000000003E-2,6.8000000000000005E-2,6.8000000000000005E-2,6.8000000000000005E-2,6.8000000000000005E-2,5.6000000000000001E-2,5.6000000000000001E-2,5.6000000000000001E-2,5.6000000000000001E-2,0,0]
["Imperial",0.29899999999999999,0.29699999999999999,0.29699999999999999,0.29699999999999999,0.29699999999999999,null,"Imperial",0.28299999999999997,0.249,0.249,0.249,0.249,0.23599999999999999,0.23599999999999999,0.23599999999999999,0.23599999999999999,0.24,0.24,0.24,0.24,0,0]
["Inyo",0.1,9.9000000000000005E-2,9.9000000000000005E-2,9.9000000000000005E-2,9.9000000000000005E-2,null,"Inyo",9.4E-2,7.9000000000000001E-2,7.9000000000000001E-2,7.9000000000000001E-2,7.9000000000000001E-2,7.0000000000000007E-2,7.0000000000000007E-2,7.0000000000000007E-2,7.0000000000000007E-2,5.8000000000000003E-2,5.8000000000000003E-2,5.8000000000000003E-2,5.8000000000000003E-2,0,0]
["Kern",0.159,0.14899999999999999,0.14899999999999999,0.14899999999999999,0.14899999999999999,null,"Kern",0.13300000000000001,0.11700000000000001,0.11700000000000001,0.11700000000000001,0.11700000000000001,0.104,0.104,0.104,0.104,0.10199999999999999,0.10199999999999999,0.10199999999999999,0.10199999999999999,0,0]
["Kings",0.16500000000000001,0.16200000000000001,0.16200000000000001,0.16200000000000001,0.16200000000000001,null,"Kings",0.153,0.13500000000000001,0.13500000000000001,0.13500000000000001,0.13500000000000001,0.121,0.121,0.121,0.121,0.105,0.105,0.105,0.105,0,0]
["Lake",0.17699999999999999,0.16800000000000001,0.16800000000000001,0.16800000000000001,0.16800000000000001,null,"Lake",0.15,0.108,0.108,0.108,0.108,8.8999999999999996E-2,8.8999999999999996E-2,8.8999999999999996E-2,8.8999999999999996E-2,7.6999999999999999E-2,7.6999999999999999E-2,7.6999999999999999E-2,7.6999999999999999E-2,0,0]
["Lassen",0.14000000000000001,0.13400000000000001,0.13400000000000001,0.13400000000000001,0.13400000000000001,null,"Lassen",0.126,0.106,0.106,0.106,0.106,9.2999999999999999E-2,9.2999999999999999E-2,9.2999999999999999E-2,9.2999999999999999E-2,7.2999999999999995E-2,7.2999999999999995E-2,7.2999999999999995E-2,7.2999999999999995E-2,0,0]
["Los Angeles",0.126,0.123,0.123,0.123,0.123,null,"Los Angeles",0.109,9.8000000000000004E-2,9.8000000000000004E-2,9.8000000000000004E-2,9.8000000000000004E-2,8.3000000000000004E-2,8.3000000000000004E-2,8.3000000000000004E-2,8.3000000000000004E-2,6.7000000000000004E-2,6.7000000000000004E-2,6.7000000000000004E-2,6.7000000000000004E-2,0,0]
["Madera",0.156,0.151,0.151,0.151,0.151,null,"Madera",0.13600000000000001,0.125,0.125,0.125,0.125,0.11,0.11,0.11,0.11,0.105,0.105,0.105,0.105,0,0]
["Marin",0.08,7.3999999999999996E-2,7.3999999999999996E-2,7.3999999999999996E-2,7.3999999999999996E-2,null,"Marin",6.3E-2,5.1999999999999998E-2,5.1999999999999998E-2,5.1999999999999998E-2,5.1999999999999998E-2,4.2999999999999997E-2,4.2999999999999997E-2,4.2999999999999997E-2,4.2999999999999997E-2,3.5000000000000003E-2,3.5000000000000003E-2,3.5000000000000003E-2,3.5000000000000003E-2,0,0]
["Mariposa",0.11899999999999999,0.11899999999999999,0.11899999999999999,0.11899999999999999,0.11899999999999999,null,"Mariposa",0.11,0.105,0.105,0.105,0.105,8.7999999999999995E-2,8.7999999999999995E-2,8.7999999999999995E-2,8.7999999999999995E-2,7.1999999999999995E-2,7.1999999999999995E-2,7.1999999999999995E-2,7.1999999999999995E-2,0,0]
["Mendocino",0.113,0.109,0.109,0.109,0.109,null,"Mendocino",9.7000000000000003E-2,8.2000000000000003E-2,8.2000000000000003E-2,8.2000000000000003E-2,8.2000000000000003E-2,6.9000000000000006E-2,6.9000000000000006E-2,6.9000000000000006E-2,6.9000000000000006E-2,5.8999999999999997E-2,5.8999999999999997E-2,5.8999999999999997E-2,5.8999999999999997E-2,0,0]
["Merced",0.188,0.183,0.183,0.183,0.183,null,"Merced",0.17,0.14499999999999999,0.14499999999999999,0.14499999999999999,0.14499999999999999,0.128,0.128,0.128,0.128,0.114,0.114,0.114,0.114,0,0]
["Modoc",0.14399999999999999,0.15,0.15,0.15,0.15,null,"Modoc",0.13500000000000001,0.124,0.124,0.124,0.124,0.105,0.105,0.105,0.105,8.7999999999999995E-2,8.7999999999999995E-2,8.7999999999999995E-2,8.7999999999999995E-2,0,0]
["Mono",0.10299999999999999,0.10100000000000001,0.10100000000000001,0.10100000000000001,0.10100000000000001,null,"Mono",0.105,8.5000000000000006E-2,8.5000000000000006E-2,8.5000000000000006E-2,8.5000000000000006E-2,7.1999999999999995E-2,7.1999999999999995E-2,7.1999999999999995E-2,7.1999999999999995E-2,6.0999999999999999E-2,6.0999999999999999E-2,6.0999999999999999E-2,6.0999999999999999E-2,0,0]
["Monterey",0.127,0.125,0.125,0.125,0.125,null,"Monterey",0.114,0.10299999999999999,0.10299999999999999,0.10299999999999999,0.10299999999999999,9.0999999999999998E-2,9.0999999999999998E-2,9.0999999999999998E-2,9.0999999999999998E-2,8.1000000000000003E-2,8.1000000000000003E-2,8.1000000000000003E-2,8.1000000000000003E-2,0,0]
["Napa",9.7000000000000003E-2,9.0999999999999998E-2,9.0999999999999998E-2,9.0999999999999998E-2,9.0999999999999998E-2,null,"Napa",7.8E-2,6.8000000000000005E-2,6.8000000000000005E-2,6.8000000000000005E-2,6.8000000000000005E-2,5.6000000000000001E-2,5.6000000000000001E-2,5.6000000000000001E-2,5.6000000000000001E-2,4.5999999999999999E-2,4.5999999999999999E-2,4.5999999999999999E-2,4.5999999999999999E-2,0,0]
["Nevada",0.114,0.106,0.106,0.106,0.106,null,"Nevada",9.4E-2,8.1000000000000003E-2,8.1000000000000003E-2,8.1000000000000003E-2,8.1000000000000003E-2,6.6000000000000003E-2,6.6000000000000003E-2,6.6000000000000003E-2,6.6000000000000003E-2,5.5E-2,5.5E-2,5.5E-2,5.5E-2,0,0]
["Orange",9.5000000000000001E-2,8.7999999999999995E-2,8.7999999999999995E-2,8.7999999999999995E-2,8.7999999999999995E-2,null,"Orange",7.5999999999999998E-2,6.5000000000000002E-2,6.5000000000000002E-2,6.5000000000000002E-2,6.5000000000000002E-2,5.5E-2,5.5E-2,5.5E-2,5.5E-2,4.4999999999999998E-2,4.4999999999999998E-2,4.4999999999999998E-2,4.4999999999999998E-2,0,0]
["Placer",0.115,0.108,0.108,0.108,0.108,null,"Placer",9.4E-2,7.6999999999999999E-2,7.6999999999999999E-2,7.6999999999999999E-2,7.6999999999999999E-2,6.3E-2,6.3E-2,6.3E-2,6.3E-2,0.05,0.05,0.05,0.05,0,0]
["Plumas",0.16700000000000001,0.16,0.16,0.16,0.16,null,"Plumas",0.14699999999999999,0.13900000000000001,0.13900000000000001,0.13900000000000001,0.13900000000000001,0.11700000000000001,0.11700000000000001,0.11700000000000001,0.11700000000000001,0.104,0.104,0.104,0.104,0,0]
["Riverside",0.14499999999999999,0.13700000000000001,0.13700000000000001,0.13700000000000001,0.13700000000000001,null,"Riverside",0.122,9.9000000000000005E-2,9.9000000000000005E-2,9.9000000000000005E-2,9.9000000000000005E-2,8.2000000000000003E-2,8.2000000000000003E-2,8.2000000000000003E-2,8.2000000000000003E-2,6.7000000000000004E-2,6.7000000000000004E-2,6.7000000000000004E-2,6.7000000000000004E-2,0,0]
["Sacramento",0.127,0.121,0.121,0.121,0.121,null,"Sacramento",0.106,8.8999999999999996E-2,8.8999999999999996E-2,8.8999999999999996E-2,8.8999999999999996E-2,7.2999999999999995E-2,7.2999999999999995E-2,7.2999999999999995E-2,7.2999999999999995E-2,0.06,0.06,0.06,0.06,0,0]
["San Benito",0.17199999999999999,0.159,0.159,0.159,0.159,null,"San Benito",0.13900000000000001,0.111,0.111,0.111,0.111,9.2999999999999999E-2,9.2999999999999999E-2,9.2999999999999999E-2,9.2999999999999999E-2,7.5999999999999998E-2,7.5999999999999998E-2,7.5999999999999998E-2,7.5999999999999998E-2,0,0]
["San Bernardino",0.14199999999999999,0.13400000000000001,0.13400000000000001,0.13400000000000001,0.13400000000000001,null,"San Bernardino",0.12,9.8000000000000004E-2,9.8000000000000004E-2,9.8000000000000004E-2,9.8000000000000004E-2,8.1000000000000003E-2,8.1000000000000003E-2,8.1000000000000003E-2,8.1000000000000003E-2,6.5000000000000002E-2,6.5000000000000002E-2,6.5000000000000002E-2,6.5000000000000002E-2,0,0]
["San Diego",0.105,0.1,0.1,0.1,0.1,null,"San Diego",8.8999999999999996E-2,7.8E-2,7.8E-2,7.8E-2,7.8E-2,6.4000000000000001E-2,6.4000000000000001E-2,6.4000000000000001E-2,6.4000000000000001E-2,5.1999999999999998E-2,5.1999999999999998E-2,5.1999999999999998E-2,5.1999999999999998E-2,0,0]
["San Francisco",9.6000000000000002E-2,8.5999999999999993E-2,8.5999999999999993E-2,8.5999999999999993E-2,8.5999999999999993E-2,null,"San Francisco",7.2999999999999995E-2,5.5E-2,5.5E-2,5.5E-2,5.5E-2,4.3999999999999997E-2,4.3999999999999997E-2,4.3999999999999997E-2,4.3999999999999997E-2,3.5999999999999997E-2,3.5999999999999997E-2,3.5999999999999997E-2,3.5999999999999997E-2,0,0]
["San Joaquin",0.17299999999999999,0.16800000000000001,0.16800000000000001,0.16800000000000001,0.16800000000000001,null,"San Joaquin",0.152,0.124,0.124,0.124,0.124,0.106,0.106,0.106,0.106,8.8999999999999996E-2,8.8999999999999996E-2,8.8999999999999996E-2,8.8999999999999996E-2,0,0]
["San Luis Obispo",9.9000000000000005E-2,9.4E-2,9.4E-2,9.4E-2,9.4E-2,null,"San Luis Obispo",8.1000000000000003E-2,6.8000000000000005E-2,6.8000000000000005E-2,6.8000000000000005E-2,6.8000000000000005E-2,5.6000000000000001E-2,5.6000000000000001E-2,5.6000000000000001E-2,5.6000000000000001E-2,4.5999999999999999E-2,4.5999999999999999E-2,4.5999999999999999E-2,4.5999999999999999E-2,0,0]
["San Mateo",8.7999999999999995E-2,7.9000000000000001E-2,7.9000000000000001E-2,7.9000000000000001E-2,7.9000000000000001E-2,null,"San Mateo",6.7000000000000004E-2,5.1999999999999998E-2,5.1999999999999998E-2,5.1999999999999998E-2,5.1999999999999998E-2,4.2000000000000003E-2,4.2000000000000003E-2,4.2000000000000003E-2,4.2000000000000003E-2,3.4000000000000002E-2,3.4000000000000002E-2,3.4000000000000002E-2,3.4000000000000002E-2,0,0]
["Santa Barbara",9.4E-2,8.8999999999999996E-2,8.8999999999999996E-2,8.8999999999999996E-2,8.8999999999999996E-2,null,"Santa Barbara",0.08,7.0999999999999994E-2,7.0999999999999994E-2,7.0999999999999994E-2,7.0999999999999994E-2,6.0999999999999999E-2,6.0999999999999999E-2,6.0999999999999999E-2,6.0999999999999999E-2,5.2999999999999999E-2,5.2999999999999999E-2,5.2999999999999999E-2,5.2999999999999999E-2,0,0]
["Santa Clara",0.11,9.8000000000000004E-2,9.8000000000000004E-2,9.8000000000000004E-2,9.8000000000000004E-2,null,"Santa Clara",8.4000000000000005E-2,6.5000000000000002E-2,6.5000000000000002E-2,6.5000000000000002E-2,6.5000000000000002E-2,5.1999999999999998E-2,5.1999999999999998E-2,5.1999999999999998E-2,5.1999999999999998E-2,4.2000000000000003E-2,4.2000000000000003E-2,4.2000000000000003E-2,4.2000000000000003E-2,0,0]
["Santa Cruz",0.126,0.123,0.123,0.123,0.123,null,"Santa Cruz",0.111,0.10299999999999999,0.10299999999999999,0.10299999999999999,0.10299999999999999,8.6999999999999994E-2,8.6999999999999994E-2,8.6999999999999994E-2,8.6999999999999994E-2,7.4999999999999997E-2,7.4999999999999997E-2,7.4999999999999997E-2,7.4999999999999997E-2,0,0]
["Shasta",0.158,0.14899999999999999,0.14899999999999999,0.14899999999999999,0.14899999999999999,null,"Shasta",0.13400000000000001,0.11799999999999999,0.11799999999999999,0.11799999999999999,0.11799999999999999,9.7000000000000003E-2,9.7000000000000003E-2,9.7000000000000003E-2,9.7000000000000003E-2,7.8E-2,7.8E-2,7.8E-2,7.8E-2,0,0]
["Sierra",0.154,0.14799999999999999,0.14799999999999999,0.14799999999999999,0.14799999999999999,null,"Sierra",0.14299999999999999,0.129,0.129,0.129,0.129,0.1,0.1,0.1,0.1,0.09,0.09,0.09,0.09,0,0]
["Siskiyou",0.16600000000000001,0.16500000000000001,0.16500000000000001,0.16500000000000001,0.16500000000000001,null,"Siskiyou",0.153,0.13200000000000001,0.13200000000000001,0.13200000000000001,0.13200000000000001,0.113,0.113,0.113,0.113,9.4E-2,9.4E-2,9.4E-2,9.4E-2,0,0]
["Solano",0.12,0.115,0.115,0.115,0.115,null,"Solano",0.10100000000000001,0.09,0.09,0.09,0.09,7.4999999999999997E-2,7.4999999999999997E-2,7.4999999999999997E-2,7.4999999999999997E-2,6.0999999999999999E-2,6.0999999999999999E-2,6.0999999999999999E-2,6.0999999999999999E-2,0,0]
["Sonoma",0.105,9.8000000000000004E-2,9.8000000000000004E-2,9.8000000000000004E-2,9.8000000000000004E-2,null,"Sonoma",8.5999999999999993E-2,7.0000000000000007E-2,7.0000000000000007E-2,7.0000000000000007E-2,7.0000000000000007E-2,5.6000000000000001E-2,5.6000000000000001E-2,5.6000000000000001E-2,5.6000000000000001E-2,4.4999999999999998E-2,4.4999999999999998E-2,4.4999999999999998E-2,4.4999999999999998E-2,0,0]
["Stanislaus",0.17299999999999999,0.16700000000000001,0.16700000000000001,0.16700000000000001,0.16700000000000001,null,"Stanislaus",0.152,0.129,0.129,0.129,0.129,0.112,0.112,0.112,0.112,9.5000000000000001E-2,9.5000000000000001E-2,9.5000000000000001E-2,9.5000000000000001E-2,0,0]
["Sutter",0.19500000000000001,0.19,0.19,0.19,0.19,null,"Sutter",0.17599999999999999,0.14599999999999999,0.14599999999999999,0.14599999999999999,0.14599999999999999,0.127,0.127,0.127,0.127,0.108,0.108,0.108,0.108,0,0]
["Tehama",0.156,0.15,0.15,0.15,0.15,null,"Tehama",0.13900000000000001,0.11700000000000001,0.11700000000000001,0.11700000000000001,0.11700000000000001,9.7000000000000003E-2,9.7000000000000003E-2,9.7000000000000003E-2,9.7000000000000003E-2,0.08,0.08,0.08,0.08,0,0]
["Trinity",0.184,0.17799999999999999,0.17799999999999999,0.17799999999999999,0.17799999999999999,null,"Trinity",0.158,0.121,0.121,0.121,0.121,9.9000000000000005E-2,9.9000000000000005E-2,9.9000000000000005E-2,9.9000000000000005E-2,7.8E-2,7.8E-2,7.8E-2,7.8E-2,0,0]
["Tulare",0.16900000000000001,0.16700000000000001,0.16700000000000001,0.16700000000000001,0.16700000000000001,null,"Tulare",0.158,0.14399999999999999,0.14399999999999999,0.14399999999999999,0.14399999999999999,0.13200000000000001,0.13200000000000001,0.13200000000000001,0.13200000000000001,0.11700000000000001,0.11700000000000001,0.11700000000000001,0.11700000000000001,0,0]
["Tuolumne",0.13800000000000001,0.13,0.13,0.13,0.13,null,"Tuolumne",0.11600000000000001,0.108,0.108,0.108,0.108,8.6999999999999994E-2,8.6999999999999994E-2,8.6999999999999994E-2,8.6999999999999994E-2,7.0999999999999994E-2,7.0999999999999994E-2,7.0999999999999994E-2,7.0999999999999994E-2,0,0]
["Ventura",0.108,0.10100000000000001,0.10100000000000001,0.10100000000000001,0.10100000000000001,null,"Ventura",0.09,7.9000000000000001E-2,7.9000000000000001E-2,7.9000000000000001E-2,7.9000000000000001E-2,6.7000000000000004E-2,6.7000000000000004E-2,6.7000000000000004E-2,6.7000000000000004E-2,5.7000000000000002E-2,5.7000000000000002E-2,5.7000000000000002E-2,5.7000000000000002E-2,0,0]
["Yolo",0.127,0.125,0.125,0.125,0.125,null,"Yolo",0.115,9.0999999999999998E-2,9.0999999999999998E-2,9.0999999999999998E-2,9.0999999999999998E-2,7.6999999999999999E-2,7.6999999999999999E-2,7.6999999999999999E-2,7.6999999999999999E-2,6.4000000000000001E-2,6.4000000000000001E-2,6.4000000000000001E-2,6.4000000000000001E-2,0,0]
["Yuba",0.192,0.184,0.184,0.184,0.184,null,"Yuba",0.16900000000000001,0.13100000000000001,0.13100000000000001,0.13100000000000001,0.13100000000000001,0.112,0.112,0.112,0.112,9.1999999999999998E-2,9.1999999999999998E-2,9.1999999999999998E-2,9.1999999999999998E-2,0,0]

{"sheet":"Timely","index":5,"n_rows":399,"n_cols":23,"rows_kept":399,"cut":false,"hidden":true,"merged":[]}
[]
[null,"30 DAY 2011 - 2012",null,null,null,null,null,null,"30 DAY 2013 to current"]
[null,"Sum of qtr_timeliness_30d_ly","Column Labels",null,null,null,null,null,"Sum of qtr_timeliness_30d_curr_qtr","Column Labels"]
[null,null,2012,2013,null,null,null,null,null,2013,null,null,null,2014,null,null,null,2015,null,null,null,2016]
[null,"Row Labels",4,1,2,3,4,null,"Row Labels",1,2,3,4,1,2,3,4,1,2,3,4,1,2]
[null,"California",0.95799999999999996,0.96099999999999997,0.97499999999999998,0.97699999999999998,0.97699999999999998,null,"California",0.96599999999999997,0.97099999999999997,0.97299999999999998,0.96499999999999997,0.96,0.95899999999999996,0.97,0.96699999999999997,0.96799999999999997,0.97199999999999998,0.97099999999999997,0.97199999999999998,0.97599999999999998,0.97699999999999998]
[null,"Alameda",0.84399999999999997,0.90900000000000003,0.91500000000000004,0.91100000000000003,0.92700000000000005,null,"Alameda",0.9,0.91400000000000003,0.88700000000000001,0.90600000000000003,0.84499999999999997,0.85799999999999998,0.88400000000000001,0.86399999999999999,0.85199999999999998,0.83499999999999996,0.78500000000000003,0.85599999999999998,0.92100000000000004,0.96]
[null,"Alpine",1,1,1,1,1,null,"Alpine",1,1,1,1,1,1,1,1,1,1,1,1,1,1]
[null,"Amador",0.77400000000000002,0.871,0.89600000000000002,0.95599999999999996,0.97299999999999998,null,"Amador",0.91400000000000003,0.97299999999999998,0.97199999999999998,0.93100000000000005,0.93700000000000006,0.96599999999999997,1,0.95699999999999996,0.96299999999999997,1,1,0.97599999999999998,0.95799999999999996,0.98899999999999999]
[null,"Butte",0.82699999999999996,0.88600000000000001,0.87,0.89500000000000002,0.91600000000000004,null,"Butte",0.93899999999999995,0.94199999999999995,0.96,0.90600000000000003,0.93200000000000005,0.88600000000000001,0.93700000000000006,0.94199999999999995,0.91300000000000003,0.94599999999999995,0.92,0.82,0.91300000000000003,0.91200000000000003]
[null,"Calaveras",0.99199999999999999,0.95899999999999996,0.96499999999999997,1,0.98699999999999999,null,"Calaveras",0.97,0.98199999999999998,0.98,1,0.99299999999999999,0.95799999999999996,1,1,0.99299999999999999,1,1,1,0.99099999999999999,0.99099999999999999]
[null,"Colusa",1,1,0.98099999999999998,0.93799999999999994,1,null,"Colusa",0.93400000000000005,0.98,1,0.91700000000000004,0.95699999999999996,0.67600000000000005,0.81799999999999995,0.60899999999999999,0.88700000000000001,0.875,1,1,0.91400000000000003,0.83299999999999996]
[null,"Contra Costa",0.86499999999999999,0.96399999999999997,0.96,0.96499999999999997,0.94099999999999995,null,"Contra Costa",0.94599999999999995,0.95,0.95,0.92200000000000004,0.91,0.95199999999999996,0.93500000000000005,0.92500000000000004,0.93400000000000005,0.96799999999999997,0.96599999999999997,0.95399999999999996,0.95799999999999996,0.96499999999999997]
[null,"Del Norte",1,1,1,1,1,null,"Del Norte",1,1,1,1,1,1,0.99099999999999999,1,0.98899999999999999,1,1,1,0.99099999999999999,0.98899999999999999]
[null,"El Dorado",1,0.998,1,1,1,null,"El Dorado",0.97899999999999998,0.99199999999999999,0.995,0.98799999999999999,0.98799999999999999,0.98799999999999999,0.995,1,1,0.995,1,0.997,1,0.98499999999999999]
[null,"Fresno",1,1,1,0.96799999999999997,0.98399999999999999,null,"Fresno",0.96899999999999997,0.96,0.91900000000000004,0.92500000000000004,0.90500000000000003,0.91300000000000003,0.94799999999999995,0.95699999999999996,0.95799999999999996,0.94099999999999995,0.94399999999999995,0.93500000000000005,0.95899999999999996,0.94899999999999995]
[null,"Glenn",1,0,1,1,1,null,"Glenn",1,1,1,1,1,0.98799999999999999,1,1,1,1,1,1,0.98899999999999999,1]
[null,"Humboldt",0.93899999999999995,0.95499999999999996,0.99099999999999999,0.97899999999999998,0.98799999999999999,null,"Humboldt",0.96499999999999997,0.98899999999999999,0.95099999999999996,0.90400000000000003,0.95699999999999996,0.98599999999999999,0.99299999999999999,0.99399999999999999,0.997,0.998,1,0.999,0.996,0.98799999999999999]
[null,"Imperial",1,1,1,1,0.998,null,"Imperial",1,1,0.93100000000000005,0.88200000000000001,0.95299999999999996,0.94499999999999995,0.91500000000000004,0.91500000000000004,0.94,0.94899999999999995,0.97599999999999998,0.97599999999999998,0.97899999999999998,0.97]
[null,"Inyo",0.98599999999999999,1,0.98599999999999999,1,0.98299999999999998,null,"Inyo",0.98799999999999999,1,1,1,0.99099999999999999,1,0.98399999999999999,1,0.98599999999999999,1,1,1,1,0.98099999999999998]
[null,"Kern",0.98699999999999999,0.98799999999999999,0.98699999999999999,0.98899999999999999,0.98599999999999999,null,"Kern",0.97499999999999998,0.99099999999999999,0.99199999999999999,0.98399999999999999,0.97699999999999998,0.98399999999999999,0.99399999999999999,0.995,0.99299999999999999,0.99399999999999999,0.99199999999999999,0.996,0.995,0.98599999999999999]
[null,"Kings",1,1,1,0.996,0.99299999999999999,null,"Kings",0.98799999999999999,0.98399999999999999,0.996,0.98299999999999998,0.96899999999999997,0.99099999999999999,0.99399999999999999,0.998,0.997,0.998,0.998,1,0.997,0.98899999999999999]
[null,"Lake",0.97,0.94699999999999995,0.97899999999999998,0.95499999999999996,0.98299999999999998,null,"Lake",0.94099999999999995,0.96099999999999997,0.94699999999999995,0.76500000000000001,0.86499999999999999,0.873,0.88300000000000001,0.95099999999999996,0.97499999999999998,0.98,0.99,0.98899999999999999,0.97099999999999997,0.95299999999999996]
[null,"Lassen",0.94899999999999995,0.94299999999999995,0.99199999999999999,0.95699999999999996,0.97799999999999998,null,"Lassen",0.97099999999999997,0.98899999999999999,0.97899999999999998,0.95699999999999996,0.90200000000000002,0.96199999999999997,0.93799999999999994,0.83199999999999996,0.86699999999999999,0.94399999999999995,0.88500000000000001,0.77,0.83099999999999996,0.93799999999999994]
[null,"Los Angeles",0.96799999999999997,0.96199999999999997,0.97499999999999998,0.97699999999999998,0.97199999999999998,null,"Los Angeles",0.95699999999999996,0.96699999999999997,0.97499999999999998,0.96399999999999997,0.96899999999999997,0.96299999999999997,0.97199999999999998,0.96499999999999997,0.96699999999999997,0.97099999999999997,0.96,0.96499999999999997,0.96799999999999997,0.96399999999999997]
[null,"Madera",0.96399999999999997,0.97599999999999998,0.98399999999999999,0.99099999999999999,0.98499999999999999,null,"Madera",0.96099999999999997,0.97799999999999998,0.97499999999999998,0.98299999999999998,0.97099999999999997,0.97899999999999998,0.996,0.998,0.98699999999999999,1,0.98799999999999999,1,0.998,0.98599999999999999]
[null,"Marin",0.997,0.97499999999999998,0.96799999999999997,0.99399999999999999,0.97099999999999997,null,"Marin",0.94499999999999995,0.95099999999999996,0.97599999999999998,0.93799999999999994,0.94699999999999995,0.96,0.97799999999999998,0.96899999999999997,0.98199999999999998,0.96899999999999997,0.99399999999999999,1,0.99299999999999999,0.98599999999999999]
[null,"Mariposa",0.83,0.94,0.90600000000000003,1,0.873,null,"Mariposa",0.89700000000000002,0.91100000000000003,0.93600000000000005,0.92600000000000005,0.91200000000000003,0.872,0.86499999999999999,0.80400000000000005,0.84799999999999998,1,1,0.97599999999999998,0.97899999999999998,0.97499999999999998]
[null,"Mendocino",0.998,0.99199999999999999,0.99399999999999999,0.99099999999999999,0.99399999999999999,null,"Mendocino",0.99399999999999999,1,0.996,0.99099999999999999,0.99399999999999999,0.997,0.995,0.98099999999999998,0.98699999999999999,1,0.995,0.99099999999999999,0.997,0.93]
[null,"Merced",0.99299999999999999,0.97399999999999998,0.99399999999999999,0.997,0.996,null,"Merced",0.98599999999999999,0.998,0.997,0.98399999999999999,0.96099999999999997,0.97199999999999998,0.98299999999999998,0.98899999999999999,0.97699999999999998,0.997,0.998,0.996,0.995,0.98599999999999999]
[null,"Modoc",1,0.97799999999999998,1,0.95499999999999996,1,null,"Modoc",1,1,1,1,0.96699999999999997,1,1,1,1,0.89500000000000002,1,0.92300000000000004,0.94599999999999995,1]
[null,"Mono",0.95799999999999996,0.97799999999999998,0.93500000000000005,0.90900000000000003,0.96699999999999997,null,"Mono",0.91200000000000003,1,0.97099999999999997,0.92100000000000004,0.93400000000000005,1,0.90600000000000003,1,0.93899999999999995,0.96299999999999997,0.96199999999999997,1,1,0.96699999999999997]
[null,"Monterey",1,0.999,1,1,1,null,"Monterey",0.998,1,1,1,1,1,1,1,1,1,1,1,0.998,0.998]
[null,"Napa",0.96599999999999997,1,0.99099999999999999,0.995,0.93,null,"Napa",0.73299999999999998,0.63400000000000001,0.75,0.76700000000000002,0.72,0.97199999999999998,0.98299999999999998,0.88200000000000001,0.94199999999999995,0.98799999999999999,0.97,0.97199999999999998,0.97,0.98699999999999999]
[null,"Nevada",0.98,0.97499999999999998,0.99299999999999999,1,1,null,"Nevada",0.99299999999999999,1,0.996,0.996,0.996,0.97599999999999998,0.99,1,0.96499999999999997,0.98899999999999999,1,1,1,0.93799999999999994]
[null,"Orange",0.997,0.996,0.999,0.998,0.996,null,"Orange",0.998,0.998,0.998,0.995,0.98399999999999999,0.97699999999999998,0.98199999999999998,0.98499999999999999,0.98599999999999999,0.98799999999999999,0.98699999999999999,0.98699999999999999,0.97899999999999998,0.98699999999999999]
[null,"Placer",0.91500000000000004,0.95399999999999996,0.97899999999999998,0.96599999999999997,0.98099999999999998,null,"Placer",0.98899999999999999,0.995,0.997,0.97699999999999998,0.997,0.98799999999999999,0.98099999999999998,0.99299999999999999,0.98199999999999998,0.98199999999999998,0.94699999999999995,0.96699999999999997,0.98099999999999998,0.97599999999999998]
[null,"Plumas",0.95699999999999996,0.77400000000000002,0.97899999999999998,0.94699999999999995,0.85899999999999999,null,"Plumas",0.91900000000000004,1,1,0.96299999999999997,0.98699999999999999,1,1,0.96399999999999997,1,1,1,0.97699999999999998,1,1]
[null,"Riverside",0.999,0.999,1,1,0.999,null,"Riverside",0.997,0.999,0.996,0.997,0.997,0.996,0.997,0.99399999999999999,0.995,0.997,0.999,0.995,0.997,0.99399999999999999]
[null,"Sacramento",0.96499999999999997,0.91,0.99099999999999999,0.97,0.98699999999999999,null,"Sacramento",0.99,0.98899999999999999,0.98799999999999999,0.97899999999999998,0.97599999999999998,0.97499999999999998,0.98899999999999999,0.98599999999999999,0.98899999999999999,0.99199999999999999,0.98899999999999999,0.98199999999999998,0.99199999999999999,0.99299999999999999]
[null,"San Benito",0.97299999999999998,0.99,0.97799999999999998,0.98699999999999999,1,null,"San Benito",0.98399999999999999,0.94399999999999995,1,0.99399999999999999,1,1,1,0.9,0.98099999999999998,0.99199999999999999,0.99099999999999999,1,1,0.96699999999999997]
[null,"San Bernardino",1,0.999,0.999,0.999,0.999,null,"San Bernardino",0.999,1,0.997,0.998,0.997,0.999,1,1,1,1,1,0.999,0.999,0.995]
[null,"San Diego",0.95199999999999996,0.97699999999999998,0.98299999999999998,0.97199999999999998,0.97899999999999998,null,"San Diego",0.96899999999999997,0.96499999999999997,0.96299999999999997,0.97899999999999998,0.97399999999999998,0.90200000000000002,0.93500000000000005,0.93400000000000005,0.93600000000000005,0.93799999999999994,0.98699999999999999,0.98799999999999999,0.98299999999999998,0.99099999999999999]
[null,"San Francisco",0.97399999999999998,0.98799999999999999,0.98899999999999999,0.97599999999999998,0.98199999999999998,null,"San Francisco",0.97599999999999998,0.97699999999999998,0.97499999999999998,0.97,0.96599999999999997,0.97099999999999997,0.97699999999999998,0.97299999999999998,0.97299999999999998,0.97,0.96699999999999997,0.95399999999999996,0.97299999999999998,0.98199999999999998]
[null,"San Joaquin",0.99099999999999999,0.98499999999999999,0.98,0.98099999999999998,0.98599999999999999,null,"San Joaquin",0.98699999999999999,0.98299999999999998,0.97799999999999998,0.98199999999999998,0.99099999999999999,0.98299999999999998,0.98,0.97799999999999998,0.98699999999999999,0.99399999999999999,0.99199999999999999,0.99399999999999999,0.997,0.98399999999999999]
[null,"San Luis Obispo",0.95699999999999996,0.95499999999999996,0.97,0.97399999999999998,0.94599999999999995,null,"San Luis Obispo",0.98299999999999998,0.96399999999999997,0.96199999999999997,0.93500000000000005,0.93400000000000005,0.97199999999999998,0.97399999999999998,0.98499999999999999,0.95299999999999996,0.98,0.96499999999999997,0.95699999999999996,0.95499999999999996,0.97499999999999998]
[null,"San Mateo",0.88900000000000001,0.94699999999999995,0.93799999999999994,0.95199999999999996,0.94099999999999995,null,"San Mateo",0.622,0.77700000000000002,0.83099999999999996,0.96799999999999997,0.98399999999999999,0.97699999999999998,0.97299999999999998,0.97,0.97499999999999998,0.97299999999999998,0.98799999999999999,0.96499999999999997,0.97099999999999997,0.98099999999999998]
[null,"Santa Barbara",0.74,0.63300000000000001,0.88200000000000001,0.96,0.95099999999999996,null,"Santa Barbara",0.95399999999999996,0.93,0.94399999999999995,0.92400000000000004,0.626,0.79600000000000004,0.875,0.88900000000000001,0.85499999999999998,0.95299999999999996,0.96499999999999997,0.95799999999999996,0.89500000000000002,0.98799999999999999]
[null,"Santa Clara",0.66700000000000004,0.749,0.79400000000000004,0.80900000000000005,0.875,null,"Santa Clara",0.878,0.97699999999999998,0.96,0.88600000000000001,0.94499999999999995,0.96799999999999997,0.97199999999999998,0.97199999999999998,0.96,0.96699999999999997,0.98,0.98199999999999998,0.98299999999999998,0.98599999999999999]
[null,"Santa Cruz",0.83899999999999997,0.625,0.94,0.96299999999999997,0.95399999999999996,null,"Santa Cruz",0.81499999999999995,0.95599999999999996,0.93300000000000005,0.92900000000000005,0.72099999999999997,0.80700000000000005,0.872,0.83099999999999996,0.92700000000000005,0.97,0.97299999999999998,0.95899999999999996,0.96199999999999997,0.95699999999999996]
[null,"Shasta",0.97799999999999998,0.98799999999999999,0.97099999999999997,0.97899999999999998,0.97599999999999998,null,"Shasta",0.93400000000000005,0.95199999999999996,0.94,0.82,0.96399999999999997,0.95499999999999996,0.97199999999999998,0.93799999999999994,0.96599999999999997,0.96699999999999997,0.96699999999999997,0.98,0.98099999999999998,0.97]
[null,"Sierra",1,1,1,1,1,null,"Sierra",0.91700000000000004,1,1,1,1,0.9,1,1,1,1,1,1,1,1]
[null,"Siskiyou",0.99399999999999999,1,1,1,1,null,"Siskiyou",1,0.99199999999999999,1,0.99399999999999999,1,1,1,1,1,0.98499999999999999,0.98499999999999999,1,0.99199999999999999,0.92700000000000005]
[null,"Solano",0.85099999999999998,0.92300000000000004,0.92900000000000005,0.93500000000000005,0.94899999999999995,null,"Solano",0.92600000000000005,0.93600000000000005,0.94199999999999995,0.91,0.94,0.94499999999999995,0.94,0.93200000000000005,0.93100000000000005,0.94499999999999995,0.97499999999999998,0.95699999999999996,0.94899999999999995,0.98799999999999999]
[null,"Sonoma",0.77500000000000002,0.86199999999999999,0.877,0.89900000000000002,0.95,null,"Sonoma",0.94099999999999995,0.92300000000000004,0.86699999999999999,0.86099999999999999,0.84099999999999997,0.83799999999999997,0.89700000000000002,0.95899999999999996,0.95799999999999996,0.91800000000000004,0.92500000000000004,0.89,0.89300000000000002,0.86199999999999999]
[null,"Stanislaus",1,1,1,1,1,null,"Stanislaus",0.98599999999999999,0.99399999999999999,0.98399999999999999,0.96199999999999997,0.95299999999999996,0.91500000000000004,0.96499999999999997,0.98499999999999999,0.96299999999999997,0.98599999999999999,0.99199999999999999,0.99099999999999999,0.998,0.99]
[null,"Sutter",0.91600000000000004,0.92600000000000005,0.95,0.95099999999999996,0.95199999999999996,null,"Sutter",0.96399999999999997,0.95699999999999996,0.98099999999999998,0.98899999999999999,0.94399999999999995,0.97199999999999998,0.98899999999999999,0.98799999999999999,1,0.96799999999999997,0.97899999999999998,0.99099999999999999,0.97599999999999998,0.95799999999999996]
[null,"Tehama",0.86199999999999999,0.89400000000000002,0.89700000000000002,0.91300000000000003,0.93400000000000005,null,"Tehama",0.96099999999999997,0.95299999999999996,0.94299999999999995,0.91700000000000004,0.96699999999999997,0.94399999999999995,0.93600000000000005,0.97,0.97899999999999998,0.96499999999999997,0.95499999999999996,0.97499999999999998,0.95199999999999996,0.97699999999999998]
[null,"Trinity",0.97399999999999998,0.96399999999999997,1,0.97899999999999998,0.91500000000000004,null,"Trinity",0.94199999999999995,0.97599999999999998,1,1,0.95799999999999996,1,1,0.96799999999999997,0.92500000000000004,0.93899999999999995,0.98399999999999999,0.92500000000000004,0.93600000000000005,0.98299999999999998]
[null,"Tulare",1,1,1,1,1,null,"Tulare",1,1,1,1,1,1,0.99099999999999999,0.98299999999999998,0.97699999999999998,0.98499999999999999,0.99099999999999999,0.98199999999999998,0.96599999999999997,0.99099999999999999]
[null,"Tuolumne",0.98799999999999999,0.99,0.96599999999999997,0.97799999999999998,0.97,null,"Tuolumne",0.95399999999999996,0.95099999999999996,0.92300000000000004,0.88600000000000001,0.93400000000000005,0.93899999999999995,0.95399999999999996,0.96499999999999997,0.89300000000000002,0.95099999999999996,0.877,0.97099999999999997,0.99299999999999999,0.98399999999999999]
[null,"Ventura",0.98599999999999999,0.98,0.99,0.98699999999999999,0.98699999999999999,null,"Ventura",0.98099999999999998,0.99299999999999999,0.98399999999999999,0.94499999999999995,0.92500000000000004,0.96499999999999997,0.97699999999999998,0.97699999999999998,0.94399999999999995,0.98399999999999999,0.97799999999999998,0.98599999999999999,0.97599999999999998,0.98699999999999999]
[null,"Yolo",0.82099999999999995,0.88800000000000001,0.93300000000000005,0.873,0.90600000000000003,null,"Yolo",0.76700000000000002,0.17299999999999999,0.84299999999999997,0.88,0.85299999999999998,0.84199999999999997,0.81599999999999995,0.89900000000000002,0.91200000000000003,0.95399999999999996,0.94799999999999995,0.94899999999999995,0.93700000000000006,0.97]
[null,"Yuba",0.996,0.98599999999999999,1,1,1,null,"Yuba",0.97,1,0.98599999999999999,0.96899999999999997,0.99399999999999999,1,1,1,1,1,1,1,1,0.996]
[]
[null,"30-DAY NON-COMPLIANCE"]
[null,{"$f":"B3","v":"Sum of qtr_timeliness_30d_ly"},"PRIOR YEAR FROM:",null,null,null,null,null,null,"CURRENT YEAR"]
[null,{"$f":"B4","v":0},2012,2013,0,0,0,null,{"$f":"I4","v":0},2013,0,0,0,2014,0,0,0,2015,0,0,0,2016,0]
[null,"Row Labels",4,1,2,3,4,null,{"$f":"I5","v":"Row Labels"},1,2,3,4,1,2,3,4,1,2,3,4,1,2]
[null,"California",{"$f":"1-C6","v":4.2000000000000037E-2},{"$f":"1-D6","v":3.9000000000000035E-2},2.5000000000000022E-2,2.300000000000002E-2,2.300000000000002E-2,null,{"$f":"I6","v":"California"},{"$f":"1-J6","v":3.400000000000003E-2},2.9000000000000026E-2,2.7000000000000024E-2,3.5000000000000031E-2,4.0000000000000036E-2,4.1000000000000036E-2,3.0000000000000027E-2,3.3000000000000029E-2,3.2000000000000028E-2,2.8000000000000025E-2,2.9000000000000026E-2,2.8000000000000025E-2,2.4000000000000021E-2,2.300000000000002E-2]
[null,"Alameda",{"$f":"1-C7","v":0.15600000000000003},9.099999999999997E-2,8.4999999999999964E-2,8.8999999999999968E-2,7.2999999999999954E-2,null,{"$f":"I7","v":"Alameda"},{"$f":"1-J7","v":9.9999999999999978E-2},8.5999999999999965E-2,0.11299999999999999,9.3999999999999972E-2,0.15500000000000003,0.14200000000000002,0.11599999999999999,0.13600000000000001,0.14800000000000002,0.16500000000000004,0.21499999999999997,0.14400000000000002,7.8999999999999959E-2,4.0000000000000036E-2]
[null,"Alpine",{"$f":"1-C8","v":0},0,0,0,0,null,{"$f":"I8","v":"Alpine"},{"$f":"1-J8","v":0},0,0,0,0,0,0,0,0,0,0,0,0,0]
[null,"Amador",{"$f":"1-C9","v":0.22599999999999998},0.129,0.10399999999999998,4.4000000000000039E-2,2.7000000000000024E-2,null,{"$f":"I9","v":"Amador"},{"$f":"1-J9","v":8.5999999999999965E-2},2.7000000000000024E-2,2.8000000000000025E-2,6.899999999999995E-2,6.2999999999999945E-2,3.400000000000003E-2,0,4.3000000000000038E-2,3.7000000000000033E-2,0,0,2.4000000000000021E-2,4.2000000000000037E-2,1.100000000000001E-2]
[null,"Butte",{"$f":"1-C10","v":0.17300000000000004},0.11399999999999999,0.13,0.10499999999999998,8.3999999999999964E-2,null,{"$f":"I10","v":"Butte"},{"$f":"1-J10","v":6.1000000000000054E-2},5.8000000000000052E-2,4.0000000000000036E-2,9.3999999999999972E-2,6.7999999999999949E-2,0.11399999999999999,6.2999999999999945E-2,5.8000000000000052E-2,8.6999999999999966E-2,5.4000000000000048E-2,7.999999999999996E-2,0.18000000000000005,8.6999999999999966E-2,8.7999999999999967E-2]
[null,"Calaveras",{"$f":"1-C11","v":8.0000000000000071E-3},4.1000000000000036E-2,3.5000000000000031E-2,0,1.3000000000000012E-2,null,{"$f":"I11","v":"Calaveras"},{"$f":"1-J11","v":3.0000000000000027E-2},1.8000000000000016E-2,2.0000000000000018E-2,0,7.0000000000000062E-3,4.2000000000000037E-2,0,0,7.0000000000000062E-3,0,0,0,9.000000000000008E-3,9.000000000000008E-3]
[null,"Colusa",{"$f":"1-C12","v":0},0,1.9000000000000017E-2,6.2000000000000055E-2,0,null,{"$f":"I12","v":"Colusa"},{"$f":"1-J12","v":6.5999999999999948E-2},2.0000000000000018E-2,0,8.2999999999999963E-2,4.3000000000000038E-2,0.32399999999999995,0.18200000000000005,0.39100000000000001,0.11299999999999999,0.125,0,0,8.5999999999999965E-2,0.16700000000000004]
[null,"Contra Costa",{"$f":"1-C13","v":0.13500000000000001},3.6000000000000032E-2,4.0000000000000036E-2,3.5000000000000031E-2,5.9000000000000052E-2,null,{"$f":"I13","v":"Contra Costa"},{"$f":"1-J13","v":5.4000000000000048E-2},5.0000000000000044E-2,5.0000000000000044E-2,7.7999999999999958E-2,8.9999999999999969E-2,4.8000000000000043E-2,6.4999999999999947E-2,7.4999999999999956E-2,6.5999999999999948E-2,3.2000000000000028E-2,3.400000000000003E-2,4.6000000000000041E-2,4.2000000000000037E-2,3.5000000000000031E-2]
[null,"Del Norte",{"$f":"1-C14","v":0},0,0,0,0,null,{"$f":"I14","v":"Del Norte"},{"$f":"1-J14","v":0},0,0,0,0,0,9.000000000000008E-3,0,1.100000000000001E-2,0,0,0,9.000000000000008E-3,1.100000000000001E-2]
[null,"El Dorado",{"$f":"1-C15","v":0},2.0000000000000018E-3,0,0,0,null,{"$f":"I15","v":"El Dorado"},{"$f":"1-J15","v":2.1000000000000019E-2},8.0000000000000071E-3,5.0000000000000044E-3,1.2000000000000011E-2,1.2000000000000011E-2,1.2000000000000011E-2,5.0000000000000044E-3,0,0,5.0000000000000044E-3,0,3.0000000000000027E-3,0,1.5000000000000013E-2]
[null,"Fresno",{"$f":"1-C16","v":0},0,0,3.2000000000000028E-2,1.6000000000000014E-2,null,{"$f":"I16","v":"Fresno"},{"$f":"1-J16","v":3.1000000000000028E-2},4.0000000000000036E-2,8.0999999999999961E-2,7.4999999999999956E-2,9.4999999999999973E-2,8.6999999999999966E-2,5.2000000000000046E-2,4.3000000000000038E-2,4.2000000000000037E-2,5.9000000000000052E-2,5.600000000000005E-2,6.4999999999999947E-2,4.1000000000000036E-2,5.1000000000000045E-2]
[null,"Glenn",{"$f":"1-C17","v":0},1,0,0,0,null,{"$f":"I17","v":"Glenn"},{"$f":"1-J17","v":0},0,0,0,0,1.2000000000000011E-2,0,0,0,0,0,0,1.100000000000001E-2,0]
[null,"Humboldt",{"$f":"1-C18","v":6.1000000000000054E-2},4.500000000000004E-2,9.000000000000008E-3,2.1000000000000019E-2,1.2000000000000011E-2,null,{"$f":"I18","v":"Humboldt"},{"$f":"1-J18","v":3.5000000000000031E-2},1.100000000000001E-2,4.9000000000000044E-2,9.5999999999999974E-2,4.3000000000000038E-2,1.4000000000000012E-2,7.0000000000000062E-3,6.0000000000000053E-3,3.0000000000000027E-3,2.0000000000000018E-3,0,1.0000000000000009E-3,4.0000000000000036E-3,1.2000000000000011E-2]
[null,"Imperial",{"$f":"1-C19","v":0},0,0,0,2.0000000000000018E-3,null,{"$f":"I19","v":"Imperial"},{"$f":"1-J19","v":0},0,6.899999999999995E-2,0.11799999999999999,4.7000000000000042E-2,5.5000000000000049E-2,8.4999999999999964E-2,8.4999999999999964E-2,6.0000000000000053E-2,5.1000000000000045E-2,2.4000000000000021E-2,2.4000000000000021E-2,2.1000000000000019E-2,3.0000000000000027E-2]
[null,"Inyo",{"$f":"1-C20","v":1.4000000000000012E-2},0,1.4000000000000012E-2,0,1.7000000000000015E-2,null,{"$f":"I20","v":"Inyo"},{"$f":"1-J20","v":1.2000000000000011E-2},0,0,0,9.000000000000008E-3,0,1.6000000000000014E-2,0,1.4000000000000012E-2,0,0,0,0,1.9000000000000017E-2]
[null,"Kern",{"$f":"1-C21","v":1.3000000000000012E-2},1.2000000000000011E-2,1.3000000000000012E-2,1.100000000000001E-2,1.4000000000000012E-2,null,{"$f":"I21","v":"Kern"},{"$f":"1-J21","v":2.5000000000000022E-2},9.000000000000008E-3,8.0000000000000071E-3,1.6000000000000014E-2,2.300000000000002E-2,1.6000000000000014E-2,6.0000000000000053E-3,5.0000000000000044E-3,7.0000000000000062E-3,6.0000000000000053E-3,8.0000000000000071E-3,4.0000000000000036E-3,5.0000000000000044E-3,1.4000000000000012E-2]
[null,"Kings",{"$f":"1-C22","v":0},0,0,4.0000000000000036E-3,7.0000000000000062E-3,null,{"$f":"I22","v":"Kings"},{"$f":"1-J22","v":1.2000000000000011E-2},1.6000000000000014E-2,4.0000000000000036E-3,1.7000000000000015E-2,3.1000000000000028E-2,9.000000000000008E-3,6.0000000000000053E-3,2.0000000000000018E-3,3.0000000000000027E-3,2.0000000000000018E-3,2.0000000000000018E-3,0,3.0000000000000027E-3,1.100000000000001E-2]
[null,"Lake",{"$f":"1-C23","v":3.0000000000000027E-2},5.3000000000000047E-2,2.1000000000000019E-2,4.500000000000004E-2,1.7000000000000015E-2,null,{"$f":"I23","v":"Lake"},{"$f":"1-J23","v":5.9000000000000052E-2},3.9000000000000035E-2,5.3000000000000047E-2,0.23499999999999999,0.13500000000000001,0.127,0.11699999999999999,4.9000000000000044E-2,2.5000000000000022E-2,2.0000000000000018E-2,1.0000000000000009E-2,1.100000000000001E-2,2.9000000000000026E-2,4.7000000000000042E-2]
[null,"Lassen",{"$f":"1-C24","v":5.1000000000000045E-2},5.7000000000000051E-2,8.0000000000000071E-3,4.3000000000000038E-2,2.200000000000002E-2,null,{"$f":"I24","v":"Lassen"},{"$f":"1-J24","v":2.9000000000000026E-2},1.100000000000001E-2,2.1000000000000019E-2,4.3000000000000038E-2,9.7999999999999976E-2,3.8000000000000034E-2,6.2000000000000055E-2,0.16800000000000004,0.13300000000000001,5.600000000000005E-2,0.11499999999999999,0.22999999999999998,0.16900000000000004,6.2000000000000055E-2]
[null,"Los Angeles",{"$f":"1-C25","v":3.2000000000000028E-2},3.8000000000000034E-2,2.5000000000000022E-2,2.300000000000002E-2,2.8000000000000025E-2,null,{"$f":"I25","v":"Los Angeles"},{"$f":"1-J25","v":4.3000000000000038E-2},3.3000000000000029E-2,2.5000000000000022E-2,3.6000000000000032E-2,3.1000000000000028E-2,3.7000000000000033E-2,2.8000000000000025E-2,3.5000000000000031E-2,3.3000000000000029E-2,2.9000000000000026E-2,4.0000000000000036E-2,3.5000000000000031E-2,3.2000000000000028E-2,3.6000000000000032E-2]
[null,"Madera",{"$f":"1-C26","v":3.6000000000000032E-2},2.4000000000000021E-2,1.6000000000000014E-2,9.000000000000008E-3,1.5000000000000013E-2,null,{"$f":"I26","v":"Madera"},{"$f":"1-J26","v":3.9000000000000035E-2},2.200000000000002E-2,2.5000000000000022E-2,1.7000000000000015E-2,2.9000000000000026E-2,2.1000000000000019E-2,4.0000000000000036E-3,2.0000000000000018E-3,1.3000000000000012E-2,0,1.2000000000000011E-2,0,2.0000000000000018E-3,1.4000000000000012E-2]
[null,"Marin",{"$f":"1-C27","v":3.0000000000000027E-3},2.5000000000000022E-2,3.2000000000000028E-2,6.0000000000000053E-3,2.9000000000000026E-2,null,{"$f":"I27","v":"Marin"},{"$f":"1-J27","v":5.5000000000000049E-2},4.9000000000000044E-2,2.4000000000000021E-2,6.2000000000000055E-2,5.3000000000000047E-2,4.0000000000000036E-2,2.200000000000002E-2,3.1000000000000028E-2,1.8000000000000016E-2,3.1000000000000028E-2,6.0000000000000053E-3,0,7.0000000000000062E-3,1.4000000000000012E-2]
[null,"Mariposa",{"$f":"1-C28","v":0.17000000000000004},6.0000000000000053E-2,9.3999999999999972E-2,0,0.127,null,{"$f":"I28","v":"Mariposa"},{"$f":"1-J28","v":0.10299999999999998},8.8999999999999968E-2,6.3999999999999946E-2,7.3999999999999955E-2,8.7999999999999967E-2,0.128,0.13500000000000001,0.19599999999999995,0.15200000000000002,0,0,2.4000000000000021E-2,2.1000000000000019E-2,2.5000000000000022E-2]
[null,"Mendocino",{"$f":"1-C29","v":2.0000000000000018E-3},8.0000000000000071E-3,6.0000000000000053E-3,9.000000000000008E-3,6.0000000000000053E-3,null,{"$f":"I29","v":"Mendocino"},{"$f":"1-J29","v":6.0000000000000053E-3},0,4.0000000000000036E-3,9.000000000000008E-3,6.0000000000000053E-3,3.0000000000000027E-3,5.0000000000000044E-3,1.9000000000000017E-2,1.3000000000000012E-2,0,5.0000000000000044E-3,9.000000000000008E-3,3.0000000000000027E-3,6.9999999999999951E-2]
[null,"Merced",{"$f":"1-C30","v":7.0000000000000062E-3},2.6000000000000023E-2,6.0000000000000053E-3,3.0000000000000027E-3,4.0000000000000036E-3,null,{"$f":"I30","v":"Merced"},{"$f":"1-J30","v":1.4000000000000012E-2},2.0000000000000018E-3,3.0000000000000027E-3,1.6000000000000014E-2,3.9000000000000035E-2,2.8000000000000025E-2,1.7000000000000015E-2,1.100000000000001E-2,2.300000000000002E-2,3.0000000000000027E-3,2.0000000000000018E-3,4.0000000000000036E-3,5.0000000000000044E-3,1.4000000000000012E-2]
[null,"Modoc",{"$f":"1-C31","v":0},2.200000000000002E-2,0,4.500000000000004E-2,0,null,{"$f":"I31","v":"Modoc"},{"$f":"1-J31","v":0},0,0,0,3.3000000000000029E-2,0,0,0,0,0.10499999999999998,0,7.6999999999999957E-2,5.4000000000000048E-2,0]
[null,"Mono",{"$f":"1-C32","v":4.2000000000000037E-2},2.200000000000002E-2,6.4999999999999947E-2,9.099999999999997E-2,3.3000000000000029E-2,null,{"$f":"I32","v":"Mono"},{"$f":"1-J32","v":8.7999999999999967E-2},0,2.9000000000000026E-2,7.8999999999999959E-2,6.5999999999999948E-2,0,9.3999999999999972E-2,0,6.1000000000000054E-2,3.7000000000000033E-2,3.8000000000000034E-2,0,0,3.3000000000000029E-2]
[null,"Monterey",{"$f":"1-C33","v":0},1.0000000000000009E-3,0,0,0,null,{"$f":"I33","v":"Monterey"},{"$f":"1-J33","v":2.0000000000000018E-3},0,0,0,0,0,0,0,0,0,0,0,2.0000000000000018E-3,2.0000000000000018E-3]
[null,"Napa",{"$f":"1-C34","v":3.400000000000003E-2},0,9.000000000000008E-3,5.0000000000000044E-3,6.9999999999999951E-2,null,{"$f":"I34","v":"Napa"},{"$f":"1-J34","v":0.26700000000000002},0.36599999999999999,0.25,0.23299999999999998,0.28000000000000003,2.8000000000000025E-2,1.7000000000000015E-2,0.11799999999999999,5.8000000000000052E-2,1.2000000000000011E-2,3.0000000000000027E-2,2.8000000000000025E-2,3.0000000000000027E-2,1.3000000000000012E-2]
[null,"Nevada",{"$f":"1-C35","v":2.0000000000000018E-2},2.5000000000000022E-2,7.0000000000000062E-3,0,0,null,{"$f":"I35","v":"Nevada"},{"$f":"1-J35","v":7.0000000000000062E-3},0,4.0000000000000036E-3,4.0000000000000036E-3,4.0000000000000036E-3,2.4000000000000021E-2,1.0000000000000009E-2,0,3.5000000000000031E-2,1.100000000000001E-2,0,0,0,6.2000000000000055E-2]
[null,"Orange",{"$f":"1-C36","v":3.0000000000000027E-3},4.0000000000000036E-3,1.0000000000000009E-3,2.0000000000000018E-3,4.0000000000000036E-3,null,{"$f":"I36","v":"Orange"},{"$f":"1-J36","v":2.0000000000000018E-3},2.0000000000000018E-3,2.0000000000000018E-3,5.0000000000000044E-3,1.6000000000000014E-2,2.300000000000002E-2,1.8000000000000016E-2,1.5000000000000013E-2,1.4000000000000012E-2,1.2000000000000011E-2,1.3000000000000012E-2,1.3000000000000012E-2,2.1000000000000019E-2,1.3000000000000012E-2]
[null,"Placer",{"$f":"1-C37","v":8.4999999999999964E-2},4.6000000000000041E-2,2.1000000000000019E-2,3.400000000000003E-2,1.9000000000000017E-2,null,{"$f":"I37","v":"Placer"},{"$f":"1-J37","v":1.100000000000001E-2},5.0000000000000044E-3,3.0000000000000027E-3,2.300000000000002E-2,3.0000000000000027E-3,1.2000000000000011E-2,1.9000000000000017E-2,7.0000000000000062E-3,1.8000000000000016E-2,1.8000000000000016E-2,5.3000000000000047E-2,3.3000000000000029E-2,1.9000000000000017E-2,2.4000000000000021E-2]
[null,"Plumas",{"$f":"1-C38","v":4.3000000000000038E-2},0.22599999999999998,2.1000000000000019E-2,5.3000000000000047E-2,0.14100000000000001,null,{"$f":"I38","v":"Plumas"},{"$f":"1-J38","v":8.0999999999999961E-2},0,0,3.7000000000000033E-2,1.3000000000000012E-2,0,0,3.6000000000000032E-2,0,0,0,2.300000000000002E-2,0,0]
[null,"Riverside",{"$f":"1-C39","v":1.0000000000000009E-3},1.0000000000000009E-3,0,0,1.0000000000000009E-3,null,{"$f":"I39","v":"Riverside"},{"$f":"1-J39","v":3.0000000000000027E-3},1.0000000000000009E-3,4.0000000000000036E-3,3.0000000000000027E-3,3.0000000000000027E-3,4.0000000000000036E-3,3.0000000000000027E-3,6.0000000000000053E-3,5.0000000000000044E-3,3.0000000000000027E-3,1.0000000000000009E-3,5.0000000000000044E-3,3.0000000000000027E-3,6.0000000000000053E-3]
[null,"Sacramento",{"$f":"1-C40","v":3.5000000000000031E-2},8.9999999999999969E-2,9.000000000000008E-3,3.0000000000000027E-2,1.3000000000000012E-2,null,{"$f":"I40","v":"Sacramento"},{"$f":"1-J40","v":1.0000000000000009E-2},1.100000000000001E-2,1.2000000000000011E-2,2.1000000000000019E-2,2.4000000000000021E-2,2.5000000000000022E-2,1.100000000000001E-2,1.4000000000000012E-2,1.100000000000001E-2,8.0000000000000071E-3,1.100000000000001E-2,1.8000000000000016E-2,8.0000000000000071E-3,7.0000000000000062E-3]
[null,"San Benito",{"$f":"1-C41","v":2.7000000000000024E-2},1.0000000000000009E-2,2.200000000000002E-2,1.3000000000000012E-2,0,null,{"$f":"I41","v":"San Benito"},{"$f":"1-J41","v":1.6000000000000014E-2},5.600000000000005E-2,0,6.0000000000000053E-3,0,0,0,9.9999999999999978E-2,1.9000000000000017E-2,8.0000000000000071E-3,9.000000000000008E-3,0,0,3.3000000000000029E-2]
[null,"San Bernardino",{"$f":"1-C42","v":0},1.0000000000000009E-3,1.0000000000000009E-3,1.0000000000000009E-3,1.0000000000000009E-3,null,{"$f":"I42","v":"San Bernardino"},{"$f":"1-J42","v":1.0000000000000009E-3},0,3.0000000000000027E-3,2.0000000000000018E-3,3.0000000000000027E-3,1.0000000000000009E-3,0,0,0,0,0,1.0000000000000009E-3,1.0000000000000009E-3,5.0000000000000044E-3]
[null,"San Diego",{"$f":"1-C43","v":4.8000000000000043E-2},2.300000000000002E-2,1.7000000000000015E-2,2.8000000000000025E-2,2.1000000000000019E-2,null,{"$f":"I43","v":"San Diego"},{"$f":"1-J43","v":3.1000000000000028E-2},3.5000000000000031E-2,3.7000000000000033E-2,2.1000000000000019E-2,2.6000000000000023E-2,9.7999999999999976E-2,6.4999999999999947E-2,6.5999999999999948E-2,6.3999999999999946E-2,6.2000000000000055E-2,1.3000000000000012E-2,1.2000000000000011E-2,1.7000000000000015E-2,9.000000000000008E-3]
[null,"San Francisco",{"$f":"1-C44","v":2.6000000000000023E-2},1.2000000000000011E-2,1.100000000000001E-2,2.4000000000000021E-2,1.8000000000000016E-2,null,{"$f":"I44","v":"San Francisco"},{"$f":"1-J44","v":2.4000000000000021E-2},2.300000000000002E-2,2.5000000000000022E-2,3.0000000000000027E-2,3.400000000000003E-2,2.9000000000000026E-2,2.300000000000002E-2,2.7000000000000024E-2,2.7000000000000024E-2,3.0000000000000027E-2,3.3000000000000029E-2,4.6000000000000041E-2,2.7000000000000024E-2,1.8000000000000016E-2]
[null,"San Joaquin",{"$f":"1-C45","v":9.000000000000008E-3},1.5000000000000013E-2,2.0000000000000018E-2,1.9000000000000017E-2,1.4000000000000012E-2,null,{"$f":"I45","v":"San Joaquin"},{"$f":"1-J45","v":1.3000000000000012E-2},1.7000000000000015E-2,2.200000000000002E-2,1.8000000000000016E-2,9.000000000000008E-3,1.7000000000000015E-2,2.0000000000000018E-2,2.200000000000002E-2,1.3000000000000012E-2,6.0000000000000053E-3,8.0000000000000071E-3,6.0000000000000053E-3,3.0000000000000027E-3,1.6000000000000014E-2]
[null,"San Luis Obispo",{"$f":"1-C46","v":4.3000000000000038E-2},4.500000000000004E-2,3.0000000000000027E-2,2.6000000000000023E-2,5.4000000000000048E-2,null,{"$f":"I46","v":"San Luis Obispo"},{"$f":"1-J46","v":1.7000000000000015E-2},3.6000000000000032E-2,3.8000000000000034E-2,6.4999999999999947E-2,6.5999999999999948E-2,2.8000000000000025E-2,2.6000000000000023E-2,1.5000000000000013E-2,4.7000000000000042E-2,2.0000000000000018E-2,3.5000000000000031E-2,4.3000000000000038E-2,4.500000000000004E-2,2.5000000000000022E-2]
[null,"San Mateo",{"$f":"1-C47","v":0.11099999999999999},5.3000000000000047E-2,6.2000000000000055E-2,4.8000000000000043E-2,5.9000000000000052E-2,null,{"$f":"I47","v":"San Mateo"},{"$f":"1-J47","v":0.378},0.22299999999999998,0.16900000000000004,3.2000000000000028E-2,1.6000000000000014E-2,2.300000000000002E-2,2.7000000000000024E-2,3.0000000000000027E-2,2.5000000000000022E-2,2.7000000000000024E-2,1.2000000000000011E-2,3.5000000000000031E-2,2.9000000000000026E-2,1.9000000000000017E-2]
[null,"Santa Barbara",{"$f":"1-C48","v":0.26},0.36699999999999999,0.11799999999999999,4.0000000000000036E-2,4.9000000000000044E-2,null,{"$f":"I48","v":"Santa Barbara"},{"$f":"1-J48","v":4.6000000000000041E-2},6.9999999999999951E-2,5.600000000000005E-2,7.5999999999999956E-2,0.374,0.20399999999999996,0.125,0.11099999999999999,0.14500000000000002,4.7000000000000042E-2,3.5000000000000031E-2,4.2000000000000037E-2,0.10499999999999998,1.2000000000000011E-2]
[null,"Santa Clara",{"$f":"1-C49","v":0.33299999999999996},0.251,0.20599999999999996,0.19099999999999995,0.125,null,{"$f":"I49","v":"Santa Clara"},{"$f":"1-J49","v":0.122},2.300000000000002E-2,4.0000000000000036E-2,0.11399999999999999,5.5000000000000049E-2,3.2000000000000028E-2,2.8000000000000025E-2,2.8000000000000025E-2,4.0000000000000036E-2,3.3000000000000029E-2,2.0000000000000018E-2,1.8000000000000016E-2,1.7000000000000015E-2,1.4000000000000012E-2]
[null,"Santa Cruz",{"$f":"1-C50","v":0.16100000000000003},0.375,6.0000000000000053E-2,3.7000000000000033E-2,4.6000000000000041E-2,null,{"$f":"I50","v":"Santa Cruz"},{"$f":"1-J50","v":0.18500000000000005},4.4000000000000039E-2,6.6999999999999948E-2,7.0999999999999952E-2,0.27900000000000003,0.19299999999999995,0.128,0.16900000000000004,7.2999999999999954E-2,3.0000000000000027E-2,2.7000000000000024E-2,4.1000000000000036E-2,3.8000000000000034E-2,4.3000000000000038E-2]
[null,"Shasta",{"$f":"1-C51","v":2.200000000000002E-2},1.2000000000000011E-2,2.9000000000000026E-2,2.1000000000000019E-2,2.4000000000000021E-2,null,{"$f":"I51","v":"Shasta"},{"$f":"1-J51","v":6.5999999999999948E-2},4.8000000000000043E-2,6.0000000000000053E-2,0.18000000000000005,3.6000000000000032E-2,4.500000000000004E-2,2.8000000000000025E-2,6.2000000000000055E-2,3.400000000000003E-2,3.3000000000000029E-2,3.3000000000000029E-2,2.0000000000000018E-2,1.9000000000000017E-2,3.0000000000000027E-2]
[null,"Sierra",{"$f":"1-C52","v":0},0,0,0,0,null,{"$f":"I52","v":"Sierra"},{"$f":"1-J52","v":8.2999999999999963E-2},0,0,0,0,9.9999999999999978E-2,0,0,0,0,0,0,0,0]
[null,"Siskiyou",{"$f":"1-C53","v":6.0000000000000053E-3},0,0,0,0,null,{"$f":"I53","v":"Siskiyou"},{"$f":"1-J53","v":0},8.0000000000000071E-3,0,6.0000000000000053E-3,0,0,0,0,0,1.5000000000000013E-2,1.5000000000000013E-2,0,8.0000000000000071E-3,7.2999999999999954E-2]
[null,"Solano",{"$f":"1-C54","v":0.14900000000000002},7.6999999999999957E-2,7.0999999999999952E-2,6.4999999999999947E-2,5.1000000000000045E-2,null,{"$f":"I54","v":"Solano"},{"$f":"1-J54","v":7.3999999999999955E-2},6.3999999999999946E-2,5.8000000000000052E-2,8.9999999999999969E-2,6.0000000000000053E-2,5.5000000000000049E-2,6.0000000000000053E-2,6.7999999999999949E-2,6.899999999999995E-2,5.5000000000000049E-2,2.5000000000000022E-2,4.3000000000000038E-2,5.1000000000000045E-2,1.2000000000000011E-2]
[null,"Sonoma",{"$f":"1-C55","v":0.22499999999999998},0.13800000000000001,0.123,0.10099999999999998,5.0000000000000044E-2,null,{"$f":"I55","v":"Sonoma"},{"$f":"1-J55","v":5.9000000000000052E-2},7.6999999999999957E-2,0.13300000000000001,0.13900000000000001,0.15900000000000003,0.16200000000000003,0.10299999999999998,4.1000000000000036E-2,4.2000000000000037E-2,8.1999999999999962E-2,7.4999999999999956E-2,0.10999999999999999,0.10699999999999998,0.13800000000000001]
[null,"Stanislaus",{"$f":"1-C56","v":0},0,0,0,0,null,{"$f":"I56","v":"Stanislaus"},{"$f":"1-J56","v":1.4000000000000012E-2},6.0000000000000053E-3,1.6000000000000014E-2,3.8000000000000034E-2,4.7000000000000042E-2,8.4999999999999964E-2,3.5000000000000031E-2,1.5000000000000013E-2,3.7000000000000033E-2,1.4000000000000012E-2,8.0000000000000071E-3,9.000000000000008E-3,2.0000000000000018E-3,1.0000000000000009E-2]
[null,"Sutter",{"$f":"1-C57","v":8.3999999999999964E-2},7.3999999999999955E-2,5.0000000000000044E-2,4.9000000000000044E-2,4.8000000000000043E-2,null,{"$f":"I57","v":"Sutter"},{"$f":"1-J57","v":3.6000000000000032E-2},4.3000000000000038E-2,1.9000000000000017E-2,1.100000000000001E-2,5.600000000000005E-2,2.8000000000000025E-2,1.100000000000001E-2,1.2000000000000011E-2,0,3.2000000000000028E-2,2.1000000000000019E-2,9.000000000000008E-3,2.4000000000000021E-2,4.2000000000000037E-2]
[null,"Tehama",{"$f":"1-C58","v":0.13800000000000001},0.10599999999999998,0.10299999999999998,8.6999999999999966E-2,6.5999999999999948E-2,null,{"$f":"I58","v":"Tehama"},{"$f":"1-J58","v":3.9000000000000035E-2},4.7000000000000042E-2,5.7000000000000051E-2,8.2999999999999963E-2,3.3000000000000029E-2,5.600000000000005E-2,6.3999999999999946E-2,3.0000000000000027E-2,2.1000000000000019E-2,3.5000000000000031E-2,4.500000000000004E-2,2.5000000000000022E-2,4.8000000000000043E-2,2.300000000000002E-2]
[null,"Trinity",{"$f":"1-C59","v":2.6000000000000023E-2},3.6000000000000032E-2,0,2.1000000000000019E-2,8.4999999999999964E-2,null,{"$f":"I59","v":"Trinity"},{"$f":"1-J59","v":5.8000000000000052E-2},2.4000000000000021E-2,0,0,4.2000000000000037E-2,0,0,3.2000000000000028E-2,7.4999999999999956E-2,6.1000000000000054E-2,1.6000000000000014E-2,7.4999999999999956E-2,6.3999999999999946E-2,1.7000000000000015E-2]
[null,"Tulare",{"$f":"1-C60","v":0},0,0,0,0,null,{"$f":"I60","v":"Tulare"},{"$f":"1-J60","v":0},0,0,0,0,0,9.000000000000008E-3,1.7000000000000015E-2,2.300000000000002E-2,1.5000000000000013E-2,9.000000000000008E-3,1.8000000000000016E-2,3.400000000000003E-2,9.000000000000008E-3]
[null,{"$f":"B61","v":"Tuolumne"},{"$f":"1-C61","v":1.2000000000000011E-2},1.0000000000000009E-2,3.400000000000003E-2,2.200000000000002E-2,3.0000000000000027E-2,null,{"$f":"I61","v":"Tuolumne"},{"$f":"1-J61","v":4.6000000000000041E-2},4.9000000000000044E-2,7.6999999999999957E-2,0.11399999999999999,6.5999999999999948E-2,6.1000000000000054E-2,4.6000000000000041E-2,3.5000000000000031E-2,0.10699999999999998,4.9000000000000044E-2,0.123,2.9000000000000026E-2,7.0000000000000062E-3,1.6000000000000014E-2]
[null,"Ventura",{"$f":"1-C62","v":1.4000000000000012E-2},2.0000000000000018E-2,1.0000000000000009E-2,1.3000000000000012E-2,1.3000000000000012E-2,null,{"$f":"I62","v":"Ventura"},{"$f":"1-J62","v":1.9000000000000017E-2},7.0000000000000062E-3,1.6000000000000014E-2,5.5000000000000049E-2,7.4999999999999956E-2,3.5000000000000031E-2,2.300000000000002E-2,2.300000000000002E-2,5.600000000000005E-2,1.6000000000000014E-2,2.200000000000002E-2,1.4000000000000012E-2,2.4000000000000021E-2,1.3000000000000012E-2]
[null,"Yolo",{"$f":"1-C63","v":0.17900000000000005},0.11199999999999999,6.6999999999999948E-2,0.127,9.3999999999999972E-2,null,{"$f":"I63","v":"Yolo"},{"$f":"1-J63","v":0.23299999999999998},0.82699999999999996,0.15700000000000003,0.12,0.14700000000000002,0.15800000000000003,0.18400000000000005,0.10099999999999998,8.7999999999999967E-2,4.6000000000000041E-2,5.2000000000000046E-2,5.1000000000000045E-2,6.2999999999999945E-2,3.0000000000000027E-2]
[null,"Yuba",{"$f":"1-C64","v":4.0000000000000036E-3},1.4000000000000012E-2,0,0,0,null,{"$f":"I64","v":"Yuba"},{"$f":"1-J64","v":3.0000000000000027E-2},0,1.4000000000000012E-2,3.1000000000000028E-2,6.0000000000000053E-3,0,0,0,0,0,0,0,0,4.0000000000000036E-3]
[]
[null,"Sum of qtr_timeliness_exp_ly","Column Labels",null,null,null,null,null,"Sum of qtr_timeliness_exp_curr_qtr","Column Labels"]
[null,null,2012,2013,null,null,null,null,null,2013,null,null,null,2014,null,null,null,2015,null,null,null,2016]
[null,"Row Labels",4,1,2,3,4,null,"Row Labels",1,2,3,4,1,2,3,4,1,2,3,4,1,2]
[null,"California",0.92300000000000004,0.92700000000000005,0.94,0.94199999999999995,0.93899999999999995,null,"California",0.93700000000000006,0.94299999999999995,0.91900000000000004,0.92400000000000004,0.90600000000000003,0.92400000000000004,0.92800000000000005,0.93300000000000005,0.93600000000000005,0.94699999999999995,0.94199999999999995,0.93700000000000006,0.93400000000000005,0.92500000000000004]
[null,"Alameda",0.871,0.87,0.873,0.877,0.85499999999999998,null,"Alameda",0.86599999999999999,0.86199999999999999,0.871,0.86499999999999999,0.877,0.89900000000000002,0.86899999999999999,0.86799999999999999,0.85399999999999998,0.89600000000000002,0.88400000000000001,0.83,0.89800000000000002,0.93200000000000005]
[null,"Alpine",1,1,1,1,0.93799999999999994,null,"Alpine",0.92900000000000005,0.95,0.72699999999999998,0.64700000000000002,0.78900000000000003,0.91700000000000004,0.78900000000000003,0.77800000000000002,0.42899999999999999,0.625,0.75,0.66700000000000004,0.44400000000000001,0.63600000000000001]
[null,"Amador",0.89300000000000002,0.94799999999999995,0.86099999999999999,0.92800000000000005,0.93600000000000005,null,"Amador",0.93100000000000005,0.95599999999999996,0.94399999999999995,0.98599999999999999,0.97099999999999997,0.95699999999999996,0.95299999999999996,0.94,0.94199999999999995,0.94,0.96199999999999997,0.95899999999999996,0.97399999999999998,0.95899999999999996]
[null,"Butte",0.93600000000000005,0.93600000000000005,0.92200000000000004,0.94899999999999995,0.95499999999999996,null,"Butte",0.95799999999999996,0.95299999999999996,0.93899999999999995,0.93,0.89500000000000002,0.9,0.94199999999999995,0.94,0.92700000000000005,0.93500000000000005,0.92600000000000005,0.91900000000000004,0.94799999999999995,0.93899999999999995]
[null,"Calaveras",0.98,0.98899999999999999,0.99199999999999999,0.99199999999999999,0.98799999999999999,null,"Calaveras",0.96399999999999997,0.98,0.98599999999999999,0.98199999999999998,0.95199999999999996,0.96399999999999997,0.96899999999999997,0.95699999999999996,0.95599999999999996,0.95199999999999996,0.94099999999999995,0.94,0.92700000000000005,0.96399999999999997]
[null,"Colusa",1,1,0.97199999999999998,1,1,null,"Colusa",1,1,0.95799999999999996,0.94899999999999995,0.95,0.95899999999999996,0.93799999999999994,0.89700000000000002,0.90300000000000002,0.91800000000000004,0.94699999999999995,0.95399999999999996,0.97099999999999997,0.98699999999999999]
[null,"Contra Costa",0.83099999999999996,0.82099999999999995,0.89100000000000001,0.84599999999999997,0.875,null,"Contra Costa",0.90700000000000003,0.93700000000000006,0.79200000000000004,0.71599999999999997,0.85499999999999998,0.85799999999999998,0.82699999999999996,0.94099999999999995,0.92500000000000004,0.97,0.96799999999999997,0.96899999999999997,0.97899999999999998,0.98399999999999999]
[null,"Del Norte",0.99,0.98,0.99199999999999999,0.98799999999999999,0.97799999999999998,null,"Del Norte",0.98799999999999999,0.97399999999999998,0.98399999999999999,0.98199999999999998,0.97699999999999998,0.95199999999999996,0.95699999999999996,0.99,0.96099999999999997,0.92900000000000005,0.94499999999999995,0.93600000000000005,0.94399999999999995,0.93500000000000005]
[null,"El Dorado",0.92600000000000005,0.93100000000000005,0.96299999999999997,0.95899999999999996,0.97299999999999998,null,"El Dorado",0.98799999999999999,0.96399999999999997,0.97699999999999998,0.878,0.78800000000000003,0.82499999999999996,0.95399999999999996,0.94299999999999995,0.96099999999999997,0.94899999999999995,0.94599999999999995,0.96199999999999997,0.95599999999999996,0.98599999999999999]
[null,"Fresno",0.95199999999999996,0.95,0.97099999999999997,0.97299999999999998,0.97,null,"Fresno",0.97099999999999997,0.93300000000000005,0.83499999999999996,0.91200000000000003,0.92300000000000004,0.97,0.97699999999999998,0.96399999999999997,0.92600000000000005,0.97299999999999998,0.92300000000000004,0.95,0.91,0.96899999999999997]
[null,"Glenn",0.99099999999999999,1,1,0.98199999999999998,0.99199999999999999,null,"Glenn",1,0.99299999999999999,0.99199999999999999,1,0.94399999999999995,1,0.97499999999999998,0.98499999999999999,0.98499999999999999,0.98599999999999999,0.99,0.99099999999999999,0.97799999999999998,0.98599999999999999]
[null,"Humboldt",0.89600000000000002,0.89100000000000001,0.92800000000000005,0.94399999999999995,0.89700000000000002,null,"Humboldt",0.9,0.93300000000000005,0.89700000000000002,0.88,0.748,0.86299999999999999,0.86599999999999999,0.90500000000000003,0.91900000000000004,0.93600000000000005,0.91700000000000004,0.95799999999999996,0.96599999999999997,0.98499999999999999]
[null,"Imperial",0.99099999999999999,0.97699999999999998,0.98699999999999999,0.98399999999999999,0.98799999999999999,null,"Imperial",0.98699999999999999,0.98899999999999999,0.91400000000000003,0.98199999999999998,0.89400000000000002,0.88300000000000001,0.82599999999999996,0.89500000000000002,0.88100000000000001,0.83599999999999997,0.90100000000000002,0.94299999999999995,0.93700000000000006,0.93600000000000005]
[null,"Inyo",0.99099999999999999,1,0.99099999999999999,0.99299999999999999,0.99,null,"Inyo",0.98399999999999999,0.97799999999999998,0.99199999999999999,0.95799999999999996,0.95499999999999996,0.96199999999999997,0.96,0.92900000000000005,0.94899999999999995,0.90500000000000003,0.93200000000000005,0.94799999999999995,0.9,0.89200000000000002]
[null,"Kern",0.98199999999999998,0.97699999999999998,0.96899999999999997,0.95099999999999996,0.96299999999999997,null,"Kern",0.95599999999999996,0.95199999999999996,0.90200000000000002,0.90400000000000003,0.88400000000000001,0.90800000000000003,0.92,0.92,0.91500000000000004,0.94699999999999995,0.93799999999999994,0.94699999999999995,0.94,0.94499999999999995]
[null,"Kings",0.91100000000000003,0.89700000000000002,0.86499999999999999,0.88200000000000001,0.90800000000000003,null,"Kings",0.95299999999999996,0.96899999999999997,0.96199999999999997,0.94399999999999995,0.88700000000000001,0.84499999999999997,0.80500000000000005,0.93400000000000005,0.96399999999999997,0.96799999999999997,0.97299999999999998,0.96,0.97099999999999997,0.96699999999999997]
[null,"Lake",0.97099999999999997,0.96899999999999997,0.93500000000000005,0.94,0.95499999999999996,null,"Lake",0.95199999999999996,0.95199999999999996,0.872,0.90300000000000002,0.85499999999999998,0.81599999999999995,0.89,0.92300000000000004,0.94599999999999995,0.95699999999999996,0.94499999999999995,0.92100000000000004,0.93100000000000005,0.93400000000000005]
[null,"Lassen",0.97499999999999998,0.97,0.93600000000000005,0.93,0.90100000000000002,null,"Lassen",0.92100000000000004,0.95899999999999996,0.91200000000000003,0.91200000000000003,0.82699999999999996,0.875,0.84899999999999998,0.77600000000000002,0.78400000000000003,0.73399999999999999,0.747,0.80500000000000005,0.90300000000000002,0.753]
[null,"Los Angeles",0.91400000000000003,0.93,0.94799999999999995,0.95899999999999996,0.94899999999999995,null,"Los Angeles",0.95099999999999996,0.96099999999999997,0.95699999999999996,0.94899999999999995,0.93899999999999995,0.94499999999999995,0.93500000000000005,0.92900000000000005,0.94799999999999995,0.94899999999999995,0.94199999999999995,0.92200000000000004,0.89500000000000002,0.82899999999999996]
[null,"Madera",0.98099999999999998,0.98,0.99,0.99199999999999999,0.98499999999999999,null,"Madera",0.98299999999999998,0.98199999999999998,0.97199999999999998,0.97499999999999998,0.88700000000000001,0.91300000000000003,0.92500000000000004,0.88400000000000001,0.876,0.85,0.93400000000000005,0.96699999999999997,0.96799999999999997,0.96799999999999997]
[null,"Marin",0.97499999999999998,0.91700000000000004,0.94,0.94399999999999995,0.94599999999999995,null,"Marin",0.93300000000000005,0.95099999999999996,0.95399999999999996,0.94899999999999995,0.90100000000000002,0.93,0.92600000000000005,0.94,0.93100000000000005,0.92100000000000004,0.93200000000000005,0.96,0.92400000000000004,0.93200000000000005]
[null,"Mariposa",0.98799999999999999,0.98099999999999998,0.96699999999999997,0.98899999999999999,0.96299999999999997,null,"Mariposa",0.93799999999999994,0.94299999999999995,0.98699999999999999,0.86799999999999999,0.91500000000000004,0.92500000000000004,0.97699999999999998,0.92600000000000005,0.97599999999999998,0.96399999999999997,0.96499999999999997,0.97799999999999998,0.93100000000000005,0.96499999999999997]
[null,"Mendocino",0.99299999999999999,0.995,0.998,0.98699999999999999,0.99099999999999999,null,"Mendocino",0.98899999999999999,0.98899999999999999,0.995,0.99399999999999999,0.95499999999999996,0.98,0.96499999999999997,0.96499999999999997,0.97299999999999998,0.97199999999999998,0.97699999999999998,0.96199999999999997,0.95699999999999996,0.97399999999999998]
[null,"Merced",0.97199999999999998,0.97399999999999998,0.98399999999999999,0.97699999999999998,0.98599999999999999,null,"Merced",0.99099999999999999,0.99199999999999999,0.94799999999999995,0.94799999999999995,0.92300000000000004,0.94399999999999995,0.95,0.95,0.94799999999999995,0.96599999999999997,0.95299999999999996,0.95399999999999996,0.96299999999999997,0.95799999999999996]
[null,"Modoc",0.95099999999999996,0.95599999999999996,0.94099999999999995,1,1,null,"Modoc",0.94499999999999995,0.92300000000000004,1,0.96199999999999997,0.94399999999999995,0.873,0.84399999999999997,0.89100000000000001,0.81299999999999994,0.94,0.92,1,0.92700000000000005,0.86699999999999999]
[null,"Mono",0.94699999999999995,0.92600000000000005,0.88800000000000001,0.95,0.94499999999999995,null,"Mono",0.89100000000000001,0.95799999999999996,0.84799999999999998,0.96599999999999997,0.90300000000000002,0.85599999999999998,0.89300000000000002,0.92400000000000004,0.95699999999999996,0.98099999999999998,1,0.98699999999999999,0.91900000000000004,0.98699999999999999]
[null,"Monterey",0.99399999999999999,0.99399999999999999,0.99099999999999999,0.99399999999999999,0.99299999999999999,null,"Monterey",0.995,0.995,0.99199999999999999,0.97799999999999998,0.95599999999999996,0.97099999999999997,0.95799999999999996,0.95399999999999996,0.95,0.96,0.97199999999999998,0.96199999999999997,0.96,0.97099999999999997]
[null,"Napa",0.95499999999999996,0.96399999999999997,0.98199999999999998,0.98499999999999999,0.96199999999999997,null,"Napa",0.97,0.96599999999999997,0.89900000000000002,0.90600000000000003,0.96199999999999997,0.97899999999999998,0.96399999999999997,0.95399999999999996,0.95499999999999996,0.97399999999999998,0.96799999999999997,0.96899999999999997,0.93899999999999995,0.96099999999999997]
[null,"Nevada",0.96399999999999997,0.98399999999999999,0.99199999999999999,0.98799999999999999,0.96899999999999997,null,"Nevada",0.94499999999999995,0.97399999999999998,0.95199999999999996,0.85799999999999998,0.81,0.76600000000000001,0.79400000000000004,0.85899999999999999,0.84599999999999997,0.82499999999999996,0.90300000000000002,0.92,0.85899999999999999,0.871]
[null,"Orange",0.995,0.99399999999999999,0.995,0.995,0.99399999999999999,null,"Orange",0.99299999999999999,0.996,0.996,0.995,0.98799999999999999,0.995,0.995,0.996,0.995,0.997,0.99399999999999999,0.98799999999999999,0.99399999999999999,0.995]
[null,"Placer",0.70199999999999996,0.83299999999999996,0.95799999999999996,0.96299999999999997,0.94799999999999995,null,"Placer",0.96699999999999997,0.97399999999999998,0.97399999999999998,0.94699999999999995,0.97399999999999998,0.97499999999999998,0.97099999999999997,0.97,0.95,0.93799999999999994,0,7.0000000000000007E-2,0,0.91500000000000004]
[null,"Plumas",1,0.96099999999999997,0.96899999999999997,0.93799999999999994,0.95399999999999996,null,"Plumas",0.98099999999999998,0.97799999999999998,0.97,0.81499999999999995,0.55100000000000005,0.53300000000000003,0.874,0.874,0.80700000000000005,0.90300000000000002,0.90300000000000002,0.82899999999999996,0.82199999999999995,0.88500000000000001]
[null,"Riverside",0.91400000000000003,0.93899999999999995,0.94799999999999995,0.94699999999999995,0.94199999999999995,null,"Riverside",0.95799999999999996,0.95799999999999996,0.94299999999999995,0.95199999999999996,0.879,0.88400000000000001,0.874,0.88600000000000001,0.90300000000000002,0.92100000000000004,0.92,0.93200000000000005,0.94199999999999995,0.94599999999999995]
[null,"Sacramento",0.86599999999999999,0.92300000000000004,0.96499999999999997,0.98499999999999999,0.97399999999999998,null,"Sacramento",0.95599999999999996,0.98399999999999999,0.98399999999999999,0.98,0.97099999999999997,0.98099999999999998,0.98199999999999998,0.98399999999999999,0.97499999999999998,0.98699999999999999,0.98699999999999999,0.98799999999999999,0.99,0.99199999999999999]
[null,"San Benito",0.98799999999999999,0.98599999999999999,0.995,0.97499999999999998,0.996,null,"San Benito",0.97699999999999998,0.97599999999999998,0.97299999999999998,0.96699999999999997,0.95,0.94599999999999995,0.96399999999999997,0.95199999999999996,0.94599999999999995,0.93,0.98499999999999999,0.95299999999999996,0.95299999999999996,0.93300000000000005]
[null,"San Bernardino",0.93500000000000005,0.93400000000000005,0.95299999999999996,0.93200000000000005,0.93600000000000005,null,"San Bernardino",0.92700000000000005,0.93200000000000005,0.86199999999999999,0.89500000000000002,0.86399999999999999,0.90600000000000003,0.94799999999999995,0.96299999999999997,0.95699999999999996,0.96199999999999997,0.95699999999999996,0.95199999999999996,0.95,0.96099999999999997]
[null,"San Diego",0.94299999999999995,0.94799999999999995,0.93899999999999995,0.88500000000000001,0.89200000000000002,null,"San Diego",0.91400000000000003,0.89600000000000002,0.91100000000000003,0.95199999999999996,0.96399999999999997,0.96799999999999997,0.97399999999999998,0.97599999999999998,0.97799999999999998,0.98299999999999998,0.97899999999999998,0.98199999999999998,0.98199999999999998,0.98]
[null,"San Francisco",0.95799999999999996,0.92100000000000004,0.96699999999999997,0.93200000000000005,0.91300000000000003,null,"San Francisco",0.753,0.89800000000000002,0.81699999999999995,0.69399999999999995,0.75600000000000001,0.9,0.83399999999999996,0.86499999999999999,0.86199999999999999,0.89400000000000002,0.86399999999999999,0.83899999999999997,0.876,0.9]
[null,"San Joaquin",0.93700000000000006,0.95399999999999996,0.94199999999999995,0.92700000000000005,0.96299999999999997,null,"San Joaquin",0.97499999999999998,0.97399999999999998,0.91700000000000004,0.93700000000000006,0.88300000000000001,0.88600000000000001,0.89,0.89200000000000002,0.88900000000000001,0.90300000000000002,0.91400000000000003,0.91100000000000003,0.90600000000000003,0.90700000000000003]
[null,"San Luis Obispo",0.81499999999999995,0.86499999999999999,0.84199999999999997,0.83499999999999996,0.89800000000000002,null,"San Luis Obispo",0.89800000000000002,0.89,0.91,0.90800000000000003,0.90100000000000002,0.90500000000000003,0.90400000000000003,0.92900000000000005,0.93300000000000005,0.93200000000000005,0.95899999999999996,0.94499999999999995,0.96199999999999997,0.97799999999999998]
[null,"San Mateo",0.83899999999999997,0.84199999999999997,0.85899999999999999,0.86599999999999999,0.82699999999999996,null,"San Mateo",0.81100000000000005,0.754,0.80300000000000005,0.83,0.875,0.88900000000000001,0.91100000000000003,0.88900000000000001,0.93300000000000005,0.92,0.92400000000000004,0.9,0.90200000000000002,0.88500000000000001]
[null,"Santa Barbara",0.83499999999999996,0.83799999999999997,0.88900000000000001,0.94499999999999995,0.93300000000000005,null,"Santa Barbara",0.92200000000000004,0.94,0.86499999999999999,0.84699999999999998,0.81699999999999995,0.88600000000000001,0.91300000000000003,0.86399999999999999,0.90400000000000003,0.92100000000000004,0.92,0.92400000000000004,0.92800000000000005,0.93100000000000005]
[null,"Santa Clara",0.39700000000000002,0.255,0.47699999999999998,0.86399999999999999,0.85099999999999998,null,"Santa Clara",0.87,0.88800000000000001,0.84199999999999997,0.92200000000000004,0.88400000000000001,0.93400000000000005,0.96499999999999997,0.94399999999999995,0.97199999999999998,0.97299999999999998,0.98399999999999999,0.98399999999999999,0.97399999999999998,0.98799999999999999]
[null,"Santa Cruz",0.66700000000000004,0.86499999999999999,0.90300000000000002,0.94599999999999995,0.88900000000000001,null,"Santa Cruz",0.92300000000000004,0.96,0.78900000000000003,0.68600000000000005,0.69299999999999995,0.93799999999999994,0.97299999999999998,0.97299999999999998,0.98499999999999999,0.97099999999999997,0.98599999999999999,0.96499999999999997,0.94699999999999995,0.97199999999999998]
[null,"Shasta",0.92100000000000004,0.93300000000000005,0.90100000000000002,0.88100000000000001,0.89600000000000002,null,"Shasta",0.85,0.86899999999999999,0.84899999999999998,0.875,0.93300000000000005,0.95499999999999996,0.95799999999999996,0.96199999999999997,0.96299999999999997,0.97899999999999998,0.96499999999999997,0.97699999999999998,0.98299999999999998,0.98]
[null,"Sierra",1,0.92300000000000004,1,1,0.95799999999999996,null,"Sierra",0.96199999999999997,1,1,1,0.91300000000000003,1,1,0.87,1,0.9,1,0.92300000000000004,0.88200000000000001,1]
[null,"Siskiyou",0.73799999999999999,0.95,0.90900000000000003,0.97,0.95,null,"Siskiyou",0.95,0.96299999999999997,0.96099999999999997,0.88300000000000001,0.86899999999999999,0.85399999999999998,0.89600000000000002,0.92,0.88100000000000001,0.86,0.90900000000000003,0.90900000000000003,0.88900000000000001,0.88100000000000001]
[null,"Solano",0.96,0.94699999999999995,0.96,0.95599999999999996,0.96399999999999997,null,"Solano",0.95099999999999996,0.96199999999999997,0.94799999999999995,0.96099999999999997,0.95899999999999996,0.97199999999999998,0.97399999999999998,0.97199999999999998,0.97199999999999998,0.98499999999999999,0.97699999999999998,0.96699999999999997,0.97199999999999998]
[null,"Sonoma",0.55300000000000005,0.46100000000000002,0.61699999999999999,0.7,0.622,null,"Sonoma",0.40300000000000002,0.46700000000000003,0.47199999999999998,0.48499999999999999,0.45900000000000002,0.71699999999999997,0.73399999999999999,0.75900000000000001,0.70499999999999996,0.75600000000000001,0.61,0.51500000000000001,0.50900000000000001,0.58699999999999997]
[null,"Stanislaus",0.97799999999999998,0.97099999999999997,0.96699999999999997,0.96,0.95699999999999996,null,"Stanislaus",0.96699999999999997,0.97,0.93600000000000005,0.92800000000000005,0.878,0.85299999999999998,0.84599999999999997,0.85599999999999998,0.89400000000000002,0.91800000000000004,0.90100000000000002,0.90500000000000003,0.91500000000000004,0.92500000000000004]
[null,"Sutter",0.95,0.96099999999999997,0.94499999999999995,0.94299999999999995,0.95899999999999996,null,"Sutter",0.96199999999999997,0.95499999999999996,0.876,0.91800000000000004,0.90400000000000003,0.90600000000000003,0.90800000000000003,0.91600000000000004,0.88900000000000001,0.91500000000000004,0.89,0.878,0.88100000000000001,0.9]
[null,"Tehama",0.997,0.995,0.99099999999999999,0.998,0.98799999999999999,null,"Tehama",0.99,0.98799999999999999,0.98199999999999998,0.99199999999999999,0.91,0.92200000000000004,0.93200000000000005,0.94799999999999995,0.95899999999999996,0.97399999999999998,0.97699999999999998,0.95899999999999996,0.96899999999999997,0.95399999999999996]
[null,"Trinity",0.96799999999999997,0.98899999999999999,0.98299999999999998,0.92200000000000004,0.89100000000000001,null,"Trinity",0.94199999999999995,0.67300000000000004,0.65200000000000002,0.91900000000000004,0.72,0.89400000000000002,0.874,0.69799999999999995,0.66900000000000004,0.83599999999999997,0.90200000000000002,0.91900000000000004,0.81200000000000006,0.72199999999999998]
[null,"Tulare",0.95499999999999996,0.93899999999999995,0.97199999999999998,0.97,0.97799999999999998,null,"Tulare",0.98299999999999998,0.97699999999999998,0.95499999999999996,0.97899999999999998,0.97399999999999998,0.98199999999999998,0.96699999999999997,0.98299999999999998,0.97799999999999998,0.98599999999999999,0.98199999999999998,0.97899999999999998,0.98,0.98699999999999999]
[null,"Tuolumne",0.98299999999999998,0.93700000000000006,0.92700000000000005,0.94599999999999995,0.96,null,"Tuolumne",0.97099999999999997,0.97299999999999998,0.95499999999999996,0.95899999999999996,0.91400000000000003,0.88800000000000001,0.91200000000000003,0.85799999999999998,0.753,0.78700000000000003,0.96199999999999997,0.98299999999999998,0.96899999999999997,0.98499999999999999]
[null,"Ventura",0.95199999999999996,0.95599999999999996,0.97,0.96399999999999997,0.95399999999999996,null,"Ventura",0.94099999999999995,0.95299999999999996,0.93799999999999994,0.93200000000000005,0.92100000000000004,0.94699999999999995,0.93500000000000005,0.94,0.95699999999999996,0.95499999999999996,0.96399999999999997,0.96099999999999997,0.96699999999999997,0.96799999999999997]
[null,"Yolo",0.92400000000000004,0.91200000000000003,0.91400000000000003,0.91700000000000004,0.90600000000000003,null,"Yolo",0.875,0.91500000000000004,0.90700000000000003,0.91500000000000004,0.91100000000000003,0.89500000000000002,0.89400000000000002,0.872,0.86,0.85,0.85,0.90300000000000002,0.95599999999999996,0.93300000000000005]
[null,"Yuba",0.96099999999999997,0.94499999999999995,0.94699999999999995,0.98399999999999999,0.95699999999999996,null,"Yuba",0.96199999999999997,0.96799999999999997,0.95199999999999996,0.92800000000000005,0.94,0.96199999999999997,0.95099999999999996,0.96699999999999997,0.96399999999999997,0.96599999999999997,0.96099999999999997,0.96599999999999997,0.96799999999999997,0.98]
[]
[null,"ES NON-COMPLIANCE"]
[null,{"$f":"B130","v":"Sum of qtr_timeliness_exp_ly"},"PRIOR YEAR FROM:",null,null,null,null,null,null,"CURRENT YEAR"]
[null,{"$f":"B131","v":0},2012,2013,0,0,0,null,{"$f":"I131","v":0},2013,0,0,0,2014,0,0,0,2015,0,0,0,2016,0]
[null,{"$f":"B132","v":"Row Labels"},4,1,2,3,4,null,{"$f":"I132","v":"Row Labels"},1,2,3,4,1,2,3,4,1,2,3,4,1,2]
[null,{"$f":"B133","v":"California"},{"$f":"1-C133","v":7.6999999999999957E-2},{"$f":"1-D133","v":7.2999999999999954E-2},6.0000000000000053E-2,5.8000000000000052E-2,6.1000000000000054E-2,null,"California",{"$f":"1-J133","v":6.2999999999999945E-2},5.7000000000000051E-2,8.0999999999999961E-2,7.5999999999999956E-2,9.3999999999999972E-2,7.5999999999999956E-2,7.1999999999999953E-2,6.6999999999999948E-2,6.3999999999999946E-2,5.3000000000000047E-2,5.8000000000000052E-2,6.2999999999999945E-2,6.5999999999999948E-2,7.4999999999999956E-2]
[null,{"$f":"B134","v":"Alameda"},{"$f":"1-C134","v":0.129},0.13,0.127,0.123,0.14500000000000002,null,"Alameda",{"$f":"1-J134","v":0.13400000000000001},0.13800000000000001,0.129,0.13500000000000001,0.123,0.10099999999999998,0.13100000000000001,0.13200000000000001,0.14600000000000002,0.10399999999999998,0.11599999999999999,0.17000000000000004,0.10199999999999998,6.7999999999999949E-2]
[null,{"$f":"B135","v":"Alpine"},{"$f":"1-C135","v":0},0,0,0,6.2000000000000055E-2,null,"Alpine",{"$f":"1-J135","v":7.0999999999999952E-2},5.0000000000000044E-2,0.27300000000000002,0.35299999999999998,0.21099999999999997,8.2999999999999963E-2,0.21099999999999997,0.22199999999999998,0.57099999999999995,0.375,0.25,0.33299999999999996,0.55600000000000005,0.36399999999999999]
[null,{"$f":"B136","v":"Amador"},{"$f":"1-C136","v":0.10699999999999998},5.2000000000000046E-2,0.13900000000000001,7.1999999999999953E-2,6.3999999999999946E-2,null,"Amador",{"$f":"1-J136","v":6.899999999999995E-2},4.4000000000000039E-2,5.600000000000005E-2,1.4000000000000012E-2,2.9000000000000026E-2,4.3000000000000038E-2,4.7000000000000042E-2,6.0000000000000053E-2,5.8000000000000052E-2,6.0000000000000053E-2,3.8000000000000034E-2,4.1000000000000036E-2,2.6000000000000023E-2,4.1000000000000036E-2]
[null,{"$f":"B137","v":"Butte"},{"$f":"1-C137","v":6.3999999999999946E-2},6.3999999999999946E-2,7.7999999999999958E-2,5.1000000000000045E-2,4.500000000000004E-2,null,"Butte",{"$f":"1-J137","v":4.2000000000000037E-2},4.7000000000000042E-2,6.1000000000000054E-2,6.9999999999999951E-2,0.10499999999999998,9.9999999999999978E-2,5.8000000000000052E-2,6.0000000000000053E-2,7.2999999999999954E-2,6.4999999999999947E-2,7.3999999999999955E-2,8.0999999999999961E-2,5.2000000000000046E-2,6.1000000000000054E-2]
[null,{"$f":"B138","v":"Calaveras"},{"$f":"1-C138","v":2.0000000000000018E-2},1.100000000000001E-2,8.0000000000000071E-3,8.0000000000000071E-3,1.2000000000000011E-2,null,"Calaveras",{"$f":"1-J138","v":3.6000000000000032E-2},2.0000000000000018E-2,1.4000000000000012E-2,1.8000000000000016E-2,4.8000000000000043E-2,3.6000000000000032E-2,3.1000000000000028E-2,4.3000000000000038E-2,4.4000000000000039E-2,4.8000000000000043E-2,5.9000000000000052E-2,6.0000000000000053E-2,7.2999999999999954E-2,3.6000000000000032E-2]
[null,{"$f":"B139","v":"Colusa"},{"$f":"1-C139","v":0},0,2.8000000000000025E-2,0,0,null,"Colusa",{"$f":"1-J139","v":0},0,4.2000000000000037E-2,5.1000000000000045E-2,5.0000000000000044E-2,4.1000000000000036E-2,6.2000000000000055E-2,0.10299999999999998,9.6999999999999975E-2,8.1999999999999962E-2,5.3000000000000047E-2,4.6000000000000041E-2,2.9000000000000026E-2,1.3000000000000012E-2]
[null,{"$f":"B140","v":"Contra Costa"},{"$f":"1-C140","v":0.16900000000000004},0.17900000000000005,0.10899999999999999,0.15400000000000003,0.125,null,"Contra Costa",{"$f":"1-J140","v":9.2999999999999972E-2},6.2999999999999945E-2,0.20799999999999996,0.28400000000000003,0.14500000000000002,0.14200000000000002,0.17300000000000004,5.9000000000000052E-2,7.4999999999999956E-2,3.0000000000000027E-2,3.2000000000000028E-2,3.1000000000000028E-2,2.1000000000000019E-2,1.6000000000000014E-2]
[null,{"$f":"B141","v":"Del Norte"},{"$f":"1-C141","v":1.0000000000000009E-2},2.0000000000000018E-2,8.0000000000000071E-3,1.2000000000000011E-2,2.200000000000002E-2,null,"Del Norte",{"$f":"1-J141","v":1.2000000000000011E-2},2.6000000000000023E-2,1.6000000000000014E-2,1.8000000000000016E-2,2.300000000000002E-2,4.8000000000000043E-2,4.3000000000000038E-2,1.0000000000000009E-2,3.9000000000000035E-2,7.0999999999999952E-2,5.5000000000000049E-2,6.3999999999999946E-2,5.600000000000005E-2,6.4999999999999947E-2]
[null,{"$f":"B142","v":"El Dorado"},{"$f":"1-C142","v":7.3999999999999955E-2},6.899999999999995E-2,3.7000000000000033E-2,4.1000000000000036E-2,2.7000000000000024E-2,null,"El Dorado",{"$f":"1-J142","v":1.2000000000000011E-2},3.6000000000000032E-2,2.300000000000002E-2,0.122,0.21199999999999997,0.17500000000000004,4.6000000000000041E-2,5.7000000000000051E-2,3.9000000000000035E-2,5.1000000000000045E-2,5.4000000000000048E-2,3.8000000000000034E-2,4.4000000000000039E-2,1.4000000000000012E-2]
[null,{"$f":"B143","v":"Fresno"},{"$f":"1-C143","v":4.8000000000000043E-2},5.0000000000000044E-2,2.9000000000000026E-2,2.7000000000000024E-2,3.0000000000000027E-2,null,"Fresno",{"$f":"1-J143","v":2.9000000000000026E-2},6.6999999999999948E-2,0.16500000000000004,8.7999999999999967E-2,7.6999999999999957E-2,3.0000000000000027E-2,2.300000000000002E-2,3.6000000000000032E-2,7.3999999999999955E-2,2.7000000000000024E-2,7.6999999999999957E-2,5.0000000000000044E-2,8.9999999999999969E-2,3.1000000000000028E-2]
[null,{"$f":"B144","v":"Glenn"},{"$f":"1-C144","v":9.000000000000008E-3},0,0,1.8000000000000016E-2,8.0000000000000071E-3,null,"Glenn",{"$f":"1-J144","v":0},7.0000000000000062E-3,8.0000000000000071E-3,0,5.600000000000005E-2,0,2.5000000000000022E-2,1.5000000000000013E-2,1.5000000000000013E-2,1.4000000000000012E-2,1.0000000000000009E-2,9.000000000000008E-3,2.200000000000002E-2,1.4000000000000012E-2]
[null,{"$f":"B145","v":"Humboldt"},{"$f":"1-C145","v":0.10399999999999998},0.10899999999999999,7.1999999999999953E-2,5.600000000000005E-2,0.10299999999999998,null,"Humboldt",{"$f":"1-J145","v":9.9999999999999978E-2},6.6999999999999948E-2,0.10299999999999998,0.12,0.252,0.13700000000000001,0.13400000000000001,9.4999999999999973E-2,8.0999999999999961E-2,6.3999999999999946E-2,8.2999999999999963E-2,4.2000000000000037E-2,3.400000000000003E-2,1.5000000000000013E-2]
[null,{"$f":"B146","v":"Imperial"},{"$f":"1-C146","v":9.000000000000008E-3},2.300000000000002E-2,1.3000000000000012E-2,1.6000000000000014E-2,1.2000000000000011E-2,null,"Imperial",{"$f":"1-J146","v":1.3000000000000012E-2},1.100000000000001E-2,8.5999999999999965E-2,1.8000000000000016E-2,0.10599999999999998,0.11699999999999999,0.17400000000000004,0.10499999999999998,0.11899999999999999,0.16400000000000003,9.8999999999999977E-2,5.7000000000000051E-2,6.2999999999999945E-2,6.3999999999999946E-2]
[null,{"$f":"B147","v":"Inyo"},{"$f":"1-C147","v":9.000000000000008E-3},0,9.000000000000008E-3,7.0000000000000062E-3,1.0000000000000009E-2,null,"Inyo",{"$f":"1-J147","v":1.6000000000000014E-2},2.200000000000002E-2,8.0000000000000071E-3,4.2000000000000037E-2,4.500000000000004E-2,3.8000000000000034E-2,4.0000000000000036E-2,7.0999999999999952E-2,5.1000000000000045E-2,9.4999999999999973E-2,6.7999999999999949E-2,5.2000000000000046E-2,9.9999999999999978E-2,0.10799999999999998]
[null,{"$f":"B148","v":"Kern"},{"$f":"1-C148","v":1.8000000000000016E-2},2.300000000000002E-2,3.1000000000000028E-2,4.9000000000000044E-2,3.7000000000000033E-2,null,{"$f":"I148","v":"Kern"},{"$f":"1-J148","v":4.4000000000000039E-2},4.8000000000000043E-2,9.7999999999999976E-2,9.5999999999999974E-2,0.11599999999999999,9.1999999999999971E-2,7.999999999999996E-2,7.999999999999996E-2,8.4999999999999964E-2,5.3000000000000047E-2,6.2000000000000055E-2,5.3000000000000047E-2,6.0000000000000053E-2,5.5000000000000049E-2]
[null,{"$f":"B149","v":"Kings"},{"$f":"1-C149","v":8.8999999999999968E-2},0.10299999999999998,0.13500000000000001,0.11799999999999999,9.1999999999999971E-2,null,"Kings",{"$f":"1-J149","v":4.7000000000000042E-2},3.1000000000000028E-2,3.8000000000000034E-2,5.600000000000005E-2,0.11299999999999999,0.15500000000000003,0.19499999999999995,6.5999999999999948E-2,3.6000000000000032E-2,3.2000000000000028E-2,2.7000000000000024E-2,4.0000000000000036E-2,2.9000000000000026E-2,3.3000000000000029E-2]
[null,{"$f":"B150","v":"Lake"},{"$f":"1-C150","v":2.9000000000000026E-2},3.1000000000000028E-2,6.4999999999999947E-2,6.0000000000000053E-2,4.500000000000004E-2,null,"Lake",{"$f":"1-J150","v":4.8000000000000043E-2},4.8000000000000043E-2,0.128,9.6999999999999975E-2,0.14500000000000002,0.18400000000000005,0.10999999999999999,7.6999999999999957E-2,5.4000000000000048E-2,4.3000000000000038E-2,5.5000000000000049E-2,7.8999999999999959E-2,6.899999999999995E-2,6.5999999999999948E-2]
[null,{"$f":"B151","v":"Lassen"},{"$f":"1-C151","v":2.5000000000000022E-2},3.0000000000000027E-2,6.3999999999999946E-2,6.9999999999999951E-2,9.8999999999999977E-2,null,"Lassen",{"$f":"1-J151","v":7.8999999999999959E-2},4.1000000000000036E-2,8.7999999999999967E-2,8.7999999999999967E-2,0.17300000000000004,0.125,0.15100000000000002,0.22399999999999998,0.21599999999999997,0.26600000000000001,0.253,0.19499999999999995,9.6999999999999975E-2,0.247]
[null,{"$f":"B152","v":"Los Angeles"},{"$f":"1-C152","v":8.5999999999999965E-2},6.9999999999999951E-2,5.2000000000000046E-2,4.1000000000000036E-2,5.1000000000000045E-2,null,"Los Angeles",{"$f":"1-J152","v":4.9000000000000044E-2},3.9000000000000035E-2,4.3000000000000038E-2,5.1000000000000045E-2,6.1000000000000054E-2,5.5000000000000049E-2,6.4999999999999947E-2,7.0999999999999952E-2,5.2000000000000046E-2,5.1000000000000045E-2,5.8000000000000052E-2,7.7999999999999958E-2,0.10499999999999998,0.17100000000000004]
[null,{"$f":"B153","v":"Madera"},{"$f":"1-C153","v":1.9000000000000017E-2},2.0000000000000018E-2,1.0000000000000009E-2,8.0000000000000071E-3,1.5000000000000013E-2,null,"Madera",{"$f":"1-J153","v":1.7000000000000015E-2},1.8000000000000016E-2,2.8000000000000025E-2,2.5000000000000022E-2,0.11299999999999999,8.6999999999999966E-2,7.4999999999999956E-2,0.11599999999999999,0.124,0.15000000000000002,6.5999999999999948E-2,3.3000000000000029E-2,3.2000000000000028E-2,3.2000000000000028E-2]
[null,{"$f":"B154","v":"Marin"},{"$f":"1-C154","v":2.5000000000000022E-2},8.2999999999999963E-2,6.0000000000000053E-2,5.600000000000005E-2,5.4000000000000048E-2,null,"Marin",{"$f":"1-J154","v":6.6999999999999948E-2},4.9000000000000044E-2,4.6000000000000041E-2,5.1000000000000045E-2,9.8999999999999977E-2,6.9999999999999951E-2,7.3999999999999955E-2,6.0000000000000053E-2,6.899999999999995E-2,7.8999999999999959E-2,6.7999999999999949E-2,4.0000000000000036E-2,7.5999999999999956E-2,6.7999999999999949E-2]
[null,{"$f":"B155","v":"Mariposa"},{"$f":"1-C155","v":1.2000000000000011E-2},1.9000000000000017E-2,3.3000000000000029E-2,1.100000000000001E-2,3.7000000000000033E-2,null,"Mariposa",{"$f":"1-J155","v":6.2000000000000055E-2},5.7000000000000051E-2,1.3000000000000012E-2,0.13200000000000001,8.4999999999999964E-2,7.4999999999999956E-2,2.300000000000002E-2,7.3999999999999955E-2,2.4000000000000021E-2,3.6000000000000032E-2,3.5000000000000031E-2,2.200000000000002E-2,6.899999999999995E-2,3.5000000000000031E-2]
[null,{"$f":"B156","v":"Mendocino"},{"$f":"1-C156","v":7.0000000000000062E-3},5.0000000000000044E-3,2.0000000000000018E-3,1.3000000000000012E-2,9.000000000000008E-3,null,"Mendocino",{"$f":"1-J156","v":1.100000000000001E-2},1.100000000000001E-2,5.0000000000000044E-3,6.0000000000000053E-3,4.500000000000004E-2,2.0000000000000018E-2,3.5000000000000031E-2,3.5000000000000031E-2,2.7000000000000024E-2,2.8000000000000025E-2,2.300000000000002E-2,3.8000000000000034E-2,4.3000000000000038E-2,2.6000000000000023E-2]
[null,{"$f":"B157","v":"Merced"},{"$f":"1-C157","v":2.8000000000000025E-2},2.6000000000000023E-2,1.6000000000000014E-2,2.300000000000002E-2,1.4000000000000012E-2,null,"Merced",{"$f":"1-J157","v":9.000000000000008E-3},8.0000000000000071E-3,5.2000000000000046E-2,5.2000000000000046E-2,7.6999999999999957E-2,5.600000000000005E-2,5.0000000000000044E-2,5.0000000000000044E-2,5.2000000000000046E-2,3.400000000000003E-2,4.7000000000000042E-2,4.6000000000000041E-2,3.7000000000000033E-2,4.2000000000000037E-2]
[null,{"$f":"B158","v":"Modoc"},{"$f":"1-C158","v":4.9000000000000044E-2},4.4000000000000039E-2,5.9000000000000052E-2,0,0,null,"Modoc",{"$f":"1-J158","v":5.5000000000000049E-2},7.6999999999999957E-2,0,3.8000000000000034E-2,5.600000000000005E-2,0.127,0.15600000000000003,0.10899999999999999,0.18700000000000006,6.0000000000000053E-2,7.999999999999996E-2,0,7.2999999999999954E-2,0.13300000000000001]
[null,{"$f":"B159","v":"Mono"},{"$f":"1-C159","v":5.3000000000000047E-2},7.3999999999999955E-2,0.11199999999999999,5.0000000000000044E-2,5.5000000000000049E-2,null,"Mono",{"$f":"1-J159","v":0.10899999999999999},4.2000000000000037E-2,0.15200000000000002,3.400000000000003E-2,9.6999999999999975E-2,0.14400000000000002,0.10699999999999998,7.5999999999999956E-2,4.3000000000000038E-2,1.9000000000000017E-2,0,1.3000000000000012E-2,8.0999999999999961E-2,1.3000000000000012E-2]
[null,{"$f":"B160","v":"Monterey"},{"$f":"1-C160","v":6.0000000000000053E-3},6.0000000000000053E-3,9.000000000000008E-3,6.0000000000000053E-3,7.0000000000000062E-3,null,"Monterey",{"$f":"1-J160","v":5.0000000000000044E-3},5.0000000000000044E-3,8.0000000000000071E-3,2.200000000000002E-2,4.4000000000000039E-2,2.9000000000000026E-2,4.2000000000000037E-2,4.6000000000000041E-2,5.0000000000000044E-2,4.0000000000000036E-2,2.8000000000000025E-2,3.8000000000000034E-2,4.0000000000000036E-2,2.9000000000000026E-2]
[null,{"$f":"B161","v":"Napa"},{"$f":"1-C161","v":4.500000000000004E-2},3.6000000000000032E-2,1.8000000000000016E-2,1.5000000000000013E-2,3.8000000000000034E-2,null,"Napa",{"$f":"1-J161","v":3.0000000000000027E-2},3.400000000000003E-2,0.10099999999999998,9.3999999999999972E-2,3.8000000000000034E-2,2.1000000000000019E-2,3.6000000000000032E-2,4.6000000000000041E-2,4.500000000000004E-2,2.6000000000000023E-2,3.2000000000000028E-2,3.1000000000000028E-2,6.1000000000000054E-2,3.9000000000000035E-2]
[null,{"$f":"B162","v":"Nevada"},{"$f":"1-C162","v":3.6000000000000032E-2},1.6000000000000014E-2,8.0000000000000071E-3,1.2000000000000011E-2,3.1000000000000028E-2,null,"Nevada",{"$f":"1-J162","v":5.5000000000000049E-2},2.6000000000000023E-2,4.8000000000000043E-2,0.14200000000000002,0.18999999999999995,0.23399999999999999,0.20599999999999996,0.14100000000000001,0.15400000000000003,0.17500000000000004,9.6999999999999975E-2,7.999999999999996E-2,0.14100000000000001,0.129]
[null,{"$f":"B163","v":"Orange"},{"$f":"1-C163","v":5.0000000000000044E-3},6.0000000000000053E-3,5.0000000000000044E-3,5.0000000000000044E-3,6.0000000000000053E-3,null,"Orange",{"$f":"1-J163","v":7.0000000000000062E-3},4.0000000000000036E-3,4.0000000000000036E-3,5.0000000000000044E-3,1.2000000000000011E-2,5.0000000000000044E-3,5.0000000000000044E-3,4.0000000000000036E-3,5.0000000000000044E-3,3.0000000000000027E-3,6.0000000000000053E-3,1.2000000000000011E-2,6.0000000000000053E-3,5.0000000000000044E-3]
[null,{"$f":"B164","v":"Placer"},{"$f":"1-C164","v":0.29800000000000004},0.16700000000000004,4.2000000000000037E-2,3.7000000000000033E-2,5.2000000000000046E-2,null,"Placer",{"$f":"1-J164","v":3.3000000000000029E-2},2.6000000000000023E-2,2.6000000000000023E-2,5.3000000000000047E-2,2.6000000000000023E-2,2.5000000000000022E-2,2.9000000000000026E-2,3.0000000000000027E-2,5.0000000000000044E-2,6.2000000000000055E-2,1,0.92999999999999994,1,8.4999999999999964E-2]
[null,{"$f":"B165","v":"Plumas"},{"$f":"1-C165","v":0},3.9000000000000035E-2,3.1000000000000028E-2,6.2000000000000055E-2,4.6000000000000041E-2,null,"Plumas",{"$f":"1-J165","v":1.9000000000000017E-2},2.200000000000002E-2,3.0000000000000027E-2,0.18500000000000005,0.44899999999999995,0.46699999999999997,0.126,0.126,0.19299999999999995,9.6999999999999975E-2,9.6999999999999975E-2,0.17100000000000004,0.17800000000000005,0.11499999999999999]
[null,{"$f":"B166","v":"Riverside"},{"$f":"1-C166","v":8.5999999999999965E-2},6.1000000000000054E-2,5.2000000000000046E-2,5.3000000000000047E-2,5.8000000000000052E-2,null,"Riverside",{"$f":"1-J166","v":4.2000000000000037E-2},4.2000000000000037E-2,5.7000000000000051E-2,4.8000000000000043E-2,0.121,0.11599999999999999,0.126,0.11399999999999999,9.6999999999999975E-2,7.8999999999999959E-2,7.999999999999996E-2,6.7999999999999949E-2,5.8000000000000052E-2,5.4000000000000048E-2]
[null,{"$f":"B167","v":"Sacramento"},{"$f":"1-C167","v":0.13400000000000001},7.6999999999999957E-2,3.5000000000000031E-2,1.5000000000000013E-2,2.6000000000000023E-2,null,"Sacramento",{"$f":"1-J167","v":4.4000000000000039E-2},1.6000000000000014E-2,1.6000000000000014E-2,2.0000000000000018E-2,2.9000000000000026E-2,1.9000000000000017E-2,1.8000000000000016E-2,1.6000000000000014E-2,2.5000000000000022E-2,1.3000000000000012E-2,1.3000000000000012E-2,1.2000000000000011E-2,1.0000000000000009E-2,8.0000000000000071E-3]
[null,{"$f":"B168","v":"San Benito"},{"$f":"1-C168","v":1.2000000000000011E-2},1.4000000000000012E-2,5.0000000000000044E-3,2.5000000000000022E-2,4.0000000000000036E-3,null,"San Benito",{"$f":"1-J168","v":2.300000000000002E-2},2.4000000000000021E-2,2.7000000000000024E-2,3.3000000000000029E-2,5.0000000000000044E-2,5.4000000000000048E-2,3.6000000000000032E-2,4.8000000000000043E-2,5.4000000000000048E-2,6.9999999999999951E-2,1.5000000000000013E-2,4.7000000000000042E-2,4.7000000000000042E-2,6.6999999999999948E-2]
[null,{"$f":"B169","v":"San Bernardino"},{"$f":"1-C169","v":6.4999999999999947E-2},6.5999999999999948E-2,4.7000000000000042E-2,6.7999999999999949E-2,6.3999999999999946E-2,null,"San Bernardino",{"$f":"1-J169","v":7.2999999999999954E-2},6.7999999999999949E-2,0.13800000000000001,0.10499999999999998,0.13600000000000001,9.3999999999999972E-2,5.2000000000000046E-2,3.7000000000000033E-2,4.3000000000000038E-2,3.8000000000000034E-2,4.3000000000000038E-2,4.8000000000000043E-2,5.0000000000000044E-2,3.9000000000000035E-2]
[null,{"$f":"B170","v":"San Diego"},{"$f":"1-C170","v":5.7000000000000051E-2},5.2000000000000046E-2,6.1000000000000054E-2,0.11499999999999999,0.10799999999999998,null,"San Diego",{"$f":"1-J170","v":8.5999999999999965E-2},0.10399999999999998,8.8999999999999968E-2,4.8000000000000043E-2,3.6000000000000032E-2,3.2000000000000028E-2,2.6000000000000023E-2,2.4000000000000021E-2,2.200000000000002E-2,1.7000000000000015E-2,2.1000000000000019E-2,1.8000000000000016E-2,1.8000000000000016E-2,2.0000000000000018E-2]
[null,{"$f":"B171","v":"San Francisco"},{"$f":"1-C171","v":4.2000000000000037E-2},7.8999999999999959E-2,3.3000000000000029E-2,6.7999999999999949E-2,8.6999999999999966E-2,null,"San Francisco",{"$f":"1-J171","v":0.247},0.10199999999999998,0.18300000000000005,0.30600000000000005,0.24399999999999999,9.9999999999999978E-2,0.16600000000000004,0.13500000000000001,0.13800000000000001,0.10599999999999998,0.13600000000000001,0.16100000000000003,0.124,9.9999999999999978E-2]
[null,{"$f":"B172","v":"San Joaquin"},{"$f":"1-C172","v":6.2999999999999945E-2},4.6000000000000041E-2,5.8000000000000052E-2,7.2999999999999954E-2,3.7000000000000033E-2,null,"San Joaquin",{"$f":"1-J172","v":2.5000000000000022E-2},2.6000000000000023E-2,8.2999999999999963E-2,6.2999999999999945E-2,0.11699999999999999,0.11399999999999999,0.10999999999999999,0.10799999999999998,0.11099999999999999,9.6999999999999975E-2,8.5999999999999965E-2,8.8999999999999968E-2,9.3999999999999972E-2,9.2999999999999972E-2]
[null,{"$f":"B173","v":"San Luis Obispo"},{"$f":"1-C173","v":0.18500000000000005},0.13500000000000001,0.15800000000000003,0.16500000000000004,0.10199999999999998,null,"San Luis Obispo",{"$f":"1-J173","v":0.10199999999999998},0.10999999999999999,8.9999999999999969E-2,9.1999999999999971E-2,9.8999999999999977E-2,9.4999999999999973E-2,9.5999999999999974E-2,7.0999999999999952E-2,6.6999999999999948E-2,6.7999999999999949E-2,4.1000000000000036E-2,5.5000000000000049E-2,3.8000000000000034E-2,2.200000000000002E-2]
[null,{"$f":"B174","v":"San Mateo"},{"$f":"1-C174","v":0.16100000000000003},0.15800000000000003,0.14100000000000001,0.13400000000000001,0.17300000000000004,null,"San Mateo",{"$f":"1-J174","v":0.18899999999999995},0.246,0.19699999999999995,0.17000000000000004,0.125,0.11099999999999999,8.8999999999999968E-2,0.11099999999999999,6.6999999999999948E-2,7.999999999999996E-2,7.5999999999999956E-2,9.9999999999999978E-2,9.7999999999999976E-2,0.11499999999999999]
[null,{"$f":"B175","v":"Santa Barbara"},{"$f":"1-C175","v":0.16500000000000004},0.16200000000000003,0.11099999999999999,5.5000000000000049E-2,6.6999999999999948E-2,null,"Santa Barbara",{"$f":"1-J175","v":7.7999999999999958E-2},6.0000000000000053E-2,0.13500000000000001,0.15300000000000002,0.18300000000000005,0.11399999999999999,8.6999999999999966E-2,0.13600000000000001,9.5999999999999974E-2,7.8999999999999959E-2,7.999999999999996E-2,7.5999999999999956E-2,7.1999999999999953E-2,6.899999999999995E-2]
[null,{"$f":"B176","v":"Santa Clara"},{"$f":"1-C176","v":0.60299999999999998},0.745,0.52300000000000002,0.13600000000000001,0.14900000000000002,null,"Santa Clara",{"$f":"1-J176","v":0.13},0.11199999999999999,0.15800000000000003,7.7999999999999958E-2,0.11599999999999999,6.5999999999999948E-2,3.5000000000000031E-2,5.600000000000005E-2,2.8000000000000025E-2,2.7000000000000024E-2,1.6000000000000014E-2,1.6000000000000014E-2,2.6000000000000023E-2,1.2000000000000011E-2]
[null,{"$f":"B177","v":"Santa Cruz"},{"$f":"1-C177","v":0.33299999999999996},0.13500000000000001,9.6999999999999975E-2,5.4000000000000048E-2,0.11099999999999999,null,"Santa Cruz",{"$f":"1-J177","v":7.6999999999999957E-2},4.0000000000000036E-2,0.21099999999999997,0.31399999999999995,0.30700000000000005,6.2000000000000055E-2,2.7000000000000024E-2,2.7000000000000024E-2,1.5000000000000013E-2,2.9000000000000026E-2,1.4000000000000012E-2,3.5000000000000031E-2,5.3000000000000047E-2,2.8000000000000025E-2]
[null,{"$f":"B178","v":"Shasta"},{"$f":"1-C178","v":7.8999999999999959E-2},6.6999999999999948E-2,9.8999999999999977E-2,0.11899999999999999,0.10399999999999998,null,"Shasta",{"$f":"1-J178","v":0.15000000000000002},0.13100000000000001,0.15100000000000002,0.125,6.6999999999999948E-2,4.500000000000004E-2,4.2000000000000037E-2,3.8000000000000034E-2,3.7000000000000033E-2,2.1000000000000019E-2,3.5000000000000031E-2,2.300000000000002E-2,1.7000000000000015E-2,2.0000000000000018E-2]
[null,{"$f":"B179","v":"Sierra"},{"$f":"1-C179","v":0},7.6999999999999957E-2,0,0,4.2000000000000037E-2,null,"Sierra",{"$f":"1-J179","v":3.8000000000000034E-2},0,0,0,8.6999999999999966E-2,0,0,0.13,0,9.9999999999999978E-2,0,7.6999999999999957E-2,0.11799999999999999,0]
[null,{"$f":"B180","v":"Siskiyou"},{"$f":"1-C180","v":0.26200000000000001},5.0000000000000044E-2,9.099999999999997E-2,3.0000000000000027E-2,5.0000000000000044E-2,null,"Siskiyou",{"$f":"1-J180","v":5.0000000000000044E-2},3.7000000000000033E-2,3.9000000000000035E-2,0.11699999999999999,0.13100000000000001,0.14600000000000002,0.10399999999999998,7.999999999999996E-2,0.11899999999999999,0.14000000000000001,9.099999999999997E-2,9.099999999999997E-2,0.11099999999999999,0.11899999999999999]
[null,{"$f":"B181","v":"Solano"},{"$f":"1-C181","v":4.0000000000000036E-2},5.3000000000000047E-2,4.0000000000000036E-2,4.4000000000000039E-2,3.6000000000000032E-2,null,"Solano",{"$f":"1-J181","v":4.9000000000000044E-2},3.8000000000000034E-2,5.2000000000000046E-2,3.9000000000000035E-2,4.1000000000000036E-2,2.8000000000000025E-2,2.6000000000000023E-2,2.8000000000000025E-2,2.8000000000000025E-2,1.5000000000000013E-2,2.300000000000002E-2,3.3000000000000029E-2,2.8000000000000025E-2]
[null,{"$f":"B182","v":"Sonoma"},{"$f":"1-C182","v":0.44699999999999995},0.53899999999999992,0.38300000000000001,0.30000000000000004,0.378,null,"Sonoma",{"$f":"1-J182","v":0.59699999999999998},0.53299999999999992,0.52800000000000002,0.51500000000000001,0.54099999999999993,0.28300000000000003,0.26600000000000001,0.24099999999999999,0.29500000000000004,0.24399999999999999,0.39,0.48499999999999999,0.49099999999999999,0.41300000000000003]
[null,{"$f":"B183","v":"Stanislaus"},{"$f":"1-C183","v":2.200000000000002E-2},2.9000000000000026E-2,3.3000000000000029E-2,4.0000000000000036E-2,4.3000000000000038E-2,null,"Stanislaus",{"$f":"1-J183","v":3.3000000000000029E-2},3.0000000000000027E-2,6.3999999999999946E-2,7.1999999999999953E-2,0.122,0.14700000000000002,0.15400000000000003,0.14400000000000002,0.10599999999999998,8.1999999999999962E-2,9.8999999999999977E-2,9.4999999999999973E-2,8.4999999999999964E-2,7.4999999999999956E-2]
[null,{"$f":"B184","v":"Sutter"},{"$f":"1-C184","v":5.0000000000000044E-2},3.9000000000000035E-2,5.5000000000000049E-2,5.7000000000000051E-2,4.1000000000000036E-2,null,"Sutter",{"$f":"1-J184","v":3.8000000000000034E-2},4.500000000000004E-2,0.124,8.1999999999999962E-2,9.5999999999999974E-2,9.3999999999999972E-2,9.1999999999999971E-2,8.3999999999999964E-2,0.11099999999999999,8.4999999999999964E-2,0.10999999999999999,0.122,0.11899999999999999,9.9999999999999978E-2]
[null,{"$f":"B185","v":"Tehama"},{"$f":"1-C185","v":3.0000000000000027E-3},5.0000000000000044E-3,9.000000000000008E-3,2.0000000000000018E-3,1.2000000000000011E-2,null,"Tehama",{"$f":"1-J185","v":1.0000000000000009E-2},1.2000000000000011E-2,1.8000000000000016E-2,8.0000000000000071E-3,8.9999999999999969E-2,7.7999999999999958E-2,6.7999999999999949E-2,5.2000000000000046E-2,4.1000000000000036E-2,2.6000000000000023E-2,2.300000000000002E-2,4.1000000000000036E-2,3.1000000000000028E-2,4.6000000000000041E-2]
[null,{"$f":"B186","v":"Trinity"},{"$f":"1-C186","v":3.2000000000000028E-2},1.100000000000001E-2,1.7000000000000015E-2,7.7999999999999958E-2,0.10899999999999999,null,"Trinity",{"$f":"1-J186","v":5.8000000000000052E-2},0.32699999999999996,0.34799999999999998,8.0999999999999961E-2,0.28000000000000003,0.10599999999999998,0.126,0.30200000000000005,0.33099999999999996,0.16400000000000003,9.7999999999999976E-2,8.0999999999999961E-2,0.18799999999999994,0.27800000000000002]
[null,{"$f":"B187","v":"Tulare"},{"$f":"1-C187","v":4.500000000000004E-2},6.1000000000000054E-2,2.8000000000000025E-2,3.0000000000000027E-2,2.200000000000002E-2,null,"Tulare",{"$f":"1-J187","v":1.7000000000000015E-2},2.300000000000002E-2,4.500000000000004E-2,2.1000000000000019E-2,2.6000000000000023E-2,1.8000000000000016E-2,3.3000000000000029E-2,1.7000000000000015E-2,2.200000000000002E-2,1.4000000000000012E-2,1.8000000000000016E-2,2.1000000000000019E-2,2.0000000000000018E-2,1.3000000000000012E-2]
[null,{"$f":"B188","v":"Tuolumne"},{"$f":"1-C188","v":1.7000000000000015E-2},6.2999999999999945E-2,7.2999999999999954E-2,5.4000000000000048E-2,4.0000000000000036E-2,null,"Tuolumne",{"$f":"1-J188","v":2.9000000000000026E-2},2.7000000000000024E-2,4.500000000000004E-2,4.1000000000000036E-2,8.5999999999999965E-2,0.11199999999999999,8.7999999999999967E-2,0.14200000000000002,0.247,0.21299999999999997,3.8000000000000034E-2,1.7000000000000015E-2,3.1000000000000028E-2,1.5000000000000013E-2]
[null,{"$f":"B189","v":"Ventura"},{"$f":"1-C189","v":4.8000000000000043E-2},4.4000000000000039E-2,3.0000000000000027E-2,3.6000000000000032E-2,4.6000000000000041E-2,null,"Ventura",{"$f":"1-J189","v":5.9000000000000052E-2},4.7000000000000042E-2,6.2000000000000055E-2,6.7999999999999949E-2,7.8999999999999959E-2,5.3000000000000047E-2,6.4999999999999947E-2,6.0000000000000053E-2,4.3000000000000038E-2,4.500000000000004E-2,3.6000000000000032E-2,3.9000000000000035E-2,3.3000000000000029E-2,3.2000000000000028E-2]
[null,{"$f":"B190","v":"Yolo"},{"$f":"1-C190","v":7.5999999999999956E-2},8.7999999999999967E-2,8.5999999999999965E-2,8.2999999999999963E-2,9.3999999999999972E-2,null,"Yolo",{"$f":"1-J190","v":0.125},8.4999999999999964E-2,9.2999999999999972E-2,8.4999999999999964E-2,8.8999999999999968E-2,0.10499999999999998,0.10599999999999998,0.128,0.14000000000000001,0.15000000000000002,0.15000000000000002,9.6999999999999975E-2,4.4000000000000039E-2,6.6999999999999948E-2]
[null,{"$f":"B191","v":"Yuba"},{"$f":"1-C191","v":3.9000000000000035E-2},5.5000000000000049E-2,5.3000000000000047E-2,1.6000000000000014E-2,4.3000000000000038E-2,null,"Yuba",{"$f":"1-J191","v":3.8000000000000034E-2},3.2000000000000028E-2,4.8000000000000043E-2,7.1999999999999953E-2,6.0000000000000053E-2,3.8000000000000034E-2,4.9000000000000044E-2,3.3000000000000029E-2,3.6000000000000032E-2,3.400000000000003E-2,3.9000000000000035E-2,3.400000000000003E-2,3.2000000000000028E-2,2.0000000000000018E-2]
[]
[]
[]
[null,"Sum of ave_days_apprv_bene","Column Labels"]
[null,null,2011,2012,null,null,null,2013,null,null,null,2014,null,null,null,2015,null,null,null,2016,"(blank)"]
[null,"Row Labels",4,1,2,3,4,1,2,3,4,1,2,3,4,1,2,3,4,1,"(blank)"]
[null,"California",14.9,14.4,13.2,14,13.9,13.3,13.3,14.9,14.6,14.1,13.2,13.7,13.5,12.7,11.5,12.1,12.1,11.4]
[null,"Alameda",13.7,13.7,14,14,14.3,14.7,14,13.7,16.3,15.3,15.3,17.3,16.7,20,17.3,16,13.7,10.3]
[null,"Alpine",4,0.7,3,3.3,3.7,1.3,2.2999999999999998,7,7.3,8,5,8,6.7,8,5.7,5.3,12.3,8]
[null,"Amador",15.7,14,11,12.3,13,11.7,10.7,12.3,11.3,8.3000000000000007,8.6999999999999993,12,12.3,12.7,9.3000000000000007,13.7,10.3,10.3]
[null,"Butte",19.7,20.3,18.3,18,15.3,15.7,15.3,17.7,19,19.7,16,16.3,16.7,17.3,16,19,17.7,18]
[null,"Calaveras",14.7,13.3,11,13.7,11,12.7,11,10.7,11,13.3,14,11,11.7,11,10.7,10.7,12.7,11.3]
[null,"Colusa",24.7,19,14.7,16.3,17,11.3,14,19,20.3,24,29.3,34.299999999999997,34.299999999999997,23.7,19.7,20.3,28,27]
[null,"Contra Costa",15.7,14,13.3,16.3,15.3,15,16,15.7,18,13,13,15.7,14,13,11.7,12.7,13,11.3]
[null,"Del Norte",7.3,8.6999999999999993,7.7,8.3000000000000007,7.3,8.3000000000000007,9,9.6999999999999993,9,12.7,13.3,13.3,14.3,14.3,14.7,12.3,13.3,14]
[null,"El Dorado",12.7,13.7,12.7,14,13,12.7,14.3,15,17,16.7,14,11,11,9.6999999999999993,8.3000000000000007,9.6999999999999993,10,10]
[null,"Fresno",7.3,7.3,7,6.3,7,7.3,10.3,10.7,9,9,9,10.7,8.6999999999999993,8.6999999999999993,7.3,8,8,7.7]
[null,"Glenn",17,15.7,14,15.7,12.7,10.3,10.7,12.7,12.7,11.7,9.6999999999999993,13.3,12.3,9.6999999999999993,8,9.6999999999999993,10.7,8.3000000000000007]
[null,"Humboldt",12.7,14,13.3,13,16,15.3,14,16.3,18,19,12.7,12.3,11,10,8.6999999999999993,12,10,10.7]
[null,"Imperial",15,15.3,14.7,16.7,14.3,15,16.7,18.3,14.3,14.7,16,16.3,15,13.7,12.7,12,10.3,10]
[null,"Inyo",8.6999999999999993,10,9,8,8.6999999999999993,7.7,7.7,7.7,9.3000000000000007,7.7,9,8,8,5.7,5.7,6.3,5,7.3]
[null,"Kern",14,15,14.3,15.3,15.7,14.7,14.7,15,16,16,15,14.3,14.7,14,12.3,12.3,12.7,12.7]
[null,"Kings",14.7,16.7,15.7,16,16,15,15.7,16.3,17.3,16,14.7,14.3,15,12.7,11.3,10.3,10,9]
[null,"Lake",20.3,23.3,22,23.3,19.3,25.3,20,24,22.7,27.7,18.7,15,13.7,12.3,12,11.3,9.6999999999999993,11]
[null,"Lassen",12,9.3000000000000007,11.7,13.7,12,10.3,11.3,12,14.7,12.7,16,20.7,18.7,15,21.7,23.3,21,15]
[null,"Los Angeles",13.7,13.7,13.3,13.3,13,13.3,13.3,13,13.3,13,12.7,12.7,14,14.3,12,11.7,0,15.7]
[null,"Madera",21.3,21,18,20.3,20.7,19.3,16,17.3,18.3,18,13.3,14.3,17.7,14.3,12.3,12.3,11.7,10]
[null,"Marin",15,16.7,18.7,19.3,16.3,17.7,16,16.3,14.7,14.7,12.3,12,12.7,12.7,12,10.3,8.6999999999999993,10.7]
[null,"Mariposa",17,15.3,13.3,19,16.3,15.7,14.7,16.7,16.7,14.7,17.3,19.3,18.3,16.7,14.3,12,16.3,15.3]
[null,"Mendocino",7.7,10,8,10,10,10.7,9.6999999999999993,13.7,12.7,10,8.3000000000000007,10.3,10.7,14,12.3,9.3000000000000007,10.7,10.7]
[null,"Merced",15.3,15,15,14,13,12,11.3,14.7,18,18,14.3,14,15.3,12.3,12,11.7,12.7,12]
[null,"Modoc",18.3,15.3,12.7,17.3,18.3,17.7,17.7,19.7,17,12,14,20,15.7,17.7,13,16.3,10.7,11.3]
[null,"Mono",10.3,13.3,14,16.3,11.7,14.3,15.3,17,14.7,12,13,17.7,12.7,13.7,11.7,13,11.7,10]
[null,"Monterey",18.3,14,12.7,15.3,19.3,12,9.6999999999999993,12.7,14.3,12.7,11.3,11.3,14.3,12.7,11.3,13,15,11]
[null,"Napa",24,31,25.3,25,28.3,25.7,25.7,27,21.7,14.3,12,18.3,15.7,14.3,12.3,16,14.3,14.3]
[null,"Nevada",15.3,11.3,11.7,11,9.6999999999999993,10.3,12,16.3,15.7,20.3,14.3,20,18.7,17.7,17.3,13,12.7,12.3]
[null,"Orange",5,5,5,5,5,5,5.3,5.3,6,6,6,9,5.7,6,5.7,6,6,5.7]
[null,"Placer",10.3,9.6999999999999993,8.6999999999999993,8.6999999999999993,8.6999999999999993,8.3000000000000007,8,10.3,10.7,9.6999999999999993,9.6999999999999993,10,10.3,11,9.6999999999999993,10,10,9]
[null,"Plumas",19,15,15.7,18.3,16.7,15.7,13,16.3,18.3,16.7,15.3,15.3,15,15.7,16.3,16.3,17,16]
[null,"Riverside",12.7,12.7,11.7,12,11.3,11.7,11.7,12.3,11.3,11.3,11,12.3,11.3,11.7,10,11,10.7,9.6999999999999993]
[null,"Sacramento",11.3,9.6999999999999993,10,10.3,9.6999999999999993,10.7,10,11,10.7,9.3000000000000007,9.3000000000000007,6.7,6,6.7,7,8,7,6.7]
[null,"San Benito",19.7,16.3,18,15,17.7,14.3,13.3,18.3,16.3,14,14.3,16,18,16,12.7,14,14.7,12.7]
[null,"San Bernardino",11,11,10.7,11.7,10.7,10.3,10.7,12,10,9.6999999999999993,8.3000000000000007,8.3000000000000007,8,8.6999999999999993,8,8,8,8.3000000000000007]
[null,"San Diego",8.3000000000000007,7,7.7,8.6999999999999993,9.6999999999999993,10,10.7,11.7,11,11.3,11.3,11,10.3,11.7,11.3,11.3,10.3,11.3]
[null,"San Francisco",7,7,6.3,8,7.3,9.6999999999999993,9.3000000000000007,9.3000000000000007,10.7,10,10,9,8.6999999999999993,8,7.3,8.3000000000000007,8,7.7]
[null,"San Joaquin",20.7,21.7,21.3,21.7,17.3,16.3,17.7,19.3,17.3,20,18,18,15.7,14,12.7,12.7,13.7,12.3]
[null,"San Luis Obispo",12.3,10.7,11.7,13.3,12.7,11.3,13,12.7,14.3,12,12,11.7,13.3,11.7,12,13,12,11.3]
[null,"San Mateo",12.7,12.7,12,11.7,17,19.7,16.7,11.3,10,9.3000000000000007,9.3000000000000007,11,11,10.3,9,9.6999999999999993,10.3,9.6999999999999993]
[null,"Santa Barbara",25.7,21,12.7,14.7,18.7,15.3,13.3,16,21.7,19.3,19.3,14.7,16.7,12.7,11.3,12,15.3,11.3]
[null,"Santa Clara",31,27,25,23,15.7,13.7,14,16.7,16,14.3,14.3,10.3,10.7,10.7,9.6999999999999993,9.6999999999999993,8,7.7]
[null,"Santa Cruz",22,17.7,12.3,14.7,19.3,15.3,12.3,16.7,22.7,21.7,21.7,17.7,15.7,15,12,10,12,12]
[null,"Shasta",13.7,15,15.7,18,23.7,24.3,19.3,30.3,21.7,17,14.7,15.3,17.3,16.7,15.7,17,14.7,14]
[null,"Sierra",16.3,12.3,13.3,9.6999999999999993,13.7,11,13.3,17.3,10,11,10.3,16.3,13,7.3,12,12.7,11.7,4.7]
[null,"Siskiyou",17,17.7,13.3,12.7,14.7,14.7,16.7,14.7,16.3,19,15.7,16.7,17.3,16.7,16.3,18,18.7,19.3]
[null,"Solano",14.7,14.7,14,13.7,12.3,13.3,11.3,13.7,13.3,13.3,13.3,12.7,13,11.7,10,11.3,12,11.7]
[null,"Sonoma",20,20.3,14,13.3,12.7,17.3,17,19.7,18.7,21.3,21.3,10.7,9.3000000000000007,13.3,9.6999999999999993,14,14.7,18]
[null,"Stanislaus",14,12,9.6999999999999993,9,9.3000000000000007,8.3000000000000007,8.6999999999999993,10,11.3,15,14,11.3,13.7,12.7,9,9.3000000000000007,9,8]
[null,"Sutter",16.3,15.7,14.7,16.7,16,14.7,15.3,15,16.3,15.3,14.7,14,13.7,15.7,15.3,15.7,15.7,15.7]
[null,"Tehama",24,23,20.7,18.3,17.7,16.3,17.3,19.3,12.7,17.7,14.7,14.3,13.7,13.7,13.3,14,13.3,14.3]
[null,"Trinity",12.7,16.7,12,16.3,15.7,16,18.7,15.7,14.3,12,9.6999999999999993,11.7,20,14.3,10.7,13,12.3,12.7]
[null,"Tulare",9,8.3000000000000007,7,6.3,5.3,4.7,5.7,9.3000000000000007,7.7,5.7,5.7,6.7,5.7,5.7,4.7,5,6,5.3]
[null,"Tuolumne",14.3,14.7,15.7,16.7,14.7,13,16.3,15.3,14.3,14.3,14.3,16.7,16.3,18.3,15.3,15.3,13.7,13.3]
[null,"Ventura",10.3,9,8.3000000000000007,10,10,9.3000000000000007,10,11,11.3,10.3,10.3,9.3000000000000007,9.3000000000000007,9,8.6999999999999993,9.6999999999999993,9.3000000000000007,9]
[null,"Yolo",15.3,12.3,14,14,17.3,14.3,15.3,14.3,12,12.3,12.3,13.3,10.3,9.3000000000000007,9,10.3,8.3000000000000007,8]
[null,"Yuba",14.7,16.7,15.3,15,14.7,14,17,18.3,16.7,13.3,14.7,12.3,12.3,12.7,11.7,11.7,12.3,10.7]
[null,"(blank)"]
[]
[]
[]
[]
[null,"Sum of ave_days_apprv_bene","Column Labels"]
[null,null,2011,2012,null,null,null,2013,null,null,null,2014,null,null,null,2015,null,null,null,2016,"(blank)"]
[null,"Row Labels",4,1,2,3,4,1,2,3,4,1,2,3,4,1,2,3,4,1,"(blank)"]
["State","California",14.9,14.4,13.2,14,13.9,13.3,13.3,14.9,14.6,14.1,13.2,13.7,13.5,12.7,11.5,12.1,12.1,11.4]
[{"$f":"IF((VLOOKUP(B330,AllCountiesData!A$10:W$68,22,FALSE))>100000,\"Large\",(IF((VLOOKUP(B330,AllCountiesData!A$10:W$68,22,FALSE))>20000,\"Medium\",\"Small\")))","v":"Large"},"Alameda",13.7,13.7,14,14,14.3,14.7,14,13.7,16.3,15.3,15.3,17.3,16.7,20,17.3,16,13.7,10.3]
[{"$f":"IF((VLOOKUP(B331,AllCountiesData!A$10:W$68,22,FALSE))>100000,\"Large\",(IF((VLOOKUP(B331,AllCountiesData!A$10:W$68,22,FALSE))>20000,\"Medium\",\"Small\")))","v":"Small"},"Alpine",4,0.7,3,3.3,3.7,1.3,2.2999999999999998,7,7.3,8,5,8,6.7,8,5.7,5.3,12.3,8]
[{"$f":"IF((VLOOKUP(B332,AllCountiesData!A$10:W$68,22,FALSE))>100000,\"Large\",(IF((VLOOKUP(B332,AllCountiesData!A$10:W$68,22,FALSE))>20000,\"Medium\",\"Small\")))","v":"Small"},"Amador",15.7,14,11,12.3,13,11.7,10.7,12.3,11.3,8.3000000000000007,8.6999999999999993,12,12.3,12.7,9.3000000000000007,13.7,10.3,10.3]
[{"$f":"IF((VLOOKUP(B333,AllCountiesData!A$10:W$68,22,FALSE))>100000,\"Large\",(IF((VLOOKUP(B333,AllCountiesData!A$10:W$68,22,FALSE))>20000,\"Medium\",\"Small\")))","v":"Medium"},"Butte",19.7,20.3,18.3,18,15.3,15.7,15.3,17.7,19,19.7,16,16.3,16.7,17.3,16,19,17.7,18]
[{"$f":"IF((VLOOKUP(B334,AllCountiesData!A$10:W$68,22,FALSE))>100000,\"Large\",(IF((VLOOKUP(B334,AllCountiesData!A$10:W$68,22,FALSE))>20000,\"Medium\",\"Small\")))","v":"Small"},"Calaveras",14.7,13.3,11,13.7,11,12.7,11,10.7,11,13.3,14,11,11.7,11,10.7,10.7,12.7,11.3]
[{"$f":"IF((VLOOKUP(B335,AllCountiesData!A$10:W$68,22,FALSE))>100000,\"Large\",(IF((VLOOKUP(B335,AllCountiesData!A$10:W$68,22,FALSE))>20000,\"Medium\",\"Small\")))","v":"Small"},"Colusa",24.7,19,14.7,16.3,17,11.3,14,19,20.3,24,29.3,34.299999999999997,34.299999999999997,23.7,19.7,20.3,28,27]
[{"$f":"IF((VLOOKUP(B336,AllCountiesData!A$10:W$68,22,FALSE))>100000,\"Large\",(IF((VLOOKUP(B336,AllCountiesData!A$10:W$68,22,FALSE))>20000,\"Medium\",\"Small\")))","v":"Medium"},"Contra Costa",15.7,14,13.3,16.3,15.3,15,16,15.7,18,13,13,15.7,14,13,11.7,12.7,13,11.3]
[{"$f":"IF((VLOOKUP(B337,AllCountiesData!A$10:W$68,22,FALSE))>100000,\"Large\",(IF((VLOOKUP(B337,AllCountiesData!A$10:W$68,22,FALSE))>20000,\"Medium\",\"Small\")))","v":"Small"},"Del Norte",7.3,8.6999999999999993,7.7,8.3000000000000007,7.3,8.3000000000000007,9,9.6999999999999993,9,12.7,13.3,13.3,14.3,14.3,14.7,12.3,13.3,14]
[{"$f":"IF((VLOOKUP(B338,AllCountiesData!A$10:W$68,22,FALSE))>100000,\"Large\",(IF((VLOOKUP(B338,AllCountiesData!A$10:W$68,22,FALSE))>20000,\"Medium\",\"Small\")))","v":"Small"},"El Dorado",12.7,13.7,12.7,14,13,12.7,14.3,15,17,16.7,14,11,11,9.6999999999999993,8.3000000000000007,9.6999999999999993,10,10]
[{"$f":"IF((VLOOKUP(B339,AllCountiesData!A$10:W$68,22,FALSE))>100000,\"Large\",(IF((VLOOKUP(B339,AllCountiesData!A$10:W$68,22,FALSE))>20000,\"Medium\",\"Small\")))","v":"Large"},"Fresno",7.3,7.3,7,6.3,7,7.3,10.3,10.7,9,9,9,10.7,8.6999999999999993,8.6999999999999993,7.3,8,8,7.7]
[{"$f":"IF((VLOOKUP(B340,AllCountiesData!A$10:W$68,22,FALSE))>100000,\"Large\",(IF((VLOOKUP(B340,AllCountiesData!A$10:W$68,22,FALSE))>20000,\"Medium\",\"Small\")))","v":"Small"},"Glenn",17,15.7,14,15.7,12.7,10.3,10.7,12.7,12.7,11.7,9.6999999999999993,13.3,12.3,9.6999999999999993,8,9.6999999999999993,10.7,8.3000000000000007]
[{"$f":"IF((VLOOKUP(B341,AllCountiesData!A$10:W$68,22,FALSE))>100000,\"Large\",(IF((VLOOKUP(B341,AllCountiesData!A$10:W$68,22,FALSE))>20000,\"Medium\",\"Small\")))","v":"Medium"},"Humboldt",12.7,14,13.3,13,16,15.3,14,16.3,18,19,12.7,12.3,11,10,8.6999999999999993,12,10,10.7]
[{"$f":"IF((VLOOKUP(B342,AllCountiesData!A$10:W$68,22,FALSE))>100000,\"Large\",(IF((VLOOKUP(B342,AllCountiesData!A$10:W$68,22,FALSE))>20000,\"Medium\",\"Small\")))","v":"Medium"},"Imperial",15,15.3,14.7,16.7,14.3,15,16.7,18.3,14.3,14.7,16,16.3,15,13.7,12.7,12,10.3,10]
[{"$f":"IF((VLOOKUP(B343,AllCountiesData!A$10:W$68,22,FALSE))>100000,\"Large\",(IF((VLOOKUP(B343,AllCountiesData!A$10:W$68,22,FALSE))>20000,\"Medium\",\"Small\")))","v":"Small"},"Inyo",8.6999999999999993,10,9,8,8.6999999999999993,7.7,7.7,7.7,9.3000000000000007,7.7,9,8,8,5.7,5.7,6.3,5,7.3]
[{"$f":"IF((VLOOKUP(B344,AllCountiesData!A$10:W$68,22,FALSE))>100000,\"Large\",(IF((VLOOKUP(B344,AllCountiesData!A$10:W$68,22,FALSE))>20000,\"Medium\",\"Small\")))","v":"Large"},"Kern",14,15,14.3,15.3,15.7,14.7,14.7,15,16,16,15,14.3,14.7,14,12.3,12.3,12.7,12.7]
[{"$f":"IF((VLOOKUP(B345,AllCountiesData!A$10:W$68,22,FALSE))>100000,\"Large\",(IF((VLOOKUP(B345,AllCountiesData!A$10:W$68,22,FALSE))>20000,\"Medium\",\"Small\")))","v":"Medium"},"Kings",14.7,16.7,15.7,16,16,15,15.7,16.3,17.3,16,14.7,14.3,15,12.7,11.3,10.3,10,9]
[{"$f":"IF((VLOOKUP(B346,AllCountiesData!A$10:W$68,22,FALSE))>100000,\"Large\",(IF((VLOOKUP(B346,AllCountiesData!A$10:W$68,22,FALSE))>20000,\"Medium\",\"Small\")))","v":"Small"},"Lake",20.3,23.3,22,23.3,19.3,25.3,20,24,22.7,27.7,18.7,15,13.7,12.3,12,11.3,9.6999999999999993,11]
[{"$f":"IF((VLOOKUP(B347,AllCountiesData!A$10:W$68,22,FALSE))>100000,\"Large\",(IF((VLOOKUP(B347,AllCountiesData!A$10:W$68,22,FALSE))>20000,\"Medium\",\"Small\")))","v":"Small"},"Lassen",12,9.3000000000000007,11.7,13.7,12,10.3,11.3,12,14.7,12.7,16,20.7,18.7,15,21.7,23.3,21,15]
[{"$f":"IF((VLOOKUP(B348,AllCountiesData!A$10:W$68,22,FALSE))>100000,\"Large\",(IF((VLOOKUP(B348,AllCountiesData!A$10:W$68,22,FALSE))>20000,\"Medium\",\"Small\")))","v":"Large"},"Los Angeles",13.7,13.7,13.3,13.3,13,13.3,13.3,13,13.3,13,12.7,12.7,14,14.3,12,11.7,0,15.7]
[{"$f":"IF((VLOOKUP(B349,AllCountiesData!A$10:W$68,22,FALSE))>100000,\"Large\",(IF((VLOOKUP(B349,AllCountiesData!A$10:W$68,22,FALSE))>20000,\"Medium\",\"Small\")))","v":"Medium"},"Madera",21.3,21,18,20.3,20.7,19.3,16,17.3,18.3,18,13.3,14.3,17.7,14.3,12.3,12.3,11.7,10]
[{"$f":"IF((VLOOKUP(B350,AllCountiesData!A$10:W$68,22,FALSE))>100000,\"Large\",(IF((VLOOKUP(B350,AllCountiesData!A$10:W$68,22,FALSE))>20000,\"Medium\",\"Small\")))","v":"Small"},"Marin",15,16.7,18.7,19.3,16.3,17.7,16,16.3,14.7,14.7,12.3,12,12.7,12.7,12,10.3,8.6999999999999993,10.7]
[{"$f":"IF((VLOOKUP(B351,AllCountiesData!A$10:W$68,22,FALSE))>100000,\"Large\",(IF((VLOOKUP(B351,AllCountiesData!A$10:W$68,22,FALSE))>20000,\"Medium\",\"Small\")))","v":"Small"},"Mariposa",17,15.3,13.3,19,16.3,15.7,14.7,16.7,16.7,14.7,17.3,19.3,18.3,16.7,14.3,12,16.3,15.3]
[{"$f":"IF((VLOOKUP(B352,AllCountiesData!A$10:W$68,22,FALSE))>100000,\"Large\",(IF((VLOOKUP(B352,AllCountiesData!A$10:W$68,22,FALSE))>20000,\"Medium\",\"Small\")))","v":"Small"},"Mendocino",7.7,10,8,10,10,10.7,9.6999999999999993,13.7,12.7,10,8.3000000000000007,10.3,10.7,14,12.3,9.3000000000000007,10.7,10.7]
[{"$f":"IF((VLOOKUP(B353,AllCountiesData!A$10:W$68,22,FALSE))>100000,\"Large\",(IF((VLOOKUP(B353,AllCountiesData!A$10:W$68,22,FALSE))>20000,\"Medium\",\"Small\")))","v":"Medium"},"Merced",15.3,15,15,14,13,12,11.3,14.7,18,18,14.3,14,15.3,12.3,12,11.7,12.7,12]
[{"$f":"IF((VLOOKUP(B354,AllCountiesData!A$10:W$68,22,FALSE))>100000,\"Large\",(IF((VLOOKUP(B354,AllCountiesData!A$10:W$68,22,FALSE))>20000,\"Medium\",\"Small\")))","v":"Small"},"Modoc",18.3,15.3,12.7,17.3,18.3,17.7,17.7,19.7,17,12,14,20,15.7,17.7,13,16.3,10.7,11.3]
[{"$f":"IF((VLOOKUP(B355,AllCountiesData!A$10:W$68,22,FALSE))>100000,\"Large\",(IF((VLOOKUP(B355,AllCountiesData!A$10:W$68,22,FALSE))>20000,\"Medium\",\"Small\")))","v":"Small"},"Mono",10.3,13.3,14,16.3,11.7,14.3,15.3,17,14.7,12,13,17.7,12.7,13.7,11.7,13,11.7,10]
[{"$f":"IF((VLOOKUP(B356,AllCountiesData!A$10:W$68,22,FALSE))>100000,\"Large\",(IF((VLOOKUP(B356,AllCountiesData!A$10:W$68,22,FALSE))>20000,\"Medium\",\"Small\")))","v":"Medium"},"Monterey",18.3,14,12.7,15.3,19.3,12,9.6999999999999993,12.7,14.3,12.7,11.3,11.3,14.3,12.7,11.3,13,15,11]
[{"$f":"IF((VLOOKUP(B357,AllCountiesData!A$10:W$68,22,FALSE))>100000,\"Large\",(IF((VLOOKUP(B357,AllCountiesData!A$10:W$68,22,FALSE))>20000,\"Medium\",\"Small\")))","v":"Small"},"Napa",24,31,25.3,25,28.3,25.7,25.7,27,21.7,14.3,12,18.3,15.7,14.3,12.3,16,14.3,14.3]
[{"$f":"IF((VLOOKUP(B358,AllCountiesData!A$10:W$68,22,FALSE))>100000,\"Large\",(IF((VLOOKUP(B358,AllCountiesData!A$10:W$68,22,FALSE))>20000,\"Medium\",\"Small\")))","v":"Small"},"Nevada",15.3,11.3,11.7,11,9.6999999999999993,10.3,12,16.3,15.7,20.3,14.3,20,18.7,17.7,17.3,13,12.7,12.3]
[{"$f":"IF((VLOOKUP(B359,AllCountiesData!A$10:W$68,22,FALSE))>100000,\"Large\",(IF((VLOOKUP(B359,AllCountiesData!A$10:W$68,22,FALSE))>20000,\"Medium\",\"Small\")))","v":"Large"},"Orange",5,5,5,5,5,5,5.3,5.3,6,6,6,9,5.7,6,5.7,6,6,5.7]
[{"$f":"IF((VLOOKUP(B360,AllCountiesData!A$10:W$68,22,FALSE))>100000,\"Large\",(IF((VLOOKUP(B360,AllCountiesData!A$10:W$68,22,FALSE))>20000,\"Medium\",\"Small\")))","v":"Small"},"Placer",10.3,9.6999999999999993,8.6999999999999993,8.6999999999999993,8.6999999999999993,8.3000000000000007,8,10.3,10.7,9.6999999999999993,9.6999999999999993,10,10.3,11,9.6999999999999993,10,10,9]
[{"$f":"IF((VLOOKUP(B361,AllCountiesData!A$10:W$68,22,FALSE))>100000,\"Large\",(IF((VLOOKUP(B361,AllCountiesData!A$10:W$68,22,FALSE))>20000,\"Medium\",\"Small\")))","v":"Small"},"Plumas",19,15,15.7,18.3,16.7,15.7,13,16.3,18.3,16.7,15.3,15.3,15,15.7,16.3,16.3,17,16]
[{"$f":"IF((VLOOKUP(B362,AllCountiesData!A$10:W$68,22,FALSE))>100000,\"Large\",(IF((VLOOKUP(B362,AllCountiesData!A$10:W$68,22,FALSE))>20000,\"Medium\",\"Small\")))","v":"Large"},"Riverside",12.7,12.7,11.7,12,11.3,11.7,11.7,12.3,11.3,11.3,11,12.3,11.3,11.7,10,11,10.7,9.6999999999999993]
[{"$f":"IF((VLOOKUP(B363,AllCountiesData!A$10:W$68,22,FALSE))>100000,\"Large\",(IF((VLOOKUP(B363,AllCountiesData!A$10:W$68,22,FALSE))>20000,\"Medium\",\"Small\")))","v":"Large"},"Sacramento",11.3,9.6999999999999993,10,10.3,9.6999999999999993,10.7,10,11,10.7,9.3000000000000007,9.3000000000000007,6.7,6,6.7,7,8,7,6.7]
[{"$f":"IF((VLOOKUP(B364,AllCountiesData!A$10:W$68,22,FALSE))>100000,\"Large\",(IF((VLOOKUP(B364,AllCountiesData!A$10:W$68,22,FALSE))>20000,\"Medium\",\"Small\")))","v":"Small"},"San Benito",19.7,16.3,18,15,17.7,14.3,13.3,18.3,16.3,14,14.3,16,18,16,12.7,14,14.7,12.7]
[{"$f":"IF((VLOOKUP(B365,AllCountiesData!A$10:W$68,22,FALSE))>100000,\"Large\",(IF((VLOOKUP(B365,AllCountiesData!A$10:W$68,22,FALSE))>20000,\"Medium\",\"Small\")))","v":"Large"},"San Bernardino",11,11,10.7,11.7,10.7,10.3,10.7,12,10,9.6999999999999993,8.3000000000000007,8.3000000000000007,8,8.6999999999999993,8,8,8,8.3000000000000007]
[{"$f":"IF((VLOOKUP(B366,AllCountiesData!A$10:W$68,22,FALSE))>100000,\"Large\",(IF((VLOOKUP(B366,AllCountiesData!A$10:W$68,22,FALSE))>20000,\"Medium\",\"Small\")))","v":"Large"},"San Diego",8.3000000000000007,7,7.7,8.6999999999999993,9.6999999999999993,10,10.7,11.7,11,11.3,11.3,11,10.3,11.7,11.3,11.3,10.3,11.3]
[{"$f":"IF((VLOOKUP(B367,AllCountiesData!A$10:W$68,22,FALSE))>100000,\"Large\",(IF((VLOOKUP(B367,AllCountiesData!A$10:W$68,22,FALSE))>20000,\"Medium\",\"Small\")))","v":"Medium"},"San Francisco",7,7,6.3,8,7.3,9.6999999999999993,9.3000000000000007,9.3000000000000007,10.7,10,10,9,8.6999999999999993,8,7.3,8.3000000000000007,8,7.7]
[{"$f":"IF((VLOOKUP(B368,AllCountiesData!A$10:W$68,22,FALSE))>100000,\"Large\",(IF((VLOOKUP(B368,AllCountiesData!A$10:W$68,22,FALSE))>20000,\"Medium\",\"Small\")))","v":"Large"},"San Joaquin",20.7,21.7,21.3,21.7,17.3,16.3,17.7,19.3,17.3,20,18,18,15.7,14,12.7,12.7,13.7,12.3]
[{"$f":"IF((VLOOKUP(B369,AllCountiesData!A$10:W$68,22,FALSE))>100000,\"Large\",(IF((VLOOKUP(B369,AllCountiesData!A$10:W$68,22,FALSE))>20000,\"Medium\",\"Small\")))","v":"Small"},"San Luis Obispo",12.3,10.7,11.7,13.3,12.7,11.3,13,12.7,14.3,12,12,11.7,13.3,11.7,12,13,12,11.3]
[{"$f":"IF((VLOOKUP(B370,AllCountiesData!A$10:W$68,22,FALSE))>100000,\"Large\",(IF((VLOOKUP(B370,AllCountiesData!A$10:W$68,22,FALSE))>20000,\"Medium\",\"Small\")))","v":"Medium"},"San Mateo",12.7,12.7,12,11.7,17,19.7,16.7,11.3,10,9.3000000000000007,9.3000000000000007,11,11,10.3,9,9.6999999999999993,10.3,9.6999999999999993]
[{"$f":"IF((VLOOKUP(B371,AllCountiesData!A$10:W$68,22,FALSE))>100000,\"Large\",(IF((VLOOKUP(B371,AllCountiesData!A$10:W$68,22,FALSE))>20000,\"Medium\",\"Small\")))","v":"Medium"},"Santa Barbara",25.7,21,12.7,14.7,18.7,15.3,13.3,16,21.7,19.3,19.3,14.7,16.7,12.7,11.3,12,15.3,11.3]
[{"$f":"IF((VLOOKUP(B372,AllCountiesData!A$10:W$68,22,FALSE))>100000,\"Large\",(IF((VLOOKUP(B372,AllCountiesData!A$10:W$68,22,FALSE))>20000,\"Medium\",\"Small\")))","v":"Large"},"Santa Clara",31,27,25,23,15.7,13.7,14,16.7,16,14.3,14.3,10.3,10.7,10.7,9.6999999999999993,9.6999999999999993,8,7.7]
[{"$f":"IF((VLOOKUP(B373,AllCountiesData!A$10:W$68,22,FALSE))>100000,\"Large\",(IF((VLOOKUP(B373,AllCountiesData!A$10:W$68,22,FALSE))>20000,\"Medium\",\"Small\")))","v":"Medium"},"Santa Cruz",22,17.7,12.3,14.7,19.3,15.3,12.3,16.7,22.7,21.7,21.7,17.7,15.7,15,12,10,12,12]
[{"$f":"IF((VLOOKUP(B374,AllCountiesData!A$10:W$68,22,FALSE))>100000,\"Large\",(IF((VLOOKUP(B374,AllCountiesData!A$10:W$68,22,FALSE))>20000,\"Medium\",\"Small\")))","v":"Medium"},"Shasta",13.7,15,15.7,18,23.7,24.3,19.3,30.3,21.7,17,14.7,15.3,17.3,16.7,15.7,17,14.7,14]
[{"$f":"IF((VLOOKUP(B375,AllCountiesData!A$10:W$68,22,FALSE))>100000,\"Large\",(IF((VLOOKUP(B375,AllCountiesData!A$10:W$68,22,FALSE))>20000,\"Medium\",\"Small\")))","v":"Small"},"Sierra",16.3,12.3,13.3,9.6999999999999993,13.7,11,13.3,17.3,10,11,10.3,16.3,13,7.3,12,12.7,11.7,4.7]
[{"$f":"IF((VLOOKUP(B376,AllCountiesData!A$10:W$68,22,FALSE))>100000,\"Large\",(IF((VLOOKUP(B376,AllCountiesData!A$10:W$68,22,FALSE))>20000,\"Medium\",\"Small\")))","v":"Small"},"Siskiyou",17,17.7,13.3,12.7,14.7,14.7,16.7,14.7,16.3,19,15.7,16.7,17.3,16.7,16.3,18,18.7,19.3]
[{"$f":"IF((VLOOKUP(B377,AllCountiesData!A$10:W$68,22,FALSE))>100000,\"Large\",(IF((VLOOKUP(B377,AllCountiesData!A$10:W$68,22,FALSE))>20000,\"Medium\",\"Small\")))","v":"Medium"},"Solano",14.7,14.7,14,13.7,12.3,13.3,11.3,13.7,13.3,13.3,13.3,12.7,13,11.7,10,11.3,12,11.7]
[{"$f":"IF((VLOOKUP(B378,AllCountiesData!A$10:W$68,22,FALSE))>100000,\"Large\",(IF((VLOOKUP(B378,AllCountiesData!A$10:W$68,22,FALSE))>20000,\"Medium\",\"Small\")))","v":"Medium"},"Sonoma",20,20.3,14,13.3,12.7,17.3,17,19.7,18.7,21.3,21.3,10.7,9.3000000000000007,13.3,9.6999999999999993,14,14.7,18]
[{"$f":"IF((VLOOKUP(B379,AllCountiesData!A$10:W$68,22,FALSE))>100000,\"Large\",(IF((VLOOKUP(B379,AllCountiesData!A$10:W$68,22,FALSE))>20000,\"Medium\",\"Small\")))","v":"Medium"},"Stanislaus",14,12,9.6999999999999993,9,9.3000000000000007,8.3000000000000007,8.6999999999999993,10,11.3,15,14,11.3,13.7,12.7,9,9.3000000000000007,9,8]
[{"$f":"IF((VLOOKUP(B380,AllCountiesData!A$10:W$68,22,FALSE))>100000,\"Large\",(IF((VLOOKUP(B380,AllCountiesData!A$10:W$68,22,FALSE))>20000,\"Medium\",\"Small\")))","v":"Small"},"Sutter",16.3,15.7,14.7,16.7,16,14.7,15.3,15,16.3,15.3,14.7,14,13.7,15.7,15.3,15.7,15.7,15.7]
[{"$f":"IF((VLOOKUP(B381,AllCountiesData!A$10:W$68,22,FALSE))>100000,\"Large\",(IF((VLOOKUP(B381,AllCountiesData!A$10:W$68,22,FALSE))>20000,\"Medium\",\"Small\")))","v":"Small"},"Tehama",24,23,20.7,18.3,17.7,16.3,17.3,19.3,12.7,17.7,14.7,14.3,13.7,13.7,13.3,14,13.3,14.3]
[{"$f":"IF((VLOOKUP(B382,AllCountiesData!A$10:W$68,22,FALSE))>100000,\"Large\",(IF((VLOOKUP(B382,AllCountiesData!A$10:W$68,22,FALSE))>20000,\"Medium\",\"Small\")))","v":"Small"},"Trinity",12.7,16.7,12,16.3,15.7,16,18.7,15.7,14.3,12,9.6999999999999993,11.7,20,14.3,10.7,13,12.3,12.7]
[{"$f":"IF((VLOOKUP(B383,AllCountiesData!A$10:W$68,22,FALSE))>100000,\"Large\",(IF((VLOOKUP(B383,AllCountiesData!A$10:W$68,22,FALSE))>20000,\"Medium\",\"Small\")))","v":"Large"},"Tulare",9,8.3000000000000007,7,6.3,5.3,4.7,5.7,9.3000000000000007,7.7,5.7,5.7,6.7,5.7,5.7,4.7,5,6,5.3]
[{"$f":"IF((VLOOKUP(B384,AllCountiesData!A$10:W$68,22,FALSE))>100000,\"Large\",(IF((VLOOKUP(B384,AllCountiesData!A$10:W$68,22,FALSE))>20000,\"Medium\",\"Small\")))","v":"Small"},"Tuolumne",14.3,14.7,15.7,16.7,14.7,13,16.3,15.3,14.3,14.3,14.3,16.7,16.3,18.3,15.3,15.3,13.7,13.3]
[{"$f":"IF((VLOOKUP(B385,AllCountiesData!A$10:W$68,22,FALSE))>100000,\"Large\",(IF((VLOOKUP(B385,AllCountiesData!A$10:W$68,22,FALSE))>20000,\"Medium\",\"Small\")))","v":"Medium"},"Ventura",10.3,9,8.3000000000000007,10,10,9.3000000000000007,10,11,11.3,10.3,10.3,9.3000000000000007,9.3000000000000007,9,8.6999999999999993,9.6999999999999993,9.3000000000000007,9]
[{"$f":"IF((VLOOKUP(B386,AllCountiesData!A$10:W$68,22,FALSE))>100000,\"Large\",(IF((VLOOKUP(B386,AllCountiesData!A$10:W$68,22,FALSE))>20000,\"Medium\",\"Small\")))","v":"Medium"},"Yolo",15.3,12.3,14,14,17.3,14.3,15.3,14.3,12,12.3,12.3,13.3,10.3,9.3000000000000007,9,10.3,8.3000000000000007,8]
[{"$f":"IF((VLOOKUP(B387,AllCountiesData!A$10:W$68,22,FALSE))>100000,\"Large\",(IF((VLOOKUP(B387,AllCountiesData!A$10:W$68,22,FALSE))>20000,\"Medium\",\"Small\")))","v":"Small"},"Yuba",14.7,16.7,15.3,15,14.7,14,17,18.3,16.7,13.3,14.7,12.3,12.3,12.7,11.7,11.7,12.3,10.7]
[null,"(blank)"]
[]
[null,"Min 2016 Q1"]
[null,"State",null,null,null,null,null,null,null,null,null,null,null,null,null,null,null,null,null,{"$f":"MIN(T329:T387)","v":4.7}]
[null,"Large",{"$f":"MIN(IF($A$329:$A$387=$B392,C$329:C$387))","v":5},{"$f":"MIN(IF($A$329:$A$387=$B392,D$329:D$387))","v":5},{"$f":"MIN(IF($A$329:$A$387=$B392,E$329:E$387))","v":5},{"$f":"MIN(IF($A$329:$A$387=$B392,F$329:F$387))","v":5},{"$f":"MIN(IF($A$329:$A$387=$B392,G$329:G$387))","v":5},{"$f":"MIN(IF($A$329:$A$387=$B392,H$329:H$387))","v":4.7},{"$f":"MIN(IF($A$329:$A$387=$B392,I$329:I$387))","v":5.3},{"$f":"MIN(IF($A$329:$A$387=$B392,J$329:J$387))","v":5.3},{"$f":"MIN(IF($A$329:$A$387=$B392,K$329:K$387))","v":6},{"$f":"MIN(IF($A$329:$A$387=$B392,L$329:L$387))","v":5.7},{"$f":"MIN(IF($A$329:$A$387=$B392,M$329:M$387))","v":5.7},{"$f":"MIN(IF($A$329:$A$387=$B392,N$329:N$387))","v":6.7},{"$f":"MIN(IF($A$329:$A$387=$B392,O$329:O$387))","v":5.7},{"$f":"MIN(IF($A$329:$A$387=$B392,P$329:P$387))","v":5.7},{"$f":"MIN(IF($A$329:$A$387=$B392,Q$329:Q$387))","v":4.7},{"$f":"MIN(IF($A$329:$A$387=$B392,R$329:R$387))","v":5},6,{"$f":"MIN(IF($A$329:$A$387=$B392,T$329:T$387))","v":5.3}]
[null,"Medium",{"$f":"MIN(IF($A$329:$A$387=$B393,C$329:C$387))","v":7},{"$f":"MIN(IF($A$329:$A$387=$B393,D$329:D$387))","v":7},{"$f":"MIN(IF($A$329:$A$387=$B393,E$329:E$387))","v":6.3},{"$f":"MIN(IF($A$329:$A$387=$B393,F$329:F$387))","v":8},{"$f":"MIN(IF($A$329:$A$387=$B393,G$329:G$387))","v":7.3},{"$f":"MIN(IF($A$329:$A$387=$B393,H$329:H$387))","v":8.3000000000000007},{"$f":"MIN(IF($A$329:$A$387=$B393,I$329:I$387))","v":8.6999999999999993},{"$f":"MIN(IF($A$329:$A$387=$B393,J$329:J$387))","v":9.3000000000000007},{"$f":"MIN(IF($A$329:$A$387=$B393,K$329:K$387))","v":10},{"$f":"MIN(IF($A$329:$A$387=$B393,L$329:L$387))","v":9.3000000000000007},{"$f":"MIN(IF($A$329:$A$387=$B393,M$329:M$387))","v":9.3000000000000007},{"$f":"MIN(IF($A$329:$A$387=$B393,N$329:N$387))","v":9},{"$f":"MIN(IF($A$329:$A$387=$B393,O$329:O$387))","v":8.6999999999999993},{"$f":"MIN(IF($A$329:$A$387=$B393,P$329:P$387))","v":8},{"$f":"MIN(IF($A$329:$A$387=$B393,Q$329:Q$387))","v":7.3},{"$f":"MIN(IF($A$329:$A$387=$B393,R$329:R$387))","v":8.3000000000000007},{"$f":"MIN(IF($A$329:$A$387=$B393,S$329:S$387))","v":8},{"$f":"MIN(IF($A$329:$A$387=$B393,T$329:T$387))","v":7.7}]
[null,"Small",{"$f":"MIN(IF($A$329:$A$387=$B394,C$329:C$387))","v":4},{"$f":"MIN(IF($A$329:$A$387=$B394,D$329:D$387))","v":0.7},{"$f":"MIN(IF($A$329:$A$387=$B394,E$329:E$387))","v":3},{"$f":"MIN(IF($A$329:$A$387=$B394,F$329:F$387))","v":3.3},{"$f":"MIN(IF($A$329:$A$387=$B394,G$329:G$387))","v":3.7},{"$f":"MIN(IF($A$329:$A$387=$B394,H$329:H$387))","v":1.3},{"$f":"MIN(IF($A$329:$A$387=$B394,I$329:I$387))","v":2.2999999999999998},{"$f":"MIN(IF($A$329:$A$387=$B394,J$329:J$387))","v":7},{"$f":"MIN(IF($A$329:$A$387=$B394,K$329:K$387))","v":7.3},{"$f":"MIN(IF($A$329:$A$387=$B394,L$329:L$387))","v":7.7},{"$f":"MIN(IF($A$329:$A$387=$B394,M$329:M$387))","v":5},{"$f":"MIN(IF($A$329:$A$387=$B394,N$329:N$387))","v":8},{"$f":"MIN(IF($A$329:$A$387=$B394,O$329:O$387))","v":6.7},{"$f":"MIN(IF($A$329:$A$387=$B394,P$329:P$387))","v":5.7},{"$f":"MIN(IF($A$329:$A$387=$B394,Q$329:Q$387))","v":5.7},{"$f":"MIN(IF($A$329:$A$387=$B394,R$329:R$387))","v":5.3},{"$f":"MIN(IF($A$329:$A$387=$B394,S$329:S$387))","v":5},{"$f":"MIN(IF($A$329:$A$387=$B394,T$329:T$387))","v":4.7}]
[]
[null,"State - Best",null,null,null,null,null,null,null,null,null,null,null,null,null,null,null,null,null,"Sierra"]
[null,"Large",null,null,null,null,null,null,null,null,null,null,null,null,null,null,null,null,null,"Tulare"]
[null,"Medium",null,null,null,null,null,null,null,null,null,null,null,null,null,null,null,null,null,"San Francisco"]
[null,"Small",null,null,null,null,null,null,null,null,null,null,null,null,null,null,null,null,null,"Sierra"]

{"sheet":"Calculated Fields","index":6,"n_rows":17,"n_cols":3,"rows_kept":17,"cut":false,"hidden":true,"merged":[]}
["Calculated Field"]
["Solve Order","Field","Formula"]
[1,"pct_unsuccessful_recert_reapply","=incomp_recert_no_bene_reapp/recert_not_rcvd_snap_follow_mth"]
[2,"pct_apps_from_churn_30d","=apps_rcvd_bene_prev_30d/snap_apps_rcvd"]
[3,"pct_recerts_without_CF_next_mo","=recert_not_rcvd_snap_follow_mth/cases_sched_recert"]
[4,"pct_apps_from_churn_90d","=(apps_rcvd_bene_prev_30d+apps_rcvd_bene_prev_60d+apps_rcvd_bene_prev_90d)/snap_apps_rcvd"]
[5,"pct_all_recert_reapply_90d","=incomp_recert_no_bene_reapp/cases_sched_recert"]
[]
["Calculated Item"]
["Solve Order","Item","Formula"]
[]
[]
["Note:","When a cell is updated by more than one formula,"]
[null,"the value is set by the formula with the last solve order."]
[]
[null,"To change the solve order for multiple calculated items or fields,"]
[null,"on the Options tab, in the Calculations group, click Fields, Items, & Sets, and then click Solve Order."]

{"sheet":"Churn","index":7,"n_rows":256,"n_cols":19,"rows_kept":256,"cut":false,"hidden":true,"merged":[]}
[]
["Sum of pct_recerts_without_CF_next_mo","Column Labels"]
[null,2011,2012,null,null,null,2013,null,null,null,2014,null,null,null,2015,null,null,null,2016]
["Row Labels",4,1,2,3,4,1,2,3,4,1,2,3,4,1,2,3,4,1]
["California",0.2185732271221448,0.17902674733900528,0.18139228198261259,0.18710675901179558,0.17981334022170059,0.20469640134329894,0.20364592061192413,0.20923328500967492,0.22003124743031,0.21933378448168397,0.2265365141948987,0.22633206934467839,0.25492482967556573,0.24722582063089202,0.25460008259499922,0.26374442793462111,0.28839309717183326,0.30950194567662226]
["Alameda",0.15653235653235653,0.15693659761456372,0.16345108695652175,0.1668310119561198,0.17858528384844174,0.16589997640953055,0.17612732095490716,0.18040304090744538,0.21537697180474474,0.21532549202282519,0.21532549202282519,0.25927464830533625,0.2818103619400516,0.2616800095590871,0.24481552929828793,0.26759930693704675,0.27804359383306754,0.26045460253673236]
["Alpine",0.25,0.14285714285714285,0.18181818181818182,0.1875,5.7142857142857141E-2,0.46666666666666667,0.5,0.44827586206896552,0.37931034482758619,0.4,0.52941176470588236,0.6875,0.7,0.5161290322580645,0.48571428571428571,0.45454545454545453,0.37037037037037035,0.70588235294117652]
["Amador",0.3611111111111111,0.31176470588235294,0.31609195402298851,0.27321428571428569,0.30158730158730157,0.41433566433566432,0.43585780525502316,0.43833333333333335,0.44273504273504272,0.44297520661157025,0.45177664974619292,0.43267504488330338,0.41569282136894825,0.4226086956521739,0.43035714285714288,0.42095914742451157,0.41803278688524592,0.39150943396226418]
["Butte",0.61387220098306938,0.40523373983739835,0.42203932327389115,0.40876944837340878,0.38945862151204386,0.40897097625329815,0.37430167597765363,0.39924628685435604,0.42145178764897073,0.40444938820912124,0.4085744908896034,0.42361264647357949,0.41165672326755393,0.41487021557413112,0.40895772289660948,0.41824405960531613,0.41517386722866173,0.39853896103896103]
["Calaveras",0.39072847682119205,0.29367469879518071,0.26948480845442535,0.31941031941031939,0.32218091697645601,0.38916876574307308,0.4128787878787879,0.43445692883895132,0.41968325791855204,0.40314769975786924,0.3927272727272727,0.40659340659340659,0.3893905191873589,0.34959349593495936,0.38179800221975585,0.41842397336293008,0.40486725663716816,0.43823845327604727]
["Colusa",0.36956521739130432,0.24043715846994534,0.33333333333333331,0.31140350877192985,0.21111111111111111,0.45871559633027525,0.436,0.4759825327510917,0.450354609929078,0.38661710037174724,0.4966216216216216,0.46460176991150443,0.48695652173913045,0.50218340611353707,0.55642023346303504,0.54794520547945202,0.52727272727272723,0.53535353535353536]
["Contra Costa",0.19177885992552277,0.19229122055674519,0.15367711690594785,0.13337092908501338,0.17964693665628245,0.17776964372864812,0.17305558979415753,0.17392986075296546,0.19158332250941681,0.18276666257518104,0.18276666257518104,0.19627749576988154,0.21937842778793418,0.23497917906008328,0.22799370383823708,0.22828353022932593,0.25546116504854371,0.23366670996233277]
["Del Norte",0.39350180505415161,0.30706521739130432,0.27952755905511811,0.29347826086956524,0.30629539951573848,0.44,0.38202247191011235,0.41176470588235292,0.35307262569832404,0.35490830636461707,0.35985748218527314,0.41634738186462322,0.39215686274509803,0.36430678466076694,0.34146341463414637,0.38179347826086957,0.38049450549450547,0.34293552812071332]
["El Dorado",0.49918166939443537,0.31413881748071981,0.30479628674574522,0.31443037974683546,0.32609768130241734,0.4855256475368207,0.4689655172413793,0.5244423350735643,0.50505050505050508,0.45747236905333977,0.48628884826325414,0.45002414292612264,0.47669104204753199,0.45845136921624174,0.45575642245480497,0.45474810521622827,0.47765598650927488,0.4743362831858407]
["Fresno",0.12926097627488412,0.12311843226356149,0.13192137320044298,0.12276906435911303,9.6555886029570243E-2,7.7333207511559879E-2,0.12084539914422786,0.13402555910543132,0.13245273873000485,0.12508059316569956,0.12508059316569956,0.14093984545420934,0.14009455898310338,0.13403171711316303,0.14229016032694122,0.15064632496618066,0.14801611350753985,0.14873457174915847]
["Glenn",0.42405063291139239,0.1960352422907489,0.20556745182012848,0.22716627634660422,0.28781512605042014,0.40090090090090091,0.41513292433537835,0.43612334801762115,0.40909090909090912,0.37096774193548387,0.42173913043478262,0.43707093821510296,0.4220532319391635,0.44468546637744033,0.42424242424242425,0.43991853360488797,0.41015625,0.36739130434782608]
["Humboldt",0.48081264108352145,0.40594059405940597,0.39442090395480228,0.40990990990990989,0.43539124192390521,0.49879766403297837,0.43044528822920264,0.46235455167693362,0.44784656796769851,0.40611510791366906,0.41496374423203691,0.41771217712177122,0.42301241194230121,0.42378559463986598,0.45747620509671477,0.45970900951315052,0.46608187134502926,0.44482857966004036]
["Imperial",0.25268513284341437,0.24642668078348332,0.23767235335358727,0.23829052449816535,0.2452085682074408,0.32765298218435324,0.30223080223080223,0.30511608793918227,0.29295913343180702,0.29751104908118164,0.30828961175236097,0.29105231266410825,0.29442508710801396,0.30685321318472847,0.29510434952213771,0.28518380987746006,0.3278345724907063,0.31505352851212587]
["Inyo",0.27027027027027029,0.20070422535211269,0.27181208053691275,0.22711864406779661,0.23615160349854228,0.45483870967741935,0.46546546546546547,0.49712643678160917,0.4582210242587601,0.43266475644699143,0.50144927536231887,0.473015873015873,0.46666666666666667,0.45882352941176469,0.45033112582781459,0.41379310344827586,0.42253521126760563,0.402555910543131]
["Kern",0.30347349177330896,0.24468152663999493,0.24268221574344023,0.27462720939605045,0.28075830419580422,0.35253233409887585,0.32474779995707231,0.34040733415299085,0.34932042632247973,0.33890214797136037,0.35767679483732184,0.3589148571744295,0.34354082116692142,0.3302757619738752,0.32339686159526526,0.33361499867969369,0.34270650263620389,0.34309320939839916]
["Kings",0.26077097505668934,0.21678571428571428,0.21211035471157291,0.22854291417165667,0.23227703364913427,0.34428004330566581,0.35947930574098796,0.37289234760051881,0.36639439906651111,0.33847577908053073,0.36237164624047696,0.3825503355704698,0.35850830460670635,0.33378746594005448,0.35363321799307956,0.37067545304777594,0.34631901840490797,0.36784140969162998]
["Lake",0.53618906942392908,0.42747559274755925,0.41603317208016588,0.43156516044531762,0.35815147625160459,0.39600000000000002,0.35485854858548588,0.37439903846153844,0.36015981735159819,0.34357713583282112,0.39380804953560372,0.36445589182227944,0.38069544364508395,0.35404896421845572,0.36914765906362546,0.39988845510317905,0.39885297184567259,0.40331491712707185]
["Lassen",0.60693641618497107,0.2713347921225383,0.24731182795698925,0.29335793357933582,0.30497925311203322,0.4589473684210526,0.41286307053941906,0.40625,0.42385321100917434,0.38461538461538464,0.40585774058577406,0.39756944444444442,0.45617173524150267,0.45725646123260438,0.44008714596949888,0.45506692160611856,0.45309381237524948,0.47401247401247404]
["Los Angeles",0.23060565347759163,1.1533142680683664E-2,1.0104954845008543E-2,8.5804084656843412E-3,7.630571675515496E-3,3.3380035026269704E-2,3.0741990929611298E-2,2.4479952985520758E-2,1.5496319204006858E-2,1.9465730668238573E-2,1.4986293024672555E-2,1.286398343470946E-2,0.16250618768121067,0.1244704147546576,0.16471375303759236,0.17464204191741026,{"$error":"#DIV/0!"},0.41201818229590897]
["Madera",0.3192106790481718,0.24070974221627051,0.27265973254086179,0.2784889166406494,0.27260198456449836,0.33175515725397364,0.32666214382632291,0.33025610482430018,0.30652229956174271,0.29638854296388545,0.31698895027624308,0.32410824108241082,0.30708258757351059,0.31885426502990244,0.33794657225619568,0.34531559581092558,0.31332833208302074,0.30354438049076038]
["Marin",0.20512820512820512,0.2922794117647059,0.28983688833124216,0.30996309963099633,0.2980884109916368,0.39140670982931136,0.37873563218390804,0.3842925659472422,0.39354066985645936,0.36201298701298701,0.40916530278232405,0.39427570093457942,0.40780365009439901,0.4020918070889018,0.42549575070821527,0.42490442381212451,0.44523548740416208,0.41199606686332352]
["Mariposa",0.29565217391304349,0.27600000000000002,0.26229508196721313,0.32958801498127338,0.28522336769759449,0.40977443609022557,0.35986159169550175,0.40079365079365081,0.40466926070038911,0.34420289855072461,0.4061433447098976,0.41694915254237286,0.45047923322683708,0.35314685314685312,0.37201365187713309,0.45016077170418006,0.40366972477064222,0.41065830721003133]
["Mendocino",0.29420505200594355,0.3258373205741627,0.31932367149758456,0.35068093385214005,0.40381355932203389,0.44690073688773296,0.45098039215686275,0.44921677614957051,0.39647377938517181,0.22226547294667184,0.40200286123032902,0.49060542797494783,0.44065353195579049,0.50103348491112032,0.47539417104634496,0.49331352154531949,0.43320964749536178,0.44213923467035499]
["Merced",0.39317106152805947,0.29097510373443985,0.31172890278006249,0.3141377687117527,0.29903025039803155,0.31265346210509087,0.28679637605822073,0.30839782172542274,0.3098628009319182,0.29572674848440039,0.30880144187443676,0.32572431957857773,0.31766867944342347,0.31148517801281095,0.31538461538461537,0.32610851395381785,0.32963345379452763,0.33186941882594057]
["Modoc",0.59649122807017541,0.26428571428571429,0.26717557251908397,0.25,0.2808988764044944,0.51470588235294112,0.48951048951048953,0.51249999999999996,0.4,0.46666666666666667,0.4296875,0.51824817518248179,0.48780487804878048,0.43046357615894038,0.49367088607594939,0.421875,0.39610389610389612,0.44525547445255476]
["Mono",0.41379310344827586,9.375E-2,9.3457943925233641E-2,0.18674698795180722,0.14338235294117646,0.75661375661375663,0.67980295566502458,0.64327485380116955,0.58536585365853655,0.65248226950354615,0.60233918128654973,0.58461538461538465,0.66785714285714282,0.63184079601990051,0.64556962025316456,0.6,0.60526315789473684,0.6292134831460674]
["Monterey",0.30795847750865052,0.21670783741298003,0.24913174345913405,0.25149384885764497,0.17146240378922439,0.35531516538381525,0.35157375025714871,0.38784810126582281,0.35086158977209558,0.32230370237882311,0.37527287160150824,0.41502741051273784,0.3561401684517001,0.3731819794253281,0.38928713659896458,0.3991603172134971,0.36051070674575247,0.40628657415147967]
["Napa",0.56949806949806947,0.36465781409601633,0.40625,0.42265193370165743,0.44886363636363635,0.47352941176470587,0.44285714285714284,0.47565543071161048,0.41828478964401294,0.41098677517802645,0.37554585152838427,0.41584158415841582,0.41639871382636656,0.4147058823529412,0.41248720573183212,0.40361990950226245,0.4081796311146752,0.44911297852474324]
["Nevada",0.34140435835351091,0.26473629782833508,0.27698185291308502,0.30485436893203882,0.29543419874664278,0.50785340314136129,0.45228548516439454,0.45440126883425852,0.45297805642633227,0.45779220779220781,0.45797995373939859,0.45958795562599047,0.45433255269320844,0.44822134387351781,0.44870790916209868,0.44266055045871561,0.45781250000000001,0.43080531665363564]
["Orange",0.11307306010043738,0.13406431922229131,0.13192899174207584,0.12976394566794144,0.13421558546072337,0.12890697244312926,0.1391607510396102,0.13374125874125875,0.15173652205852345,0.17542976939203353,0.17542976939203353,0.17022330866807611,0.19194141973669235,0.193245008397089,0.19243357381664614,0.19323348488900777,0.2015637949050553,0.19881283620849563]
["Placer",0.19710982658959539,0.19193742478941034,0.17951668584579977,0.18275154004106775,0.18970736629667004,0.16890495867768596,0.17969888295288974,0.18620378719567177,0.20860018298261665,0.21533516988062443,0.21533516988062443,0.2,0.24561403508771928,0.24240031583103039,0.24292272379495028,0.25916606757728256,0.25121859767529059,0.22825607064017661]
["Plumas",0.3,0.23655913978494625,0.22564102564102564,0.29661016949152541,0.29032258064516131,0.47826086956521741,0.47107438016528924,0.5,0.46416382252559729,0.43846153846153846,0.44841269841269843,0.46925566343042069,0.44542772861356933,0.40769230769230769,0.47859922178988329,0.50673854447439348,0.42975206611570249,0.42342342342342343]
["Riverside",0.34539292188854731,0.30304138031876005,0.30580812766747079,0.32601756913255941,0.31362838515546637,0.38433652307390836,0.36981521135696727,0.36725808481187872,0.36521042084168337,0.35406431442608305,0.38157791030659693,0.37633723892002036,0.37192387304507818,0.38589519262137073,0.38389890374401509,0.37766300839251132,0.38078577573845712,0.3886172782698723]
["Sacramento",0.14218200680076076,0.13719066284443923,0.13874400166910078,0.11980069324090122,0.11338988057560029,0.11231961632338458,0.12032686414708886,0.12264643301617889,0.14564750578130162,0.15367226630025266,0.15367226630025266,0.16204657056866784,0.18726291831745764,0.18866016904598212,0.18520481562807603,0.20028022417934346,0.20732366266262106,0.20378160186955599]
["San Benito",0.34463276836158191,0.27037516170763259,0.28731343283582089,0.33094384707287933,0.29166666666666669,0.40805369127516777,0.37531806615776081,0.42230130486358242,0.40233236151603496,0.38259833134684146,0.4174252275682705,0.42164179104477612,0.40437158469945356,0.43682795698924731,0.41953232462173318,0.44458598726114651,0.43884892086330934,0.41970310391363025]
["San Bernardino",0.31817933446259766,0.28197312269727254,0.28698443489908088,0.31009917283790223,0.29146084942449951,0.35175769371122734,0.32729316192128716,0.33089676256173084,0.32798179120856791,0.32831586747115488,0.34885140496876715,0.33661675338602692,0.35132200791927448,0.35225571251871624,0.35482462234749984,0.35374520568549295,0.36619103994018321,0.3668827806201711]
["San Diego",0.19364724545716758,0.20076167848782361,0.20016637870352594,0.19382312697215939,0.1805980989673793,0.10530213915392324,0.10973033428606935,0.17538285569041112,0.22367827838057167,0.19970440229440123,0.19970440229440123,0.17766351650245599,0.21094813714568636,0.20717517776341307,0.20898255633496804,0.22189468816831398,0.22699461203616328,0.22151777749458393]
["San Francisco",0.21464487743557512,0.22144954411991963,0.22374154770848986,0.23657598632673407,0.2358231707317073,0.23006932409012132,0.2250347705146036,0.23955586398334489,0.25279094662792478,0.2595828635851184,0.2595828635851184,0.23758912955737926,0.27313455893712346,0.25392103839913466,0.24115886833514691,0.25658536585365854,0.24787775891341257,0.24650971803996716]
["San Joaquin",0.29944787268593698,0.24737114290639545,0.24491636602164643,0.2560315496442932,0.24858668341708542,0.30209481808158767,0.28390846349436977,0.2865105122054466,0.30127904640728587,0.28947918845429826,0.30953203843229421,0.30250279642058164,0.3022058311878088,0.31230639256547449,0.31453744493392072,0.31723736164153021,0.33517915309446256,0.33544345971879791]
["San Luis Obispo",0.14413341274568195,0.1636469900642899,0.1831218974076117,0.16391752577319588,0.17781079742446756,0.15053763440860216,0.17744438696326953,0.18367346938775511,0.19007444168734491,0.17866129843985909,0.17866129843985909,0.24784384929641398,0.22025198320111994,0.21766848816029144,0.21733021077283374,0.2299417301658449,0.23496321938554737,0.21785383903792785]
["San Mateo",0.14242027086063783,0.134560327198364,0.15213140398904967,0.16087388282025819,0.15017064846416384,0.15439506973726888,0.16581306017925737,0.1629027401385125,0.20037570444583594,0.22562083585705633,0.22562083585705633,0.2044346978557505,0.22821826952065119,0.22073950514317486,0.22252822913797851,0.2289002557544757,0.24474074074074073,0.25071225071225073]
["Santa Barbara",0.13173483779971792,0.15651015651015651,0.16919525065963062,0.18179332968835429,0.15646100116414435,0.14847401704701677,0.18806404657933043,0.19546666666666668,0.1737426518615284,0.18071680969207471,0.18071680969207471,0.19351351351351351,0.19592147894034687,0.21018651362984217,0.21018633540372672,0.18590373280943026,0.16842314575462319,0.21098726114649682]
["Santa Clara",0.14469914040114612,0.14455747711088504,0.14564831261101244,0.12811051999313541,0.11984797297297298,0.12627816111064927,0.1265642059292853,0.13978064206228485,0.16158386620757501,0.17834192780642602,0.17834192780642602,0.17861739986370864,0.19041429731925263,0.19018873691449531,0.19026340545625589,0.20243998425816609,0.20532660042352174,0.18503356803667922]
["Santa Cruz",0.1849906191369606,0.15636983383042183,0.15134099616858238,0.19322165952473705,0.16259569814072183,0.18189233278955955,0.22457312546399405,0.23134328358208955,0.20883259157822665,0.19734904270986744,0.19734904270986744,0.21784435037447086,0.1941195067973443,0.21081785597914629,0.19313169502205418,0.22334528855559177,0.17647058823529413,0.18258164852255054]
["Shasta",0.39076498966230189,0.28628117913832202,0.30400421496311908,0.31531978185423898,0.36614486601220481,0.4603340292275574,0.43373211353506919,0.43992055610724923,0.40061318344404701,0.38076923076923075,0.41129831516352827,0.37933839479392623,0.41132942077060475,0.41889436802491564,0.42202729044834308,0.43153219837157664,0.43942505133470228,0.44710163763971927]
["Sierra",0.15384615384615385,0.16129032258064516,0.23255813953488372,0.21212121212121213,0.20930232558139536,0.48,0.38709677419354838,0.48275862068965519,0.41304347826086957,0.26315789473684209,0.46875,0.36363636363636365,0.48936170212765956,0.38461538461538464,0.29166666666666669,0.38181818181818183,0.57894736842105265,0.47457627118644069]
["Siskiyou",0.37920489296636084,0.30577427821522307,0.28731343283582089,0.30990783410138251,0.30580357142857145,0.39480198019801982,0.36670416197975253,0.37341772151898733,0.36429215509467988,0.34913793103448276,0.38521836506159013,0.41025641025641024,0.39080459770114945,0.37849944008958569,0.37321624588364433,0.39748549323017407,0.3861082737487232,0.40531561461794019]
["Solano",0.21599815583218074,0.20620437956204379,0.197265625,0.18254725988161161,0.19781667607754563,0.1816359992712698,0.1821628452789312,0.19850719744090989,0.23026315789473684,0.21027868259138618,0.21027868259138618,0.1966798418972332,0.24995814498576929,0.23373451944880516,0.18861583700903173,0.21209677419354839,0.25153697523274199,0.24045026757704374]
["Sonoma",0.16558823529411765,0.15349954941423852,0.14809707666850525,0.17530181086519114,0.16388817645550141,0.17817745803357316,0.19414893617021275,0.20980861244019139,0.22457442164993452,0.22573153738968882,0.22573153738968882,0.21488924411966201,0.2199820788530466,0.21360302289397645,0.20992534036012298,0.23644646924829157,0.22960725075528701,0.23134154847709834]
["Stanislaus",0.28582739509105304,0.26325104797391707,0.28483375292994184,0.32251100224196627,0.28386428386428386,0.35642544424414113,0.33020848957552124,0.33333333333333331,0.35131173970394253,0.33589624106865484,0.36292229085640204,0.36927429838648007,0.36713145804787622,0.36229205175600737,0.3652737183031835,0.38214741903974753,0.40078100095632768,0.39444264419961117]
["Sutter",0.41896551724137931,0.23289665211062591,0.27947295423023577,0.27816677275620622,0.28892733564013839,0.42441054091539526,0.41813602015113349,0.41308411214953272,0.39684267827980402,0.40093512565751022,0.41544117647058826,0.39357907253269919,0.41082274986195472,0.41761533852606353,0.45459940652818992,0.40692395005675369,0.39967550027041643,0.3882495457298607]
["Tehama",0.3780718336483932,0.24979789814066289,0.26792452830188679,0.28773234200743497,0.32461103253182461,0.42175856929955291,0.38133333333333336,0.35202492211838005,0.40143003064351379,0.39000960614793467,0.37053910402429763,0.41466854724964741,0.45733578882750153,0.43710292249047011,0.45816503173687245,0.42919389978213507,0.43084050297816018,0.43096774193548387]
["Trinity",0.36,0.31517509727626458,0.34615384615384615,0.49146757679180886,0.4804270462633452,0.42700729927007297,0.48062015503875971,0.48529411764705882,0.40425531914893614,0.38349514563106796,0.56521739130434778,0.49392712550607287,0.49027237354085601,0.5,0.53374233128834359,0.51644736842105265,0.50342465753424659,0.51351351351351349]
["Tulare",0.11737845823260812,0.11718832332174096,0.11720026920488415,0.1158703071672355,0.10177643317042898,0.10698728001393971,0.11466243845447717,0.11620426216324889,0.12307917459388262,0.12344233503387138,0.12344233503387138,0.13191888576170888,0.13445674398928295,0.13877118644067796,0.14233920672902617,0.14000889415950193,0.13806879739978331,0.14614020205136113]
["Tuolumne",0.33656957928802589,0.22700119474313021,0.23277909738717339,0.2709677419354839,0.23745819397993312,0.40740740740740738,0.46111111111111114,0.45414847161572053,0.43487394957983194,0.4498448810754912,0.43954802259887005,0.43446088794926002,0.44902386117136661,0.44071353620146902,0.42954545454545456,0.42695473251028809,0.42505133470225875,0.4402061855670103]
["Ventura",0.19747899159663865,0.19296157769466168,0.1886577835554111,0.17221644120707597,0.18485869847031372,0.18285152960987933,0.19134641225477023,0.18742999377722463,0.21349009900990099,0.20948876330661059,0.20948876330661059,0.20731064995259665,0.21018593371059013,0.20910026294729622,0.22345554434353626,0.21245840266222962,0.22494261667941851,0.23785696851354649]
["Yolo",0.16585956416464892,0.15460729746444032,0.16434378629500582,0.16894018887722981,0.1897172236503856,0.16022668727460071,0.17094861660079053,0.18734673859735165,0.17443609022556392,0.20291902071563089,0.20291902071563089,0.20327593448131037,0.20958083832335328,0.19264158743282347,0.2070767993566546,0.20203543158688278,0.19661408233936128,0.20031176929072486]
["Yuba",0.33695652173913043,0.29580700746697303,0.27351413733410274,0.29026750142287994,0.31233171782444802,0.43805049911920141,0.44976635514018692,0.42865232163080408,0.41889843355229917,0.3721174004192872,0.40750528541226216,0.38973799126637554,0.39661554732945531,0.39620535714285715,0.38725761772853184,0.38891936368623148,0.39936941671045717,0.40845070422535212]
[]
[]
[]
["Sum of pct_unsuccessful_recert_reapply","Column Labels"]
[null,2011,2012,null,null,null,2013,null,null,null,2014,null,null,null,2015,null,null,null,2016]
["Row Labels",4,1,2,3,4,1,2,3,4,1,2,3,4,1,2,3,4,1]
["California",0.57054693617529562,0.70166953852391367,0.70346517049271007,0.70147427374663196,0.71755858691850294,0.52368929154908661,0.53716993906567367,0.54965551516805211,0.66094252186262048,0.6645285699786867,0.64186313973548015,0.67836873314384827,0.60572608220881385,0.58482066536738808,0.56770310932798396,0.54024304136162626,0.63053424669249392,0.47598503253190361]
["Alameda",0.49817992719708787,0.48711111111111111,0.48088113050706566,0.49168821573697818,0.50181028240405501,0.51972982580874516,0.48259705488621152,0.49397993311036792,0.51326412918108422,0.47458085451595455,0.47458085451595455,0.4942765567765568,0.53416294904907258,0.49200913242009131,0.51145038167938928,0.42925659472422062,0.47681644359464626,0.46504339440694309]
["Alpine",1,0.33333333333333331,0.25,0.33333333333333331,1,0.14285714285714285,0.21428571428571427,0.38461538461538464,0.36363636363636365,0.16666666666666666,0,9.0909090909090912E-2,0.14285714285714285,0,0.11764705882352941,0,0.1,8.3333333333333329E-2]
["Amador",0.92307692307692313,0.71069182389937102,0.66666666666666663,0.6470588235294118,0.70175438596491224,0.46413502109704641,0.39361702127659576,0.46387832699619774,0.3281853281853282,0.44029850746268656,0.449438202247191,0.55601659751037347,0.56224899598393574,0.59259259259259256,0.60165975103734437,0.64978902953586493,0.74117647058823533,0.61847389558232935]
["Butte",0.95284697508896798,0.75109717868338555,0.76706392199349949,0.72606689734717411,0.72933251684017142,0.58768328445747797,0.62629161882893225,0.53692393114936143,0.69768637532133682,0.73927392739273923,0.70461699895068208,0.72233820459290188,0.77424749163879603,0.6977730646871686,0.71187308085977485,0.60760712566201247,0.60964467005076139,0.63391038696537683]
["Calaveras",0.9576271186440678,0.69230769230769229,0.67647058823529416,0.68076923076923079,0.59615384615384615,0.37216828478964403,0.40061162079510704,0.43390804597701149,0.33692722371967654,0.42942942942942941,0.42592592592592593,0.41741741741741739,0.49855072463768119,0.60797342192691028,0.47383720930232559,0.45888594164456231,0.51912568306010931,0.55882352941176472]
["Colusa",0.94117647058823528,0.56818181818181823,0.6071428571428571,0.676056338028169,0.63157894736842102,0.48,0.39449541284403672,0.55963302752293576,0.39370078740157483,0.63461538461538458,0.55782312925170063,0.84761904761904761,0.7589285714285714,0.75652173913043474,0.65734265734265729,0.64166666666666672,0.57931034482758625,0.58490566037735847]
["Contra Costa",0.65944734876773714,0.84484038604305867,0.67683508102955192,0.63107822410147996,0.61488439306358378,0.57378174330816745,0.55270655270655267,0.48702742772424018,0.62033898305084745,0.56346541302887843,0.56346541302887843,0.58678160919540234,0.54055555555555557,0.49924050632911393,0.54540626659585767,0.52207001522070018,0.52494061757719712,0.50027793218454697]
["Del Norte",0.91743119266055051,0.76548672566371678,0.70422535211267601,0.75720164609053497,0.77470355731225293,0.50852272727272729,0.46078431372549017,0.47142857142857142,0.59810126582278478,0.65957446808510634,0.75247524752475248,0.61963190184049077,0.69687500000000002,0.83805668016194335,0.98496240601503759,0.79003558718861211,0.79061371841155237,0.95199999999999996]
["El Dorado",0.9278688524590164,0.69067103109656303,0.65651438240270732,0.66827697262479868,0.72768532526475038,0.43723849372384938,0.46274509803921571,0.42081447963800905,0.44,0.44432773109243695,0.4567669172932331,0.54935622317596566,0.45349952061361459,0.54891864057672501,0.52400835073068897,0.5186274509803922,0.43336275375110328,0.45429104477611942]
["Fresno",0.85056258790436001,0.90465205690119188,0.85344526058062264,0.95526940020332096,0.97008928571428577,0.92068334350213543,0.94527896995708149,0.88945172824791419,0.86032326928941749,0.73367697594501713,0.73367697594501713,0.79407135362014691,0.86251728907330572,0.74513438368860052,0.78873239436619713,0.75854327762534302,0.85211946050096343,0.72673931265716685]
["Glenn",0.94029850746268662,0.6404494382022472,0.70833333333333337,0.63917525773195871,0.75912408759124084,0.43258426966292135,0.26108374384236455,0.27777777777777779,0.3888888888888889,0.375,0.33505154639175255,0.39790575916230364,0.45945945945945948,0.37073170731707317,0.34615384615384615,0.36574074074074076,0.35714285714285715,0.53846153846153844]
["Humboldt",0.90845070422535212,0.64679313459801269,0.67054610564010741,0.65201465201465203,0.69991755976916736,0.55991735537190079,0.60064153969526868,0.59067357512953367,0.54395191585274227,0.55801594331266613,0.59729944400317714,0.68551236749116606,0.66693100713719267,0.65059288537549409,0.58053691275167785,0.65063907486305539,0.64178168130489333,0.69041450777202074]
["Imperial",0.85906040268456374,0.68421052631578949,0.67354965585054083,0.68659420289855078,0.66091954022988508,0.44129235618597323,0.42370475514549327,0.46262626262626261,0.60756302521008398,0.69741985926505079,0.69639210347174951,0.79250520471894514,0.67455621301775148,0.73106646058732616,0.67019167217448772,0.630859375,0.58114812189936216,0.66990291262135926]
["Inyo",0.8666666666666667,0.7192982456140351,0.60493827160493829,0.64179104477611937,0.8271604938271605,0.34042553191489361,0.52903225806451615,0.34682080924855491,0.5,0.51655629139072845,0.43352601156069365,0.49664429530201343,0.55428571428571427,0.55128205128205132,0.56617647058823528,0.70454545454545459,0.58666666666666667,0.65873015873015872]
["Kern",0.8369191049913941,0.70983649104593827,0.66386352715040842,0.66163522012578613,0.67736913796458453,0.4294531116063775,0.40284203569068078,0.4316896984924623,0.65696291112666205,0.62804097311139562,0.59133964817320706,0.61868842364532017,0.65556919300398897,0.59043768676393038,0.60896574882471455,0.59616906759537758,0.62678062678062674,0.59978928356411798]
["Kings",0.85797101449275359,0.69686985172981875,0.67567567567567566,0.65793304221251825,0.73277074542897325,0.55031446540880502,0.50882079851439188,0.50695652173913042,0.92197452229299359,0.93983591613491335,0.85648994515539301,0.80964912280701751,0.840034965034965,0.90102040816326534,0.80039138943248533,0.66222222222222227,0.70239149689991143,0.55603079555175361]
["Lake",0.97520661157024791,0.76345840130505704,0.70930232558139539,0.66464339908952963,0.73297491039426521,0.59090909090909094,0.51126516464471405,0.45746388443017655,0.71949286846275751,0.95706618962432921,0.75786163522012584,0.83215547703180215,0.75590551181102361,0.80673758865248224,0.73170731707317072,0.71269177126917715,0.70588235294117652,0.65479452054794518]
["Lassen",0.94285714285714284,0.79032258064516125,0.68695652173913047,0.65408805031446537,0.60544217687074831,0.42660550458715596,0.34170854271356782,0.48416289592760181,0.51515151515151514,0.63076923076923075,0.53092783505154639,0.45414847161572053,0.39215686274509803,0.50869565217391299,0.58910891089108908,0.56302521008403361,0.4933920704845815,0.38157894736842107]
["Los Angeles",0.101203796589243,0.46565774155995343,0.53260869565217395,0.59470752089136492,0.75242718446601942,0.68380552640783487,0.67396429774334787,0.7504139072847682,0.92118582791033987,1.1713695801789401,0.88699186991869916,0.97786720321931586,8.1685938082804929E-2,9.0442931659446557E-2,7.1018994146458014E-2,6.2143536121673004E-2,{"$error":"#DIV/0!"},8.9375677571583448E-2]
["Madera",0.87636363636363634,0.7315716272600834,0.6975476839237057,0.64910313901345296,0.76845298281092012,0.49643221202854232,0.48598130841121495,0.54553651938683501,0.58873002523128681,0.6964285714285714,0.62309368191721137,0.6470588235294118,0.62781015820149877,0.58538993089832181,0.59142857142857141,0.54754098360655734,0.46687948922585792,0.43812375249500995]
["Marin",0.8482142857142857,0.57232704402515722,0.55627705627705626,0.58134920634920639,0.58517034068136276,0.44511278195488724,0.44764795144157815,0.44149765990639628,0.51367781155015202,0.59940209267563527,0.48533333333333334,0.56000000000000005,0.5864197530864198,0.73988439306358378,0.64846870838881487,0.6182519280205655,0.5719557195571956,0.74582338902147971]
["Mariposa",0.97058823529411764,0.59420289855072461,0.671875,0.57954545454545459,0.60240963855421692,0.44036697247706424,0.60576923076923073,0.28712871287128711,0.47115384615384615,0.68421052631578949,0.43697478991596639,0.48780487804878048,0.3971631205673759,0.73267326732673266,0.60550458715596334,0.6,0.50757575757575757,0.4580152671755725]
["Mendocino",0.9494949494949495,0.6108663729809104,0.5340393343419062,0.53259361997226073,0.59496327387198322,0.3879728419010669,0.40966183574879228,0.4746906636670416,0.59977194982896243,0.12084063047285463,0.42704626334519574,0.49468085106382981,0.7011995637949836,0.57673267326732669,0.48844221105527641,0.46887550200803213,0.61456102783725908,0.59854014598540151]
["Merced",0.92691315563198629,0.80154486036838979,0.766754617414248,0.76323676323676326,0.77153920619554694,0.57120418848167542,0.64992232004142936,0.62267657992565051,0.77025898078529653,0.78449999999999998,0.82636186770428011,0.80368373764600176,0.85702479338842974,0.82926829268292679,0.80300187617260788,0.7519548218940052,0.74236491777603764,0.72077635641817384]
["Modoc",0.70588235294117652,0.7567567567567568,0.77142857142857146,0.67741935483870963,0.84,0.3,0.27142857142857141,0.29268292682926828,0.47222222222222221,0.41269841269841268,0.50909090909090904,0.50704225352112675,0.55000000000000004,0.7846153846153846,0.48717948717948717,0.83333333333333337,0.80327868852459017,0.52459016393442626]
["Mono",0.75,0.41666666666666669,0.6,0.61290322580645162,0.64102564102564108,0.1048951048951049,9.420289855072464E-2,0.21818181818181817,0.17499999999999999,0.19565217391304349,0.23300970873786409,0.23684210526315788,0.10695187165775401,0.15748031496062992,0.11764705882352941,0.24074074074074073,0.20289855072463769,0.13392857142857142]
["Monterey",0.87016229712858928,0.70880829015544045,0.69052044609665431,0.69392033542976939,0.75276243093922657,0.39929742388758782,0.39672322995904036,0.40557006092254133,0.37642585551330798,0.48002219755826858,0.45425700687466947,0.59595959595959591,0.63124087591240874,0.44866920152091255,0.54117647058823526,0.62563303467082199,0.73731176798661457,0.47407407407407409]
["Napa",0.92542372881355928,0.73109243697478987,0.75596816976127323,0.69716775599128544,0.75768535262206149,0.68737060041407871,0.63364055299539168,0.6417322834645669,0.46228239845261121,0.46782178217821785,0.52616279069767447,0.56926406926406925,0.53474903474903479,0.43026004728132389,0.47890818858560796,0.49103139013452912,0.55992141453831046,0.45738045738045741]
["Nevada",0.88652482269503541,0.66796875,0.61379310344827587,0.66560509554140124,0.66666666666666663,0.29553264604810997,0.41489361702127658,0.39267015706806285,0.38408304498269896,0.41312056737588654,0.46464646464646464,0.51724137931034486,0.50343642611683848,0.4567901234567901,0.53228621291448519,0.47495682210708118,0.4539249146757679,0.58620689655172409]
["Orange",0.620821394460363,0.55438448566610454,0.65892053973013498,0.64329268292682928,0.63957361758827447,0.59935437589670015,0.61605795351645032,0.58526440879382058,0.64577729962345343,0.53919694072657742,0.53919694072657742,0.61653405783039006,0.61118798181458789,0.56624179219775972,0.59893928310168254,0.55830449826989614,0.57275652484805151,0.52827019966411648]
["Placer",0.6862170087976539,0.73667711598746077,0.68269230769230771,0.651685393258427,0.5771276595744681,0.59938837920489296,0.55405405405405406,0.59079903147699753,0.81359649122807021,0.68443496801705761,0.68443496801705761,0.71730769230769231,0.74444444444444446,0.6596091205211726,0.63464566929133859,0.5409153952843273,0.57761194029850749,0.60348162475822054]
["Plumas",0.88888888888888884,0.77272727272727271,0.59090909090909094,0.74285714285714288,0.80555555555555558,0.33057851239669422,0.27192982456140352,0.34558823529411764,0.33088235294117646,0.45614035087719296,0.53982300884955747,0.66206896551724137,0.55629139072847678,0.68867924528301883,0.42276422764227645,0.51063829787234039,0.51282051282051277,0.44680851063829785]
["Riverside",0.87015061615700595,0.64957780458383596,0.67546521035598706,0.68679604921157511,0.68289026584049572,0.47238273283480625,0.46629494602902283,0.5009251010758583,0.57418788410886745,0.65570797855566065,0.6191131919581383,0.63370558375634523,0.63129009816804516,0.61950507224100826,0.59858243031418257,0.57922419460881003,0.59873474920921821,0.53888847776215498]
["Sacramento",0.68666396432914467,0.63795309168443493,0.68496240601503755,0.69837251356238694,0.72422776330480088,0.71444910407929851,0.66519524617996606,0.64975450081833064,0.72979869577544654,0.65820594173637148,0.65820594173637148,0.66031280547409577,0.704704028809363,0.67717041800643085,0.7205641864268193,0.62622426544073551,0.67040898155573381,0.71017514595496245]
["San Benito",0.92622950819672134,0.64593301435406703,0.67532467532467533,0.73285198555956677,0.71052631578947367,0.38157894736842107,0.4,0.5449438202247191,0.53381642512077299,0.61059190031152644,0.60124610591900307,0.79646017699115046,0.96486486486486489,0.78769230769230769,0.60655737704918034,0.70200573065902583,0.70023419203747073,0.70096463022508038]
["San Bernardino",0.92272024729520863,0.73641661966535066,0.71787237466806153,0.72536834019970675,0.75364904313979886,0.4602669617539249,0.522380866317248,0.5609120521172638,0.76578474502757299,0.80016765540366264,0.75526392534266551,0.7640117994100295,0.76149790947100526,0.72155485738926872,0.71434965034965037,0.68078660643103905,0.67925812489365323,0.59846431797651312]
["San Diego",0.92459504747719234,0.90793595544726768,0.91927749360613809,0.9033280507131537,0.90330477356181149,0.85188249896565993,0.90071725179312945,0.7757246376811594,0.79145391023918299,0.71982378854625551,0.71982378854625551,0.80452708164915121,0.75942496699427897,0.6686427457098284,0.67978612802613991,0.60328210471476951,0.66219659380447904,0.63166978282755648]
["San Francisco",0.64275256222547583,0.62944870900209349,0.62323707186030897,0.55568934376881396,0.63283775048480928,0.64971751412429379,0.68726823238566126,0.55388180764774042,0.63218390804597702,0.62920738327904446,0.62920738327904446,0.6551528878822197,0.69061085972850678,0.66240681576144833,0.6215454032712916,0.57360130363932649,0.63013698630136983,0.59244863964464189]
["San Joaquin",0.88774403470715835,0.70069686411149823,0.66889856042852358,0.65569314406523704,0.68730259001895133,0.45281543274244002,0.47543500511770725,0.4745136665845851,0.55190042231607028,0.67894990366088637,0.68468066100937919,0.74000462214005081,0.71056873129173381,0.63706041478809738,0.60008618832148242,0.62232197510712095,0.58367346938775511,0.59316646801748107]
["San Luis Obispo",0.65702479338842978,0.49642857142857144,0.58433734939759041,0.53773584905660377,0.55153203342618384,0.52040816326530615,0.56851311953352768,0.58994708994709,0.66840731070496084,0.53521126760563376,0.53521126760563376,0.48534798534798534,0.61228813559322037,0.56903765690376573,0.55172413793103448,0.51267056530214428,0.50828729281767959,0.46072186836518048]
["San Mateo",0.77300613496932513,0.71124620060790278,0.77377892030848328,0.67695473251028804,0.87272727272727268,0.73949579831932777,0.71814671814671815,0.74121996303142335,0.75624999999999998,0.58523489932885908,0.58523489932885908,0.68772348033373065,0.68295904887714665,0.68387909319899243,0.62128712871287128,0.59329608938547485,0.58595641646489105,0.55909090909090908]
["Santa Barbara",0.88865096359743045,0.65319148936170213,0.66081871345029242,0.63007518796992479,0.67708333333333337,0.65925925925925921,0.61300309597523217,0.61937244201909958,0.79197994987468667,0.47346368715083798,0.47346368715083798,0.61452513966480449,0.59727626459143968,0.5460750853242321,0.53073286052009461,0.64332892998678992,0.7142857142857143,0.61635220125786161]
["Santa Clara",0.30198019801980197,0.28993666432090076,0.27981029810298103,0.32484929671801743,0.3262861169837914,0.29690585911784068,0.30192435301924353,0.2766323024054983,0.30035514967021815,0.2402135231316726,0.2402135231316726,0.32005086901229335,0.25554607508532423,0.24306950582563278,0.24639472599917595,0.20917573872472783,0.25029750099166997,0.1995575221238938]
["Santa Cruz",0.69979716024340766,0.47956403269754766,0.39873417721518989,0.56653225806451613,0.52242152466367708,0.47309417040358742,0.30578512396694213,0.42105263157894735,0.4,0.28731343283582089,0.28731343283582089,0.3273542600896861,0.28501628664495116,0.21638330757341576,0.17944535073409462,0.24233576642335766,0.28217821782178215,0.20954003407155025]
["Shasta",0.92768959435626097,0.70792079207920788,0.68544194107452339,0.68710691823899372,0.73840579710144927,0.45351473922902497,0.44835045970795023,0.38544018058690743,0.45918367346938777,0.55420875420875426,0.55783132530120483,0.65689778413152256,0.66997518610421836,0.66604708798017354,0.66512702078521935,0.58947970268724981,0.60864485981308414,0.60755813953488369]
["Sierra",1,0.8,0.6,0.2857142857142857,0.66666666666666663,0.25,0.33333333333333331,0.17857142857142858,0.26315789473684209,0.66666666666666663,0.16666666666666666,0.375,0.2608695652173913,0.28000000000000003,0.42857142857142855,0.23809523809523808,9.0909090909090912E-2,0.10714285714285714]
["Siskiyou",0.94354838709677424,0.68669527896995708,0.64935064935064934,0.63197026022304836,0.63503649635036497,0.41379310344827586,0.34662576687116564,0.48587570621468928,0.53712871287128716,0.70987654320987659,0.61337209302325579,0.66586538461538458,0.58578431372549022,0.63609467455621305,0.62941176470588234,0.77615571776155723,0.71693121693121697,0.65027322404371579]
["Solano",0.3287086446104589,0.37278761061946902,0.40264026402640263,0.33158995815899583,0.3520456707897241,0.35506519558676031,0.33894945490584738,0.26947179946284688,0.29473684210526313,0.27022375215146299,0.27022375215146299,0.28135048231511256,0.23308774279973207,0.2373134328358209,0.21492204899777284,0.20437262357414449,0.2276536312849162,0.20414428242517269]
["Sonoma",0.55595026642984013,0.64383561643835618,0.6033519553072626,0.52510760401721668,0.54929577464788737,0.51413189771197843,0.49813200498132004,0.44013683010262256,0.63459669582118561,0.48971193415637859,0.48971193415637859,0.56535600425079702,0.63441955193482691,0.50884495317377731,0.56066945606694563,0.47495183044315992,0.60808270676691734,0.58693467336683414]
["Stanislaus",0.91412742382271472,0.68259023354564752,0.71563547698872298,0.73867147270854794,0.72992700729927007,0.44605009633911369,0.41062911651146944,0.45541685242978153,0.68982060909470166,0.7657803468208092,0.73250682916579113,0.71650445226755022,0.75982436882546656,0.72796846011131722,0.72080449826989623,0.65631144317734957,0.62696361105587595,0.55124255493941265]
["Sutter",0.95884773662551437,0.65625,0.66749379652605456,0.6430205949656751,0.70059880239520955,0.34640522875816993,0.40210843373493976,0.39517345399698339,0.57201646090534974,0.55539358600583089,0.53982300884955747,0.73262839879154074,0.56720430107526887,0.55523672883787656,0.57832898172323755,0.60251046025104604,0.60081190798376183,0.66458658346333854]
["Tehama",0.85499999999999998,0.68608414239482196,0.676056338028169,0.69509043927648584,0.72984749455337694,0.41166077738515899,0.45104895104895104,0.45132743362831856,0.27226463104325699,0.33251231527093594,0.2848360655737705,0.59693877551020413,0.59194630872483223,0.54796511627906974,0.48866498740554154,0.44839255499153974,0.56528417818740395,0.5913173652694611]
["Trinity",0.92592592592592593,0.64197530864197527,0.71604938271604934,0.72222222222222221,0.59259259259259256,0.80341880341880345,0.58870967741935487,0.5757575757575758,0.83157894736842108,0.74683544303797467,0.16666666666666666,0.39344262295081966,0.56349206349206349,0.65333333333333332,0.48275862068965519,0.48407643312101911,0.39455782312925169,0.55263157894736847]
["Tulare",1.2951945080091534,1.0908273381294964,1.2141099261689909,1.0861561119293077,1.3064024390243902,1.1343648208469055,1.1935953420669578,1.08719723183391,1.4506539833531511,1.1382113821138211,1.1382113821138211,1.12363238512035,1.2768746722600943,1.0087241003271539,1.0993377483443709,1.0418210693488619,1.198136341343796,0.95514511873350927]
["Tuolumne",0.88461538461538458,0.62631578947368416,0.65306122448979587,0.69841269841269837,0.71361502347417838,0.46256684491978611,0.40722891566265063,0.46153846153846156,0.43961352657004832,0.47356321839080462,0.49871465295629819,0.55231143552311435,0.48792270531400966,0.50714285714285712,0.56613756613756616,0.53493975903614455,0.58454106280193241,0.41451990632318503]
["Ventura",0.793538219070134,0.72246696035242286,0.84926787252368652,0.75906344410876136,0.7727910238429172,0.75748273215656181,0.764747191011236,0.8173970783532537,0.87246376811594206,0.71894604767879544,0.71894604767879544,0.81097560975609762,0.84120879120879122,0.7714598141060689,0.84646261916708476,0.82036221243269702,0.81827016520894069,0.76706003078501794]
["Yolo",0.69343065693430661,0.64400000000000002,0.74204946996466437,0.65217391304347827,0.68834688346883466,0.69453376205787787,0.71965317919075145,0.60994764397905754,0.79022988505747127,0.65661252900232014,0.65661252900232014,0.66115702479338845,0.70204081632653059,0.65021459227467815,0.67572815533980579,0.57089552238805974,0.53424657534246578,0.61284046692607008]
["Yuba",0.92741935483870963,0.74174757281553394,0.72995780590717296,0.66666666666666663,0.71206896551724141,0.51876675603217159,0.53376623376623378,0.59180977542932633,0.83232810615199038,1.0464788732394366,0.91828793774319062,0.96358543417366949,0.96933333333333338,0.95915492957746484,0.86123032904148789,0.87023977433004229,0.91052631578947374,0.79840848806366049]
[]
[]
["Sum of pct_apps_from_churn_30d","Column Labels"]
[null,2011,2012,null,null,null,2013,null,null,null,2014,null,null,null,2015,null,null,null,2016]
["Row Labels",4,1,2,3,4,1,2,3,4,1,2,3,4,1,2,3,4,1]
["California",9.9810733787282183E-2,0.10048220291837934,9.3212231692573075E-2,8.1711948208492327E-2,8.8814387818270987E-2,0.13528277569118735,0.13006286965779959,0.12030811725156842,0.13944409359698837,0.12870095861217493,0.11958471375213657,0.12553890511189991,0.1423959934757705,0.13005035849174532,0.12770698701456557,0.12801793515750748,0.15174374047527461,0.11668217184451216]
["Alameda",0.11983176965383371,0.11549208320397392,8.8227974116475857E-2,7.791730474732006E-2,8.4568320870156352E-2,8.2275597214085797E-2,9.890688792308705E-2,8.1060781141668592E-2,0.10106160078223216,0.10676539459527878,0.10036762155788305,0.12322246682929731,0.1167600470360379,0.11457564575645757,0.10358260425314515,0.10392169325621306,0.11118843269156421,0.1100371747211896]
["Alpine",0,0,4.1666666666666664E-2,5.2631578947368418E-2,0,0.1875,7.1428571428571425E-2,8.6956521739130432E-2,0.14814814814814814,6.6666666666666666E-2,0,0.08,0.04,0.10526315789473684,0,0,0,0]
["Amador",2.8747433264887063E-2,3.6332179930795849E-2,2.9090909090909091E-2,3.2758620689655175E-2,2.8462998102466792E-2,0.1708185053380783,0.14393939393939395,0.1552901023890785,0.18003565062388591,0.14215686274509803,0.13555555555555557,0.16170212765957448,0.17123287671232876,0.13988657844990549,0.14442013129102846,0.15845824411134904,0.10480349344978165,0.13071895424836602]
["Butte",3.5012594458438288E-2,2.8241939279830548E-2,2.7641551493535442E-2,3.5602094240837698E-2,3.7844611528822056E-2,0.14659808276829553,0.13569518716577539,0.13180805831139908,0.15656447460800374,0.14457831325301204,0.1367902393242609,0.13591378931163403,0.1330354926780839,0.14559894109861019,0.14365024288688411,0.14776632302405499,0.15201060539107381,0.14509551405881091]
["Calaveras",3.255813953488372E-2,8.4985835694051E-3,2.2315202231520222E-2,2.7777777777777776E-2,3.3333333333333333E-2,0.12567567567567567,0.13984962406015036,0.10619469026548672,0.1087248322147651,0.1307277628032345,0.10828025477707007,9.7560975609756101E-2,0.12977099236641221,0.12809315866084425,0.11613876319758673,0.1119751166407465,0.12080536912751678,9.7643097643097643E-2]
["Colusa",7.2784810126582278E-2,3.6065573770491806E-2,4.1198501872659173E-2,4.3307086614173228E-2,4.0625000000000001E-2,0.20529801324503311,0.11196911196911197,0.13405797101449277,0.12830188679245283,9.8181818181818176E-2,5.6224899598393573E-2,7.8341013824884786E-2,0.10984848484848485,0.13333333333333333,0.13612565445026178,0.14832535885167464,0.12663755458515283,0.10454545454545454]
["Contra Costa",0.11262488646684832,0.10786873018832743,0.110370987140346,8.7816531294792166E-2,0.10435610065552971,0.11462797039345539,0.1148846960167715,9.2482873541936683E-2,9.4033935413245756E-2,9.4279877425944847E-2,7.9991112098655712E-2,8.7000711454416096E-2,9.2015921329899317E-2,9.0822382365409071E-2,8.8257866462010739E-2,8.5246901036374723E-2,0.10620412029363012,9.7171381031613976E-2]
["Del Norte",6.6753926701570682E-2,3.8873994638069703E-2,4.5390070921985819E-2,6.5620542082738945E-2,7.7474892395982778E-2,0.24852071005917159,0.21104815864022664,0.18623481781376519,0.22739726027397261,0.18760469011725292,0.16216216216216217,0.19306930693069307,0.19503546099290781,0.17307692307692307,0.21473354231974923,0.12996941896024464,0.15867768595041323,0.16923076923076924]
["El Dorado",2.8041415012942193E-2,2.4499795835034709E-2,2.8466856445709638E-2,3.2123487692949523E-2,3.7505095801059929E-2,0.14747899159663866,0.13480288257736328,0.12315875613747954,0.1262854792266557,0.1011426153195091,0.10958230958230958,0.11190476190476191,0.11235955056179775,0.12118274357731459,0.13157894736842105,0.1272635814889336,0.13387533875338753,0.1180773249738767]
["Fresno",0.20372382457526669,0.20593805989250064,0.17152938698125131,0.15703265349254994,0.16002095886822112,0.1284361015865636,0.15717907351924407,0.16488378877759408,0.14043993231810489,0.12917144573706921,0.13151494093120222,0.1487758945386064,0.1517095149748211,0.13062123319425128,0.14080146763744769,0.13925822253324002,0.16483516483516483,0.15292302417280987]
["Glenn",2.004008016032064E-2,4.9407114624505928E-2,3.6960985626283367E-2,2.3952095808383235E-2,5.2525252525252523E-2,0.2024793388429752,0.1368909512761021,0.18541666666666667,0.16494845360824742,0.15176715176715178,0.13910761154855644,0.10070257611241218,0.1522248243559719,0.13659793814432988,0.12182741116751269,9.498680738786279E-2,0.15142857142857144,0.14868105515587529]
["Humboldt",4.4459190444591908E-2,2.576251110453065E-2,2.9778182923123672E-2,3.4603082291363767E-2,4.7013977128335452E-2,0.13735955056179774,0.11826182618261827,0.11401917595231925,0.1036036036036036,7.8728886344116802E-2,8.4916864608076015E-2,9.9318955732122585E-2,0.10991140642303433,0.11392757660167131,0.11545510079413561,0.11692798299229339,0.12300884955752213,0.13964638897213066]
["Imperial",3.8729198184568832E-2,3.7545787545787544E-2,3.651609413037598E-2,3.4406488080609483E-2,6.1966487511855836E-2,0.19325346784363179,0.19188767550702029,0.16340310600945307,0.17728365384615385,0.16193751791344224,0.13267326732673268,0.1308454273208938,0.14745616556481747,0.15916352018588439,0.15169936446532192,0.13707088169918499,0.16465490560198082,0.17396630934150076]
["Inyo",3.3333333333333333E-2,1.1627906976744186E-2,4.4164037854889593E-2,5.3571428571428568E-2,5.6105610561056105E-2,0.15286624203821655,0.16298342541436464,0.17142857142857143,0.12328767123287671,0.10344827586206896,0.10416666666666667,0.10101010101010101,0.11846689895470383,0.15107913669064749,0.12946428571428573,0.12830188679245283,0.13409961685823754,0.13973799126637554]
["Kern",5.8813433262772469E-2,5.8243987250072446E-2,5.1108739475868609E-2,5.4005866451946855E-2,6.2539737587422692E-2,0.22932330827067668,0.20930373605046093,0.20589021326634241,0.22732426303854875,0.20564926978376544,0.19932182490752157,0.17724852244133654,0.21138211382113822,0.17853206964954815,0.17792894085900607,0.19003336797768175,0.20463342121501094,0.19581220350073614]
["Kings",5.3656743844174938E-2,4.2413162705667279E-2,5.1730696082160514E-2,4.2800145085237579E-2,5.5414704817095255E-2,0.20239726027397259,0.20965309200603319,0.19881085098476403,0.23175803402646503,0.18094887826406766,0.18711385701676964,0.18359219434488253,0.21717557251908398,0.22533673097925008,0.19428123775949863,0.21535508637236084,0.23938223938223938,0.21431290445374954]
["Lake",1.8664752333094042E-2,1.8806744487678339E-2,1.758957654723127E-2,1.5257469802924348E-2,1.8978102189781021E-2,0.10647181628392484,0.11125827814569536,0.10588972431077694,0.1044776119402985,6.6127847171197643E-2,5.5905511811023621E-2,6.5741417092768442E-2,6.9538926681783825E-2,6.3514467184191958E-2,7.8906249999999997E-2,5.7192374350086658E-2,6.7579908675799091E-2,8.027522935779817E-2]
["Lassen",0.1417624521072797,0.11035653650254669,0.10363636363636364,5.5091819699499167E-2,9.8739495798319324E-2,0.16108786610878661,0.15450643776824036,0.15575221238938053,0.1396761133603239,0.10337078651685393,7.8624078624078622E-2,0.12017167381974249,8.7885985748218529E-2,6.8292682926829273E-2,7.4358974358974358E-2,8.4951456310679616E-2,6.3218390804597707E-2,5.2486187845303865E-2]
["Los Angeles",0.1128530370656428,0.12192351382052254,0.11781038190380271,0.10445225184974581,0.10741341355456846,0.11308609945731152,9.6210364695208481E-2,7.8040629186173369E-2,0.10418639893919303,0.10400724364778564,9.4577263310204218E-2,9.0515471902714847E-2,0.12181136074245623,8.2493158150390364E-2,8.1588576927811282E-2,7.9996042520914176E-2,{"$error":"#DIV/0!"},7.7562707144398033E-3]
["Madera",7.8665827564505977E-2,4.2492917847025496E-2,4.4848484848484846E-2,5.4254923820141208E-2,5.4307116104868915E-2,0.18673582808447572,0.17140468227424749,0.16583452211126962,0.17019167217448777,0.14079288625416822,0.1387421987518003,0.12515802781289506,0.1742665252739484,0.1455223880597015,0.14471847370870172,0.15462111257117828,0.17234775947912678,0.15370946246112838]
["Marin",6.8728522336769765E-2,4.9147442326980942E-2,4.6842105263157893E-2,3.7097654118930713E-2,4.1042345276872963E-2,0.16224814422057265,0.13230950974601299,0.14246119733924612,0.14048606994665086,0.14726027397260275,0.1334716459197787,0.13917525773195877,0.14642609299097847,0.17944147355912063,0.1807379612257661,0.16553006819590824,0.1646471846044191,0.1864406779661017]
["Mariposa",2.4793388429752067E-2,1.4598540145985401E-2,2.0080321285140562E-2,2.7972027972027972E-2,4.7058823529411764E-2,0.14134275618374559,0.16170212765957448,0.14864864864864866,9.3959731543624164E-2,9.2783505154639179E-2,8.1896551724137928E-2,0.14285714285714285,0.18215613382899629,0.1434108527131783,0.125,0.13333333333333333,0.11255411255411256,8.8028169014084501E-2]
["Mendocino",6.6298342541436461E-2,4.1310541310541307E-2,4.3456543456543456E-2,3.3825631252977606E-2,6.6522444564629524E-2,0.21585244267198406,0.1824468085106383,0.15960099750623441,0.1799265605875153,0.10679611650485436,0.10773480662983426,0.13666072489601902,0.17163684559310802,0.15024937655860349,0.15707821590174531,0.17562929061784896,0.18419195483415668,0.21376370280146162]
["Merced",6.5506101938262742E-2,4.9799056438930629E-2,5.086705202312139E-2,4.9267172876567192E-2,6.1653860226856934E-2,0.2035364212954065,0.17797484017323159,0.17021663935918441,0.20841086713807219,0.16489648964896489,0.14477898782831519,0.14247466054694971,0.17353951890034364,0.16986525112290732,0.1585619285120532,0.18818466353677621,0.200273544353263,0.18744769874476988]
["Modoc",7.4866310160427801E-2,3.2608695652173912E-2,2.5477707006369428E-2,4.9079754601226995E-2,8.1761006289308172E-2,0.22500000000000001,0.22,0.10752688172043011,0.2011173184357542,0.1276595744680851,0.16326530612244897,0.12751677852348994,0.176056338028169,0.21232876712328766,0.12030075187969924,0.22695035460992907,0.12244897959183673,0.14556962025316456]
["Mono",4.398826979472141E-2,2.903225806451613E-2,2.1276595744680851E-2,1.5463917525773196E-2,1.9230769230769232E-2,0.10734463276836158,1.8050541516245487E-2,4.8387096774193547E-2,1.5432098765432098E-2,2.2801302931596091E-2,9.166666666666666E-2,5.8823529411764705E-2,6.910569105691057E-2,5.0761421319796954E-2,2.3696682464454975E-2,9.7560975609756101E-2,5.027932960893855E-2,5.9322033898305086E-2]
["Monterey",1.9649915302089215E-2,2.2964169381107492E-2,2.6426426426426425E-2,2.4983454665784249E-2,3.7835459744830623E-2,0.16838487972508592,0.17910144338280137,0.24032807180439492,0.23423423423423423,0.13229338533073345,0.12596732588134135,0.20785867591216775,0.22831142568250759,0.15099540581929555,0.14263565891472868,0.2481536189069424,0.20545394808892783,0.15262475696694749]
["Napa",2.7365129007036748E-2,2.470059880239521E-2,2.6609442060085836E-2,2.5316455696202531E-2,3.6894696387394309E-2,0.11083540115798181,0.11512844909609896,0.13126491646778043,0.1199400299850075,8.8832487309644673E-2,9.9674972914409535E-2,9.3228655544651623E-2,0.11298315163528246,0.11029411764705882,0.10996916752312436,0.11022222222222222,0.10802775024777007,0.10357815442561205]
["Nevada",2.8265107212475632E-2,2.4232633279483037E-2,3.5450516986706058E-2,2.2393822393822392E-2,3.2939189189189186E-2,0.12910798122065728,0.12189440993788819,0.12642857142857142,0.12480974124809741,0.10138248847926268,8.8034188034188041E-2,0.10808510638297872,0.10425716768027801,0.1053082191780822,0.11121583411875589,7.29455216989843E-2,9.2227979274611405E-2,0.10957642725598526]
["Orange",0.11255047106325707,0.11618394413915631,0.10599208592425099,8.3418147655210204E-2,8.5532417165500377E-2,8.7114494571564519E-2,9.0236119974473519E-2,8.3179565107275949E-2,8.0945347119645489E-2,9.4332372718539864E-2,9.2676907365644018E-2,0.1106722341345973,0.1098924366900991,0.11194151760189495,0.10844651086912191,0.10691008880588482,0.10987165130502197,0.10741856912851422]
["Placer",0.11191335740072202,0.1053737616331432,0.10064935064935066,9.9547511312217188E-2,8.7219866747425809E-2,8.5953878406708595E-2,8.1310679611650491E-2,7.1488645920941965E-2,9.2307692307692313E-2,0.10032554010062149,9.8788443616029828E-2,9.7531965506987811E-2,0.1143312101910828,0.11799687010954617,0.11104,0.10658212560386474,9.5961339316534347E-2,0.10252043596730245]
["Plumas",3.8869257950530034E-2,5.2469135802469133E-2,2.6936026936026935E-2,2.1276595744680851E-2,3.0120481927710843E-2,0.17065868263473055,0.1717557251908397,0.13544668587896252,0.10277777777777777,5.6603773584905662E-2,7.3469387755102047E-2,9.1623036649214659E-2,8.0246913580246909E-2,7.5916230366492143E-2,0.11836734693877551,0.117096018735363,7.6271186440677971E-2,0.11411411411411411]
["Riverside",2.8753797526621046E-2,2.9175514726248731E-2,2.7289048473967684E-2,2.5659460531535106E-2,3.2706386524611629E-2,0.18241758241758241,0.1759853345554537,0.17173995631114067,0.19440452799202323,0.17361880870427629,0.1598360655737705,0.15554011438345181,0.17564495403775823,0.17026113865294137,0.16996497110864944,0.15384403795901527,0.17343881501430736,0.17666720752880091]
["Sacramento",0.12373617863442757,0.12394493157420307,0.10147637411865529,7.9866701613809113E-2,9.000216872695728E-2,9.4445172850836936E-2,9.6389574530393679E-2,8.604354383386828E-2,0.10077145612343298,9.9955413238214913E-2,9.7969376893474167E-2,0.10452295229522952,0.11754084643502004,0.12337770382695508,0.12193516537765345,0.11827829723438671,0.12620247366010079,0.12790697674418605]
["San Benito",3.7117903930131008E-2,3.1746031746031744E-2,2.8277634961439587E-2,3.8787878787878788E-2,4.3431053203040172E-2,0.17067307692307693,0.18833535844471447,0.18050941306755261,0.2073170731707317,0.1855421686746988,0.13414634146341464,0.12466843501326259,0.15865921787709497,0.13962765957446807,0.1203125,0.15635179153094461,0.18271954674220964,0.15946348733233978]
["San Bernardino",4.0016049217600644E-2,3.5703577853288024E-2,3.2863318470905102E-2,3.3436017358846944E-2,4.3750323214562757E-2,0.2177957482697889,0.21047769539321745,0.19157235117334867,0.21090348105202916,0.20042648919716924,0.19805219900548784,0.19376947040498443,0.21927636557271377,0.21677751781066801,0.21357305646999239,0.20797543068285426,0.23679801247977814,0.22998088360237892]
["San Diego",0.16156673786697134,0.17261889885787118,0.16987310683585755,0.15742236168150986,0.1691313502916475,0.11581208053691275,0.12039164205229187,0.11783093231856483,0.15225355922201186,0.14599663028349572,0.12199984857279862,0.14003544610792407,0.1515973092564647,0.13373576756968983,0.1278694450899889,0.13175041958732353,0.14085501656798305,0.13390631491483174]
["San Francisco",9.7730430754979156E-2,0.1079646017699115,0.11266992930940729,8.6370064179266834E-2,8.7230750922289657E-2,0.1028237147035662,0.11379897785349233,9.647979139504563E-2,0.10094195519348269,0.107943199467495,0.11697877652933833,0.13777936281502615,0.11973484325369424,0.11993879472693032,0.10325422069977978,0.11468881556491069,0.10197495804827675,0.10044278722908413]
["San Joaquin",5.3043399144754796E-2,4.8183184510653343E-2,4.9779239892649985E-2,4.7780701009929559E-2,5.6103801169590642E-2,0.19806719653179192,0.16848390446521289,0.18806932688432085,0.19079726651480639,0.14145670306991143,0.13278048780487806,0.13405114401076715,0.15459224069675376,0.16168540352801389,0.15223615361832363,0.16122895462760392,0.17954006393730021,0.1821992591148372]
["San Luis Obispo",0.10976804965697484,0.10842175066312998,8.6956521739130432E-2,6.4917591658257653E-2,7.5729589951976359E-2,6.5961199294532633E-2,7.2307692307692309E-2,6.607495069033531E-2,6.640625E-2,7.3834196891191708E-2,6.6972828166858012E-2,7.2720822986874781E-2,7.1722076951811736E-2,8.3808844507845939E-2,7.5728155339805828E-2,7.2791519434628971E-2,8.680282796543598E-2,7.7710386656557995E-2]
["San Mateo",7.2614991482112437E-2,8.8362474149276185E-2,9.976293954958515E-2,7.9970517781463052E-2,8.0856370816877993E-2,7.7142857142857138E-2,8.5031912703314796E-2,6.8520179372197315E-2,7.8224101479915431E-2,9.9618320610687025E-2,8.6536396821988409E-2,0.11266464032421479,9.2282275194713242E-2,9.5735785953177263E-2,9.298678019269549E-2,9.4157799638626777E-2,9.6322657176749704E-2,0.11359925355726615]
["Santa Barbara",0.15136054421768708,0.15056929721240675,0.10055595842397873,8.1916537867078823E-2,0.11153916712529811,9.8401494706248704E-2,9.1466289486091465E-2,8.9380011734793666E-2,9.7322348094747685E-2,9.7615651110658244E-2,7.7324714072600692E-2,8.6466964096027193E-2,9.0402821607573791E-2,8.6054631341137805E-2,8.5555297936471139E-2,7.0480081716036772E-2,7.3110720562390152E-2,9.7040905134899907E-2]
["Santa Clara",9.3470604172311025E-2,9.6296915489425733E-2,9.3864580787093616E-2,8.0637254901960789E-2,6.4749502622535718E-2,5.7128018696442483E-2,5.264005151320026E-2,3.9252618096888417E-2,4.3897118967554306E-2,4.360927429480204E-2,3.4328486621354209E-2,3.7358459376807998E-2,3.4380670423073252E-2,2.5130697973034945E-2,2.4763155426320231E-2,2.3369565217391305E-2,2.513386515134958E-2,2.3337692385071926E-2]
["Santa Cruz",0.11440573264146281,0.10868434737389496,5.7817842710599941E-2,4.8483045806067819E-2,5.459770114942529E-2,3.911707180776753E-2,6.51890482398957E-2,5.4669703872437359E-2,5.1315110881897885E-2,3.0320044918585063E-2,3.0167980802194034E-2,4.4436906377204884E-2,2.6300059772863121E-2,1.3157894736842105E-2,1.3805309734513275E-2,1.7588743204349215E-2,2.1175067104085895E-2,1.3591060102688009E-2]
["Shasta",2.643171806167401E-2,2.4610748367654443E-2,2.5769506084466716E-2,2.5283553875236293E-2,3.9347948285553679E-2,0.17839195979899497,0.1637285679787491,0.14907429670593894,0.15615792575132587,0.13020277481323372,0.12607204116638079,0.1355525965379494,0.16217044757817289,0.15979988228369629,0.14453929938180748,0.13927412215992918,0.15301085883514315,0.15805109922756982]
["Sierra",0,2.4390243902439025E-2,7.9365079365079361E-2,5.5555555555555552E-2,0,0.17857142857142858,9.7560975609756101E-2,0.16666666666666666,5.4054054054054057E-2,0.14893617021276595,6.6666666666666666E-2,5.2631578947368418E-2,6.1224489795918366E-2,0.10256410256410256,7.6923076923076927E-2,0,9.6774193548387094E-2,6.4516129032258063E-2]
["Siskiyou",2.463605823068309E-2,2.4249422632794459E-2,3.8686987104337635E-2,2.2727272727272728E-2,3.3880903490759756E-2,0.13426423200859292,0.13109048723897912,0.1141804788213628,0.15619223659889095,9.8752598752598758E-2,0.11990407673860912,0.14300960512273211,0.13950892857142858,0.15876777251184834,0.12200956937799043,0.11550468262226847,0.13547646383467279,0.14388489208633093]
["Solano",7.1501706484641644E-2,7.8631647211413747E-2,5.1844628636437511E-2,2.9760000000000002E-2,2.5304933551793193E-2,3.1417350946090682E-2,4.1260058209210748E-2,2.9802347127856701E-2,3.1452535264963784E-2,2.5566231983527796E-2,1.765921472853654E-2,2.3629148629148628E-2,1.8365662401981016E-2,1.3424087729249386E-2,1.2482095355023532E-2,1.3637212777881562E-2,1.420389461626575E-2,1.2908598792421403E-2]
["Sonoma",0.10525260625501202,0.10566429932444137,9.1873460882742938E-2,7.9811283664242186E-2,8.1119162640901771E-2,8.1636726546906194E-2,8.8111298482293418E-2,7.2712583316501711E-2,9.7134106322467731E-2,0.10759737755495564,0.10542995985632792,9.9382716049382716E-2,0.11725616291532691,0.10303729334871203,0.1015308419630797,9.4699350513303998E-2,0.12548571428571428,0.12745901639344262]
["Stanislaus",2.3653906006847185E-2,1.8205341465668608E-2,2.569152269268642E-2,2.1487310991245911E-2,3.7479740680713129E-2,0.19527272727272726,0.19901405879130912,0.19162586527097755,0.2108326293062987,0.17479970866715222,0.16012801982242411,0.1764092846991947,0.17848127892301219,0.17810965220006014,0.18538746908491344,0.1814690350456073,0.17193426042983564,0.18591465234258431]
["Sutter",4.7293447293447297E-2,3.5097813578826235E-2,4.7734138972809668E-2,3.4682080924855488E-2,4.7217537942664416E-2,0.18113425925925927,0.16329036218538981,0.18753478018920422,0.19954389965792474,0.16201117318435754,0.14956195244055068,0.18414918414918416,0.18655778894472361,0.18955873213175886,0.18029620090148099,0.19767441860465115,0.19401041666666666,0.17094017094017094]
["Tehama",5.1498847040737893E-2,4.2134831460674156E-2,4.8714479025710418E-2,5.8536585365853662E-2,9.9563953488372089E-2,0.18194945848375452,0.1471004243281471,0.14013521819299324,0.12293144208037825,0.11589895988112928,0.1133122028526149,0.11249030256012413,0.14632107023411373,0.14781297134238311,0.13842662632375188,0.15065334358186011,0.16711349419124219,0.15]
["Trinity",3.6866359447004608E-2,4.8275862068965517E-2,2.0833333333333332E-2,3.5608308605341248E-2,6.6147859922178989E-2,0.20866141732283464,0.16339869281045752,8.9743589743589744E-2,0.1115702479338843,8.4677419354838704E-2,4.4176706827309238E-2,0.12043795620437957,0.12017167381974249,0.1434108527131783,0.10204081632653061,0.10996563573883161,7.7981651376146793E-2,0.12863070539419086]
["Tulare",0.25424192665571976,0.23424506562468692,0.20861415332771693,0.16458053170580325,0.18154700678872659,0.17166182062178484,0.19120395821880154,0.17465921349416494,0.21552502256543979,0.18239970757561913,0.1675891078149214,0.21135584924131179,0.21512519161982627,0.20132719683185271,0.20630500167093685,0.19916590377377683,0.23154893886601205,0.21367884451996602]
["Tuolumne",4.1095890410958902E-2,3.8262668045501554E-2,3.9215686274509803E-2,0.04,3.5545023696682464E-2,0.16105263157894736,0.14763552479815456,0.16841004184100419,0.16608996539792387,0.11221122112211221,0.12250332889480692,0.13447432762836187,0.15880893300248139,0.14943820224719101,0.14066193853427897,0.115995115995116,0.16266666666666665,0.13325471698113209]
["Ventura",0.1232321017432299,0.12512820512820513,0.11081141829624634,9.2483234911420284E-2,8.8404255319148931E-2,0.10370687808013714,0.11135196805476326,9.8813860091528913E-2,0.12161572052401746,0.13201899256812552,0.11789838337182448,0.13777560019598237,0.13523641573900586,0.1354188759278897,0.13614280872217829,0.1463129145532579,0.1471355643788996,0.16058718861209964]
["Yolo",0.13634530052440499,0.13809910641754672,0.10209424083769633,9.9616858237547887E-2,0.11262376237623763,0.11555377848860456,0.11498547114985472,9.9105299380591885E-2,0.10648148148148148,0.11860869565217391,0.12013862148633038,0.10699457042478441,0.11428571428571428,0.11231252179979072,0.11098860712973171,9.2080452545568819E-2,8.3533173461231014E-2,9.4568190699491989E-2]
["Yuba",4.2577675489067893E-2,3.4062023385866801E-2,2.8475711892797319E-2,2.8322440087145968E-2,4.1736227045075125E-2,0.18692129629629631,0.16184971098265896,0.15026737967914439,0.1927437641723356,0.18702702702702703,0.16707021791767554,0.17283268912203203,0.20972836386607707,0.19124700239808154,0.17425149700598802,0.17526377491207504,0.22739018087855298,0.20111042566317089]
[]
[]
["Sum of pct_apps_from_churn_90d","Column Labels"]
[null,2011,2012,null,null,null,2013,null,null,null,2014,null,null,null,2015,null,null,null,2016]
["Row Labels",4,1,2,3,4,1,2,3,4,1,2,3,4,1,2,3,4,1]
["California",0.19211608327713359,0.19473881821952518,0.18309121793399044,0.1671994445675889,0.18311184004244954,0.22205693420785719,0.21764115310967982,0.20552569784953142,0.22410745774110738,0.20414350086109953,0.2004283694528266,0.2023835197522445,0.23410570784909099,0.21515531666026769,0.21216070516153573,0.21022925661923134,0.24921526540032476,0.1979727624481534]
["Alameda",0.1968295050145584,0.20490530891027631,0.17875808860129416,0.16147013782542113,0.18341264445955133,0.18394844756883422,0.20262083497958647,0.17743240120175641,0.18543092610699818,0.19441807480539205,0.19615731428175071,0.21169750699113465,0.22805561319775888,0.22361623616236162,0.19873555144006641,0.1965295874912604,0.20923219670610066,0.2085839810746874]
["Alpine",0.04,0,8.3333333333333329E-2,0.10526315789473684,8.6956521739130432E-2,0.1875,0.14285714285714285,0.21739130434782608,0.14814814814814814,0.2,0.10526315789473684,0.16,0.12,0.21052631578947367,6.25E-2,5.8823529411764705E-2,7.1428571428571425E-2,0]
["Amador",0.10472279260780287,0.10034602076124567,0.14181818181818182,0.14655172413793102,0.14041745730550284,0.25622775800711745,0.20643939393939395,0.2235494880546075,0.26381461675579321,0.20424836601307189,0.21555555555555556,0.22978723404255319,0.26255707762557079,0.22873345935727787,0.22319474835886213,0.23554603854389722,0.22270742358078602,0.24183006535947713]
["Butte",0.12468513853904283,0.11037891268533773,0.12260365581810076,0.11602094240837696,0.13233082706766916,0.21861117605798458,0.21056149732620322,0.20085037456975097,0.23870816756377253,0.21772805507745266,0.21210699202252464,0.20848911370134154,0.21370067014147431,0.21530994926097508,0.22229932916955819,0.2263998382858298,0.24149359257622624,0.223223867782786]
["Calaveras",0.14263565891472868,7.3654390934844188E-2,0.10320781032078104,0.10714285714285714,0.1409090909090909,0.19324324324324324,0.21654135338345865,0.18836915297092288,0.20671140939597316,0.18867924528301888,0.17197452229299362,0.18157181571815717,0.20458015267175572,0.20669577874818049,0.20211161387631976,0.18973561430793157,0.2063758389261745,0.21885521885521886]
["Colusa",0.18354430379746836,0.13114754098360656,0.13857677902621723,0.15354330708661418,0.13125000000000001,0.28476821192052981,0.19305019305019305,0.19927536231884058,0.23773584905660378,0.17454545454545456,0.12048192771084337,0.15207373271889402,0.23106060606060605,0.21777777777777776,0.21465968586387435,0.22966507177033493,0.18340611353711792,0.18636363636363637]
["Contra Costa",0.18599253204157837,0.18562371806824537,0.18364326024609123,0.1597706641184902,0.18005920913512372,0.20929100116867938,0.20419287211740042,0.17820773930753564,0.16310892172961139,0.16343207354443309,0.14420619931118764,0.15712978961276552,0.16822758136267854,0.16500635862653668,0.17125315206665936,0.15718349928876243,0.18517641487094483,0.17903494176372711]
["Del Norte",0.2342931937172775,0.13806970509383379,0.17588652482269504,0.18259629101283881,0.23672883787661406,0.33579881656804733,0.26487252124645894,0.25236167341430499,0.32739726027397259,0.24623115577889448,0.23423423423423423,0.25412541254125415,0.27482269503546097,0.22377622377622378,0.2711598746081505,0.19571865443425077,0.23966942148760331,0.22905982905982905]
["El Dorado",0.11302847282139776,0.12004899959167006,0.11508743391622611,0.130997079682937,0.12719119445576846,0.22436974789915967,0.21153030945315812,0.20744680851063829,0.21719457013574661,0.16758358019466779,0.1769041769041769,0.19,0.19296531509526135,0.19389238972370335,0.21826625386996903,0.20724346076458752,0.23035230352303523,0.19905956112852666]
["Fresno",0.32447649150533386,0.32219093933964676,0.28281019591320833,0.27190108844975164,0.29719675137542573,0.24710873481722556,0.27857801336713528,0.29427209958183409,0.25629230118443319,0.22742913321317385,0.22677785499189251,0.24519774011299436,0.27574874105486352,0.24362540565600371,0.25064495786275298,0.25068633256176992,0.28857367122673244,0.27190125150008571]
["Glenn",0.12424849699398798,0.12450592885375494,0.13552361396303902,0.1157684630738523,0.16767676767676767,0.28305785123966942,0.21113689095127611,0.25208333333333333,0.27835051546391754,0.20790020790020791,0.22047244094488189,0.1756440281030445,0.24590163934426229,0.22422680412371135,0.20558375634517767,0.16358839050131926,0.24,0.23741007194244604]
["Humboldt",0.1493032514930325,0.11489487710986082,0.12367061683378912,0.12445478336725792,0.13627700127064804,0.21432584269662922,0.18344334433443343,0.18061674008810572,0.1891891891891892,0.13197824219868309,0.13776722090261281,0.15124858115777526,0.17303433001107418,0.17298050139275767,0.1795968234575443,0.19000797236247674,0.19705014749262537,0.2250524423134552]
["Imperial",0.12586989409984872,0.1221001221001221,0.13605626183391939,0.12115999016957484,0.14859310780904206,0.27459016393442626,0.28029121164846593,0.23857753769975243,0.25901442307692307,0.24304958440813987,0.22153465346534654,0.20340935268371343,0.21759126185685543,0.2381643915190241,0.23459519204200055,0.21363299580143244,0.23831631073970908,0.26278713629402756]
["Inyo",0.15757575757575756,0.12790697674418605,0.17034700315457413,0.16071428571428573,0.15841584158415842,0.20382165605095542,0.24309392265193369,0.28285714285714286,0.2226027397260274,0.19540229885057472,0.16250000000000001,0.18855218855218855,0.21951219512195122,0.23381294964028776,0.24553571428571427,0.23773584905660378,0.23371647509578544,0.2183406113537118]
["Kern",0.19537730991475485,0.17450014488554041,0.15243685521166844,0.15868177373900041,0.17866019305242473,0.31003289473684209,0.29475982532751094,0.29290715698327008,0.32919501133786849,0.28393524283935245,0.28939580764488287,0.26484873310316576,0.30964496695326665,0.26212254793916684,0.26062514054418712,0.2701712160166293,0.30661356369551801,0.29232782594470802]
["Kings",0.17162807791253215,0.1360146252285192,0.15443134271586154,0.14435981138919116,0.1915972473741398,0.28424657534246578,0.29411764705882354,0.28911185432924563,0.33081285444234404,0.25524089738874584,0.27052074139452781,0.26602947033054558,0.31832061068702289,0.30069166363305422,0.27418723070896983,0.29021113243761998,0.34478764478764479,0.29996193376475067]
["Lake",8.82986360373295E-2,9.4682230869001294E-2,7.6221498371335503E-2,8.2644628099173556E-2,9.7080291970802923E-2,0.17536534446764093,0.17152317880794701,0.17293233082706766,0.17611940298507461,0.112417340191036,0.11653543307086614,0.13659605551497445,0.14814814814814814,0.1305575158786168,0.15234375,0.11842865395725015,0.13698630136986301,0.1743119266055046]
["Lassen",0.31417624521072796,0.26825127334465193,0.2781818181818182,0.17696160267111852,0.21218487394957983,0.2510460251046025,0.23390557939914164,0.23539823008849559,0.22267206477732793,0.18876404494382024,0.171990171990172,0.20171673819742489,0.14014251781472684,0.15365853658536585,0.14102564102564102,0.16019417475728157,0.16091954022988506,0.15745856353591159]
["Los Angeles",0.20103525357771457,0.22115154278295945,0.20925089147181317,0.17737928420083535,0.18226828675957915,0.19366015057347641,0.1786952239893918,0.15353330295120907,0.18344555614871963,0.17506550533257478,0.17512085237922984,0.15677161999922543,0.20996094584547545,0.15608894996860451,0.15224421740541388,0.14581111831763166,{"$error":"#DIV/0!"},3.3545135416053813E-2]
["Madera",0.21900566393958465,0.15757790368271954,0.13858585858585859,0.16053511705685619,0.19194756554307116,0.27751018895887364,0.25627090301003347,0.26569186875891582,0.26933245208195639,0.20674323823638385,0.22035525684109458,0.21786767804466919,0.28101802757158006,0.22388059701492538,0.22661703117729176,0.2588699080157687,0.28877824588280354,0.24922256774766771]
["Marin",0.13917525773195877,0.13490471414242727,0.12473684210526316,0.11783960720130933,0.11530944625407166,0.22163308589607636,0.1984642646190195,0.21286031042128603,0.2021339656194428,0.2117579908675799,0.20262793914246197,0.20747422680412372,0.22623178348369188,0.24777183600713013,0.25953721075672292,0.24550526968381897,0.25659301496792586,0.27809165097300692]
["Mariposa",0.1115702479338843,8.7591240875912413E-2,9.6385542168674704E-2,0.10139860139860139,0.14509803921568629,0.1872791519434629,0.24680851063829787,0.19932432432432431,0.1476510067114094,0.12371134020618557,0.13793103448275862,0.20463320463320464,0.26394052044609667,0.19767441860465115,0.19907407407407407,0.1875,0.18614718614718614,0.15140845070422534]
["Mendocino",0.18432948267202412,0.15622032288698956,0.15284715284715283,0.13244402096236302,0.18983234180638184,0.32203389830508472,0.28617021276595744,0.25735660847880298,0.26988984088127294,0.19053398058252427,0.15676795580110497,0.23232323232323232,0.29158383035122598,0.26807980049875313,0.27343244990303811,0.28718535469107553,0.29428369795342274,0.32825822168087698]
["Merced",0.18987796123474515,0.16162851651231872,0.14335260115606938,0.15557125198657956,0.19575557994877424,0.29579088987122815,0.26438440915652711,0.25578008374294559,0.30777819129140305,0.24122412241224123,0.21780909673286356,0.21897112258558041,0.28904161893852615,0.24173131890567578,0.23753117206982544,0.27053990610328638,0.31516217272372021,0.28974895397489542]
["Modoc",0.22459893048128343,0.1358695652173913,0.14012738853503184,0.11042944785276074,0.19496855345911951,0.34375,0.28000000000000003,0.18817204301075269,0.26256983240223464,0.1773049645390071,0.21088435374149661,0.16778523489932887,0.30281690140845069,0.26712328767123289,0.17293233082706766,0.28368794326241137,0.24489795918367346,0.20886075949367089]
["Mono",0.16422287390029325,0.12258064516129032,0.1702127659574468,0.14432989690721648,0.18461538461538463,0.14689265536723164,0.1444043321299639,0.15591397849462366,0.10802469135802469,4.5602605863192182E-2,0.20416666666666666,0.15686274509803921,0.13414634146341464,0.13705583756345177,0.13744075829383887,0.18699186991869918,0.13966480446927373,0.11864406779661017]
["Monterey",0.12173913043478261,0.10407166123778501,0.11771771771771772,0.1214427531436135,0.13682358117025956,0.22369497627229587,0.25005082333807682,0.32776230269266482,0.3487919737919738,0.19814009299535024,0.20120378331900257,0.29915799900941059,0.35247724974721939,0.23491577335375191,0.22131782945736433,0.34958148695224028,0.33457452633884571,0.24076474400518472]
["Napa",0.10711493354182955,9.3562874251497008E-2,8.2403433476394852E-2,9.1772151898734181E-2,0.10299769408147579,0.17948717948717949,0.18458610846812559,0.20684168655529037,0.19565217391304349,0.14720812182741116,0.16143011917659805,0.16584887144259078,0.18334985133795836,0.18290441176470587,0.16752312435765673,0.19466666666666665,0.19326065411298315,0.18173258003766479]
["Nevada",9.7465886939571145E-2,0.10096930533117932,0.1137370753323486,9.4208494208494212E-2,0.12922297297297297,0.20657276995305165,0.20885093167701863,0.19642857142857142,0.18645357686453576,0.17050691244239632,0.1641025641025641,0.18893617021276596,0.19200695047784536,0.17722602739726026,0.20452403393025448,0.15512465373961218,0.16891191709844561,0.18139963167587478]
["Orange",0.18493438761776582,0.19067884146593397,0.18271016716466124,0.16264777264542393,0.17140207402411264,0.17704052943466414,0.18132312273984258,0.17004956763992909,0.14910318632622915,0.16553314121037463,0.17331177396706524,0.18963247188052515,0.19780638604217837,0.19758229192191457,0.19911089359272402,0.18954148721271488,0.2026875699888018,0.20769516575155844]
["Placer",0.19396127338365607,0.19333533473431402,0.18122786304604485,0.18009049773755656,0.17474258025439127,0.16981132075471697,0.16231796116504854,0.14830389683207176,0.16106750392464678,0.17194436223734832,0.18359739049394222,0.16532857567647932,0.19490445859872613,0.19906103286384977,0.20127999999999999,0.19172705314009661,0.18467380048325854,0.19005449591280654]
["Plumas",0.11307420494699646,0.10802469135802469,0.1111111111111111,9.1185410334346503E-2,9.337349397590361E-2,0.22754491017964071,0.22137404580152673,0.19020172910662825,0.18333333333333332,0.1069182389937107,0.13469387755102041,0.14659685863874344,0.14506172839506173,0.1099476439790576,0.16734693877551021,0.19672131147540983,0.16384180790960451,0.1891891891891892]
["Riverside",0.11805321140332034,0.11842550703228388,0.11559176909266676,0.10955474018246728,0.12296887090054164,0.25789473684210529,0.25522873093908843,0.24681831133061069,0.27314584005396053,0.24765182894813606,0.24037776193870278,0.23026350954086269,0.25600474448947319,0.25561274432410241,0.25654920511361934,0.23163251272177143,0.25696010772597205,0.27275677429823136]
["Sacramento",0.19498343587316611,0.20433499959026469,0.17580148806045731,0.15475343542891376,0.17232704402515722,0.18146060049822998,0.1804794377274819,0.169921497351019,0.17322696589813272,0.17599610879169875,0.17227544419880456,0.17533003300330033,0.19698771304003171,0.21039933444259568,0.20725687016620042,0.20408726871030103,0.22139257901969767,0.22225660977982137]
["San Benito",0.17139737991266377,0.14391534391534391,0.11953727506426735,0.13333333333333333,0.15092290988056462,0.23677884615384615,0.26609963547995141,0.26688815060908083,0.30386178861788615,0.23855421686746989,0.24542682926829268,0.1870026525198939,0.28044692737430166,0.2327127659574468,0.21406249999999999,0.25244299674267101,0.27762039660056659,0.25931445603576753]
["San Bernardino",0.12970442690918818,0.12445032980211873,0.11753389312631556,0.11391181166100781,0.13272482804985261,0.28586312107756801,0.28450224869332685,0.26126990216765777,0.28701883599990047,0.26526690725031637,0.27227990621698916,0.265875868679607,0.29629214427846751,0.30021819711348879,0.29602430995188656,0.28753778972119581,0.32649641784146061,0.32710280373831774]
["San Diego",0.24742933783716656,0.27093694549271485,0.27003924779080685,0.25515666097549722,0.27584287339351843,0.22689932885906039,0.21956022317033147,0.21171967020023558,0.23472423713393495,0.22926281346909871,0.20483052772379678,0.22389347511776503,0.24191114407755071,0.22489693757361601,0.216799648823818,0.21976503109882514,0.23952957792384161,0.23332987120897383]
["San Francisco",0.19187123668364983,0.20551795939614784,0.2039151712887439,0.18307407810290438,0.19112221825538497,0.20530993362582967,0.21908006814310052,0.19947848761408082,0.18800916496945011,0.19303305968493453,0.19600499375780275,0.22075606276747503,0.20024858444966165,0.20056497175141244,0.19354049425006117,0.19387871202639664,0.1946559958693688,0.1846888837100909]
["San Joaquin",0.14366299699754345,0.12969675537087791,0.12414509566271319,0.13035729440719682,0.14638157894736842,0.25957369942196534,0.23641398407753547,0.2596533655783958,0.26824601366742595,0.20457476997162266,0.20565853658536584,0.20107671601615074,0.2328780680918448,0.23782104012430308,0.22874913614374567,0.24093978883287359,0.26998040631123027,0.2707155390914408]
["San Luis Obispo",0.19340084939562235,0.1942970822281167,0.1742784070149799,0.15573494786411032,0.15810860731437015,0.15026455026455027,0.16384615384615384,0.16272189349112426,0.14879261363636365,0.13698186528497408,0.13088404133180254,0.15750266051791414,0.16398954053044454,0.1601283880171184,0.15961165048543691,0.14664310954063603,0.17635506677140614,0.1683093252463988]
["San Mateo",0.13458262350936967,0.16544463244970858,0.16772026866851047,0.15754560530679934,0.16898773643733112,0.16361904761904761,0.17232859789993824,0.15372197309417041,0.14841437632135307,0.18377862595419847,0.1707107579987116,0.19878419452887539,0.18834080717488788,0.19377090301003344,0.18709388303831503,0.18490262999397711,0.20118623962040333,0.21600186610683461]
["Santa Barbara",0.26003401360544215,0.23085983510011779,0.17041334300217548,0.18591300507838374,0.22032654558796552,0.186838281087814,0.17421027817067422,0.19323293565421476,0.19292825266048746,0.17322192785816182,0.1419691695673794,0.16146165285744635,0.19138667161685538,0.17252002464571781,0.16879202411314631,0.15648621041879468,0.16344463971880491,0.18298520452567449]
["Santa Clara",0.17032421204732232,0.16960628604865,0.15864091909068687,0.147140522875817,0.14261168384879724,0.13572232320609365,0.13530264005151321,0.12725080991486476,0.12142143051894938,0.12614045367037749,0.11657919642088961,0.11562939085874865,0.14162926177060453,0.11987526368889297,0.11509239283369289,0.12038043478260869,0.12490438203475029,0.12785434060959661]
["Santa Cruz",0.22386953298739806,0.19396775871034841,0.12993472179048804,0.12284354550862582,0.17554858934169279,0.11623358480022353,0.14146023468057367,0.15062642369020501,0.15394533264569366,0.1120157215047726,9.1875214261227287E-2,0.11702849389416553,0.12223550508069336,7.8947368421052627E-2,7.7876106194690264E-2,9.0182283338663252E-2,0.11392782582761705,8.5170643310178193E-2]
["Shasta",0.12011747430249634,0.12405826217980914,0.11643999045573848,0.13090737240075614,0.14165261382799327,0.2613065326633166,0.24873219029219995,0.22577542678528492,0.24484384207424867,0.1905016008537887,0.19668381932532875,0.2141145139813582,0.24892703862660945,0.25014714537963506,0.22313806299676184,0.22425494246090291,0.24679170779861798,0.2581699346405229]
["Sierra",0.08,4.878048780487805E-2,0.12698412698412698,0.14814814814814814,0.16326530612244897,0.26785714285714285,0.12195121951219512,0.2857142857142857,0.16216216216216217,0.21276595744680851,0.1,0.18421052631578946,0.16326530612244897,0.12820512820512819,0.26923076923076922,0.11764705882352941,0.19354838709677419,0.16129032258064516]
["Siskiyou",0.10414333706606943,0.11893764434180139,0.13364595545134819,9.632034632034632E-2,0.12525667351129363,0.20085929108485501,0.20649651972157773,0.17219152854511971,0.23197781885397412,0.16008316008316009,0.18105515587529977,0.21558164354322304,0.2265625,0.23696682464454977,0.18421052631578946,0.15920915712799166,0.20780711825487944,0.22541966426858512]
["Solano",0.16279863481228668,0.18109597924773022,0.15342109540061757,0.13056000000000001,0.1363553613690151,0.15423063191717243,0.15802088683444615,0.14407041383570104,0.13229126953869616,0.12199725463280714,0.11346984783017096,0.10876623376623376,0.12628972348328518,0.1191151446398185,0.11561285041948026,0.10050439006164767,0.12623138602520045,0.12138246929002706]
["Sonoma",0.18504410585404971,0.18569201455049367,0.16953968554650503,0.1645370552388441,0.18015297906602254,0.17584830339321358,0.18802698145025296,0.17976166431024035,0.18004812951214177,0.19514076359429233,0.18930910627508979,0.18106995884773663,0.20557341907824223,0.18838908112264513,0.18887888338586223,0.17410433689503457,0.21645714285714285,0.22766393442622951]
["Stanislaus",0.13144517066085692,0.12891599667313558,0.12953182347148867,0.12759748872579363,0.15792139384116693,0.28709090909090906,0.2903049114478729,0.27384771230795207,0.32084858725241716,0.25591769847050255,0.25108403881891389,0.26328754144954997,0.28050063104753892,0.27192542848551671,0.27957543281121189,0.27690830532885263,0.28729456384323643,0.29006266786034018]
["Sutter",0.15726495726495726,0.12313003452243959,0.13293051359516617,0.13121387283236993,0.15064643057897695,0.24652777777777779,0.24309392265193369,0.26210350584307179,0.2856328392246294,0.20949720670391062,0.21151439299123906,0.24417249417249418,0.28203517587939697,0.26289620882535736,0.24339987121699935,0.26621787025703797,0.27864583333333331,0.24786324786324787]
["Tehama",0.14604150653343581,0.11587078651685394,0.12381596752368065,0.12613240418118468,0.20857558139534885,0.25270758122743681,0.20721357850070721,0.20651505838967424,0.19385342789598109,0.16344725111441308,0.17115689381933438,0.16989914662529093,0.23662207357859533,0.24057315233785823,0.21104387291981846,0.23597232897770945,0.26005361930294907,0.24918032786885247]
["Trinity",0.16129032258064516,0.12758620689655173,0.1076388888888889,0.12759643916913946,0.17898832684824903,0.26377952755905509,0.23202614379084968,0.17948717948717949,0.18181818181818182,0.14919354838709678,9.2369477911646583E-2,0.17518248175182483,0.18454935622317598,0.23255813953488372,0.17142857142857143,0.17525773195876287,0.14678899082568808,0.22821576763485477]
["Tulare",0.38149972632731255,0.35196874060715361,0.32455770850884585,0.2872659563463329,0.32606459576218882,0.2957951241333035,0.3273227047828477,0.30499166421496521,0.3359743255440778,0.27560997898199763,0.27197254815142796,0.32618697993147333,0.34133878385283595,0.30910842341860217,0.32081987300880027,0.31278608483368936,0.3519163763066202,0.32986406117247241]
["Tuolumne",0.13356164383561644,0.15098241985522234,0.1453287197231834,0.15783783783783784,0.14218009478672985,0.22736842105263158,0.23414071510957324,0.25836820083682011,0.25605536332179929,0.20792079207920791,0.20372836218375498,0.2139364303178484,0.23945409429280398,0.21460674157303372,0.23167848699763594,0.20512820512820512,0.25733333333333336,0.22287735849056603]
["Ventura",0.23199210612871396,0.23651282051282052,0.223308608676107,0.21529376438794914,0.20925531914893616,0.2303406899507178,0.23251568739304052,0.2279816942187354,0.22936681222707422,0.23286540049545829,0.21755196304849886,0.24723174914257717,0.24787832029097323,0.23626723223753976,0.23590554739577449,0.25799843932891142,0.25501985252410664,0.2745774021352313]
["Yolo",0.22025010084711577,0.22502030869212022,0.16828721017202691,0.18352490421455939,0.2136963696369637,0.21951219512195122,0.19800747198007471,0.18719889883000687,0.19174382716049382,0.18817391304347827,0.20177127454755486,0.17981475566911531,0.19025210084033614,0.17823508894314616,0.19110621095185593,0.16970458830923948,0.17665867306155075,0.17936694021101993]
["Yuba",0.15247410817031071,0.13014743263853584,0.11669458403126745,0.11873638344226579,0.13633834168057873,0.25520833333333331,0.23005780346820809,0.24064171122994651,0.28061224489795916,0.25675675675675674,0.2360774818401937,0.23302043070127001,0.29500947567909036,0.25359712230215825,0.24251497005988024,0.23681125439624853,0.30813953488372092,0.28809376927822333]

{"sheet":"tbl_data_dashboard","index":8,"n_rows":886,"n_cols":92,"rows_kept":886,"cut":false,"hidden":true,"merged":[]}
["county","qtr_calfresh_hh_ly","qtr_calfresh_hh_prev_qtr","qtr_calfresh_hh_curr_qtr","qtr_calfresh_pers_ly","qtr_calfresh_pers_prev_qtr","qtr_calfresh_pers_curr_qtr","qtr_medical_rcv_calfresh_ly","qtr_medical_rcv_calfresh_prev_qtr","qtr_medical_rcv_calfresh_curr_qtr","qtr_calfresh_rcv_medical_ly","qtr_calfresh_rcv_medical_prev_qtr","qtr_calfresh_rcv_medical_curr_qtr","qtr_pct_calfresh_rcv_medical_ly","qtr_pct_calfresh_rcv_medical_prev_qtr","qtr_pct_calfresh_rcv_medical_curr_qtr","qtr_timeliness_30d_ly","qtr_timeliness_30d_prev_qtr","qtr_timeliness_30d_curr_qtr","qtr_timeliness_exp_ly","qtr_timeliness_exp_prev_qtr","qtr_timeliness_exp_curr_qtr","qtr_active_err_rt_ly","qtr_active_err_rt_prev_qtr","qtr_active_err_rt_curr_qtr","qtr_30d_churn_reapps_ly","qtr_30d_churn_reapps_prev_qtr","qtr_30d_churn_reapps_curr_qtr","qtr_90d_churn_reapps_ly","qtr_90d_churn_reapps_prev_qtr","qtr_90d_churn_reapps_curr_qtr","qtr_30d_churn_recerts_ly","qtr_30d_churn_recerts_prev_qtr","qtr_30d_churn_recerts_curr_qtr","qtr_90d_churn_recerts_ly","qtr_90d_churn_recerts_prev_qtr","qtr_90d_churn_recerts_curr_qtr","ann_hh_2yr_prior","ann_hh_1yr_prior","ann_hh_yr_of_report","ann_pers_2yr_prior","ann_pers_1yr_prior","ann_pers_yr_of_report","ann_elderly_2yr_prior","ann_elderly_1yr_prior","ann_elderly_yr_of_report","ann_children_2yr_prior","ann_children_1yr_prior","ann_children_yr_of_report","ann_child_only_hh_2yr_prior","ann_child_only_hh_1yr_prior","ann_child_only_hh_yr_of_report","ann_child_only_pers_2yr_prior","ann_child_only_pers_1yr_prior","ann_child_only_pers_yr_of_report","ann_esl_2yr_prior","ann_esl_1yr_prior","ann_esl_yr_of_report","ann_tot_pop_2yr_prior","ann_tot_pop_1yr_prior","ann_tot_pop_yr_of_report","ann_elderly_over60_2yr_prior","ann_elderly_over60_1yr_prior","ann_elderly_over60_yr_of_report","ann_children_less18_2yr_prior","ann_children_less18_1yr_prior","ann_children_less18_yr_of_report","ann_tot_pop_greater5_2yr_prior","ann_tot_pop_greater5_1yr_prior","ann_tot_pop_greater5_yr_of_report","ann_tot_esl_greater5_2yr_prior","ann_tot_esl_greater5_1yr_prior","ann_tot_esl_greater5_yr_of_report","ann_medical_2yr_prior","ann_medical_1yr_prior","ann_medical_yr_of_report","ann_ssi_rcpt_2yr_prior","ann_ssi_rcpt_1yr_prior","ann_ssi_rcpt_yr_of_report","ann_unempl_pct_2yr_prior","ann_unempl_pct_1yr_prior","ann_unempl_pct_yr_of_report","ann_calfresh_eligibles_2yr_prior","ann_calfresh_eligibles_1yr_prior","ann_calfresh_eligibles_yr_of_report","ann_eligibles_excl_undocs_ssi_2yr_prior","ann_eligibles_excl_undocs_ssi_1yr_prior","ann_eligibles_excl_undocs_ssi_yr_of_report","year","quarter","month","date"]
["Alameda",58805,62045,63121,120874,124622,126571,0.36099999999999999,0.36699999999999999,0.36099999999999999,96974,98451,98269,0.77300000000000002,0.75600000000000001,0.75600000000000001,0.84399999999999997,0.91100000000000003,0.92700000000000005,0.871,0.877,0.85499999999999998,1.4E-2,1.6E-2,4.5999999999999999E-2,0.12,7.8E-2,8.5000000000000006E-2,0.19700000000000001,0.16200000000000001,0.183,3.1E-2,4.2999999999999997E-2,4.4999999999999998E-2,6.2E-2,8.2000000000000003E-2,9.4E-2,48687,56312,62045,102447,116353,124622,3736,4838,5848,55478,60943,61164,9561,10808,11499,0,0,0,29796,34800,36077,1513236,1526220,1540790,248319,256848,265903,340923,341530,343820,0,0,0,138614,140068,134661,243352,250554,253472,47224,48001,48146,0.113,0.104,0.09,217269,220935,220282,0.47199999999999998,0.52500000000000002,0.56499999999999995,2012,4,"DEC","2012-12-01"]
["Alpine",77,84,80,144,147,137,0.49199999999999999,0.45,0.49199999999999999,128,121,123,0.90800000000000003,0.81200000000000006,0.879,1,1,1,1,1,0.93799999999999994,5.0999999999999997E-2,5.5E-2,4.7E-2,0,5.2999999999999999E-2,0,0.04,0.105,8.6999999999999994E-2,0.12,0.105,8.6999999999999994E-2,0.12,0.105,8.6999999999999994E-2,71,78,84,143,144,147,7,13,9,62,46,53,6,2,2,0,0,0,0,0,0,1163,1118,1127,273,276,293,256,239,245,0,0,0,24,21,24,212,193,201,43,44,41,0.154,0.14799999999999999,0.13300000000000001,144,209,195,0.01,0.72099999999999997,0.749,2012,4,"DEC","2012-12-01"]
["Amador",1552,1717,1733,3032,3287,3340,0.47499999999999998,0.48399999999999999,0.47499999999999998,2633,2704,2748,0.85699999999999998,0.82299999999999995,0.82199999999999995,0.77400000000000002,0.95599999999999996,0.97299999999999998,0.89300000000000002,0.92800000000000005,0.93600000000000005,5.0999999999999997E-2,5.5E-2,4.7E-2,2.9000000000000001E-2,3.3000000000000002E-2,2.9000000000000001E-2,0.105,0.14699999999999999,0.14000000000000001,0.16800000000000001,0.152,0.19900000000000001,0.17299999999999999,0.17100000000000001,0.22800000000000001,1243,1485,1717,2558,2906,3287,96,133,182,1038,1175,1230,57,60,61,0,0,0,71,85,81,37853,37288,36899,11273,11475,11711,6310,6120,6009,0,0,0,450,458,507,4242,4505,4522,586,628,654,0.13300000000000001,0.128,0.11799999999999999,3324,4098,4237,0.75700000000000001,0.70299999999999996,0.76700000000000002,2012,4,"DEC","2012-12-01"]
["Butte",13233,13988,14325,28120,29226,29899,0.41499999999999998,0.438,0.41499999999999998,24964,26227,26485,0.877,0.87,0.86799999999999999,0.82699999999999996,0.89500000000000002,0.91600000000000004,0.93600000000000005,0.94899999999999995,0.95499999999999996,5.0999999999999997E-2,5.5E-2,4.7E-2,3.5000000000000003E-2,3.5999999999999997E-2,3.7999999999999999E-2,0.125,0.11600000000000001,0.13200000000000001,0.26500000000000001,0.247,0.27800000000000002,0.27,0.26400000000000001,0.29899999999999999,11643,12883,13988,25150,27531,29226,470,697,842,11479,12820,12905,1282,1166,1187,0,0,0,3022,3175,2929,219990,220521,221118,47578,48592,49667,46333,46265,45992,0,0,0,6134,5007,5475,52094,52008,51266,10460,10702,10828,0.13900000000000001,0.13600000000000001,0.122,47979,61543,56950,0.51600000000000001,0.443,0.51200000000000001,2012,4,"DEC","2012-12-01"]
["Calaveras",2354,2522,2491,4774,4998,4951,0.48399999999999999,0.498,0.48399999999999999,3991,4144,4048,0.82799999999999996,0.81899999999999995,0.82499999999999996,0.99199999999999999,1,0.98699999999999999,0.98,0.99199999999999999,0.98799999999999999,5.0999999999999997E-2,5.5E-2,4.7E-2,3.3000000000000002E-2,2.8000000000000001E-2,3.3000000000000002E-2,0.14299999999999999,0.107,0.14099999999999999,0.16400000000000001,0.20899999999999999,0.20599999999999999,0.17499999999999999,0.23400000000000001,0.23499999999999999,1964,2309,2522,4167,4736,4998,138,219,278,1692,1877,1881,54,58,66,0,0,0,125,123,148,45462,45143,45045,13822,14097,14458,8888,8594,8280,0,0,0,465,510,559,6574,6701,6850,995,1005,1023,0.153,0.14599999999999999,0.13,5161,4923,5990,0.80600000000000005,0.95499999999999996,0.83099999999999996,2012,4,"DEC","2012-12-01"]
["California",1735465,1843348,1887860,3905210,4074650,4147355,0.40100000000000002,0.41499999999999998,0.40100000000000002,3136587,3205731,3223285,0.82799999999999996,0.81599999999999995,0.81599999999999995,0.95799999999999996,0.97699999999999998,0.97699999999999998,0.92300000000000004,0.94199999999999995,0.93899999999999995,3.6999999999999998E-2,3.5999999999999997E-2,3.2000000000000001E-2,0.1,8.2000000000000003E-2,8.8999999999999996E-2,0.192,0.16700000000000001,0.183,6.5000000000000002E-2,8.5999999999999993E-2,9.0999999999999998E-2,8.5000000000000006E-2,0.109,0.11600000000000001,1476323,1684027,1843348,3413636,3813817,4074650,86703,115078,141407,1957593,2138572,2184693,332977,356627,372370,0,0,0,1103257,1226258,1268115,37309382,37570307,37826160,6126283,6313717,6506534,9270132,9214425,9170526,0,0,0,3849542,3841701,3775905,7397966,7594872,7619341,1148055,1165670,1176286,0.124,0.11799999999999999,0.105,6356460,6883374,7121280,0.50900000000000001,0.55200000000000005,0.56999999999999995,2012,4,"DEC","2012-12-01"]
["Colusa",654,701,648,1628,1728,1600,0.27,0.28499999999999998,0.27,1489,1547,1496,0.90600000000000003,0.89500000000000002,0.90200000000000002,1,0.93799999999999994,1,1,1,1,5.0999999999999997E-2,5.5E-2,4.7E-2,7.2999999999999995E-2,4.2999999999999997E-2,4.1000000000000002E-2,0.184,0.154,0.13100000000000001,9.5000000000000001E-2,0.16900000000000001,0.10299999999999999,0.10100000000000001,0.189,0.113,580,673,701,1551,1716,1728,26,44,39,995,1083,1055,78,87,108,0,0,0,561,590,598,21478,21502,21614,3582,3687,3794,6394,6264,6173,0,0,0,3556,3215,3235,4645,4710,4695,561,541,556,0.20200000000000001,0.20499999999999999,0.2,4315,4441,4435,0.379,0.38,0.38900000000000001,2012,4,"DEC","2012-12-01"]
["Contra Costa",31361,32977,33886,66920,68789,70227,0.35,0.35599999999999998,0.35,52959,53398,53817,0.77,0.751,0.747,0.86499999999999999,0.96499999999999997,0.94099999999999995,0.83099999999999996,0.84599999999999997,0.875,4.8000000000000001E-2,3.5999999999999997E-2,6.0000000000000001E-3,0.113,8.7999999999999995E-2,0.104,0.186,0.16,0.18,5.5E-2,3.4000000000000002E-2,4.7E-2,8.8999999999999996E-2,5.7000000000000002E-2,0.09,26630,30338,32977,57853,64763,68789,1542,1979,2515,31677,35431,35507,5493,6233,6651,0,0,0,12415,14843,15201,1052211,1061375,1069803,192112,198717,205603,260258,258003,255890,0,0,0,68158,62372,66528,137511,141199,143428,22753,23292,23603,0.111,0.104,0.09,118316,149672,135137,0.48499999999999999,0.432,0.50700000000000001,2012,4,"DEC","2012-12-01"]
["Del Norte",2470,2629,2566,5203,5445,5247,0.48399999999999999,0.50600000000000001,0.48399999999999999,4612,4826,4637,0.88800000000000001,0.88300000000000001,0.878,1,1,1,0.99,0.98799999999999999,0.97799999999999998,5.0999999999999997E-2,5.5E-2,4.7E-2,6.7000000000000004E-2,6.6000000000000003E-2,7.8E-2,0.23400000000000001,0.183,0.23699999999999999,0.126,0.23,0.25,0.13100000000000001,0.26300000000000001,0.28100000000000003,2422,2525,2629,5101,5328,5445,86,122,157,2182,2398,2343,193,160,173,0,0,0,332,333,285,28544,28498,28359,5621,5761,5913,6077,5949,5778,0,0,0,614,577,549,8333,8219,8091,1941,1936,1869,0.13100000000000001,0.13100000000000001,0.13400000000000001,5762,5502,5696,0.85899999999999999,0.95399999999999996,0.94399999999999995,2012,4,"DEC","2012-12-01"]
["El Dorado",5730,6081,6224,11284,11620,11772,0.40600000000000003,0.42099999999999999,0.40600000000000003,9391,9820,9730,0.81799999999999995,0.81299999999999994,0.80400000000000005,1,1,1,0.92600000000000005,0.95899999999999996,0.97299999999999998,5.0999999999999997E-2,5.5E-2,4.7E-2,2.8000000000000001E-2,3.2000000000000001E-2,3.7999999999999999E-2,0.113,0.13100000000000001,0.127,0.11799999999999999,0.157,0.17399999999999999,0.122,0.17299999999999999,0.19600000000000001,4717,5602,6081,9642,11204,11620,354,481,581,4382,4898,4822,315,358,402,0,0,0,762,850,864,180921,180663,180599,39740,41293,42806,41107,40109,39168,0,0,0,3291,3350,3301,18649,19110,19049,2688,2777,2818,0.125,0.11899999999999999,0.104,20021,25383,19223,0.47299999999999998,0.435,0.60599999999999998,2012,4,"DEC","2012-12-01"]
["Fresno",85718,88850,89468,208200,215016,215286,0.52900000000000003,0.53500000000000003,0.52900000000000003,172574,175421,174945,0.80100000000000005,0.79800000000000004,0.79400000000000004,1,0.96799999999999997,0.98399999999999999,0.95199999999999996,0.97299999999999998,0.97,1.7999999999999999E-2,1.4999999999999999E-2,0,0.20399999999999999,0.157,0.16,0.32500000000000001,0.27200000000000002,0.29699999999999999,7.2999999999999995E-2,9.2999999999999999E-2,7.1999999999999995E-2,0.12,0.14899999999999999,0.114,77767,84399,88850,193940,206749,215016,2885,3822,4650,114569,119928,122558,14973,15136,15452,0,0,0,58297,60894,61549,932377,939278,946823,134523,138663,143086,277020,276363,275524,0,0,0,107585,112468,115573,307147,313221,316699,39199,39741,40171,0.16900000000000001,0.16500000000000001,0.152,245948,261012,283513,0.78300000000000003,0.78900000000000003,0.75800000000000001,2012,4,"DEC","2012-12-01"]
["Glenn",1298,1389,1392,3253,3419,3436,0.376,0.39100000000000001,0.376,3023,3167,3130,0.89700000000000002,0.90400000000000003,0.90600000000000003,1,1,1,0.99099999999999999,0.98199999999999998,0.99199999999999999,5.0999999999999997E-2,5.5E-2,4.7E-2,0.02,2.4E-2,5.2999999999999999E-2,0.124,0.11600000000000001,0.16800000000000001,0.126,0.112,0.19,0.126,0.124,0.21,1183,1323,1389,3115,3422,3419,46,63,87,1843,1955,1908,230,219,231,0,0,0,700,744,769,28143,28255,28208,5203,5356,5499,7836,7776,7657,0,0,0,2406,2387,2433,7211,7202,7157,1112,1118,1128,0.159,0.158,0.14699999999999999,5465,6094,6413,0.56599999999999995,0.54400000000000004,0.53700000000000003,2012,4,"DEC","2012-12-01"]
["Humboldt",7822,8114,8197,14973,15495,15547,0.39900000000000002,0.41599999999999998,0.39900000000000002,12665,13354,13296,0.83,0.83699999999999997,0.83,0.93899999999999995,0.97899999999999998,0.98799999999999999,0.89600000000000002,0.94399999999999995,0.89700000000000002,5.0999999999999997E-2,5.5E-2,4.7E-2,4.4999999999999998E-2,3.5000000000000003E-2,4.7E-2,0.14899999999999999,0.125,0.13600000000000001,0.124,0.184,0.23799999999999999,0.128,0.20699999999999999,0.27,7065,7731,8114,13832,14836,15495,307,422,496,6083,6696,6496,622,657,685,0,0,0,777,843,807,134663,135218,134923,26929,27992,29078,27047,26890,26337,0,0,0,2447,2150,2104,27359,27304,27113,5846,5830,5740,0.114,0.114,0.105,28035,29447,32857,0.49399999999999999,0.5,0.46700000000000003,2012,4,"DEC","2012-12-01"]
["Imperial",13711,14037,14563,35463,36091,37524,0.498,0.503,0.498,32599,32919,33980,0.89800000000000002,0.89100000000000001,0.89200000000000002,1,1,0.998,0.99099999999999999,0.98399999999999999,0.98799999999999999,5.0999999999999997E-2,5.5E-2,4.7E-2,3.9E-2,3.4000000000000002E-2,6.2E-2,0.126,0.121,0.14899999999999999,0.11,0.16800000000000001,0.16500000000000001,0.11600000000000001,0.186,0.182,11948,13153,14037,32185,34438,36091,1032,1259,1456,16828,18301,18176,811,891,994,0,0,0,15637,17336,17886,175389,177229,178659,25787,26621,27470,51148,51037,50932,0,0,0,31401,31970,32769,56998,58086,58377,10065,10249,10349,0.29899999999999999,0.29699999999999999,0.28299999999999997,45051,52830,44744,0.70699999999999996,0.65100000000000002,0.80800000000000005,2012,4,"DEC","2012-12-01"]
["Inyo",886,957,974,1838,1951,1967,0.371,0.39100000000000001,0.371,1621,1733,1722,0.871,0.88500000000000001,0.88,0.98599999999999999,1,0.98299999999999998,0.99099999999999999,0.99299999999999999,0.99,5.0999999999999997E-2,5.5E-2,4.7E-2,3.3000000000000002E-2,5.3999999999999999E-2,5.6000000000000001E-2,0.158,0.161,0.158,7.2999999999999995E-2,0.125,0.20799999999999999,7.9000000000000001E-2,0.128,0.221,788,869,957,1619,1813,1951,76,92,105,735,866,879,81,91,105,0,0,0,237,267,316,18528,18687,18637,4894,5025,5121,3850,3816,3727,0,0,0,648,454,490,3383,3541,3534,388,390,396,0.1,9.9000000000000005E-2,9.4E-2,2490,2628,2515,0.65900000000000003,0.68799999999999994,0.77700000000000002,2012,4,"DEC","2012-12-01"]
["Kern",53918,57915,58235,134045,140798,140403,0.46100000000000002,0.47099999999999997,0.46100000000000002,114857,117648,116475,0.83899999999999997,0.81399999999999995,0.81100000000000005,0.98699999999999999,0.98899999999999999,0.98599999999999999,0.98199999999999998,0.95099999999999996,0.96299999999999997,3.1E-2,3.2000000000000001E-2,4.0000000000000001E-3,5.8999999999999997E-2,5.3999999999999999E-2,6.3E-2,0.19500000000000001,0.159,0.17899999999999999,0.10199999999999999,0.157,0.17299999999999999,0.111,0.182,0.20100000000000001,48963,53773,57915,126010,134833,140798,2133,2783,3379,77838,81944,82189,11285,11845,11952,0,0,0,35177,37108,37887,841146,848839,855522,110499,114797,119415,253432,252109,251296,0,0,0,92352,84185,85452,232379,239601,240099,30257,30734,31095,0.159,0.14899999999999999,0.13300000000000001,209992,213705,213671,0.59599999999999997,0.626,0.65400000000000003,2012,4,"DEC","2012-12-01"]
["Kings",9200,9624,9527,22197,22949,22594,0.49099999999999999,0.50800000000000001,0.49099999999999999,20037,20596,20493,0.89200000000000002,0.88600000000000001,0.88600000000000001,1,0.996,0.99299999999999999,0.91100000000000003,0.88200000000000001,0.90800000000000003,5.0999999999999997E-2,5.5E-2,4.7E-2,5.3999999999999999E-2,4.2999999999999997E-2,5.5E-2,0.17199999999999999,0.14399999999999999,0.192,0.10199999999999999,0.14499999999999999,0.16800000000000001,0.109,0.16400000000000001,0.189,8383,9036,9624,20774,22067,22949,396,448,563,11804,12407,12535,1468,1524,1554,0,0,0,5006,5421,5625,152656,151655,150843,17702,18146,18666,42241,41508,40866,0,0,0,17173,14643,14061,35073,36327,36030,4731,4723,4729,0.16500000000000001,0.16200000000000001,0.153,35697,28208,33431,0.57199999999999995,0.78300000000000003,0.68600000000000005,2012,4,"DEC","2012-12-01"]
["Lake",4835,5041,5076,9863,10039,10118,0.41,0.42,0.41,8599,8709,8755,0.86799999999999999,0.85199999999999998,0.85399999999999998,0.97,0.95499999999999996,0.98299999999999998,0.97099999999999997,0.94,0.95499999999999996,5.0999999999999997E-2,5.5E-2,4.7E-2,1.9E-2,1.4999999999999999E-2,1.9E-2,8.7999999999999995E-2,8.3000000000000004E-2,9.7000000000000003E-2,0.24299999999999999,0.25600000000000001,0.27700000000000002,0.254,0.27800000000000002,0.29899999999999999,3953,4751,5041,8413,9789,10039,287,382,477,3889,4333,4340,203,232,256,0,0,0,700,789,790,64599,64419,64394,16592,16938,17355,13568,13319,13100,0,0,0,2327,1826,1920,17506,18109,17709,3585,3653,3701,0.17699999999999999,0.16800000000000001,0.15,17289,17844,19370,0.48499999999999999,0.52,0.52300000000000002,2012,4,"DEC","2012-12-01"]
["Lassen",1395,1386,1408,2980,2933,2956,0.45100000000000001,0.47499999999999998,0.45100000000000001,2658,2716,2633,0.88700000000000001,0.90100000000000002,0.88300000000000001,0.94899999999999995,0.95699999999999996,0.97799999999999998,0.97499999999999998,0.93,0.90100000000000002,5.0999999999999997E-2,5.5E-2,4.7E-2,0.14199999999999999,5.5E-2,9.9000000000000005E-2,0.314,0.17699999999999999,0.21199999999999999,0.182,0.159,0.17199999999999999,0.19,0.17399999999999999,0.187,1351,1402,1386,3010,3018,2933,58,61,81,1335,1342,1284,82,78,87,0,0,0,65,74,70,35136,34668,33650,5403,5526,5593,6327,6095,5682,0,0,0,771,745,704,5067,5145,4859,944,928,930,0.14000000000000001,0.13400000000000001,0.126,3896,4149,4471,0.74099999999999999,0.71699999999999997,0.65800000000000003,2012,4,"DEC","2012-12-01"]
["Los Angeles",492506,516984,538221,1055754,1093422,1124832,0.33500000000000002,0.34399999999999997,0.33500000000000002,849540,865215,874210,0.79200000000000004,0.77800000000000002,0.76800000000000002,0.96799999999999997,0.97699999999999998,0.97199999999999998,0.91400000000000003,0.95899999999999996,0.94899999999999995,3.3000000000000002E-2,3.6999999999999998E-2,2.4E-2,0.113,0.105,0.107,0.20100000000000001,0.17699999999999999,0.182,0.67,0.01,0.01,0.02,0.28999999999999998,0.36,426713,478664,516984,928981,1027412,1093422,23188,30250,36571,545520,589565,599556,113467,119837,124537,0,0,0,378985,413819,423844,9824906,9860836,9911665,1531382,1574823,1620299,2387311,2357593,2341123,0,0,0,1428149,1413525,1372113,2382451,2418773,2410140,377574,382816,385131,0.126,0.123,0.109,1946279,1963598,2021648,0.47399999999999998,0.52100000000000002,0.53900000000000003,2012,4,"DEC","2012-12-01"]
["Madera",10012,10437,10184,25548,26670,25845,0.47399999999999998,0.49099999999999999,0.47399999999999998,23703,24539,23623,0.91300000000000003,0.9,0.9,0.96399999999999997,0.99099999999999999,0.98499999999999999,0.98099999999999998,0.99199999999999999,0.98499999999999999,5.0999999999999997E-2,5.5E-2,4.7E-2,7.9000000000000001E-2,5.3999999999999999E-2,5.3999999999999999E-2,0.219,0.161,0.192,0.13700000000000001,0.18,0.20599999999999999,0.152,0.215,0.23699999999999999,8763,10006,10437,23059,25675,26670,345,467,534,14788,16252,16732,2933,3162,3223,0,0,0,8899,9919,10100,151328,152008,151790,24643,25106,25433,42897,42605,42036,0,0,0,18725,19401,20218,43342,45597,45875,4438,4466,4441,0.156,0.151,0.13600000000000001,33115,33539,38099,0.68300000000000005,0.75700000000000001,0.69299999999999995,2012,4,"DEC","2012-12-01"]
["Marin",5335,5541,5639,8995,9408,9538,0.30299999999999999,0.32100000000000001,0.30299999999999999,7963,8425,8290,0.872,0.873,0.86699999999999999,0.997,0.99399999999999999,0.97099999999999997,0.97499999999999998,0.94399999999999995,0.94599999999999995,5.0999999999999997E-2,5.5E-2,4.7E-2,6.9000000000000006E-2,3.6999999999999998E-2,4.1000000000000002E-2,0.13900000000000001,0.11799999999999999,0.115,0.05,0.13800000000000001,0.17499999999999999,5.3999999999999999E-2,0.16,0.19,4610,5241,5541,7873,8890,9408,490,659,758,3791,4267,4358,1032,1168,1245,0,0,0,2251,2668,2958,252731,254359,254882,61646,63398,65062,52051,51983,51763,0,0,0,9990,8250,11689,22210,22986,22611,3139,3120,3102,0.08,7.3999999999999996E-2,6.3E-2,25284,28284,20101,0.307,0.311,0.46300000000000002,2012,4,"DEC","2012-12-01"]
["Mariposa",804,875,851,1704,1804,1746,0.44500000000000001,0.45700000000000002,0.44500000000000001,1478,1565,1538,0.875,0.85799999999999998,0.86099999999999999,0.83,1,0.873,0.98799999999999999,0.98899999999999999,0.96299999999999997,5.0999999999999997E-2,5.5E-2,4.7E-2,2.5000000000000001E-2,2.8000000000000001E-2,4.7E-2,0.112,0.10100000000000001,0.14499999999999999,0.13200000000000001,0.154,0.18,0.13600000000000001,0.17799999999999999,0.19600000000000001,642,796,875,1442,1730,1804,56,77,83,644,727,709,31,39,41,0,0,0,23,42,47,18193,17977,17817,5453,5580,5675,3222,3136,3056,0,0,0,200,331,155,2752,2868,2854,466,450,460,0.11899999999999999,0.11899999999999999,0.11,2827,2928,2848,0.5,0.57399999999999995,0.623,2012,4,"DEC","2012-12-01"]
["Mendocino",6803,7242,7216,13222,13660,13612,0.38900000000000001,0.40300000000000002,0.38900000000000001,10745,11359,11042,0.83299999999999996,0.83,0.82,0.998,0.99099999999999999,0.99399999999999999,0.99299999999999999,0.98699999999999999,0.99099999999999999,5.0999999999999997E-2,5.5E-2,4.7E-2,6.6000000000000003E-2,3.4000000000000002E-2,6.7000000000000004E-2,0.184,0.13200000000000001,0.19,9.0999999999999998E-2,0.153,0.26100000000000001,9.4E-2,0.183,0.307,5927,6735,7242,12079,13122,13660,394,490,591,5222,5593,5727,535,571,592,0,0,0,1740,1861,1934,87924,88071,88566,20784,21515,22245,19415,19200,19078,0,0,0,4437,4077,4188,22302,22789,23130,3224,3247,3238,0.113,0.109,9.7000000000000003E-2,22651,21298,19739,0.52,0.61099999999999999,0.68700000000000006,2012,4,"DEC","2012-12-01"]
["Merced",20575,22003,21978,51481,53940,53540,0.497,0.50700000000000001,0.497,43588,44721,44104,0.83699999999999997,0.81799999999999995,0.81799999999999995,0.99299999999999999,0.997,0.996,0.97199999999999998,0.97699999999999998,0.98599999999999999,1.4999999999999999E-2,0.02,7.0000000000000001E-3,6.6000000000000003E-2,4.9000000000000002E-2,6.2E-2,0.19,0.156,0.19600000000000001,0.184,0.247,0.26800000000000002,0.19400000000000001,0.27,0.29199999999999998,18047,20289,22003,47074,51328,53940,702,917,1122,28381,30050,30744,3718,3935,4110,0,0,0,14350,15243,15638,255937,259289,261708,34500,35643,36841,80434,80297,79582,0,0,0,31467,36166,31663,81619,84350,84983,10473,10642,10745,0.188,0.183,0.17,59978,80133,67910,0.77500000000000002,0.63200000000000001,0.79,2012,4,"DEC","2012-12-01"]
["Modoc",403,438,425,1000,997,959,0.38700000000000001,0.37,0.38700000000000001,925,873,851,0.90400000000000003,0.86899999999999999,0.876,1,0.95499999999999996,1,0.95099999999999996,1,1,5.0999999999999997E-2,5.5E-2,4.7E-2,7.4999999999999997E-2,4.9000000000000002E-2,8.2000000000000003E-2,0.22500000000000001,0.11,0.19500000000000001,0.128,0.123,0.23300000000000001,0.128,0.129,0.26400000000000001,441,402,438,1088,956,997,19,20,25,531,519,486,18,24,20,0,0,0,85,69,78,9648,9565,9518,2722,2781,2834,2116,2072,2010,0,0,0,258,279,280,2248,2094,2012,401,404,405,0.14399999999999999,0.15,0.13500000000000001,2128,2395,2460,0.49399999999999999,0.41399999999999998,0.40899999999999997,2012,4,"DEC","2012-12-01"]
["Mono",351,447,379,570,709,619,0.26100000000000001,0.32800000000000001,0.26100000000000001,452,589,532,0.73499999999999999,0.72399999999999998,0.78800000000000003,0.95799999999999996,0.90900000000000003,0.96699999999999997,0.94699999999999995,0.95,0.94499999999999995,5.0999999999999997E-2,5.5E-2,4.7E-2,4.3999999999999997E-2,1.6E-2,1.9E-2,0.16400000000000001,0.14399999999999999,0.185,2.1000000000000001E-2,8.3000000000000004E-2,9.1999999999999998E-2,2.5999999999999999E-2,9.8000000000000004E-2,9.6000000000000002E-2,353,383,447,551,619,709,18,21,32,239,272,326,6,3,3,0,0,0,164,172,226,14240,14305,14258,2204,2323,2415,3000,2996,2971,0,0,0,826,954,870,1254,1381,1413,92,98,102,0.10299999999999999,0.10100000000000001,0.105,2239,2449,2221,0.22900000000000001,0.23200000000000001,0.313,2012,4,"DEC","2012-12-01"]
["Monterey",16801,19325,18468,39133,44518,41994,0.33800000000000002,0.371,0.33800000000000002,34079,37980,35305,0.85,0.83799999999999997,0.82799999999999996,1,1,1,0.99399999999999999,0.99399999999999999,0.99299999999999999,3.0000000000000001E-3,1.9E-2,0,0.02,2.5000000000000001E-2,3.7999999999999999E-2,0.122,0.121,0.13700000000000001,7.3999999999999996E-2,0.14699999999999999,0.11,7.9000000000000001E-2,0.16400000000000001,0.12,14448,17107,19325,34158,40060,44518,591,936,1189,23963,27488,29906,5398,6060,6608,0,0,0,17012,19759,22110,416259,419998,422868,64720,66498,68145,111107,111651,111806,0,0,0,72509,78905,79767,93797,94574,96221,8376,8492,8502,0.127,0.125,0.114,77947,84701,80400,0.439,0.47599999999999998,0.55600000000000005,2012,4,"DEC","2012-12-01"]
["Napa",3277,3452,3387,6993,7287,7181,0.312,0.32500000000000001,0.312,6205,6333,6259,0.85699999999999998,0.83,0.83199999999999996,0.96599999999999997,0.995,0.93,0.95499999999999996,0.98499999999999999,0.96199999999999997,5.0999999999999997E-2,5.5E-2,4.7E-2,2.7E-2,2.5000000000000001E-2,3.6999999999999998E-2,0.107,9.1999999999999998E-2,0.10299999999999999,0.2,0.22900000000000001,0.26700000000000002,0.21299999999999999,0.253,0.32200000000000001,2706,3231,3452,5911,6899,7287,184,230,292,3680,4223,4244,831,1012,1098,0,0,0,2305,2859,3019,136811,137634,138577,29155,29909,30643,31490,31219,31125,0,0,0,11651,11887,12388,16230,17142,17126,2085,2126,2142,9.7000000000000003E-2,9.0999999999999998E-2,7.8E-2,19318,22177,18311,0.309,0.312,0.39300000000000002,2012,4,"DEC","2012-12-01"]
["Nevada",3200,3667,3830,6345,7105,7339,0.377,0.42,0.377,5248,5872,6034,0.82699999999999996,0.81200000000000006,0.80800000000000005,0.98,1,1,0.96399999999999997,0.98799999999999999,0.96899999999999997,5.0999999999999997E-2,5.5E-2,4.7E-2,2.8000000000000001E-2,2.1999999999999999E-2,3.3000000000000002E-2,9.8000000000000004E-2,9.4E-2,0.129,0.11899999999999999,0.13600000000000001,0.161,0.122,0.161,0.186,2526,3128,3667,5245,6272,7105,175,247,314,2215,2600,2726,157,169,219,0,0,0,196,247,270,98639,98593,98202,28207,29012,29761,18962,18477,18018,0,0,0,1456,1308,1312,11319,11559,11428,1713,1749,1771,0.114,0.106,9.4E-2,13228,15526,14198,0.39100000000000001,0.39500000000000002,0.495,2012,4,"DEC","2012-12-01"]
["Orange",89738,97956,101210,205059,218827,225212,0.34499999999999997,0.35599999999999998,0.34499999999999997,166689,173426,177324,0.79100000000000004,0.77200000000000002,0.76900000000000002,0.997,0.998,0.996,0.995,0.995,0.99399999999999999,1.7999999999999999E-2,1.9E-2,1.4999999999999999E-2,0.113,8.3000000000000004E-2,8.5999999999999993E-2,0.185,0.16300000000000001,0.17100000000000001,3.4000000000000002E-2,4.7E-2,5.0999999999999997E-2,5.5E-2,7.3999999999999996E-2,8.1000000000000003E-2,69096,84958,97956,163737,195627,218827,5775,7953,10377,106845,122531,131451,26340,29734,31940,0,0,0,84098,97060,105140,3017327,3047120,3071933,501840,517519,533455,734006,728891,724926,0,0,0,316270,333989,322892,433922,453202,460035,63882,65415,66558,9.5000000000000001E-2,8.7999999999999995E-2,7.5999999999999998E-2,413880,433176,453553,0.39500000000000002,0.45,0.48199999999999998,2012,4,"DEC","2012-12-01"]
["Placer",7884,8227,8252,17899,17815,17834,0.371,0.36699999999999999,0.371,12327,12099,11829,0.69299999999999995,0.67200000000000004,0.66200000000000003,0.91500000000000004,0.96599999999999997,0.98099999999999998,0.70199999999999996,0.96299999999999997,0.94799999999999995,5.0999999999999997E-2,5.5E-2,4.7E-2,0.112,0.1,8.6999999999999994E-2,0.19400000000000001,0.18,0.17499999999999999,4.2000000000000003E-2,0.04,3.9E-2,7.6999999999999999E-2,7.0000000000000007E-2,6.6000000000000003E-2,6028,7692,8227,14095,17524,17815,413,598,791,6988,8196,8043,731,860,871,0,0,0,1848,2095,2058,350275,356367,360680,74975,77238,79177,85307,85424,85224,0,0,0,8551,8075,6656,29306,31025,31306,4738,4956,5044,0.115,0.108,9.4E-2,43606,41528,42087,0.33,0.41599999999999998,0.42599999999999999,2012,4,"DEC","2012-12-01"]
["Plumas",666,756,772,1514,1654,1612,0.34799999999999998,0.36599999999999999,0.34799999999999998,1318,1404,1442,0.86,0.83299999999999996,0.85099999999999998,0.95699999999999996,0.94699999999999995,0.85899999999999999,1,0.93799999999999994,0.95399999999999996,5.0999999999999997E-2,5.5E-2,4.7E-2,3.9E-2,2.1000000000000001E-2,0.03,0.113,9.0999999999999998E-2,9.2999999999999999E-2,8.5000000000000006E-2,0.14899999999999999,0.16900000000000001,8.5000000000000006E-2,0.158,0.17499999999999999,510,638,756,1195,1497,1654,27,46,50,552,683,701,26,19,27,0,0,0,23,25,21,19911,19953,19523,6075,6266,6395,3556,3503,3317,0,0,0,221,164,261,3007,3112,3224,656,657,665,0.16700000000000001,0.16,0.14699999999999999,3133,3314,3548,0.38800000000000001,0.44700000000000001,0.46100000000000002,2012,4,"DEC","2012-12-01"]
["Riverside",101104,109234,113640,253780,267997,276481,0.433,0.44500000000000001,0.433,185045,188630,191044,0.72099999999999997,0.69099999999999995,0.69,0.999,1,0.999,0.91400000000000003,0.94699999999999995,0.94199999999999995,4.1000000000000002E-2,3.6999999999999998E-2,2.7E-2,2.9000000000000001E-2,2.5999999999999999E-2,3.3000000000000002E-2,0.11799999999999999,0.11,0.123,0.112,0.18,0.186,0.11700000000000001,0.19700000000000001,0.20300000000000001,79567,95761,109234,209668,242348,267997,4585,6565,8379,123144,137664,143506,16620,17706,18716,0,0,0,51693,59766,62978,2191886,2220502,2244399,359013,369034,378792,617723,615707,611198,0,0,0,191612,183465,178052,383285,407580,408855,51947,53606,54970,0.14499999999999999,0.13700000000000001,0.122,438966,437744,482427,0.47799999999999998,0.55400000000000005,0.55400000000000005,2012,4,"DEC","2012-12-01"]
["Sacramento",87013,90856,93411,199285,204104,208709,0.47099999999999997,0.47299999999999998,0.47099999999999997,158300,159403,162349,0.78,0.76100000000000001,0.76,0.96499999999999997,0.97,0.98699999999999999,0.86599999999999999,0.98499999999999999,0.97399999999999998,5.2999999999999999E-2,2.5000000000000001E-2,4.0000000000000001E-3,0.124,0.08,0.09,0.19500000000000001,0.155,0.17199999999999999,4.1000000000000002E-2,4.2000000000000003E-2,5.1999999999999998E-2,7.2999999999999995E-2,7.1999999999999995E-2,8.4000000000000005E-2,77485,84650,90856,181618,195423,204104,3071,4102,5103,96069,101965,102959,10638,11260,11758,0,0,0,44571,47015,46984,1420434,1430884,1439874,230675,238059,245819,362402,360838,359112,0,0,0,94002,93023,97511,316277,320369,324426,58046,59011,60330,0.127,0.121,0.106,261314,276829,310462,0.69,0.70299999999999996,0.65800000000000003,2012,4,"DEC","2012-12-01"]
["San Benito",2603,2609,2580,6125,6114,6053,0.44700000000000001,0.45100000000000001,0.44700000000000001,5162,5147,5097,0.84099999999999997,0.82599999999999996,0.84099999999999997,0.97299999999999998,0.98699999999999999,1,0.98799999999999999,0.97499999999999998,0.996,5.0999999999999997E-2,5.5E-2,4.7E-2,3.6999999999999998E-2,3.9E-2,4.2999999999999997E-2,0.17100000000000001,0.13300000000000001,0.151,0.11799999999999999,0.218,0.17299999999999999,0.123,0.246,0.20499999999999999,2406,2637,2609,5731,6256,6114,145,207,216,3145,3463,3314,453,489,502,0,0,0,1700,1959,1849,55350,55950,56527,8052,8367,8675,15932,15728,15546,0,0,0,6988,6602,6386,9860,10335,10227,857,871,897,0.17199999999999999,0.159,0.13900000000000001,7652,7551,8551,0.74299999999999999,0.82899999999999996,0.72099999999999997,2012,4,"DEC","2012-12-01"]
["San Bernardino",140095,151637,155859,342917,361404,368935,0.504,0.51,0.504,252467,257438,259386,0.73299999999999998,0.71099999999999997,0.71299999999999997,1,0.999,0.999,0.93500000000000005,0.93200000000000005,0.93600000000000005,1.2999999999999999E-2,1.7000000000000001E-2,7.0000000000000001E-3,0.04,3.3000000000000002E-2,4.3999999999999997E-2,0.13,0.114,0.13300000000000001,0.14099999999999999,0.219,0.224,0.14399999999999999,0.23400000000000001,0.24,116206,134618,151637,297700,332778,361404,6378,8049,10026,165887,179558,187444,20374,21870,22712,0,0,0,59933,64816,67830,2038523,2053348,2065016,270467,281997,293471,593309,587130,579792,0,0,0,169533,158999,172415,459307,479967,486650,62319,63945,65325,0.14199999999999999,0.13400000000000001,0.12,423700,420657,474491,0.69699999999999995,0.78800000000000003,0.75600000000000001,2012,4,"DEC","2012-12-01"]
["San Diego",104422,112361,115372,235332,246971,253631,0.39,0.39900000000000002,0.39,180742,184152,186377,0.746,0.72399999999999998,0.72,0.95199999999999996,0.97199999999999998,0.97899999999999998,0.94299999999999995,0.88500000000000001,0.89200000000000002,9.1999999999999998E-2,7.2999999999999995E-2,4.8000000000000001E-2,0.16200000000000001,0.157,0.16900000000000001,0.247,0.255,0.27600000000000002,7.8E-2,0.09,7.8E-2,0.123,0.14499999999999999,0.125,78038,99130,112361,185458,225828,246971,5844,8727,11289,105653,122746,125548,15797,17967,19228,0,0,0,69256,83752,88054,3102745,3125321,3147220,504520,518489,533349,723487,723802,722277,0,0,0,232848,255026,228674,422393,441366,442914,73600,74340,74992,0.105,0.1,8.8999999999999996E-2,548413,548569,564164,0.33700000000000002,0.41199999999999998,0.438,2012,4,"DEC","2012-12-01"]
["San Francisco",32934,32910,32845,51367,50894,50994,0.23599999999999999,0.23300000000000001,0.23599999999999999,33789,33338,33479,0.63900000000000001,0.63200000000000001,0.63500000000000001,0.97399999999999998,0.97599999999999998,0.98199999999999998,0.95799999999999996,0.93200000000000005,0.91300000000000003,2.1999999999999999E-2,3.4000000000000002E-2,2.7E-2,9.8000000000000004E-2,8.5999999999999993E-2,8.6999999999999994E-2,0.192,0.183,0.191,6.8000000000000005E-2,6.4000000000000001E-2,7.0999999999999994E-2,0.10199999999999999,0.1,0.11700000000000001,28092,32231,32910,43812,50192,50894,3518,4279,4864,17635,19821,19583,4307,4853,5068,0,0,0,16345,19063,19407,806254,813123,820349,154801,158587,162239,108892,112549,116481,0,0,0,108649,108545,105810,130945,134461,134748,37908,37828,37817,9.6000000000000002E-2,8.5999999999999993E-2,7.2999999999999995E-2,111296,116917,121506,0.39400000000000002,0.42599999999999999,0.42,2012,4,"DEC","2012-12-01"]
["San Joaquin",40755,43790,44548,102770,107532,108719,0.47299999999999998,0.48,0.47299999999999998,89193,90442,89441,0.84499999999999997,0.82399999999999995,0.81799999999999995,0.99099999999999999,0.98099999999999998,0.98599999999999999,0.93700000000000006,0.92700000000000005,0.96299999999999997,2.4E-2,2.9000000000000001E-2,3.1E-2,5.2999999999999999E-2,4.8000000000000001E-2,5.6000000000000001E-2,0.14399999999999999,0.13,0.14599999999999999,0.14399999999999999,0.16400000000000001,0.18,0.14899999999999999,0.184,0.19900000000000001,33315,39626,43790,87635,100921,107532,1621,2121,2587,53758,59252,60071,7337,7516,7727,0,0,0,21502,23681,23960,686588,692862,699003,103052,106544,110087,200536,199369,197931,0,0,0,68177,65970,64140,173098,180727,181087,26282,26645,26908,0.17299999999999999,0.16800000000000001,0.152,138220,137798,138592,0.63,0.72399999999999998,0.77600000000000002,2012,4,"DEC","2012-12-01"]
["San Luis Obispo",8628,8899,8995,17122,17269,17603,0.36599999999999999,0.36199999999999999,0.36599999999999999,13231,12893,13040,0.74399999999999999,0.72199999999999998,0.72399999999999998,0.95699999999999996,0.97399999999999998,0.94599999999999995,0.81499999999999995,0.83499999999999996,0.89800000000000002,5.0999999999999997E-2,5.5E-2,4.7E-2,0.11,6.5000000000000002E-2,7.5999999999999998E-2,0.193,0.156,0.158,2.9000000000000001E-2,0.03,4.7E-2,5.1999999999999998E-2,5.8000000000000003E-2,7.2999999999999995E-2,7357,8354,8899,14844,16733,17269,548,698,882,7321,8305,8140,1131,1232,1285,0,0,0,2579,3089,3116,269713,270119,271021,58433,60011,61883,50949,50670,50367,0,0,0,9324,9115,9420,32583,33401,33196,4416,4490,4420,9.9000000000000005E-2,9.4E-2,8.1000000000000003E-2,42530,48412,43667,0.34599999999999997,0.34499999999999997,0.40200000000000002,2012,4,"DEC","2012-12-01"]
["San Mateo",11771,13612,13945,25111,28106,28900,0.25600000000000001,0.27100000000000002,0.25600000000000001,20837,22492,23041,0.78800000000000003,0.76700000000000002,0.76600000000000001,0.88900000000000001,0.95199999999999996,0.94099999999999995,0.83899999999999997,0.86599999999999999,0.82699999999999996,5.0999999999999997E-2,5.5E-2,4.7E-2,7.2999999999999995E-2,0.08,8.1000000000000003E-2,0.13500000000000001,0.158,0.16900000000000001,2.5999999999999999E-2,3.3000000000000002E-2,4.4999999999999998E-2,5.3999999999999999E-2,6.0999999999999999E-2,0.08,9167,11040,13612,19608,23554,28106,969,1380,1886,12227,14502,16040,2623,3076,3538,0,0,0,8033,10086,11878,719729,727980,736362,138165,142073,145950,159758,160750,162180,0,0,0,63348,55409,60960,72632,75236,78549,11370,11278,11180,8.7999999999999995E-2,7.9000000000000001E-2,6.7000000000000004E-2,64089,71742,72926,0.29899999999999999,0.32600000000000001,0.38200000000000001,2012,4,"DEC","2012-12-01"]
["Santa Barbara",13368,14197,14027,30550,32030,31696,0.309,0.313,0.309,26689,26944,26574,0.84,0.82499999999999996,0.81899999999999995,0.74,0.96,0.95099999999999996,0.83499999999999996,0.94499999999999995,0.93300000000000005,5.0999999999999997E-2,5.5E-2,4.7E-2,0.151,8.2000000000000003E-2,0.112,0.26,0.186,0.22,0.04,0.05,4.9000000000000002E-2,7.0999999999999994E-2,9.2999999999999999E-2,8.4000000000000005E-2,12120,13312,14197,28091,30406,32030,599,727,866,18947,20425,20351,5347,5620,5628,0,0,0,12203,13586,13341,424050,425756,427358,75230,76570,78083,98292,98295,97785,0,0,0,46655,45828,45401,78914,81071,81084,8686,8708,8597,9.4E-2,8.8999999999999996E-2,0.08,86815,64486,76855,0.32900000000000001,0.47799999999999998,0.41799999999999998,2012,4,"DEC","2012-12-01"]
["Santa Clara",45887,49038,50330,99799,105676,108071,0.308,0.313,0.308,84662,85096,86567,0.80100000000000005,0.78600000000000003,0.78500000000000003,0.66700000000000004,0.80900000000000005,0.875,0.39700000000000002,0.86399999999999999,0.85099999999999998,0,8.0000000000000002E-3,1.2E-2,9.4E-2,8.1000000000000003E-2,6.5000000000000002E-2,0.17,0.14699999999999999,0.14299999999999999,1.0999999999999999E-2,1.2E-2,1.0999999999999999E-2,3.9E-2,0.04,4.2000000000000003E-2,41763,46050,49038,92734,100419,105676,3643,4566,5507,53528,57629,56627,12890,13468,13623,0,0,0,38857,43239,44837,1786429,1806881,1828597,282414,292023,301962,430338,432604,436447,0,0,0,174443,178479,178148,258598,261394,260965,43532,43993,43944,0.11,9.8000000000000004E-2,8.4000000000000005E-2,211901,208028,220691,0.433,0.48,0.47699999999999998,2012,4,"DEC","2012-12-01"]
["Santa Cruz",9855,10984,10856,19790,22390,21161,0.34300000000000003,0.36799999999999999,0.34300000000000003,15515,16489,15651,0.76100000000000001,0.73599999999999999,0.72199999999999998,0.83899999999999997,0.96299999999999997,0.95399999999999996,0.66700000000000004,0.94599999999999995,0.88900000000000001,5.0999999999999997E-2,5.5E-2,4.7E-2,0.114,4.9000000000000002E-2,5.5E-2,0.224,0.123,0.17599999999999999,3.9E-2,3.5000000000000003E-2,2.5000000000000001E-2,8.5000000000000006E-2,8.4000000000000005E-2,6.0999999999999999E-2,9095,10117,10984,18852,20667,22390,553,752,922,10814,11923,11666,3025,3213,3317,0,0,0,7769,8669,8532,263260,265569,267569,45817,47897,50062,55478,55764,55954,0,0,0,23340,23185,21496,41996,42412,42528,5133,5143,5104,0.126,0.123,0.111,40817,40432,37039,0.46,0.499,0.58799999999999997,2012,4,"DEC","2012-12-01"]
["Shasta",11929,12445,12319,24418,25025,24689,0.43099999999999999,0.45200000000000001,0.43099999999999999,20995,21968,21490,0.86,0.85399999999999998,0.84799999999999998,0.97799999999999998,0.97899999999999998,0.97599999999999998,0.92100000000000004,0.88100000000000001,0.89600000000000002,5.0999999999999997E-2,5.5E-2,4.7E-2,2.5999999999999999E-2,2.5000000000000001E-2,3.9E-2,0.12,0.13100000000000001,0.14199999999999999,0.15,0.186,0.26,0.155,0.20699999999999999,0.28599999999999998,9807,11605,12445,21049,24047,25025,447,691,821,9409,10745,10508,948,872,922,0,0,0,530,566,495,177472,178089,178477,42351,43415,44441,39616,39287,39051,0,0,0,2075,2583,2105,40226,41918,41050,9120,9261,9329,0.158,0.14899999999999999,0.13400000000000001,35938,41267,33389,0.58899999999999997,0.57699999999999996,0.74,2012,4,"DEC","2012-12-01"]
["Sierra",116,156,155,239,302,292,0.34100000000000003,0.42099999999999999,0.34100000000000003,220,283,255,0.89400000000000002,0.91300000000000003,0.86099999999999999,1,1,1,1,1,0.95799999999999996,5.0999999999999997E-2,5.5E-2,4.7E-2,0,5.6000000000000001E-2,0,0.08,0.14799999999999999,0.16300000000000001,0.04,3.6999999999999998E-2,0.122,0.04,3.6999999999999998E-2,0.122,107,119,156,253,235,302,11,14,23,92,78,95,0,0,1,0,0,0,5,9,4,3230,3146,3089,1019,1035,1060,546,508,481,0,0,0,78,79,60,529,497,514,94,104,99,0.154,0.14799999999999999,0.14299999999999999,423,596,623,0.59399999999999997,0.40899999999999997,0.45600000000000002,2012,4,"DEC","2012-12-01"]
["Siskiyou",2520,2719,2747,5784,6100,6114,0.42099999999999999,0.44700000000000001,0.42099999999999999,4965,5394,5332,0.85099999999999998,0.871,0.85399999999999998,0.99399999999999999,1,1,0.73799999999999999,0.97,0.95,5.0999999999999997E-2,5.5E-2,4.7E-2,2.5000000000000001E-2,2.3E-2,3.4000000000000002E-2,0.104,9.6000000000000002E-2,0.125,0.127,0.17100000000000001,0.159,0.13100000000000001,0.184,0.17899999999999999,2319,2490,2719,5350,5722,6100,125,184,220,2500,2679,2701,138,129,137,0,0,0,190,175,180,44893,44875,44598,12659,12996,13353,9247,9107,8878,0,0,0,985,741,820,10604,10671,10616,2367,2406,2441,0.16600000000000001,0.16500000000000001,0.153,8786,9723,10259,0.59399999999999997,0.58299999999999996,0.59699999999999998,2012,4,"DEC","2012-12-01"]
["Solano",18988,19954,20526,38995,40161,41119,0.43,0.439,0.43,34436,34998,35568,0.85199999999999998,0.84199999999999997,0.84299999999999997,0.85099999999999998,0.93500000000000005,0.94899999999999995,0.96,0.95599999999999996,0.96399999999999997,1.7000000000000001E-2,1.2999999999999999E-2,3.5000000000000003E-2,7.1999999999999995E-2,0.03,2.5000000000000001E-2,0.16300000000000001,0.13100000000000001,0.13600000000000001,1.2E-2,1.2E-2,1.4E-2,5.2999999999999999E-2,5.0999999999999997E-2,6.7000000000000004E-2,16681,18530,19954,35010,38288,40161,964,1219,1473,18094,19506,19347,2670,2885,3060,0,0,0,5899,6664,6772,413117,414337,415913,70797,73550,76529,100768,99231,97912,0,0,0,23196,22756,21564,67786,68794,68717,10983,11239,11520,0.12,0.115,0.10100000000000001,53730,58474,65053,0.65300000000000002,0.65400000000000003,0.61699999999999999,2012,4,"DEC","2012-12-01"]
["Sonoma",16715,18390,18467,31820,34447,34288,0.372,0.38600000000000001,0.372,27439,28889,28717,0.82699999999999996,0.80900000000000005,0.81100000000000005,0.77500000000000002,0.89900000000000002,0.95,0.55300000000000005,0.7,0.622,5.0999999999999997E-2,5.5E-2,4.7E-2,0.105,0.08,8.1000000000000003E-2,0.185,0.16500000000000001,0.18,3.3000000000000002E-2,3.5999999999999997E-2,0.04,6.3E-2,7.1999999999999995E-2,7.0999999999999994E-2,13375,15994,18390,26348,30639,34447,1041,1513,1870,14575,16897,17154,3209,3713,3946,0,0,0,7821,9786,10341,484084,486778,489283,100334,103855,107417,106366,105483,104978,0,0,0,29531,26893,29280,60646,62644,63908,8469,8632,8571,0.105,9.8000000000000004E-2,8.5999999999999993E-2,77807,66724,74079,0.33400000000000002,0.45500000000000002,0.45500000000000002,2012,4,"DEC","2012-12-01"]
["Stanislaus",37376,40036,40651,84867,88848,89458,0.46500000000000002,0.47199999999999998,0.46500000000000002,66984,67706,67554,0.77500000000000002,0.748,0.749,1,1,1,0.97799999999999998,0.96,0.95699999999999996,4.4999999999999998E-2,2.3E-2,0.01,2.4E-2,2.1999999999999999E-2,3.7999999999999999E-2,0.13100000000000001,0.128,0.158,0.13100000000000001,0.23,0.219,0.13700000000000001,0.254,0.24299999999999999,31597,36515,40036,74547,83529,88848,1527,2150,2464,40047,43670,44790,5214,5692,5991,0,0,0,15560,17532,17992,515205,518141,522651,79066,81410,84166,146879,145606,144581,0,0,0,46424,47675,48024,132589,136534,137356,19146,19462,19745,0.17299999999999999,0.16700000000000001,0.152,116015,127006,117475,0.63100000000000001,0.65,0.75,2012,4,"DEC","2012-12-01"]
["Sutter",4566,4961,4941,11259,11946,11901,0.374,0.39800000000000002,0.374,10042,10758,10695,0.89400000000000002,0.88400000000000001,0.879,0.91600000000000004,0.95099999999999996,0.95199999999999996,0.95,0.94299999999999995,0.95899999999999996,5.0999999999999997E-2,5.5E-2,4.7E-2,4.7E-2,3.5000000000000003E-2,4.7E-2,0.157,0.13100000000000001,0.151,0.128,0.14899999999999999,0.182,0.13300000000000001,0.16200000000000001,0.19700000000000001,4038,4537,4961,10351,11371,11946,193,261,306,5505,6239,6271,765,789,830,0,0,0,2025,2271,2311,94669,94764,95351,16744,17121,17496,25976,25548,25370,0,0,0,10625,9877,9590,22497,23430,23515,3582,3672,3661,0.19500000000000001,0.19,0.17599999999999999,19470,21064,20846,0.52800000000000002,0.53500000000000003,0.72699999999999998,2012,4,"DEC","2012-12-01"]
["Tehama",3941,4219,4168,9262,9899,9693,0.41799999999999998,0.46,0.41799999999999998,8307,9074,8865,0.88900000000000001,0.89,0.88600000000000001,0.86199999999999999,0.91300000000000003,0.93400000000000005,0.997,0.998,0.98799999999999999,5.0999999999999997E-2,5.5E-2,4.7E-2,5.1999999999999998E-2,5.8999999999999997E-2,0.1,0.14599999999999999,0.126,0.20899999999999999,0.125,0.17499999999999999,0.222,0.13100000000000001,0.188,0.24399999999999999,3642,3910,4219,8749,9382,9899,175,234,259,4451,4866,4855,539,493,469,0,0,0,1197,1145,1161,63487,63514,63623,14221,14565,14869,16085,15769,15514,0,0,0,3047,2963,2546,17831,18073,17404,2980,3021,3057,0.156,0.15,0.13900000000000001,13763,14706,14556,0.63100000000000001,0.629,0.66600000000000004,2012,4,"DEC","2012-12-01"]
["Trinity",702,776,825,1463,1557,1638,0.38200000000000001,0.40100000000000002,0.38200000000000001,1275,1363,1404,0.85099999999999998,0.84,0.83399999999999996,0.97399999999999998,0.97899999999999998,0.91500000000000004,0.96799999999999997,0.92200000000000004,0.89100000000000001,5.0999999999999997E-2,5.5E-2,4.7E-2,3.6999999999999998E-2,3.5999999999999997E-2,6.6000000000000003E-2,0.161,0.128,0.17899999999999999,0.111,0.27300000000000002,0.28799999999999998,0.115,0.309,0.311,604,686,776,1338,1429,1557,34,63,74,611,616,604,4,3,5,0,0,0,5,6,8,13713,13546,13470,4053,4153,4270,2477,2380,2335,0,0,0,43,21,21,3017,2825,2854,668,647,655,0.184,0.17799999999999999,0.158,2266,2939,3088,0.59199999999999997,0.495,0.50600000000000001,2012,4,"DEC","2012-12-01"]
["Tulare",41151,44577,43609,105927,110086,110559,0.51100000000000001,0.52800000000000002,0.51100000000000001,90105,93328,93145,0.83299999999999996,0.82299999999999995,0.82299999999999995,1,1,1,0.95499999999999996,0.97,0.97799999999999998,2.7E-2,1.7999999999999999E-2,9.0999999999999998E-2,0.254,0.16500000000000001,0.182,0.38200000000000001,0.28699999999999998,0.32600000000000001,0.108,0.104,0.126,0.155,0.153,0.17599999999999999,38982,39921,44577,98891,105401,110086,2087,2505,2949,58678,62509,64076,7808,8030,8010,0,0,0,33559,35817,36803,443066,447665,451627,60602,62466,64345,143958,143355,142812,0,0,0,60136,59121,60886,164923,168390,169956,16947,17127,17288,0.16900000000000001,0.16700000000000001,0.158,125950,131314,151607,0.78300000000000003,0.80200000000000005,0.57199999999999995,2012,4,"DEC","2012-12-01"]
["Tuolumne",2702,2755,2785,5073,5103,5153,0.443,0.439,0.443,4568,4508,4547,0.88,0.871,0.878,0.98799999999999999,0.97799999999999998,0.97,0.98299999999999998,0.94599999999999995,0.96,5.0999999999999997E-2,5.5E-2,4.7E-2,4.1000000000000002E-2,0.04,3.5999999999999997E-2,0.13400000000000001,0.158,0.14199999999999999,0.10299999999999999,0.16900000000000001,0.159,0.105,0.19,0.18,2464,2680,2755,4864,5076,5103,150,208,265,2026,2060,1962,139,141,149,0,0,0,59,56,65,55144,55041,54339,15916,16275,16528,9602,9458,9222,0,0,0,618,656,653,8146,8283,8101,1548,1593,1618,0.13800000000000001,0.13,0.11600000000000001,6998,8377,8976,0.70399999999999996,0.60399999999999998,0.57399999999999995,2012,4,"DEC","2012-12-01"]
["Ventura",30009,31284,31902,62970,64382,66179,0.35599999999999998,0.36299999999999999,0.35599999999999998,47887,47882,49085,0.73399999999999999,0.71399999999999997,0.71599999999999997,0.98599999999999999,0.98699999999999999,0.98699999999999999,0.95199999999999996,0.96399999999999997,0.95399999999999996,1.4999999999999999E-2,1.6E-2,7.0000000000000001E-3,0.123,9.2999999999999999E-2,8.7999999999999995E-2,0.23200000000000001,0.215,0.20899999999999999,6.3E-2,5.7000000000000002E-2,6.8000000000000005E-2,0.11,0.10100000000000001,0.11700000000000001,26153,28856,31284,55840,60915,64382,1800,2288,2757,32207,35138,35426,7301,7675,8035,0,0,0,20177,22636,23314,825077,830215,834109,139918,144495,148960,211379,208859,206821,0,0,0,81609,80053,79320,124449,125546,123340,14682,14762,14656,0.108,0.10100000000000001,0.09,97708,102487,105820,0.57699999999999996,0.60099999999999998,0.61499999999999999,2012,4,"DEC","2012-12-01"]
["Yolo",7286,7766,7861,16160,16880,16929,0.38400000000000001,0.40699999999999997,0.38400000000000001,12693,13904,14295,0.76500000000000001,0.8,0.82199999999999995,0.82099999999999995,0.873,0.90600000000000003,0.92400000000000004,0.91700000000000004,0.90600000000000003,5.0999999999999997E-2,5.5E-2,4.7E-2,0.13600000000000001,0.1,0.113,0.22,0.184,0.214,4.5999999999999999E-2,4.4999999999999998E-2,5.8999999999999997E-2,7.6999999999999999E-2,8.1000000000000003E-2,0.105,6418,7126,7766,14801,15941,16880,416,562,627,7868,8309,8261,1008,1057,1070,0,0,0,4466,4990,4871,201311,202630,204314,29028,30153,31386,45349,44868,44406,0,0,0,14329,16723,13923,30737,30903,31043,5095,5262,5307,0.127,0.125,0.115,37780,51733,44018,0.38700000000000001,0.308,0.38300000000000001,2012,4,"DEC","2012-12-01"]
["Yuba",5655,5776,5770,13017,13058,12952,0.47699999999999998,0.496,0.47699999999999998,11005,11311,11122,0.85899999999999999,0.84899999999999998,0.84199999999999997,0.996,1,1,0.96099999999999997,0.98399999999999999,0.95699999999999996,5.0999999999999997E-2,5.5E-2,4.7E-2,4.2999999999999997E-2,2.8000000000000001E-2,4.2000000000000003E-2,0.153,0.11899999999999999,0.13600000000000001,0.124,0.16700000000000001,0.20899999999999999,0.13200000000000001,0.185,0.23,5357,5620,5776,12496,13060,13058,207,244,298,6134,6598,6360,675,680,644,0,0,0,1664,1771,1707,72329,72620,73021,10782,11156,11530,20900,20727,20586,0,0,0,4801,4197,3903,20604,20858,20229,3643,3694,3772,0.192,0.184,0.16900000000000001,15754,13588,19440,0.77700000000000002,0.94799999999999995,0.66300000000000003,2012,4,"DEC","2012-12-01"]
["Alameda",60025,63121,63168,122112,126571,126482,0.36399999999999999,0.36599999999999999,0.35799999999999998,97092,98269,98800,0.76500000000000001,0.75600000000000001,0.753,0.90900000000000003,0.92700000000000005,0.9,0.87,0.85499999999999998,0.86599999999999999,1.2E-2,4.5999999999999999E-2,3.5999999999999997E-2,0.11600000000000001,8.5000000000000006E-2,8.2000000000000003E-2,0.20499999999999999,0.183,0.184,3.1E-2,4.4999999999999998E-2,0.05,6.8000000000000005E-2,9.4E-2,9.5000000000000001E-2,56312,62045,62875,116353,124622,125835,4838,5848,7267,60943,61164,63938,10808,11499,9990,0,0,0,34800,36077,39263,1526220,1540790,1563370,256848,265903,282890,341530,343820,346038,0,0,0,140068,134661,133681,250554,253472,243275,48001,48146,48141,0.104,0.09,7.2999999999999995E-2,220935,220282,220034,0.52500000000000002,0.56499999999999995,0.56699999999999995,2013,1,"MAR","2013-03-01"]
["Alpine",82,80,83,152,137,151,0.505,0.49,0.5,138,123,133,0.91400000000000003,0.879,0.89300000000000002,1,1,1,1,0.93799999999999994,0.92900000000000005,4.4999999999999998E-2,4.7E-2,5.8999999999999997E-2,0,0,0.188,0,8.6999999999999994E-2,0.188,4.2999999999999997E-2,8.6999999999999994E-2,0,4.2999999999999997E-2,8.6999999999999994E-2,0.125,78,84,91,144,147,171,13,9,11,46,53,62,2,2,0,0,0,0,0,0,0,1118,1127,1228,276,293,369,239,245,243,0,0,0,21,24,25,193,201,184,44,41,42,0.14799999999999999,0.13300000000000001,9.8000000000000004E-2,209,195,222,0.72099999999999997,0.749,0.70099999999999996,2013,1,"MAR","2013-03-01"]
["Amador",1605,1733,1717,3081,3340,3319,0.46500000000000002,0.49199999999999999,0.48599999999999999,2553,2748,2703,0.83199999999999996,0.82199999999999995,0.81299999999999994,0.871,0.97299999999999998,0.91400000000000003,0.94799999999999995,0.93600000000000005,0.93100000000000005,4.4999999999999998E-2,4.7E-2,5.8999999999999997E-2,3.5999999999999997E-2,2.9000000000000001E-2,0.17100000000000001,0.1,0.14000000000000001,0.25600000000000001,0.16600000000000001,0.19900000000000001,0.189,0.19600000000000001,0.22800000000000001,0.19600000000000001,1485,1717,1685,2906,3287,3280,133,182,194,1175,1230,1298,60,61,69,0,0,0,85,81,98,37288,36899,36945,11475,11711,11769,6120,6009,5919,0,0,0,458,507,484,4505,4522,4116,628,654,674,0.128,0.11799999999999999,0.10299999999999999,4098,4237,4989,0.70299999999999996,0.76700000000000002,0.65700000000000003,2013,1,"MAR","2013-03-01"]
["Butte",13440,14325,14278,28228,29899,29807,0.41699999999999998,0.44,0.44,24863,26485,26463,0.875,0.86799999999999999,0.86699999999999999,0.88600000000000001,0.91600000000000004,0.93899999999999995,0.93600000000000005,0.95499999999999996,0.95799999999999996,4.4999999999999998E-2,4.7E-2,5.8999999999999997E-2,2.8000000000000001E-2,3.7999999999999999E-2,0.14699999999999999,0.11,0.13200000000000001,0.219,0.26,0.27800000000000002,0.217,0.28199999999999997,0.29899999999999999,0.23400000000000001,12883,13988,14733,27531,29226,30211,697,842,1116,12820,12905,13523,1166,1187,1063,0,0,0,3175,2929,2782,220521,221118,222035,48592,49667,51734,46265,45992,45459,0,0,0,5007,5475,4375,52008,51266,47746,10702,10828,10914,0.13600000000000001,0.122,0.10299999999999999,61543,56950,57536,0.443,0.51200000000000001,0.52100000000000002,2013,1,"MAR","2013-03-01"]
["Calaveras",2418,2491,2570,4875,4951,5004,0.49399999999999999,0.496,0.5,4019,4048,4157,0.81399999999999995,0.82499999999999996,0.82699999999999996,0.95899999999999996,0.98699999999999999,0.97,0.98899999999999999,0.98799999999999999,0.96399999999999997,4.4999999999999998E-2,4.7E-2,5.8999999999999997E-2,8.9999999999999993E-3,3.3000000000000002E-2,0.126,7.3999999999999996E-2,0.14099999999999999,0.193,0.16300000000000001,0.20599999999999999,0.13700000000000001,0.191,0.23499999999999999,0.155,2309,2522,2576,4736,4998,4969,219,278,322,1877,1881,1808,58,66,103,0,0,0,123,148,134,45143,45045,45214,14097,14458,15224,8594,8280,7993,0,0,0,510,559,410,6701,6850,6097,1005,1023,1043,0.14599999999999999,0.13,0.1,4923,5990,6022,0.95499999999999996,0.83099999999999996,0.82399999999999995,2013,1,"MAR","2013-03-01"]
["California",1767003,1887860,1919085,3956654,4147355,4194682,0.40799999999999997,0.41199999999999998,0.41699999999999998,3127204,3223285,3250685,0.82,0.81599999999999995,0.81599999999999995,0.96099999999999997,0.97699999999999998,0.96599999999999997,0.92700000000000005,0.93899999999999995,0.93700000000000006,3.4000000000000002E-2,3.2000000000000001E-2,3.1E-2,0.10100000000000001,8.8999999999999996E-2,0.13500000000000001,0.19500000000000001,0.183,0.222,7.3999999999999996E-2,9.0999999999999998E-2,7.1999999999999995E-2,9.5000000000000001E-2,0.11600000000000001,9.4E-2,1684027,1843348,1942841,3813817,4074650,4221057,115078,141407,176557,2138572,2184693,2272684,356627,372370,341378,0,0,0,1226258,1268115,1314549,37570307,37826160,38202206,6313717,6506534,6820715,9214425,9170526,9150549,0,0,0,3841701,3775905,3750293,7594872,7619341,7280074,1165670,1176286,1187606,0.11799999999999999,0.105,8.8999999999999996E-2,6883374,7121280,7166749,0.55200000000000005,0.56999999999999995,0.58399999999999996,2013,1,"MAR","2013-03-01"]
["Colusa",692,648,716,1707,1600,1820,0.29899999999999999,0.27700000000000002,0.315,1618,1496,1682,0.89,0.90200000000000002,0.88900000000000001,1,1,0.93400000000000005,1,1,1,4.4999999999999998E-2,4.7E-2,5.8999999999999997E-2,3.5999999999999997E-2,4.1000000000000002E-2,0.20499999999999999,0.13100000000000001,0.13100000000000001,0.28499999999999998,7.9000000000000001E-2,0.10299999999999999,0.14199999999999999,8.2000000000000003E-2,0.113,0.159,673,701,713,1716,1728,1710,44,39,72,1083,1055,1032,87,108,164,0,0,0,590,598,553,21502,21614,21987,3687,3794,4033,6264,6173,6106,0,0,0,3215,3235,2986,4710,4695,4193,541,556,564,0.20499999999999999,0.2,0.19,4441,4435,3771,0.38,0.38900000000000001,0.46100000000000002,2013,1,"MAR","2013-03-01"]
["Contra Costa",31591,33886,33220,67029,70227,68857,0.35199999999999998,0.35599999999999998,0.35099999999999998,52650,53817,53266,0.76300000000000001,0.747,0.748,0.96399999999999997,0.94099999999999995,0.94599999999999995,0.82099999999999995,0.875,0.90700000000000003,0.03,6.0000000000000001E-3,2.3E-2,0.108,0.104,0.115,0.186,0.18,0.20899999999999999,7.2999999999999995E-2,4.7E-2,4.3999999999999997E-2,0.106,0.09,8.1000000000000003E-2,30338,32977,32730,64763,68789,67763,1979,2515,3064,35431,35507,36829,6233,6651,5449,0,0,0,14843,15201,15787,1061375,1069803,1081862,198717,205603,215513,258003,255890,253746,0,0,0,62372,66528,66244,141199,143428,131952,23292,23603,24041,0.104,0.09,7.4999999999999997E-2,149672,135137,145293,0.432,0.50700000000000001,0.47099999999999997,2013,1,"MAR","2013-03-01"]
["Del Norte",2575,2566,2581,5366,5247,5251,0.48399999999999999,0.495,0.496,4638,4637,4577,0.88400000000000001,0.878,0.872,1,1,1,0.98,0.97799999999999998,0.98799999999999999,4.4999999999999998E-2,4.7E-2,5.8999999999999997E-2,3.9E-2,7.8E-2,0.249,0.13800000000000001,0.23699999999999999,0.33600000000000002,0.21,0.25,0.25,0.23200000000000001,0.28100000000000003,0.26500000000000001,2525,2629,2525,5328,5445,5132,122,157,193,2398,2343,2218,160,173,167,0,0,0,333,285,262,28498,28359,28530,5761,5913,6153,5949,5778,5698,0,0,0,577,549,733,8219,8091,7460,1936,1869,1817,0.13100000000000001,0.13400000000000001,0.11799999999999999,5502,5696,5923,0.95399999999999996,0.94399999999999995,0.86399999999999999,2013,1,"MAR","2013-03-01"]
["El Dorado",5834,6224,6386,11341,11772,11975,0.41599999999999998,0.41899999999999998,0.42599999999999999,9558,9730,9941,0.80700000000000005,0.80400000000000005,0.8,0.998,1,0.97899999999999998,0.93100000000000005,0.97299999999999998,0.98799999999999999,4.4999999999999998E-2,4.7E-2,5.8999999999999997E-2,2.5000000000000001E-2,3.7999999999999999E-2,0.14799999999999999,0.12,0.127,0.224,0.156,0.17399999999999999,0.156,0.17199999999999999,0.19600000000000001,0.17599999999999999,5602,6081,6397,11204,11620,11765,481,581,732,4898,4822,4716,358,402,417,0,0,0,850,864,882,180663,180599,184054,41293,42806,46098,40109,39168,38276,0,0,0,3350,3301,3580,19110,19049,17413,2777,2818,2850,0.11899999999999999,0.104,8.5000000000000006E-2,25383,19223,26641,0.435,0.60599999999999998,0.441,2013,1,"MAR","2013-03-01"]
["Fresno",87032,89468,91393,211602,215286,219915,0.53500000000000003,0.53100000000000003,0.53900000000000003,174348,174945,177890,0.80300000000000005,0.79400000000000004,0.79300000000000004,1,0.98399999999999999,0.96899999999999997,0.95,0.97,0.97099999999999997,1.2999999999999999E-2,0,6.0000000000000001E-3,0.20599999999999999,0.16,0.128,0.32200000000000001,0.29699999999999999,0.247,7.3999999999999996E-2,7.1999999999999995E-2,5.0999999999999997E-2,0.12,0.114,8.7999999999999995E-2,84399,88850,90783,206749,215016,217757,3822,4650,5364,119928,122558,123609,15136,15452,14216,0,0,0,60894,61549,59175,939278,946823,958260,138663,143086,147191,276363,275524,276923,0,0,0,112468,115573,108885,313221,316699,299363,39741,40171,40774,0.16500000000000001,0.152,0.13200000000000001,261012,283513,280018,0.78900000000000003,0.75800000000000001,0.78300000000000003,2013,1,"MAR","2013-03-01"]
["Glenn",1345,1392,1410,3384,3436,3555,0.39,0.38100000000000001,0.39600000000000002,3137,3130,3291,0.90100000000000002,0.90600000000000003,0.91300000000000003,0,1,1,1,0.99199999999999999,1,4.4999999999999998E-2,4.7E-2,5.8999999999999997E-2,4.9000000000000002E-2,5.2999999999999999E-2,0.20300000000000001,0.125,0.16800000000000001,0.28299999999999997,0.105,0.19,0.14699999999999999,0.113,0.21,0.159,1323,1389,1431,3422,3419,3549,63,87,113,1955,1908,1985,219,231,237,0,0,0,744,769,739,28255,28208,28599,5356,5499,5834,7776,7657,7588,0,0,0,2387,2433,2638,7202,7157,6747,1118,1128,1136,0.158,0.14699999999999999,0.121,6094,6413,6196,0.54400000000000004,0.53700000000000003,0.56899999999999995,2013,1,"MAR","2013-03-01"]
["Humboldt",7904,8197,8301,15105,15547,15689,0.39300000000000002,0.41699999999999998,0.42199999999999999,12309,13296,13474,0.81699999999999995,0.83,0.83199999999999996,0.95499999999999996,0.98799999999999999,0.96499999999999997,0.89100000000000001,0.89700000000000002,0.9,4.4999999999999998E-2,4.7E-2,5.8999999999999997E-2,2.5999999999999999E-2,4.7E-2,0.13700000000000001,0.115,0.13600000000000001,0.214,0.184,0.23799999999999999,0.19900000000000001,0.21199999999999999,0.27,0.22800000000000001,7731,8114,8812,14836,15495,16507,422,496,695,6696,6496,7000,657,685,684,0,0,0,843,807,886,135218,134923,136480,27992,29078,30216,26890,26337,26025,0,0,0,2150,2104,2347,27304,27113,24939,5830,5740,5607,0.114,0.105,8.2000000000000003E-2,29447,32857,34043,0.5,0.46700000000000003,0.47399999999999998,2013,1,"MAR","2013-03-01"]
["Imperial",13695,14563,14424,35317,37524,36983,0.49299999999999999,0.51300000000000001,0.50800000000000001,31975,33980,33514,0.89400000000000002,0.89200000000000002,0.88600000000000001,1,0.998,1,0.97699999999999998,0.98799999999999999,0.98699999999999999,4.4999999999999998E-2,4.7E-2,5.8999999999999997E-2,3.7999999999999999E-2,6.2E-2,0.193,0.122,0.14899999999999999,0.27500000000000002,0.16900000000000001,0.16500000000000001,0.156,0.19400000000000001,0.182,0.17699999999999999,13153,14037,14518,34438,36091,37083,1259,1456,1738,18301,18176,19291,891,994,1028,0,0,0,17336,17886,19370,177229,178659,179326,26621,27470,28182,51037,50932,51426,0,0,0,31970,32769,32195,58086,58377,55474,10249,10349,10276,0.29699999999999999,0.28299999999999997,0.249,52830,44744,44790,0.65100000000000002,0.80800000000000005,0.81499999999999995,2013,1,"MAR","2013-03-01"]
["Inyo",950,974,994,1954,1967,1992,0.38700000000000001,0.39,0.39400000000000002,1693,1722,1733,0.86899999999999999,0.88,0.87,1,0.98299999999999998,0.98799999999999999,1,0.99,0.98399999999999999,4.4999999999999998E-2,4.7E-2,5.8999999999999997E-2,1.2E-2,5.6000000000000001E-2,0.153,0.128,0.158,0.20399999999999999,0.113,0.20799999999999999,0.14299999999999999,0.11899999999999999,0.221,0.153,869,957,1058,1813,1951,2132,92,105,137,866,879,964,91,105,103,0,0,0,267,316,327,18687,18637,19241,5025,5121,5510,3816,3727,3660,0,0,0,454,490,532,3541,3534,3188,390,396,407,9.9000000000000005E-2,9.4E-2,7.9000000000000001E-2,2628,2515,2766,0.68799999999999994,0.77700000000000002,0.73899999999999999,2013,1,"MAR","2013-03-01"]
["Kern",55265,58235,59233,136622,140403,144045,0.46500000000000002,0.46500000000000002,0.47099999999999997,115216,116475,118416,0.83199999999999996,0.81100000000000005,0.80900000000000005,0.98799999999999999,0.98599999999999999,0.97499999999999998,0.97699999999999998,0.96299999999999997,0.95599999999999996,5.3999999999999999E-2,4.0000000000000001E-3,2.8000000000000001E-2,5.8000000000000003E-2,6.3E-2,0.22900000000000001,0.17499999999999999,0.17899999999999999,0.31,0.13900000000000001,0.17299999999999999,0.125,0.159,0.20100000000000001,0.14699999999999999,53773,57915,59623,134833,140798,144653,2783,3379,3983,81944,82189,84978,11845,11952,10703,0,0,0,37108,37887,37191,848839,855522,869797,114797,119415,122971,252109,251296,252028,0,0,0,84185,85452,88100,239601,240099,224473,30734,31095,31384,0.14899999999999999,0.13300000000000001,0.11700000000000001,213705,213671,224185,0.626,0.65400000000000003,0.64,2013,1,"MAR","2013-03-01"]
["Kings",9461,9527,9824,22772,22594,23337,0.49,0.505,0.51100000000000001,19965,20493,20864,0.89200000000000002,0.88600000000000001,0.88,1,0.99299999999999999,0.98799999999999999,0.89700000000000002,0.90800000000000003,0.95299999999999996,4.4999999999999998E-2,4.7E-2,5.8999999999999997E-2,4.2000000000000003E-2,5.5E-2,0.20200000000000001,0.13600000000000001,0.192,0.28399999999999997,0.13500000000000001,0.16800000000000001,0.16,0.155,0.189,0.18,9036,9624,9956,22067,22949,23543,448,563,652,12407,12535,12892,1524,1554,1396,0,0,0,5421,5625,5451,151655,150843,152456,18146,18666,19636,41508,40866,41136,0,0,0,14643,14061,14426,36327,36030,33393,4723,4729,4659,0.16200000000000001,0.153,0.13500000000000001,28208,33431,34891,0.78300000000000003,0.68600000000000005,0.66900000000000004,2013,1,"MAR","2013-03-01"]
["Lake",4888,5076,5134,9935,10118,10232,0.41399999999999998,0.42,0.42199999999999999,8588,8755,8799,0.85399999999999998,0.85399999999999998,0.84399999999999997,0.94699999999999995,0.98299999999999998,0.94099999999999995,0.96899999999999997,0.95499999999999996,0.95199999999999996,4.4999999999999998E-2,4.7E-2,5.8999999999999997E-2,1.9E-2,1.9E-2,0.107,9.5000000000000001E-2,9.7000000000000003E-2,0.17499999999999999,0.28000000000000003,0.27700000000000002,0.214,0.30399999999999999,0.29899999999999999,0.24399999999999999,4751,5041,5227,9789,10039,10453,382,477,586,4333,4340,4436,232,256,385,0,0,0,789,790,814,64419,64394,64782,16938,17355,18045,13319,13100,12882,0,0,0,1826,1920,1792,18109,17709,16443,3653,3701,3710,0.16800000000000001,0.15,0.108,17844,19370,17452,0.52,0.52300000000000002,0.59,2013,1,"MAR","2013-03-01"]
["Lassen",1373,1408,1410,2931,2956,2939,0.44900000000000001,0.46400000000000002,0.47499999999999998,2620,2633,2689,0.89700000000000002,0.88300000000000001,0.89200000000000002,0.94299999999999995,0.97799999999999998,0.97099999999999997,0.97,0.90100000000000002,0.92100000000000004,4.4999999999999998E-2,4.7E-2,5.8999999999999997E-2,0.11,9.9000000000000005E-2,0.161,0.26800000000000002,0.21199999999999999,0.251,0.14899999999999999,0.17199999999999999,0.16700000000000001,0.16600000000000001,0.187,0.19500000000000001,1402,1386,1426,3018,2933,2971,61,81,99,1342,1284,1319,78,87,91,0,0,0,74,70,67,34668,33650,34966,5526,5593,6186,6095,5682,5574,0,0,0,745,704,769,5145,4859,4436,928,930,906,0.13400000000000001,0.126,0.106,4149,4471,4398,0.71699999999999997,0.65800000000000003,0.67800000000000005,2013,1,"MAR","2013-03-01"]
["Los Angeles",495012,538221,546975,1058962,1124832,1133944,0.33700000000000002,0.34899999999999998,0.34899999999999998,848151,874210,870624,0.78900000000000003,0.76800000000000002,0.76300000000000001,0.96199999999999997,0.97199999999999998,0.95699999999999996,0.93,0.94899999999999995,0.95099999999999996,4.1000000000000002E-2,2.4E-2,2.5000000000000001E-2,0.122,0.107,0.113,0.221,0.182,0.19400000000000001,0,0,1.0999999999999999E-2,3.0000000000000001E-3,4.0000000000000001E-3,1.6E-2,478664,516984,557570,1027412,1093422,1148512,30250,36571,46590,589565,599556,629069,119837,124537,117585,0,0,0,413819,423844,444806,9860836,9911665,10010961,1574823,1620299,1701464,2357593,2341123,2329494,0,0,0,1413525,1372113,1402433,2418773,2410140,2250353,382816,385131,388148,0.123,0.109,9.8000000000000004E-2,1963598,2021648,2088070,0.52100000000000002,0.53900000000000003,0.54200000000000004,2013,1,"MAR","2013-03-01"]
["Madera",10284,10184,10502,26172,25845,26692,0.49,0.47699999999999998,0.49099999999999999,24343,23623,24534,0.90700000000000003,0.9,0.9,0.97599999999999998,0.98499999999999999,0.96099999999999997,0.98,0.98499999999999999,0.98299999999999998,4.4999999999999998E-2,4.7E-2,5.8999999999999997E-2,4.2999999999999997E-2,5.3999999999999999E-2,0.187,0.158,0.192,0.27800000000000002,0.159,0.20599999999999999,0.153,0.186,0.23699999999999999,0.18,10006,10437,10608,25675,26670,26856,467,534,619,16252,16732,16652,3162,3223,2773,0,0,0,9919,10100,9640,152008,151790,153409,25106,25433,26873,42605,42036,42149,0,0,0,19401,20218,20706,45597,45875,42230,4466,4441,4478,0.151,0.13600000000000001,0.125,33539,38099,38832,0.75700000000000001,0.69299999999999995,0.69099999999999995,2013,1,"MAR","2013-03-01"]
["Marin",5325,5639,5562,8957,9538,9420,0.30399999999999999,0.317,0.318,7910,8290,8317,0.86699999999999999,0.86699999999999999,0.86799999999999999,0.97499999999999998,0.97099999999999997,0.94499999999999995,0.91700000000000004,0.94599999999999995,0.93300000000000005,4.4999999999999998E-2,4.7E-2,5.8999999999999997E-2,4.9000000000000002E-2,4.1000000000000002E-2,0.16200000000000001,0.13500000000000001,0.115,0.222,0.11899999999999999,0.17499999999999999,0.13500000000000001,0.13700000000000001,0.19,0.157,5241,5541,5762,8890,9408,9774,659,758,887,4267,4358,4734,1168,1245,1271,0,0,0,2668,2958,3455,254359,254882,256264,63398,65062,69445,51983,51763,51412,0,0,0,8250,11689,8867,22986,22611,21230,3120,3102,3107,7.3999999999999996E-2,6.3E-2,5.1999999999999998E-2,28284,20101,22421,0.311,0.46300000000000002,0.42,2013,1,"MAR","2013-03-01"]
["Mariposa",826,851,893,1730,1746,1837,0.46,0.45400000000000001,0.47199999999999998,1518,1538,1645,0.87,0.86099999999999999,0.87,0.94,0.873,0.89700000000000002,0.98099999999999998,0.96299999999999997,0.93799999999999994,4.4999999999999998E-2,4.7E-2,5.8999999999999997E-2,1.4999999999999999E-2,4.7E-2,0.14099999999999999,8.7999999999999995E-2,0.14499999999999999,0.187,0.15,0.18,0.14499999999999999,0.15,0.19600000000000001,0.17,796,875,920,1730,1804,1855,77,83,119,727,709,714,39,41,37,0,0,0,42,47,30,17977,17817,18101,5580,5675,5971,3136,3056,2988,0,0,0,331,155,227,2868,2854,2652,450,460,462,0.11899999999999999,0.11,0.105,2928,2848,3155,0.57399999999999995,0.623,0.58799999999999997,2013,1,"MAR","2013-03-01"]
["Mendocino",6872,7216,7117,13454,13612,13483,0.38600000000000001,0.39400000000000002,0.39600000000000002,10686,11042,11126,0.82499999999999996,0.82,0.82699999999999996,0.99199999999999999,0.99399999999999999,0.99399999999999999,0.995,0.99099999999999999,0.98899999999999999,4.4999999999999998E-2,4.7E-2,5.8999999999999997E-2,4.1000000000000002E-2,6.7000000000000004E-2,0.216,0.156,0.19,0.32200000000000001,0.17599999999999999,0.26100000000000001,0.16200000000000001,0.19800000000000001,0.307,0.19900000000000001,6735,7242,6923,13122,13660,13202,490,591,699,5593,5727,5665,571,592,688,0,0,0,1861,1934,1823,88071,88566,88931,21515,22245,23290,19200,19078,18865,0,0,0,4077,4188,4171,22789,23130,21783,3247,3238,3218,0.109,9.7000000000000003E-2,8.2000000000000003E-2,21298,19739,22381,0.61099999999999999,0.68700000000000006,0.58799999999999997,2013,1,"MAR","2013-03-01"]
["Merced",21252,21978,22570,52771,53540,55147,0.496,0.498,0.51200000000000001,43453,44104,45577,0.82799999999999996,0.81799999999999995,0.81799999999999995,0.97399999999999998,0.996,0.98599999999999999,0.97399999999999998,0.98599999999999999,0.99099999999999999,2.3E-2,7.0000000000000001E-3,3.0000000000000001E-3,0.05,6.2E-2,0.20399999999999999,0.16200000000000001,0.19600000000000001,0.29599999999999999,0.217,0.26800000000000002,0.189,0.23599999999999999,0.29199999999999998,0.21,20289,22003,22956,51328,53940,55568,917,1122,1338,30050,30744,31540,3935,4110,4036,0,0,0,15243,15638,15579,259289,261708,263441,35643,36841,37818,80297,79582,79353,0,0,0,36166,31663,35644,84350,84983,80292,10642,10745,10849,0.183,0.17,0.14499999999999999,80133,67910,70247,0.63200000000000001,0.79,0.78600000000000003,2013,1,"MAR","2013-03-01"]
["Modoc",425,425,425,1021,959,965,0.38400000000000001,0.35899999999999999,0.371,911,851,877,0.89600000000000002,0.876,0.874,0.97799999999999998,1,1,0.95599999999999996,1,0.94499999999999995,4.4999999999999998E-2,4.7E-2,5.8999999999999997E-2,3.3000000000000002E-2,8.2000000000000003E-2,0.22500000000000001,0.13600000000000001,0.19500000000000001,0.34399999999999997,0.13600000000000001,0.23300000000000001,0.113,0.152,0.26400000000000001,0.13100000000000001,402,438,415,956,997,935,20,25,34,519,486,442,24,20,42,0,0,0,69,78,71,9565,9518,9457,2781,2834,2876,2072,2010,1952,0,0,0,279,280,335,2094,2012,1865,404,405,416,0.15,0.13500000000000001,0.124,2395,2460,2622,0.41399999999999998,0.40899999999999997,0.36099999999999999,2013,1,"MAR","2013-03-01"]
["Mono",426,379,414,698,619,703,0.29099999999999998,0.30299999999999999,0.315,496,532,557,0.66,0.78800000000000003,0.77100000000000002,0.97799999999999998,0.96699999999999997,0.91200000000000003,0.92600000000000005,0.94499999999999995,0.89100000000000001,4.4999999999999998E-2,4.7E-2,5.8999999999999997E-2,2.9000000000000001E-2,1.9E-2,0.107,0.123,0.185,0.14699999999999999,0.01,9.1999999999999998E-2,3.4000000000000002E-2,1.6E-2,9.6000000000000002E-2,8.5000000000000006E-2,383,447,400,619,709,656,21,32,43,272,326,283,3,3,74,0,0,0,172,226,163,14305,14258,14376,2323,2415,2711,2996,2971,3013,0,0,0,954,870,937,1381,1413,1248,98,102,101,0.10100000000000001,0.105,8.5000000000000006E-2,2449,2221,2021,0.23200000000000001,0.313,0.316,2013,1,"MAR","2013-03-01"]
["Monterey",19293,18468,20885,44819,41994,48096,0.38400000000000001,0.34499999999999997,0.40200000000000002,38841,35305,41868,0.85299999999999998,0.82799999999999996,0.83899999999999997,0.999,1,0.998,0.99399999999999999,0.99299999999999999,0.995,1.4E-2,0,0.01,2.3E-2,3.7999999999999999E-2,0.16800000000000001,0.104,0.13700000000000001,0.224,0.10199999999999999,0.11,0.1,0.111,0.12,0.112,17107,19325,20213,40060,44518,46145,936,1189,1572,27488,29906,29909,6060,6608,6960,0,0,0,19759,22110,21235,419998,422868,424119,66498,68145,71183,111651,111806,112481,0,0,0,78905,79767,64059,94574,96221,88589,8492,8502,8458,0.125,0.114,0.10299999999999999,84701,80400,83052,0.47599999999999998,0.55600000000000005,0.56499999999999995,2013,1,"MAR","2013-03-01"]
["Napa",3286,3387,3344,7073,7181,7165,0.32400000000000001,0.32500000000000001,0.33,6292,6259,6287,0.84299999999999997,0.83199999999999996,0.83199999999999996,1,0.93,0.73299999999999998,0.96399999999999997,0.96199999999999997,0.97,4.4999999999999998E-2,4.7E-2,5.8999999999999997E-2,2.5000000000000001E-2,3.6999999999999998E-2,0.111,9.4E-2,0.10299999999999999,0.18,0.17,0.26700000000000002,0.248,0.19500000000000001,0.32200000000000001,0.27500000000000002,3231,3452,3193,6899,7287,6710,230,292,341,4223,4244,4081,1012,1098,909,0,0,0,2859,3019,2892,137634,138577,139831,29909,30643,32036,31219,31125,31002,0,0,0,11887,12388,12782,17142,17126,15421,2126,2142,2156,9.0999999999999998E-2,7.8E-2,6.8000000000000005E-2,22177,18311,16770,0.312,0.39300000000000002,0.40699999999999997,2013,1,"MAR","2013-03-01"]
["Nevada",3327,3830,3872,6509,7339,7389,0.38800000000000001,0.42299999999999999,0.42499999999999999,5327,6034,6081,0.81699999999999995,0.80800000000000005,0.80600000000000005,0.97499999999999998,1,0.99299999999999999,0.98399999999999999,0.96899999999999997,0.94499999999999995,4.4999999999999998E-2,4.7E-2,5.8999999999999997E-2,2.4E-2,3.3000000000000002E-2,0.129,0.10100000000000001,0.129,0.20699999999999999,0.12,0.161,0.11700000000000001,0.13800000000000001,0.186,0.13500000000000001,3128,3667,3898,6272,7105,7452,247,314,445,2600,2726,2951,169,219,186,0,0,0,247,270,255,98593,98202,98317,29012,29761,31210,18477,18018,17565,0,0,0,1308,1312,1576,11559,11428,10758,1749,1771,1796,0.106,9.4E-2,8.1000000000000003E-2,15526,14198,16674,0.39500000000000002,0.495,0.442,2013,1,"MAR","2013-03-01"]
["Orange",92898,101210,102785,209924,225212,227792,0.34899999999999998,0.36099999999999999,0.34399999999999997,168063,177324,179518,0.78200000000000003,0.76900000000000002,0.77300000000000002,0.996,0.996,0.998,0.99399999999999999,0.99399999999999999,0.99299999999999999,1.9E-2,1.4999999999999999E-2,1.6E-2,0.11600000000000001,8.5999999999999993E-2,8.6999999999999994E-2,0.191,0.17100000000000001,0.17699999999999999,3.1E-2,5.0999999999999997E-2,4.2999999999999997E-2,5.3999999999999999E-2,8.1000000000000003E-2,7.1999999999999995E-2,84958,97956,105823,195627,218827,232862,7953,10377,13145,122531,131451,139033,29734,31940,29922,0,0,0,97060,105140,111958,3047120,3071933,3097966,517519,533455,559090,728891,724926,721292,0,0,0,333989,322892,316852,453202,460035,467937,65415,66558,67573,8.7999999999999995E-2,7.5999999999999998E-2,6.5000000000000002E-2,433176,453553,444095,0.45,0.48199999999999998,0.51800000000000002,2013,1,"MAR","2013-03-01"]
["Placer",7989,8252,8299,17900,17834,17706,0.371,0.35899999999999999,0.35199999999999998,12229,11829,11627,0.68,0.66200000000000003,0.65300000000000002,0.95399999999999996,0.98099999999999998,0.98899999999999999,0.83299999999999996,0.94799999999999995,0.96699999999999997,4.4999999999999998E-2,4.7E-2,5.8999999999999997E-2,0.105,8.6999999999999994E-2,8.5999999999999993E-2,0.193,0.17499999999999999,0.17,3.6999999999999998E-2,3.9E-2,3.4000000000000002E-2,7.0999999999999994E-2,6.6000000000000003E-2,5.8999999999999997E-2,7692,8227,8480,17524,17815,17673,598,791,1019,8196,8043,7868,860,871,677,0,0,0,2095,2058,2021,356367,360680,365125,77238,79177,85049,85424,85224,84419,0,0,0,8075,6656,8063,31025,31306,28497,4956,5044,5056,0.108,9.4E-2,7.6999999999999999E-2,41528,42087,39484,0.41599999999999998,0.42599999999999999,0.45,2013,1,"MAR","2013-03-01"]
["Plumas",688,772,815,1564,1612,1759,0.36,0.38,0.39,1333,1442,1519,0.85699999999999998,0.85099999999999998,0.85599999999999998,0.77400000000000002,0.85899999999999999,0.91900000000000004,0.96099999999999997,0.95399999999999996,0.98099999999999998,4.4999999999999998E-2,4.7E-2,5.8999999999999997E-2,5.2999999999999999E-2,0.03,0.17100000000000001,0.108,9.2999999999999999E-2,0.22800000000000001,0.10199999999999999,0.16900000000000001,0.11700000000000001,0.105,0.17499999999999999,0.12,638,756,773,1497,1654,1604,46,50,82,683,701,676,19,27,34,0,0,0,25,21,22,19953,19523,19466,6266,6395,6703,3503,3317,3263,0,0,0,164,261,217,3112,3224,3027,657,665,641,0.16,0.14699999999999999,0.13900000000000001,3314,3548,3816,0.44700000000000001,0.46100000000000002,0.439,2013,1,"MAR","2013-03-01"]
["Riverside",104465,113640,114341,259798,276481,276891,0.42199999999999999,0.44800000000000001,0.41799999999999998,178381,191044,190915,0.70599999999999996,0.69,0.69199999999999995,0.999,0.999,0.997,0.93899999999999995,0.94199999999999995,0.95799999999999996,3.4000000000000002E-2,2.7E-2,3.1E-2,2.9000000000000001E-2,3.3000000000000002E-2,0.182,0.11799999999999999,0.123,0.25800000000000001,0.14699999999999999,0.186,0.14000000000000001,0.16600000000000001,0.20300000000000001,0.161,95761,109234,115800,242348,267997,278117,6565,8379,10225,137664,143506,151042,17706,18716,17000,0,0,0,59766,62978,65355,2220502,2244399,2264173,369034,378792,396291,615707,611198,608238,0,0,0,183465,178052,173255,407580,408855,409328,53606,54970,56654,0.13700000000000001,0.122,9.9000000000000005E-2,437744,482427,469029,0.55400000000000005,0.55400000000000005,0.59099999999999997,2013,1,"MAR","2013-03-01"]
["Sacramento",87602,93411,93843,200011,208709,210145,0.47199999999999998,0.47699999999999998,0.47599999999999998,158236,162349,162627,0.77300000000000002,0.76,0.75900000000000001,0.91,0.98699999999999999,0.99,0.92300000000000004,0.97399999999999998,0.95599999999999996,3.9E-2,4.0000000000000001E-3,5.0000000000000001E-3,0.124,0.09,9.4E-2,0.20399999999999999,0.17199999999999999,0.182,3.1E-2,5.1999999999999998E-2,4.8000000000000001E-2,6.0999999999999999E-2,8.4000000000000005E-2,8.2000000000000003E-2,84650,90856,94824,195423,204104,210033,4102,5103,6598,101965,102959,105467,11260,11758,9994,0,0,0,47015,46984,47601,1430884,1439874,1448268,238059,245819,254622,360838,359112,358519,0,0,0,93023,97511,101446,320369,324426,308037,59011,60330,61371,0.121,0.106,8.8999999999999996E-2,276829,310462,306055,0.70299999999999996,0.65800000000000003,0.68100000000000005,2013,1,"MAR","2013-03-01"]
["San Benito",2644,2580,2710,6211,6053,6390,0.45900000000000002,0.44700000000000001,0.46200000000000002,5241,5097,5371,0.84,0.84099999999999997,0.84199999999999997,0.99,1,0.98399999999999999,0.98599999999999999,0.996,0.97699999999999998,4.4999999999999998E-2,4.7E-2,5.8999999999999997E-2,3.2000000000000001E-2,4.2999999999999997E-2,0.17100000000000001,0.14399999999999999,0.151,0.23699999999999999,0.126,0.17299999999999999,0.12,0.14299999999999999,0.20499999999999999,0.13900000000000001,2637,2609,2684,6256,6114,6232,207,216,246,3463,3314,3361,489,502,472,0,0,0,1959,1849,1856,55950,56527,57366,8367,8675,9394,15728,15546,15424,0,0,0,6602,6386,5777,10335,10227,9287,871,897,882,0.159,0.13900000000000001,0.111,7551,8551,8524,0.82899999999999996,0.72099999999999997,0.72699999999999998,2013,1,"MAR","2013-03-01"]
["San Bernardino",143021,155859,156747,346744,368935,368618,0.47899999999999998,0.51,0.48199999999999998,238137,259386,256699,0.72299999999999998,0.71299999999999997,0.71299999999999997,0.999,0.999,0.999,0.93400000000000005,0.93600000000000005,0.92700000000000005,1.4E-2,7.0000000000000001E-3,1.2E-2,3.5999999999999997E-2,4.3999999999999997E-2,0.218,0.125,0.13300000000000001,0.28599999999999998,0.18099999999999999,0.224,0.14899999999999999,0.19600000000000001,0.24,0.16500000000000001,134618,151637,159737,332778,361404,373620,8049,10026,12685,179558,187444,194878,21870,22712,21323,0,0,0,64816,67830,70335,2053348,2065016,2075160,281997,293471,301721,587130,579792,576858,0,0,0,158999,172415,156056,479967,486650,481334,63945,65325,66969,0.13400000000000001,0.12,9.8000000000000004E-2,420657,474491,441319,0.78800000000000003,0.75600000000000001,0.84199999999999997,2013,1,"MAR","2013-03-01"]
["San Diego",108079,115372,116389,240771,253631,253991,0.39700000000000002,0.40100000000000002,0.375,182687,186377,189381,0.73199999999999998,0.72,0.71899999999999997,0.97699999999999998,0.97899999999999998,0.96899999999999997,0.94799999999999995,0.89200000000000002,0.91400000000000003,7.6999999999999999E-2,4.8000000000000001E-2,0.03,0.17299999999999999,0.16900000000000001,0.11600000000000001,0.27100000000000002,0.27600000000000002,0.22700000000000001,7.9000000000000001E-2,7.8E-2,2.8000000000000001E-2,0.13,0.125,5.5E-2,99130,112361,122561,225828,246971,260576,8727,11289,13842,122746,125548,131432,17967,19228,15919,0,0,0,83752,88054,93092,3125321,3147220,3184072,518489,533349,558419,723802,722277,723080,0,0,0,255026,228674,236315,441366,442914,451842,74340,74992,75967,0.1,8.8999999999999996E-2,7.8E-2,548569,564164,553958,0.41199999999999998,0.438,0.46600000000000003,2013,1,"MAR","2013-03-01"]
["San Francisco",32799,32845,32190,50905,50994,50440,0.23300000000000001,0.23300000000000001,0.223,33170,33479,33196,0.63100000000000001,0.63500000000000001,0.63700000000000001,0.98799999999999999,0.98199999999999998,0.97599999999999998,0.92100000000000004,0.91300000000000003,0.753,2.9000000000000001E-2,2.7E-2,3.5000000000000003E-2,0.108,8.6999999999999994E-2,0.10299999999999999,0.20599999999999999,0.191,0.20499999999999999,6.2E-2,7.0999999999999994E-2,0.08,9.4E-2,0.11700000000000001,0.11600000000000001,32231,32910,32096,50192,50894,50124,4279,4864,5459,19821,19583,19668,4853,5068,4243,0,0,0,19063,19407,19818,813123,820349,833827,158587,162239,171662,112549,116481,119793,0,0,0,108545,105810,96046,134461,134748,134579,37828,37817,37708,8.5999999999999993E-2,7.2999999999999995E-2,5.5E-2,116917,121506,120297,0.42599999999999999,0.42,0.40600000000000003,2013,1,"MAR","2013-03-01"]
["San Joaquin",41919,44548,45591,104725,108719,110995,0.47899999999999998,0.47399999999999998,0.48499999999999999,89608,89441,92269,0.83599999999999997,0.81799999999999995,0.81799999999999995,0.98499999999999999,0.98599999999999999,0.98699999999999999,0.95399999999999996,0.96299999999999997,0.97499999999999998,2.7E-2,3.1E-2,0.04,4.8000000000000001E-2,5.6000000000000001E-2,0.19800000000000001,0.13,0.14599999999999999,0.26,0.16200000000000001,0.18,0.14000000000000001,0.17799999999999999,0.19900000000000001,0.157,39626,43790,46964,100921,107532,113230,2121,2587,3502,59252,60071,63093,7516,7727,7295,0,0,0,23681,23960,23995,692862,699003,703790,106544,110087,113154,199369,197931,197012,0,0,0,65970,64140,64800,180727,181087,170765,26645,26908,27071,0.16800000000000001,0.152,0.124,137798,138592,156985,0.72399999999999998,0.77600000000000002,0.71299999999999997,2013,1,"MAR","2013-03-01"]
["San Luis Obispo",9003,8995,9090,17679,17603,17743,0.374,0.36299999999999999,0.371,13446,13040,13421,0.73199999999999998,0.72399999999999998,0.72899999999999998,0.95499999999999996,0.94599999999999995,0.98299999999999998,0.86499999999999999,0.89800000000000002,0.89800000000000002,4.4999999999999998E-2,4.7E-2,5.8999999999999997E-2,0.108,7.5999999999999998E-2,6.6000000000000003E-2,0.19400000000000001,0.158,0.15,2.1999999999999999E-2,4.7E-2,0.03,4.5999999999999999E-2,7.2999999999999995E-2,5.3999999999999999E-2,8354,8899,8907,16733,17269,17319,698,882,1072,8305,8140,8228,1232,1285,1089,0,0,0,3089,3116,3239,270119,271021,271740,60011,61883,65066,50670,50367,50061,0,0,0,9115,9420,10073,33401,33196,30635,4490,4420,4383,9.4E-2,8.1000000000000003E-2,6.8000000000000005E-2,48412,43667,47791,0.34499999999999997,0.40200000000000002,0.36599999999999999,2013,1,"MAR","2013-03-01"]
["San Mateo",12556,13945,13784,26275,28900,28487,0.25900000000000001,0.27500000000000002,0.26200000000000001,21071,23041,22874,0.77400000000000002,0.76600000000000001,0.76300000000000001,0.94699999999999995,0.94099999999999995,0.622,0.84199999999999997,0.82699999999999996,0.81100000000000005,4.4999999999999998E-2,4.7E-2,5.8999999999999997E-2,8.7999999999999995E-2,8.1000000000000003E-2,7.6999999999999999E-2,0.16500000000000001,0.16900000000000001,0.16400000000000001,2.1000000000000001E-2,4.4999999999999998E-2,3.7999999999999999E-2,4.3999999999999997E-2,0.08,6.7000000000000004E-2,11040,13612,14493,23554,28106,29339,1380,1886,2531,14502,16040,17242,3076,3538,4025,0,0,0,10086,11878,13534,727980,736362,741857,142073,145950,155845,160750,162180,163248,0,0,0,55409,60960,58256,75236,78549,77027,11278,11180,10953,7.9000000000000001E-2,6.7000000000000004E-2,5.1999999999999998E-2,71742,72926,68114,0.32600000000000001,0.38200000000000001,0.42299999999999999,2013,1,"MAR","2013-03-01"]
["Santa Barbara",13668,14027,14689,31120,31696,33164,0.32800000000000001,0.308,0.33,28086,26574,28670,0.83499999999999996,0.81899999999999995,0.82399999999999995,0.63300000000000001,0.95099999999999996,0.95399999999999996,0.83799999999999997,0.93300000000000005,0.92200000000000004,4.4999999999999998E-2,4.7E-2,5.8999999999999997E-2,0.151,0.112,9.8000000000000004E-2,0.23100000000000001,0.22,0.187,3.5999999999999997E-2,4.9000000000000002E-2,4.8000000000000001E-2,0.06,8.4000000000000005E-2,7.3999999999999996E-2,13312,14197,14344,30406,32030,32221,727,866,1086,20425,20351,20051,5620,5628,4170,0,0,0,13586,13341,12614,425756,427358,433157,76570,78083,82325,98295,97785,97825,0,0,0,45828,45401,46332,81071,81084,74176,8708,8597,8477,8.8999999999999996E-2,0.08,7.0999999999999994E-2,64486,76855,79414,0.47799999999999998,0.41799999999999998,0.41399999999999998,2013,1,"MAR","2013-03-01"]
["Santa Clara",46452,50330,50852,100983,108071,108748,0.308,0.313,0.29699999999999999,83505,86567,87258,0.79500000000000004,0.78500000000000003,0.78800000000000003,0.749,0.875,0.878,0.255,0.85099999999999998,0.87,3.0000000000000001E-3,1.2E-2,1.4999999999999999E-2,9.6000000000000002E-2,6.5000000000000002E-2,5.7000000000000002E-2,0.17,0.14299999999999999,0.13600000000000001,7.0000000000000001E-3,1.0999999999999999E-2,1.0999999999999999E-2,3.4000000000000002E-2,4.2000000000000003E-2,3.9E-2,46050,49038,52296,100419,105676,110622,4566,5507,7200,57629,56627,59419,13468,13623,11654,0,0,0,43239,44837,48568,1806881,1828597,1850595,292023,301962,321578,432604,436447,439320,0,0,0,178479,178148,176036,261394,260965,261699,43993,43944,44002,9.8000000000000004E-2,8.4000000000000005E-2,6.5000000000000002E-2,208028,220691,215577,0.48,0.47699999999999998,0.503,2013,1,"MAR","2013-03-01"]
["Santa Cruz",10100,10856,11632,20577,21161,23021,0.372,0.35099999999999998,0.38400000000000001,16634,15651,17255,0.751,0.72199999999999998,0.73299999999999998,0.625,0.95399999999999996,0.81499999999999995,0.86499999999999999,0.88900000000000001,0.92300000000000004,4.4999999999999998E-2,4.7E-2,5.8999999999999997E-2,0.109,5.5E-2,3.9E-2,0.19400000000000001,0.17599999999999999,0.11600000000000001,1.9E-2,2.5000000000000001E-2,3.1E-2,4.5999999999999999E-2,6.0999999999999999E-2,5.8999999999999997E-2,10117,10984,11641,20667,22390,22732,752,922,1290,11923,11666,11843,3213,3317,2423,0,0,0,8669,8532,8317,265569,267569,271495,47897,50062,53904,55764,55954,55939,0,0,0,23185,21496,20137,42412,42528,38508,5143,5104,5077,0.123,0.111,0.10299999999999999,40432,37039,42179,0.499,0.58799999999999997,0.54500000000000004,2013,1,"MAR","2013-03-01"]
["Shasta",11989,12319,11900,24418,24689,23749,0.434,0.44700000000000001,0.441,20747,21490,20956,0.85099999999999998,0.84799999999999998,0.84699999999999998,0.98799999999999999,0.97599999999999998,0.93400000000000005,0.93300000000000005,0.89600000000000002,0.85,4.4999999999999998E-2,4.7E-2,5.8999999999999997E-2,2.5000000000000001E-2,3.9E-2,0.17799999999999999,0.124,0.14199999999999999,0.26100000000000001,0.161,0.26,0.17599999999999999,0.18,0.28599999999999998,0.20100000000000001,11605,12445,11911,24047,25025,23709,691,821,990,10745,10508,10472,872,922,713,0,0,0,566,495,466,178089,178477,178591,43415,44441,45455,39287,39051,38745,0,0,0,2583,2105,3086,41918,41050,37387,9261,9329,9306,0.14899999999999999,0.13400000000000001,0.11799999999999999,41267,33389,40245,0.57699999999999996,0.74,0.58299999999999996,2013,1,"MAR","2013-03-01"]
["Sierra",124,155,165,262,292,314,0.35899999999999999,0.39,0.41899999999999998,230,255,281,0.88100000000000001,0.86099999999999999,0.88400000000000001,1,1,0.91700000000000004,0.92300000000000004,0.95799999999999996,0.96199999999999997,4.4999999999999998E-2,4.7E-2,5.8999999999999997E-2,2.4E-2,0,0.17899999999999999,4.9000000000000002E-2,0.16300000000000001,0.26800000000000002,9.8000000000000004E-2,0.122,0.107,9.8000000000000004E-2,0.122,0.107,119,156,156,235,302,305,14,23,26,78,95,106,0,1,1,0,0,0,9,4,6,3146,3089,3270,1035,1060,1235,508,481,463,0,0,0,79,60,93,497,514,497,104,99,99,0.14799999999999999,0.14299999999999999,0.129,596,623,697,0.40899999999999997,0.45600000000000002,0.436,2013,1,"MAR","2013-03-01"]
["Siskiyou",2617,2747,2862,5978,6114,6426,0.434,0.439,0.45600000000000002,5142,5332,5659,0.86,0.85399999999999998,0.86,1,1,1,0.95,0.95,0.95,4.4999999999999998E-2,4.7E-2,5.8999999999999997E-2,2.4E-2,3.4000000000000002E-2,0.13400000000000001,0.11899999999999999,0.125,0.20100000000000001,0.16900000000000001,0.159,0.127,0.185,0.17899999999999999,0.14199999999999999,2490,2719,2900,5722,6100,6486,184,220,275,2679,2701,2872,129,137,154,0,0,0,175,180,192,44875,44598,45215,12996,13353,13967,9107,8878,8755,0,0,0,741,820,782,10671,10616,10036,2406,2441,2475,0.16500000000000001,0.153,0.13200000000000001,9723,10259,10390,0.58299999999999996,0.59699999999999998,0.626,2013,1,"MAR","2013-03-01"]
["Solano",19138,20526,20595,39019,41119,41335,0.434,0.44400000000000001,0.443,34305,35568,35839,0.84499999999999997,0.84299999999999997,0.84,0.92300000000000004,0.94899999999999995,0.92600000000000005,0.94699999999999995,0.96399999999999997,0.95099999999999996,1.0999999999999999E-2,3.5000000000000003E-2,3.2000000000000001E-2,7.9000000000000001E-2,2.5000000000000001E-2,3.1E-2,0.18099999999999999,0.13600000000000001,0.154,1.2999999999999999E-2,1.4E-2,1.2999999999999999E-2,5.5E-2,6.7000000000000004E-2,6.3E-2,18530,19954,20782,38288,40161,41287,1219,1473,1823,19506,19347,20249,2885,3060,2463,0,0,0,6664,6772,6854,414337,415913,424048,73550,76529,80768,99231,97912,97128,0,0,0,22756,21564,20853,68794,68717,62999,11239,11520,11691,0.115,0.10100000000000001,0.09,58474,65053,61760,0.65400000000000003,0.61699999999999999,0.66800000000000004,2013,1,"MAR","2013-03-01"]
["Sonoma",16652,18467,24176,31838,34288,40348,0.373,0.379,0.38300000000000001,27206,28717,29356,0.81299999999999994,0.81100000000000005,0.81299999999999994,0.86199999999999999,0.95,0.94099999999999995,0.46100000000000002,0.622,0.40300000000000002,4.4999999999999998E-2,4.7E-2,5.8999999999999997E-2,0.106,8.1000000000000003E-2,8.2000000000000003E-2,0.186,0.18,0.17599999999999999,2.9000000000000001E-2,0.04,3.9E-2,5.7000000000000002E-2,7.0999999999999994E-2,7.5999999999999998E-2,15994,18390,18686,30639,34447,34451,1513,1870,2351,16897,17154,17558,3713,3946,3484,0,0,0,9786,10341,10432,486778,489283,493070,103855,107417,112593,105483,104978,104608,0,0,0,26893,29280,24921,62644,63908,60020,8632,8571,8547,9.8000000000000004E-2,8.5999999999999993E-2,7.0000000000000007E-2,66724,74079,71127,0.45500000000000002,0.45500000000000002,0.49099999999999999,2013,1,"MAR","2013-03-01"]
["Stanislaus",38000,40651,41147,85530,89458,90507,0.45900000000000002,0.46899999999999997,0.47099999999999997,65399,67554,67855,0.76300000000000001,0.749,0.745,1,1,0.98599999999999999,0.97099999999999997,0.95699999999999996,0.96699999999999997,3.5999999999999997E-2,0.01,8.0000000000000002E-3,1.7999999999999999E-2,3.7999999999999999E-2,0.19500000000000001,0.129,0.158,0.28699999999999998,0.156,0.219,0.14699999999999999,0.17799999999999999,0.24299999999999999,0.16800000000000001,36515,40036,41539,83529,88848,91048,2150,2464,2893,43670,44790,46298,5692,5991,5663,0,0,0,17532,17992,17711,518141,522651,527232,81410,84166,86547,145606,144581,144260,0,0,0,47675,48024,48602,136534,137356,128318,19462,19745,20057,0.16700000000000001,0.152,0.129,127006,117475,125680,0.65,0.75,0.72199999999999998,2013,1,"MAR","2013-03-01"]
["Sutter",4773,4941,5125,11667,11901,12365,0.39,0.39500000000000002,0.40799999999999997,10336,10695,11026,0.88800000000000001,0.879,0.875,0.92600000000000005,0.95199999999999996,0.96399999999999997,0.96099999999999997,0.95899999999999996,0.96199999999999997,4.4999999999999998E-2,4.7E-2,5.8999999999999997E-2,3.5000000000000003E-2,4.7E-2,0.18099999999999999,0.123,0.151,0.247,0.11,0.182,0.106,0.121,0.19700000000000001,0.123,4537,4961,5215,11371,11946,12440,261,306,369,6239,6271,6642,789,830,689,0,0,0,2271,2311,2281,94764,95351,97386,17121,17496,18207,25548,25370,25333,0,0,0,9877,9590,8366,23430,23515,21895,3672,3661,3778,0.19,0.17599999999999999,0.14599999999999999,21064,20846,22883,0.53500000000000003,0.72699999999999998,0.53800000000000003,2013,1,"MAR","2013-03-01"]
["Tehama",3993,4168,4205,9410,9693,9737,0.43,0.45,0.45200000000000001,8382,8865,8910,0.88200000000000001,0.88600000000000001,0.88800000000000001,0.89400000000000002,0.93400000000000005,0.96099999999999997,0.995,0.98799999999999999,0.99,4.4999999999999998E-2,4.7E-2,5.8999999999999997E-2,4.2000000000000003E-2,0.1,0.182,0.11600000000000001,0.20899999999999999,0.253,0.13800000000000001,0.222,0.159,0.14899999999999999,0.24399999999999999,0.16800000000000001,3910,4219,4320,9382,9899,9916,234,259,363,4866,4855,5013,493,469,441,0,0,0,1145,1161,1199,63514,63623,64498,14565,14869,15313,15769,15514,15280,0,0,0,2963,2546,2603,18073,17404,16152,3021,3057,3062,0.15,0.13900000000000001,0.11700000000000001,14706,14556,14220,0.629,0.66600000000000004,0.69199999999999995,2013,1,"MAR","2013-03-01"]
["Trinity",729,825,803,1531,1638,1613,0.39600000000000002,0.41699999999999998,0.41499999999999998,1308,1404,1363,0.84,0.83399999999999996,0.83,0.96399999999999997,0.91500000000000004,0.94199999999999995,0.98899999999999999,0.89100000000000001,0.94199999999999995,4.4999999999999998E-2,4.7E-2,5.8999999999999997E-2,4.8000000000000001E-2,6.6000000000000003E-2,0.20899999999999999,0.128,0.17899999999999999,0.26400000000000001,0.159,0.28799999999999998,0.35399999999999998,0.17899999999999999,0.311,0.37,686,776,762,1429,1557,1516,63,74,89,616,604,622,3,5,45,0,0,0,6,8,12,13546,13470,13776,4153,4270,4587,2380,2335,2276,0,0,0,21,21,36,2825,2854,2603,647,655,636,0.17799999999999999,0.158,0.121,2939,3088,3100,0.495,0.50600000000000001,0.502,2013,1,"MAR","2013-03-01"]
["Tulare",42324,43609,46318,108269,110559,114115,0.52600000000000002,0.52600000000000002,0.54300000000000004,92412,93145,96556,0.82899999999999996,0.82299999999999995,0.82299999999999995,1,1,1,0.93899999999999995,0.97799999999999998,0.98299999999999998,1.6E-2,9.0999999999999998E-2,5.8999999999999997E-2,0.23400000000000001,0.182,0.17199999999999999,0.35199999999999998,0.32600000000000001,0.29599999999999999,0.08,0.126,0.109,0.122,0.17599999999999999,0.156,39921,44577,46471,105401,110086,114774,2505,2949,3459,62509,64076,67240,8030,8010,8233,0,0,0,35817,36803,37887,447665,451627,456075,62466,64345,66305,143355,142812,143372,0,0,0,59121,60886,60016,168390,169956,160183,17127,17288,17554,0.16700000000000001,0.158,0.14399999999999999,131314,151607,147863,0.80200000000000005,0.57199999999999995,0.77500000000000002,2013,1,"MAR","2013-03-01"]
["Tuolumne",2735,2785,2836,5211,5153,5253,0.45,0.436,0.45,4617,4547,4713,0.874,0.878,0.873,0.99,0.97,0.95399999999999996,0.93700000000000006,0.96,0.97099999999999997,4.4999999999999998E-2,4.7E-2,5.8999999999999997E-2,3.7999999999999999E-2,3.5999999999999997E-2,0.161,0.151,0.14199999999999999,0.22700000000000001,0.109,0.159,0.16400000000000001,0.123,0.18,0.182,2680,2755,2828,5076,5103,5153,208,265,299,2060,1962,1955,141,149,137,0,0,0,56,65,66,55041,54339,54811,16275,16528,17219,9458,9222,9088,0,0,0,656,653,696,8283,8101,7561,1593,1618,1635,0.13,0.11600000000000001,0.108,8377,8976,9822,0.60399999999999998,0.57399999999999995,0.53100000000000003,2013,1,"MAR","2013-03-01"]
["Ventura",30437,31902,32230,63349,66179,66999,0.36499999999999999,0.371,0.377,48467,49085,50038,0.72899999999999998,0.71599999999999997,0.71699999999999997,0.98,0.98699999999999999,0.98099999999999998,0.95599999999999996,0.95399999999999996,0.94099999999999995,1.6E-2,7.0000000000000001E-3,1.2E-2,0.125,8.7999999999999995E-2,0.104,0.23699999999999999,0.20899999999999999,0.23,5.2999999999999999E-2,6.8000000000000005E-2,6.5000000000000002E-2,8.4000000000000005E-2,0.11700000000000001,0.106,28856,31284,32232,60915,64382,66971,2288,2757,3498,35138,35426,37769,7675,8035,6844,0,0,0,22636,23314,25095,830215,834109,839617,144495,148960,156524,208859,206821,205584,0,0,0,80053,79320,76495,125546,123340,111492,14762,14656,14764,0.10100000000000001,0.09,7.9000000000000001E-2,102487,105820,112132,0.60099999999999998,0.61499999999999999,0.60099999999999998,2013,1,"MAR","2013-03-01"]
["Yolo",7457,7861,7886,16466,16929,16966,0.39500000000000002,0.40699999999999997,0.41099999999999998,12907,14295,14441,0.75700000000000001,0.82199999999999995,0.81899999999999995,0.88800000000000001,0.90600000000000003,0.76700000000000002,0.91200000000000003,0.90600000000000003,0.875,4.4999999999999998E-2,4.7E-2,5.8999999999999997E-2,0.13800000000000001,0.113,0.11600000000000001,0.22500000000000001,0.214,0.22,3.5999999999999997E-2,5.8999999999999997E-2,5.6000000000000001E-2,6.5000000000000002E-2,0.105,8.5999999999999993E-2,7126,7766,7850,15941,16880,16629,562,627,774,8309,8261,8108,1057,1070,874,0,0,0,4990,4871,4707,202630,204314,206621,30153,31386,32873,44868,44406,43847,0,0,0,16723,13923,14762,30903,31043,28422,5262,5307,5351,0.125,0.115,9.0999999999999998E-2,51733,44018,42449,0.308,0.38300000000000001,0.39300000000000002,2013,1,"MAR","2013-03-01"]
["Yuba",5649,5770,5679,12840,12952,12871,0.48599999999999999,0.48899999999999999,0.49399999999999999,11011,11122,11207,0.84499999999999997,0.84199999999999997,0.85299999999999998,0.98599999999999999,1,0.97,0.94499999999999995,0.95699999999999996,0.96199999999999997,4.4999999999999998E-2,4.7E-2,5.8999999999999997E-2,3.4000000000000002E-2,4.2000000000000003E-2,0.187,0.13,0.13600000000000001,0.255,0.16900000000000001,0.20899999999999999,0.20300000000000001,0.19400000000000001,0.23,0.224,5620,5776,5749,13060,13058,12919,244,298,341,6598,6360,6541,680,644,571,0,0,0,1771,1707,1586,72620,73021,73600,11156,11530,11868,20727,20586,20521,0,0,0,4197,3903,3382,20858,20229,18518,3694,3772,3733,0.184,0.16900000000000001,0.13100000000000001,13588,19440,14308,0.94799999999999995,0.66300000000000003,0.89600000000000002,2013,1,"MAR","2013-03-01"]
["Alameda",60757,63168,62980,123210,126482,126214,0.36,0.35799999999999998,0.34300000000000003,95517,98800,96499,0.75900000000000001,0.753,0.751,0.91500000000000004,0.9,0.91400000000000003,0.873,0.86599999999999999,0.86199999999999999,1.2999999999999999E-2,3.5999999999999997E-2,0.04,8.7999999999999995E-2,8.2000000000000003E-2,9.9000000000000005E-2,0.17899999999999999,0.184,0.20300000000000001,3.4000000000000002E-2,0.05,0.05,7.1999999999999995E-2,9.5000000000000001E-2,9.5000000000000001E-2,56312,62045,62875,116353,124622,125835,4838,5848,7267,60943,61164,63938,10808,11499,9990,0,0,0,34800,36077,39263,1526220,1540790,1563370,256848,265903,282890,341530,343820,346038,0,0,0,140068,134661,133681,250554,253472,243275,48001,48146,48141,0.104,0.09,7.2999999999999995E-2,220935,220282,220034,0.52500000000000002,0.56499999999999995,0.56699999999999995,2013,2,"JUN","2013-06-01"]
["Alpine",86,83,85,145,151,153,0.47199999999999998,0.5,0.54400000000000004,135,133,137,0.86499999999999999,0.89300000000000002,0.85099999999999998,1,1,1,1,0.92900000000000005,0.95,4.8000000000000001E-2,5.8999999999999997E-2,5.8999999999999997E-2,4.2000000000000003E-2,0.188,7.0999999999999994E-2,8.3000000000000004E-2,0.188,0.14299999999999999,4.2000000000000003E-2,0,0.107,4.2000000000000003E-2,0.125,0.107,78,84,91,144,147,171,13,9,11,46,53,62,2,2,0,0,0,0,0,0,0,1118,1127,1228,276,293,369,239,245,243,0,0,0,21,24,25,193,201,184,44,41,42,0.14799999999999999,0.13300000000000001,9.8000000000000004E-2,209,195,222,0.72099999999999997,0.749,0.70099999999999996,2013,2,"JUN","2013-06-01"]
["Amador",1666,1717,1717,3214,3319,3262,0.48899999999999999,0.48599999999999999,0.48099999999999998,2732,2703,2650,0.83199999999999996,0.81299999999999994,0.81599999999999995,0.89600000000000002,0.91400000000000003,0.97299999999999998,0.86099999999999999,0.93100000000000005,0.95599999999999996,4.8000000000000001E-2,5.8999999999999997E-2,5.8999999999999997E-2,2.9000000000000001E-2,0.17100000000000001,0.14399999999999999,0.14199999999999999,0.25600000000000001,0.20599999999999999,0.187,0.189,0.19700000000000001,0.2,0.19600000000000001,0.21,1485,1717,1685,2906,3287,3280,133,182,194,1175,1230,1298,60,61,69,0,0,0,85,81,98,37288,36899,36945,11475,11711,11769,6120,6009,5919,0,0,0,458,507,484,4505,4522,4116,628,654,674,0.128,0.11799999999999999,0.10299999999999999,4098,4237,4989,0.70299999999999996,0.76700000000000002,0.65700000000000003,2013,2,"JUN","2013-06-01"]
["Butte",13710,14278,14409,28623,29807,29770,0.43099999999999999,0.44,0.438,25551,26463,26304,0.871,0.86699999999999999,0.86099999999999999,0.87,0.93899999999999995,0.94199999999999995,0.92200000000000004,0.95799999999999996,0.95299999999999996,4.8000000000000001E-2,5.8999999999999997E-2,5.8999999999999997E-2,2.8000000000000001E-2,0.14699999999999999,0.13600000000000001,0.123,0.219,0.21099999999999999,0.29199999999999998,0.217,0.22700000000000001,0.316,0.23400000000000001,0.24299999999999999,12883,13988,14733,27531,29226,30211,697,842,1116,12820,12905,13523,1166,1187,1063,0,0,0,3175,2929,2782,220521,221118,222035,48592,49667,51734,46265,45992,45459,0,0,0,5007,5475,4375,52008,51266,47746,10702,10828,10914,0.13600000000000001,0.122,0.10299999999999999,61543,56950,57536,0.443,0.51200000000000001,0.52100000000000002,2013,2,"JUN","2013-06-01"]
["Calaveras",2489,2570,2571,5000,5004,5023,0.499,0.5,0.47499999999999998,4066,4157,3991,0.80300000000000005,0.82699999999999996,0.82299999999999995,0.96499999999999997,0.97,0.98199999999999998,0.99199999999999999,0.96399999999999997,0.98,4.8000000000000001E-2,5.8999999999999997E-2,5.8999999999999997E-2,2.1999999999999999E-2,0.126,0.14000000000000001,0.10299999999999999,0.193,0.217,0.16500000000000001,0.13700000000000001,0.17399999999999999,0.192,0.155,0.19700000000000001,2309,2522,2576,4736,4998,4969,219,278,322,1877,1881,1808,58,66,103,0,0,0,123,148,134,45143,45045,45214,14097,14458,15224,8594,8280,7993,0,0,0,510,559,410,6701,6850,6097,1005,1023,1043,0.14599999999999999,0.13,0.1,4923,5990,6022,0.95499999999999996,0.83099999999999996,0.82399999999999995,2013,2,"JUN","2013-06-01"]
["California",1792764,1919085,1926913,3996483,4194682,4202850,0.41599999999999998,0.41699999999999998,0.40500000000000003,3172366,3250685,3271525,0.81599999999999995,0.81599999999999995,0.81499999999999995,0.97499999999999998,0.96599999999999997,0.97099999999999997,0.94,0.93700000000000006,0.94299999999999995,0.04,3.1E-2,3.2000000000000001E-2,9.2999999999999999E-2,0.13500000000000001,0.13,0.183,0.222,0.218,7.8E-2,7.1999999999999995E-2,0.08,0.10100000000000001,9.4E-2,0.104,1684027,1843348,1942841,3813817,4074650,4221057,115078,141407,176557,2138572,2184693,2272684,356627,372370,341378,0,0,0,1226258,1268115,1314549,37570307,37826160,38202206,6313717,6506534,6820715,9214425,9170526,9150549,0,0,0,3841701,3775905,3750293,7594872,7619341,7280074,1165670,1176286,1187606,0.11799999999999999,0.105,8.8999999999999996E-2,6883374,7121280,7166749,0.55200000000000005,0.56999999999999995,0.58399999999999996,2013,2,"JUN","2013-06-01"]
["Colusa",717,716,733,1810,1820,1840,0.30499999999999999,0.315,0.30199999999999999,1645,1682,1645,0.90100000000000002,0.88900000000000001,0.89300000000000002,0.98099999999999998,0.93400000000000005,0.98,0.97199999999999998,1,1,4.8000000000000001E-2,5.8999999999999997E-2,5.8999999999999997E-2,4.1000000000000002E-2,0.20499999999999999,0.112,0.13900000000000001,0.28499999999999998,0.193,0.16900000000000001,0.14199999999999999,0.158,0.191,0.159,0.16600000000000001,673,701,713,1716,1728,1710,44,39,72,1083,1055,1032,87,108,164,0,0,0,590,598,553,21502,21614,21987,3687,3794,4033,6264,6173,6106,0,0,0,3215,3235,2986,4710,4695,4193,541,556,564,0.20499999999999999,0.2,0.19,4441,4435,3771,0.38,0.38900000000000001,0.46100000000000002,2013,2,"JUN","2013-06-01"]
["Contra Costa",32012,33220,33077,67462,68857,68625,0.35199999999999998,0.35099999999999998,0.32500000000000001,52166,53266,52362,0.748,0.748,0.74399999999999999,0.96,0.94599999999999995,0.95,0.89100000000000001,0.90700000000000003,0.93700000000000006,3.7999999999999999E-2,2.3E-2,3.1E-2,0.11,0.115,0.115,0.184,0.20899999999999999,0.20399999999999999,3.9E-2,4.3999999999999997E-2,4.4999999999999998E-2,6.6000000000000003E-2,8.1000000000000003E-2,8.1000000000000003E-2,30338,32977,32730,64763,68789,67763,1979,2515,3064,35431,35507,36829,6233,6651,5449,0,0,0,14843,15201,15787,1061375,1069803,1081862,198717,205603,215513,258003,255890,253746,0,0,0,62372,66528,66244,141199,143428,131952,23292,23603,24041,0.104,0.09,7.4999999999999997E-2,149672,135137,145293,0.432,0.50700000000000001,0.47099999999999997,2013,2,"JUN","2013-06-01"]
["Del Norte",2596,2581,2542,5423,5251,5149,0.50600000000000001,0.496,0.48699999999999999,4827,4577,4478,0.88,0.872,0.86599999999999999,1,1,1,0.99199999999999999,0.98799999999999999,0.97399999999999998,4.8000000000000001E-2,5.8999999999999997E-2,5.8999999999999997E-2,4.4999999999999998E-2,0.249,0.21099999999999999,0.17599999999999999,0.33600000000000002,0.26500000000000001,0.19700000000000001,0.25,0.19,0.21299999999999999,0.26500000000000001,0.2,2525,2629,2525,5328,5445,5132,122,157,193,2398,2343,2218,160,173,167,0,0,0,333,285,262,28498,28359,28530,5761,5913,6153,5949,5778,5698,0,0,0,577,549,733,8219,8091,7460,1936,1869,1817,0.13100000000000001,0.13400000000000001,0.11799999999999999,5502,5696,5923,0.95399999999999996,0.94399999999999995,0.86399999999999999,2013,2,"JUN","2013-06-01"]
["El Dorado",5990,6386,6409,11522,11975,11947,0.41899999999999998,0.42599999999999999,0.41199999999999998,9721,9941,9680,0.81299999999999994,0.8,0.80100000000000005,1,0.97899999999999998,0.99199999999999999,0.96299999999999997,0.98799999999999999,0.96399999999999997,4.8000000000000001E-2,5.8999999999999997E-2,5.8999999999999997E-2,2.8000000000000001E-2,0.14799999999999999,0.13500000000000001,0.115,0.224,0.21199999999999999,0.14199999999999999,0.156,0.17799999999999999,0.158,0.17599999999999999,0.2,5602,6081,6397,11204,11620,11765,481,581,732,4898,4822,4716,358,402,417,0,0,0,850,864,882,180663,180599,184054,41293,42806,46098,40109,39168,38276,0,0,0,3350,3301,3580,19110,19049,17413,2777,2818,2850,0.11899999999999999,0.104,8.5000000000000006E-2,25383,19223,26641,0.435,0.60599999999999998,0.441,2013,2,"JUN","2013-06-01"]
["Fresno",87966,91393,91601,213832,219915,220493,0.53400000000000003,0.53900000000000003,0.51700000000000002,174717,177890,176222,0.8,0.79300000000000004,0.78900000000000003,1,0.96899999999999997,0.96,0.97099999999999997,0.97099999999999997,0.93300000000000005,1.7999999999999999E-2,6.0000000000000001E-3,0.41,0.17199999999999999,0.128,0.157,0.28299999999999997,0.247,0.27900000000000003,8.4000000000000005E-2,5.0999999999999997E-2,9.7000000000000003E-2,0.129,8.7999999999999995E-2,0.152,84399,88850,90783,206749,215016,217757,3822,4650,5364,119928,122558,123609,15136,15452,14216,0,0,0,60894,61549,59175,939278,946823,958260,138663,143086,147191,276363,275524,276923,0,0,0,112468,115573,108885,313221,316699,299363,39741,40171,40774,0.16500000000000001,0.152,0.13200000000000001,261012,283513,280018,0.78900000000000003,0.75800000000000001,0.78300000000000003,2013,2,"JUN","2013-06-01"]
["Glenn",1372,1410,1451,3422,3555,3606,0.39300000000000002,0.39600000000000002,0.39200000000000002,3176,3291,3324,0.89900000000000002,0.91300000000000003,0.91100000000000003,1,1,1,1,1,0.99299999999999999,4.8000000000000001E-2,5.8999999999999997E-2,5.8999999999999997E-2,3.6999999999999998E-2,0.20300000000000001,0.13700000000000001,0.13600000000000001,0.28299999999999997,0.21099999999999999,0.13100000000000001,0.14699999999999999,0.114,0.14000000000000001,0.159,0.123,1323,1389,1431,3422,3419,3549,63,87,113,1955,1908,1985,219,231,237,0,0,0,744,769,739,28255,28208,28599,5356,5499,5834,7776,7657,7588,0,0,0,2387,2433,2638,7202,7157,6747,1118,1128,1136,0.158,0.14699999999999999,0.121,6094,6413,6196,0.54400000000000004,0.53700000000000003,0.56899999999999995,2013,2,"JUN","2013-06-01"]
["Humboldt",8046,8301,8426,15302,15689,15819,0.40699999999999997,0.42199999999999999,0.42,12899,13474,13590,0.82899999999999996,0.83199999999999996,0.82699999999999996,0.99099999999999999,0.96499999999999997,0.98899999999999999,0.92800000000000005,0.9,0.93300000000000005,4.8000000000000001E-2,5.8999999999999997E-2,5.8999999999999997E-2,0.03,0.13700000000000001,0.11799999999999999,0.124,0.214,0.183,0.20100000000000001,0.19900000000000001,0.186,0.22800000000000001,0.22800000000000001,0.20599999999999999,7731,8114,8812,14836,15495,16507,422,496,695,6696,6496,7000,657,685,684,0,0,0,843,807,886,135218,134923,136480,27992,29078,30216,26890,26337,26025,0,0,0,2150,2104,2347,27304,27113,24939,5830,5740,5607,0.114,0.105,8.2000000000000003E-2,29447,32857,34043,0.5,0.46700000000000003,0.47399999999999998,2013,2,"JUN","2013-06-01"]
["Imperial",13682,14424,14164,35099,36983,36277,0.498,0.50800000000000001,0.503,32249,33514,32838,0.88800000000000001,0.88600000000000001,0.88,1,1,1,0.98699999999999999,0.98699999999999999,0.98899999999999999,4.8000000000000001E-2,5.8999999999999997E-2,5.8999999999999997E-2,3.6999999999999998E-2,0.193,0.192,0.13600000000000001,0.27500000000000002,0.28000000000000003,0.16400000000000001,0.156,0.13600000000000001,0.185,0.17699999999999999,0.155,13153,14037,14518,34438,36091,37083,1259,1456,1738,18301,18176,19291,891,994,1028,0,0,0,17336,17886,19370,177229,178659,179326,26621,27470,28182,51037,50932,51426,0,0,0,31970,32769,32195,58086,58377,55474,10249,10349,10276,0.29699999999999999,0.28299999999999997,0.249,52830,44744,44790,0.65100000000000002,0.80800000000000005,0.81499999999999995,2013,2,"JUN","2013-06-01"]
["Inyo",957,994,1038,1945,1992,2058,0.40100000000000002,0.39400000000000002,0.41299999999999998,1757,1733,1818,0.877,0.87,0.85499999999999998,0.98599999999999999,0.98799999999999999,1,0.99099999999999999,0.98399999999999999,0.97799999999999998,4.8000000000000001E-2,5.8999999999999997E-2,5.8999999999999997E-2,4.3999999999999997E-2,0.153,0.16300000000000001,0.17,0.20399999999999999,0.24299999999999999,0.14499999999999999,0.14299999999999999,0.19600000000000001,0.155,0.153,0.22700000000000001,869,957,1058,1813,1951,2132,92,105,137,866,879,964,91,105,103,0,0,0,267,316,327,18687,18637,19241,5025,5121,5510,3816,3727,3660,0,0,0,454,490,532,3541,3534,3188,390,396,407,9.9000000000000005E-2,9.4E-2,7.9000000000000001E-2,2628,2515,2766,0.68799999999999994,0.77700000000000002,0.73899999999999999,2013,2,"JUN","2013-06-01"]
["Kern",56571,59233,59622,138799,144045,144678,0.48,0.47099999999999997,0.45300000000000001,119383,118416,120117,0.82,0.80900000000000005,0.81,0.98699999999999999,0.97499999999999998,0.99099999999999999,0.96899999999999997,0.95599999999999996,0.95199999999999996,3.7999999999999999E-2,2.8000000000000001E-2,2.5000000000000001E-2,5.0999999999999997E-2,0.22900000000000001,0.20899999999999999,0.152,0.31,0.29499999999999998,0.14299999999999999,0.125,0.125,0.16400000000000001,0.14699999999999999,0.14799999999999999,53773,57915,59623,134833,140798,144653,2783,3379,3983,81944,82189,84978,11845,11952,10703,0,0,0,37108,37887,37191,848839,855522,869797,114797,119415,122971,252109,251296,252028,0,0,0,84185,85452,88100,239601,240099,224473,30734,31095,31384,0.14899999999999999,0.13300000000000001,0.11700000000000001,213705,213671,224185,0.626,0.65400000000000003,0.64,2013,2,"JUN","2013-06-01"]
["Kings",9591,9824,10012,23029,23337,23729,0.52,0.51100000000000001,0.49099999999999999,21088,20864,21364,0.88600000000000001,0.88,0.88100000000000001,1,0.98799999999999999,0.98399999999999999,0.86499999999999999,0.95299999999999996,0.96899999999999997,4.8000000000000001E-2,5.8999999999999997E-2,5.8999999999999997E-2,5.1999999999999998E-2,0.20200000000000001,0.21,0.154,0.28399999999999997,0.29399999999999998,0.13400000000000001,0.16,0.17899999999999999,0.152,0.18,0.20699999999999999,9036,9624,9956,22067,22949,23543,448,563,652,12407,12535,12892,1524,1554,1396,0,0,0,5421,5625,5451,151655,150843,152456,18146,18666,19636,41508,40866,41136,0,0,0,14643,14061,14426,36327,36030,33393,4723,4729,4659,0.16200000000000001,0.153,0.13500000000000001,28208,33431,34891,0.78300000000000003,0.68600000000000005,0.66900000000000004,2013,2,"JUN","2013-06-01"]
["Lake",5041,5134,5165,10174,10232,10263,0.42799999999999999,0.42199999999999999,0.41699999999999998,8782,8799,8736,0.85,0.84399999999999997,0.84899999999999998,0.97899999999999998,0.94099999999999995,0.96099999999999997,0.93500000000000005,0.95199999999999996,0.95199999999999996,4.8000000000000001E-2,5.8999999999999997E-2,5.8999999999999997E-2,1.7999999999999999E-2,0.107,0.111,7.5999999999999998E-2,0.17499999999999999,0.17199999999999999,0.25700000000000001,0.214,0.17399999999999999,0.27800000000000002,0.24399999999999999,0.19500000000000001,4751,5041,5227,9789,10039,10453,382,477,586,4333,4340,4436,232,256,385,0,0,0,789,790,814,64419,64394,64782,16938,17355,18045,13319,13100,12882,0,0,0,1826,1920,1792,18109,17709,16443,3653,3701,3710,0.16800000000000001,0.15,0.108,17844,19370,17452,0.52,0.52300000000000002,0.59,2013,2,"JUN","2013-06-01"]
["Lassen",1394,1410,1419,2948,2939,2954,0.47299999999999998,0.47499999999999998,0.46800000000000003,2683,2689,2662,0.90100000000000002,0.89200000000000002,0.88200000000000001,0.99199999999999999,0.97099999999999997,0.98899999999999999,0.93600000000000005,0.92100000000000004,0.95899999999999996,4.8000000000000001E-2,5.8999999999999997E-2,5.8999999999999997E-2,0.104,0.161,0.155,0.27800000000000002,0.251,0.23400000000000001,0.125,0.16700000000000001,0.129,0.14399999999999999,0.19500000000000001,0.14599999999999999,1402,1386,1426,3018,2933,2971,61,81,99,1342,1284,1319,78,87,91,0,0,0,74,70,67,34668,33650,34966,5526,5593,6186,6095,5682,5574,0,0,0,745,704,769,5145,4859,4436,928,930,906,0.13400000000000001,0.126,0.106,4149,4471,4398,0.71699999999999997,0.65800000000000003,0.67800000000000005,2013,2,"JUN","2013-06-01"]
["Los Angeles",495619,546975,549697,1059973,1133944,1134472,0.33600000000000002,0.34899999999999998,0.33,841870,870624,875815,0.78900000000000003,0.76300000000000001,0.76800000000000002,0.97499999999999998,0.95699999999999996,0.96699999999999997,0.94799999999999995,0.95099999999999996,0.96099999999999997,5.1999999999999998E-2,2.5000000000000001E-2,3.1E-2,0.11799999999999999,0.113,9.6000000000000002E-2,0.20899999999999999,0.19400000000000001,0.17899999999999999,0,1.0999999999999999E-2,0.01,3.0000000000000001E-3,1.6E-2,1.6E-2,478664,516984,557570,1027412,1093422,1148512,30250,36571,46590,589565,599556,629069,119837,124537,117585,0,0,0,413819,423844,444806,9860836,9911665,10010961,1574823,1620299,1701464,2357593,2341123,2329494,0,0,0,1413525,1372113,1402433,2418773,2410140,2250353,382816,385131,388148,0.123,0.109,9.8000000000000004E-2,1963598,2021648,2088070,0.52100000000000002,0.53900000000000003,0.54200000000000004,2013,2,"JUN","2013-06-01"]
["Madera",10542,10502,10722,26783,26692,27189,0.496,0.49099999999999999,0.46300000000000002,24700,24534,24568,0.90400000000000003,0.9,0.90500000000000003,0.98399999999999999,0.96099999999999997,0.97799999999999998,0.99,0.98299999999999998,0.98199999999999998,4.8000000000000001E-2,5.8999999999999997E-2,5.8999999999999997E-2,4.4999999999999998E-2,0.187,0.17100000000000001,0.13900000000000001,0.27800000000000002,0.25600000000000001,0.184,0.153,0.17399999999999999,0.20699999999999999,0.18,0.19600000000000001,10006,10437,10608,25675,26670,26856,467,534,619,16252,16732,16652,3162,3223,2773,0,0,0,9919,10100,9640,152008,151790,153409,25106,25433,26873,42605,42036,42149,0,0,0,19401,20218,20706,45597,45875,42230,4466,4441,4478,0.151,0.13600000000000001,0.125,33539,38099,38832,0.75700000000000001,0.69299999999999995,0.69099999999999995,2013,2,"JUN","2013-06-01"]
["Marin",5464,5562,5648,9221,9420,9542,0.316,0.318,0.30399999999999999,8202,8317,8447,0.871,0.86799999999999999,0.877,0.96799999999999997,0.94499999999999995,0.95099999999999996,0.94,0.93300000000000005,0.95099999999999996,4.8000000000000001E-2,5.8999999999999997E-2,5.8999999999999997E-2,4.7E-2,0.16200000000000001,0.13200000000000001,0.125,0.222,0.19900000000000001,0.113,0.13500000000000001,0.14899999999999999,0.13500000000000001,0.157,0.17399999999999999,5241,5541,5762,8890,9408,9774,659,758,887,4267,4358,4734,1168,1245,1271,0,0,0,2668,2958,3455,254359,254882,256264,63398,65062,69445,51983,51763,51412,0,0,0,8250,11689,8867,22986,22611,21230,3120,3102,3107,7.3999999999999996E-2,6.3E-2,5.1999999999999998E-2,28284,20101,22421,0.311,0.46300000000000002,0.42,2013,2,"JUN","2013-06-01"]
["Mariposa",875,893,913,1783,1837,1828,0.46899999999999997,0.47199999999999998,0.45500000000000002,1598,1645,1592,0.872,0.87,0.874,0.90600000000000003,0.89700000000000002,0.91100000000000003,0.96699999999999997,0.93799999999999994,0.94299999999999995,4.8000000000000001E-2,5.8999999999999997E-2,5.8999999999999997E-2,0.02,0.14099999999999999,0.16200000000000001,9.6000000000000002E-2,0.187,0.247,0.161,0.14499999999999999,0.255,0.17299999999999999,0.17,0.26800000000000002,796,875,920,1730,1804,1855,77,83,119,727,709,714,39,41,37,0,0,0,42,47,30,17977,17817,18101,5580,5675,5971,3136,3056,2988,0,0,0,331,155,227,2868,2854,2652,450,460,462,0.11899999999999999,0.11,0.105,2928,2848,3155,0.57399999999999995,0.623,0.58799999999999997,2013,2,"JUN","2013-06-01"]
["Mendocino",7013,7117,6971,13785,13483,13205,0.39900000000000002,0.39600000000000002,0.38300000000000001,11253,11126,10969,0.83199999999999996,0.82699999999999996,0.84199999999999997,0.99399999999999999,0.99399999999999999,1,0.998,0.98899999999999999,0.98899999999999999,4.8000000000000001E-2,5.8999999999999997E-2,5.8999999999999997E-2,4.2999999999999997E-2,0.216,0.182,0.153,0.32200000000000001,0.28599999999999998,0.14899999999999999,0.16200000000000001,0.186,0.17599999999999999,0.19900000000000001,0.22600000000000001,6735,7242,6923,13122,13660,13202,490,591,699,5593,5727,5665,571,592,688,0,0,0,1861,1934,1823,88071,88566,88931,21515,22245,23290,19200,19078,18865,0,0,0,4077,4188,4171,22789,23130,21783,3247,3238,3218,0.109,9.7000000000000003E-2,8.2000000000000003E-2,21298,19739,22381,0.61099999999999999,0.68700000000000006,0.58799999999999997,2013,2,"JUN","2013-06-01"]
["Merced",21670,22570,22906,53475,55147,55780,0.51600000000000001,0.51200000000000001,0.51200000000000001,45395,45577,46390,0.82299999999999995,0.81799999999999995,0.82099999999999995,0.99399999999999999,0.98599999999999999,0.998,0.98399999999999999,0.99099999999999999,0.99199999999999999,2.3E-2,3.0000000000000001E-3,0.56999999999999995,5.0999999999999997E-2,0.20399999999999999,0.17799999999999999,0.14299999999999999,0.29599999999999999,0.26400000000000001,0.255,0.189,0.23499999999999999,0.28000000000000003,0.21,0.25900000000000001,20289,22003,22956,51328,53940,55568,917,1122,1338,30050,30744,31540,3935,4110,4036,0,0,0,15243,15638,15579,259289,261708,263441,35643,36841,37818,80297,79582,79353,0,0,0,36166,31663,35644,84350,84983,80292,10642,10745,10849,0.183,0.17,0.14499999999999999,80133,67910,70247,0.63200000000000001,0.79,0.78600000000000003,2013,2,"JUN","2013-06-01"]
["Modoc",444,425,433,1046,965,955,0.38200000000000001,0.371,0.36399999999999999,908,877,852,0.88,0.874,0.89300000000000002,1,1,1,0.94099999999999995,0.94499999999999995,0.92300000000000004,4.8000000000000001E-2,5.8999999999999997E-2,5.8999999999999997E-2,2.5000000000000001E-2,0.22500000000000001,0.22,0.14000000000000001,0.34399999999999997,0.28000000000000003,0.153,0.113,0.1,0.17199999999999999,0.13100000000000001,0.127,402,438,415,956,997,935,20,25,34,519,486,442,24,20,42,0,0,0,69,78,71,9565,9518,9457,2781,2834,2876,2072,2010,1952,0,0,0,279,280,335,2094,2012,1865,404,405,416,0.15,0.13500000000000001,0.124,2395,2460,2622,0.41399999999999998,0.40899999999999997,0.36099999999999999,2013,2,"JUN","2013-06-01"]
["Mono",432,414,335,709,703,606,0.32300000000000001,0.315,0.28299999999999997,582,557,518,0.69499999999999995,0.77100000000000002,0.76500000000000001,0.93500000000000005,0.91200000000000003,1,0.88800000000000001,0.89100000000000001,0.95799999999999996,4.8000000000000001E-2,5.8999999999999997E-2,5.8999999999999997E-2,2.1000000000000001E-2,0.107,1.7999999999999999E-2,0.17,0.14699999999999999,0.14399999999999999,3.2000000000000001E-2,3.4000000000000002E-2,4.2999999999999997E-2,4.2999999999999997E-2,8.5000000000000006E-2,4.7E-2,383,447,400,619,709,656,21,32,43,272,326,283,3,3,74,0,0,0,172,226,163,14305,14258,14376,2323,2415,2711,2996,2971,3013,0,0,0,954,870,937,1381,1413,1248,98,102,101,0.10100000000000001,0.105,8.5000000000000006E-2,2449,2221,2021,0.23200000000000001,0.313,0.316,2013,2,"JUN","2013-06-01"]
["Monterey",20328,20885,21740,47110,48096,50064,0.39700000000000002,0.40200000000000002,0.35399999999999998,40685,41868,42828,0.84599999999999997,0.83899999999999997,0.85299999999999998,1,0.998,1,0.99099999999999999,0.995,0.995,1.2E-2,0.01,1.7999999999999999E-2,2.5999999999999999E-2,0.16800000000000001,0.17899999999999999,0.11799999999999999,0.224,0.25,0.13500000000000001,0.1,0.122,0.14899999999999999,0.112,0.13800000000000001,17107,19325,20213,40060,44518,46145,936,1189,1572,27488,29906,29909,6060,6608,6960,0,0,0,19759,22110,21235,419998,422868,424119,66498,68145,71183,111651,111806,112481,0,0,0,78905,79767,64059,94574,96221,88589,8492,8502,8458,0.125,0.114,0.10299999999999999,84701,80400,83052,0.47599999999999998,0.55600000000000005,0.56499999999999995,2013,2,"JUN","2013-06-01"]
["Napa",3380,3344,3358,7209,7165,7097,0.32100000000000001,0.33,0.29899999999999999,6254,6287,6058,0.83299999999999996,0.83199999999999996,0.83899999999999997,0.99099999999999999,0.73299999999999998,0.63400000000000001,0.98199999999999998,0.97,0.96599999999999997,4.8000000000000001E-2,5.8999999999999997E-2,5.8999999999999997E-2,2.7E-2,0.111,0.115,8.2000000000000003E-2,0.18,0.185,0.23,0.248,0.23300000000000001,0.245,0.27500000000000002,0.26200000000000001,3231,3452,3193,6899,7287,6710,230,292,341,4223,4244,4081,1012,1098,909,0,0,0,2859,3019,2892,137634,138577,139831,29909,30643,32036,31219,31125,31002,0,0,0,11887,12388,12782,17142,17126,15421,2126,2142,2156,9.0999999999999998E-2,7.8E-2,6.8000000000000005E-2,22177,18311,16770,0.312,0.39300000000000002,0.40699999999999997,2013,2,"JUN","2013-06-01"]
["Nevada",3572,3872,3840,6919,7389,7327,0.41799999999999998,0.42499999999999999,0.42299999999999999,5773,6081,6108,0.81599999999999995,0.80600000000000005,0.81200000000000006,0.99299999999999999,0.99299999999999999,1,0.99199999999999999,0.94499999999999995,0.97399999999999998,4.8000000000000001E-2,5.8999999999999997E-2,5.8999999999999997E-2,3.5000000000000003E-2,0.129,0.122,0.114,0.20699999999999999,0.20899999999999999,0.112,0.11700000000000001,0.158,0.13100000000000001,0.13500000000000001,0.182,3128,3667,3898,6272,7105,7452,247,314,445,2600,2726,2951,169,219,186,0,0,0,247,270,255,98593,98202,98317,29012,29761,31210,18477,18018,17565,0,0,0,1308,1312,1576,11559,11428,10758,1749,1771,1796,0.106,9.4E-2,8.1000000000000003E-2,15526,14198,16674,0.39500000000000002,0.495,0.442,2013,2,"JUN","2013-06-01"]
["Orange",94728,102785,104202,213200,227792,230478,0.35299999999999998,0.34399999999999997,0.33,170334,179518,181573,0.77400000000000002,0.77300000000000002,0.77300000000000002,0.999,0.998,0.998,0.995,0.99299999999999999,0.996,1.4999999999999999E-2,1.6E-2,2.5000000000000001E-2,0.106,8.6999999999999994E-2,0.09,0.183,0.17699999999999999,0.18099999999999999,4.3999999999999997E-2,4.2999999999999997E-2,5.2999999999999999E-2,7.0999999999999994E-2,7.1999999999999995E-2,8.6999999999999994E-2,84958,97956,105823,195627,218827,232862,7953,10377,13145,122531,131451,139033,29734,31940,29922,0,0,0,97060,105140,111958,3047120,3071933,3097966,517519,533455,559090,728891,724926,721292,0,0,0,333989,322892,316852,453202,460035,467937,65415,66558,67573,8.7999999999999995E-2,7.5999999999999998E-2,6.5000000000000002E-2,433176,453553,444095,0.45,0.48199999999999998,0.51800000000000002,2013,2,"JUN","2013-06-01"]
["Placer",8182,8299,8372,18082,17706,17632,0.36899999999999999,0.35199999999999998,0.34200000000000003,12096,11627,11461,0.66900000000000004,0.65300000000000002,0.64700000000000002,0.97899999999999998,0.98899999999999999,0.995,0.95799999999999996,0.96699999999999997,0.97399999999999998,4.8000000000000001E-2,5.8999999999999997E-2,5.8999999999999997E-2,0.10100000000000001,8.5999999999999993E-2,8.1000000000000003E-2,0.18099999999999999,0.17,0.16200000000000001,3.6999999999999998E-2,3.4000000000000002E-2,3.4000000000000002E-2,6.3E-2,5.8999999999999997E-2,6.2E-2,7692,8227,8480,17524,17815,17673,598,791,1019,8196,8043,7868,860,871,677,0,0,0,2095,2058,2021,356367,360680,365125,77238,79177,85049,85424,85224,84419,0,0,0,8075,6656,8063,31025,31306,28497,4956,5044,5056,0.108,9.4E-2,7.6999999999999999E-2,41528,42087,39484,0.41599999999999998,0.42599999999999999,0.45,2013,2,"JUN","2013-06-01"]
["Plumas",737,815,802,1662,1759,1729,0.373,0.39,0.39,1412,1519,1480,0.84099999999999997,0.85599999999999998,0.86299999999999999,0.97899999999999998,0.91900000000000004,1,0.96899999999999997,0.98099999999999998,0.97799999999999998,4.8000000000000001E-2,5.8999999999999997E-2,5.8999999999999997E-2,2.7E-2,0.17100000000000001,0.17199999999999999,0.111,0.22800000000000001,0.221,8.1000000000000003E-2,0.11700000000000001,0.115,8.7999999999999995E-2,0.12,0.11799999999999999,638,756,773,1497,1654,1604,46,50,82,683,701,676,19,27,34,0,0,0,25,21,22,19953,19523,19466,6266,6395,6703,3503,3317,3263,0,0,0,164,261,217,3112,3224,3027,657,665,641,0.16,0.14699999999999999,0.13900000000000001,3314,3548,3816,0.44700000000000001,0.46100000000000002,0.439,2013,2,"JUN","2013-06-01"]
["Riverside",105181,114341,114243,259750,276891,274951,0.44900000000000001,0.41799999999999998,0.40500000000000003,189324,190915,196709,0.7,0.69199999999999995,0.70299999999999996,1,0.997,0.999,0.94799999999999995,0.95799999999999996,0.95799999999999996,0.03,3.1E-2,3.3000000000000002E-2,2.7E-2,0.182,0.17599999999999999,0.11600000000000001,0.25800000000000001,0.255,0.16500000000000001,0.14000000000000001,0.158,0.184,0.161,0.18099999999999999,95761,109234,115800,242348,267997,278117,6565,8379,10225,137664,143506,151042,17706,18716,17000,0,0,0,59766,62978,65355,2220502,2244399,2264173,369034,378792,396291,615707,611198,608238,0,0,0,183465,178052,173255,407580,408855,409328,53606,54970,56654,0.13700000000000001,0.122,9.9000000000000005E-2,437744,482427,469029,0.55400000000000005,0.55400000000000005,0.59099999999999997,2013,2,"JUN","2013-06-01"]
["Sacramento",88694,93843,93514,200900,210145,209287,0.47099999999999997,0.47599999999999998,0.44700000000000001,157811,162627,162345,0.76600000000000001,0.75900000000000001,0.76500000000000001,0.99099999999999999,0.99,0.98899999999999999,0.96499999999999997,0.95599999999999996,0.98399999999999999,2.8000000000000001E-2,5.0000000000000001E-3,0.49,0.10100000000000001,9.4E-2,9.6000000000000002E-2,0.17599999999999999,0.182,0.18099999999999999,0.04,4.8000000000000001E-2,4.8000000000000001E-2,7.0999999999999994E-2,8.2000000000000003E-2,8.2000000000000003E-2,84650,90856,94824,195423,204104,210033,4102,5103,6598,101965,102959,105467,11260,11758,9994,0,0,0,47015,46984,47601,1430884,1439874,1448268,238059,245819,254622,360838,359112,358519,0,0,0,93023,97511,101446,320369,324426,308037,59011,60330,61371,0.121,0.106,8.8999999999999996E-2,276829,310462,306055,0.70299999999999996,0.65800000000000003,0.68100000000000005,2013,2,"JUN","2013-06-01"]
["San Benito",2646,2710,2715,6186,6390,6339,0.46600000000000003,0.46200000000000002,0.46500000000000002,5315,5371,5545,0.83399999999999996,0.84199999999999997,0.85599999999999998,0.97799999999999998,0.98399999999999999,0.94399999999999995,0.995,0.97699999999999998,0.97599999999999998,4.8000000000000001E-2,5.8999999999999997E-2,5.8999999999999997E-2,2.8000000000000001E-2,0.17100000000000001,0.188,0.12,0.23699999999999999,0.26600000000000001,0.17699999999999999,0.12,0.125,0.20100000000000001,0.13900000000000001,0.14299999999999999,2637,2609,2684,6256,6114,6232,207,216,246,3463,3314,3361,489,502,472,0,0,0,1959,1849,1856,55950,56527,57366,8367,8675,9394,15728,15546,15424,0,0,0,6602,6386,5777,10335,10227,9287,871,897,882,0.159,0.13900000000000001,0.111,7551,8551,8524,0.82899999999999996,0.72099999999999997,0.72699999999999998,2013,2,"JUN","2013-06-01"]
["San Bernardino",145844,156747,157421,350194,368618,369163,0.51800000000000002,0.48199999999999998,0.48299999999999998,259503,256699,269409,0.71599999999999997,0.71299999999999997,0.72,0.999,0.999,1,0.95299999999999996,0.92700000000000005,0.93200000000000005,2.1999999999999999E-2,1.2E-2,1.4E-2,3.3000000000000002E-2,0.218,0.21099999999999999,0.11799999999999999,0.28599999999999998,0.28499999999999998,0.186,0.14899999999999999,0.191,0.20200000000000001,0.16500000000000001,0.21099999999999999,134618,151637,159737,332778,361404,373620,8049,10026,12685,179558,187444,194878,21870,22712,21323,0,0,0,64816,67830,70335,2053348,2065016,2075160,281997,293471,301721,587130,579792,576858,0,0,0,158999,172415,156056,479967,486650,481334,63945,65325,66969,0.13400000000000001,0.12,9.8000000000000004E-2,420657,474491,441319,0.78800000000000003,0.75600000000000001,0.84199999999999997,2013,2,"JUN","2013-06-01"]
["San Diego",109637,116389,119545,243130,253991,256921,0.39700000000000002,0.375,0.36099999999999999,181757,189381,187869,0.72699999999999998,0.71899999999999997,0.71399999999999997,0.98299999999999998,0.96899999999999997,0.96499999999999997,0.93899999999999995,0.91400000000000003,0.89600000000000002,7.1999999999999995E-2,0.03,2.5999999999999999E-2,0.17,0.11600000000000001,0.12,0.27,0.22700000000000001,0.22,8.4000000000000005E-2,2.8000000000000001E-2,3.3000000000000002E-2,0.13800000000000001,5.5E-2,6.5000000000000002E-2,99130,112361,122561,225828,246971,260576,8727,11289,13842,122746,125548,131432,17967,19228,15919,0,0,0,83752,88054,93092,3125321,3147220,3184072,518489,533349,558419,723802,722277,723080,0,0,0,255026,228674,236315,441366,442914,451842,74340,74992,75967,0.1,8.8999999999999996E-2,7.8E-2,548569,564164,553958,0.41199999999999998,0.438,0.46600000000000003,2013,2,"JUN","2013-06-01"]
["San Francisco",32790,32190,32318,50876,50440,50482,0.23300000000000001,0.223,0.221,33094,33196,33103,0.624,0.63700000000000001,0.63600000000000001,0.98899999999999999,0.97599999999999998,0.97699999999999998,0.96699999999999997,0.753,0.89800000000000002,3.7999999999999999E-2,3.5000000000000003E-2,3.6999999999999998E-2,0.113,0.10299999999999999,0.114,0.20399999999999999,0.20499999999999999,0.219,6.6000000000000003E-2,0.08,8.5999999999999993E-2,0.10100000000000001,0.11600000000000001,0.126,32231,32910,32096,50192,50894,50124,4279,4864,5459,19821,19583,19668,4853,5068,4243,0,0,0,19063,19407,19818,813123,820349,833827,158587,162239,171662,112549,116481,119793,0,0,0,108545,105810,96046,134461,134748,134579,37828,37817,37708,8.5999999999999993E-2,7.2999999999999995E-2,5.5E-2,116917,121506,120297,0.42599999999999999,0.42,0.40600000000000003,2013,2,"JUN","2013-06-01"]
["San Joaquin",43038,45591,46390,106481,110995,112172,0.48,0.48499999999999999,0.46200000000000002,89949,92269,92390,0.82799999999999996,0.81799999999999995,0.81699999999999995,0.98,0.98699999999999999,0.98299999999999998,0.94199999999999995,0.97499999999999998,0.97399999999999998,3.7999999999999999E-2,0.04,0.03,0.05,0.19800000000000001,0.16900000000000001,0.124,0.26,0.23599999999999999,0.154,0.14000000000000001,0.14099999999999999,0.17299999999999999,0.157,0.161,39626,43790,46964,100921,107532,113230,2121,2587,3502,59252,60071,63093,7516,7727,7295,0,0,0,23681,23960,23995,692862,699003,703790,106544,110087,113154,199369,197931,197012,0,0,0,65970,64140,64800,180727,181087,170765,26645,26908,27071,0.16800000000000001,0.152,0.124,137798,138592,156985,0.72399999999999998,0.77600000000000002,0.71299999999999997,2013,2,"JUN","2013-06-01"]
["San Luis Obispo",8992,9090,9174,17630,17743,17852,0.36699999999999999,0.371,0.35199999999999998,13028,13421,13159,0.72099999999999997,0.72899999999999998,0.72299999999999998,0.97,0.98299999999999998,0.96399999999999997,0.84199999999999997,0.89800000000000002,0.89,4.8000000000000001E-2,5.8999999999999997E-2,5.8999999999999997E-2,8.6999999999999994E-2,6.6000000000000003E-2,7.1999999999999995E-2,0.17399999999999999,0.15,0.16400000000000001,3.7999999999999999E-2,0.03,3.6999999999999998E-2,7.0999999999999994E-2,5.3999999999999999E-2,7.4999999999999997E-2,8354,8899,8907,16733,17269,17319,698,882,1072,8305,8140,8228,1232,1285,1089,0,0,0,3089,3116,3239,270119,271021,271740,60011,61883,65066,50670,50367,50061,0,0,0,9115,9420,10073,33401,33196,30635,4490,4420,4383,9.4E-2,8.1000000000000003E-2,6.8000000000000005E-2,48412,43667,47791,0.34499999999999997,0.40200000000000002,0.36599999999999999,2013,2,"JUN","2013-06-01"]
["San Mateo",13057,13784,14127,27156,28487,28842,0.26700000000000002,0.26200000000000001,0.25600000000000001,21745,22874,22343,0.76200000000000001,0.76300000000000001,0.745,0.93799999999999994,0.622,0.77700000000000002,0.85899999999999999,0.81100000000000005,0.754,4.8000000000000001E-2,5.8999999999999997E-2,5.8999999999999997E-2,0.1,7.6999999999999999E-2,8.5000000000000006E-2,0.16800000000000001,0.16400000000000001,0.17199999999999999,3.3000000000000002E-2,3.7999999999999999E-2,4.2999999999999997E-2,5.8999999999999997E-2,6.7000000000000004E-2,7.6999999999999999E-2,11040,13612,14493,23554,28106,29339,1380,1886,2531,14502,16040,17242,3076,3538,4025,0,0,0,10086,11878,13534,727980,736362,741857,142073,145950,155845,160750,162180,163248,0,0,0,55409,60960,58256,75236,78549,77027,11278,11180,10953,7.9000000000000001E-2,6.7000000000000004E-2,5.1999999999999998E-2,71742,72926,68114,0.32600000000000001,0.38200000000000001,0.42299999999999999,2013,2,"JUN","2013-06-01"]
["Santa Barbara",14639,14689,15227,33118,33164,34310,0.32900000000000001,0.33,0.29399999999999998,28257,28670,28174,0.83,0.82399999999999995,0.82299999999999995,0.88200000000000001,0.95399999999999996,0.93,0.88900000000000001,0.92200000000000004,0.94,4.8000000000000001E-2,5.8999999999999997E-2,5.8999999999999997E-2,0.10100000000000001,9.8000000000000004E-2,9.1999999999999998E-2,0.17,0.187,0.17399999999999999,4.7E-2,4.8000000000000001E-2,0.05,8.2000000000000003E-2,7.3999999999999996E-2,9.2999999999999999E-2,13312,14197,14344,30406,32030,32221,727,866,1086,20425,20351,20051,5620,5628,4170,0,0,0,13586,13341,12614,425756,427358,433157,76570,78083,82325,98295,97785,97825,0,0,0,45828,45401,46332,81071,81084,74176,8708,8597,8477,8.8999999999999996E-2,0.08,7.0999999999999994E-2,64486,76855,79414,0.47799999999999998,0.41799999999999998,0.41399999999999998,2013,2,"JUN","2013-06-01"]
["Santa Clara",47906,50852,51694,103487,108748,110071,0.311,0.29699999999999999,0.29099999999999998,83871,87258,87798,0.78600000000000003,0.78800000000000003,0.78400000000000003,0.79400000000000004,0.878,0.97699999999999998,0.47699999999999998,0.87,0.88800000000000001,7.0000000000000001E-3,1.4999999999999999E-2,1.7000000000000001E-2,9.4E-2,5.7000000000000002E-2,5.2999999999999999E-2,0.159,0.13600000000000001,0.13500000000000001,8.9999999999999993E-3,1.0999999999999999E-2,8.9999999999999993E-3,3.4000000000000002E-2,3.9E-2,3.6999999999999998E-2,46050,49038,52296,100419,105676,110622,4566,5507,7200,57629,56627,59419,13468,13623,11654,0,0,0,43239,44837,48568,1806881,1828597,1850595,292023,301962,321578,432604,436447,439320,0,0,0,178479,178148,176036,261394,260965,261699,43993,43944,44002,9.8000000000000004E-2,8.4000000000000005E-2,6.5000000000000002E-2,208028,220691,215577,0.48,0.47699999999999998,0.503,2013,2,"JUN","2013-06-01"]
["Santa Cruz",10843,11632,12061,22588,23021,24017,0.377,0.38400000000000001,0.35499999999999998,16789,17255,17580,0.74,0.73299999999999998,0.73799999999999999,0.94,0.81499999999999995,0.95599999999999996,0.90300000000000002,0.92300000000000004,0.96,4.8000000000000001E-2,5.8999999999999997E-2,5.8999999999999997E-2,5.8000000000000003E-2,3.9E-2,6.5000000000000002E-2,0.13,0.11600000000000001,0.14199999999999999,1.6E-2,3.1E-2,2.5999999999999999E-2,3.9E-2,5.8999999999999997E-2,0.06,10117,10984,11641,20667,22390,22732,752,922,1290,11923,11666,11843,3213,3317,2423,0,0,0,8669,8532,8317,265569,267569,271495,47897,50062,53904,55764,55954,55939,0,0,0,23185,21496,20137,42412,42528,38508,5143,5104,5077,0.123,0.111,0.10299999999999999,40432,37039,42179,0.499,0.58799999999999997,0.54500000000000004,2013,2,"JUN","2013-06-01"]
["Shasta",12224,11900,11948,24673,23749,23665,0.44700000000000001,0.441,0.433,21413,20956,20599,0.84799999999999998,0.84699999999999998,0.84499999999999997,0.97099999999999997,0.93400000000000005,0.95199999999999996,0.90100000000000002,0.85,0.86899999999999999,4.8000000000000001E-2,5.8999999999999997E-2,5.8999999999999997E-2,2.5999999999999999E-2,0.17799999999999999,0.16400000000000001,0.11600000000000001,0.26100000000000001,0.249,0.16900000000000001,0.17599999999999999,0.17799999999999999,0.189,0.20100000000000001,0.2,11605,12445,11911,24047,25025,23709,691,821,990,10745,10508,10472,872,922,713,0,0,0,566,495,466,178089,178477,178591,43415,44441,45455,39287,39051,38745,0,0,0,2583,2105,3086,41918,41050,37387,9261,9329,9306,0.14899999999999999,0.13400000000000001,0.11799999999999999,41267,33389,40245,0.57699999999999996,0.74,0.58299999999999996,2013,2,"JUN","2013-06-01"]
["Sierra",142,165,158,266,314,306,0.38300000000000001,0.41899999999999998,0.39800000000000002,250,281,256,0.88700000000000001,0.88400000000000001,0.83899999999999997,1,0.91700000000000004,1,1,0.96199999999999997,1,4.8000000000000001E-2,5.8999999999999997E-2,5.8999999999999997E-2,7.9000000000000001E-2,0.17899999999999999,9.8000000000000004E-2,0.127,0.26800000000000002,0.122,9.5000000000000001E-2,0.107,0.17100000000000001,9.5000000000000001E-2,0.107,0.19500000000000001,119,156,156,235,302,305,14,23,26,78,95,106,0,1,1,0,0,0,9,4,6,3146,3089,3270,1035,1060,1235,508,481,463,0,0,0,79,60,93,497,514,497,104,99,99,0.14799999999999999,0.14299999999999999,0.129,596,623,697,0.40899999999999997,0.45600000000000002,0.436,2013,2,"JUN","2013-06-01"]
["Siskiyou",2695,2862,2921,6089,6426,6527,0.44800000000000001,0.45600000000000002,0.45800000000000002,5328,5659,5730,0.86499999999999999,0.86,0.871,1,1,0.99199999999999999,0.90900000000000003,0.95,0.96299999999999997,4.8000000000000001E-2,5.8999999999999997E-2,5.8999999999999997E-2,3.9E-2,0.13400000000000001,0.13100000000000001,0.13400000000000001,0.20100000000000001,0.20699999999999999,0.155,0.127,0.11600000000000001,0.17599999999999999,0.14199999999999999,0.13100000000000001,2490,2719,2900,5722,6100,6486,184,220,275,2679,2701,2872,129,137,154,0,0,0,175,180,192,44875,44598,45215,12996,13353,13967,9107,8878,8755,0,0,0,741,820,782,10671,10616,10036,2406,2441,2475,0.16500000000000001,0.153,0.13200000000000001,9723,10259,10390,0.58299999999999996,0.59699999999999998,0.626,2013,2,"JUN","2013-06-01"]
["Solano",19375,20595,20598,39399,41335,41065,0.438,0.443,0.41899999999999998,34309,35839,35254,0.83799999999999997,0.84,0.83499999999999996,0.92900000000000005,0.92600000000000005,0.93600000000000005,0.96,0.95099999999999996,0.96199999999999997,1.4999999999999999E-2,3.2000000000000001E-2,1.7000000000000001E-2,5.1999999999999998E-2,3.1E-2,4.1000000000000002E-2,0.153,0.154,0.158,1.2999999999999999E-2,1.2999999999999999E-2,1.4E-2,5.8999999999999997E-2,6.3E-2,5.8999999999999997E-2,18530,19954,20782,38288,40161,41287,1219,1473,1823,19506,19347,20249,2885,3060,2463,0,0,0,6664,6772,6854,414337,415913,424048,73550,76529,80768,99231,97912,97128,0,0,0,22756,21564,20853,68794,68717,62999,11239,11520,11691,0.115,0.10100000000000001,0.09,58474,65053,61760,0.65400000000000003,0.61699999999999999,0.66800000000000004,2013,2,"JUN","2013-06-01"]
["Sonoma",17651,24176,18765,33291,40348,34800,0.38600000000000001,0.38300000000000001,0.35799999999999998,28339,29356,29439,0.80700000000000005,0.81299999999999994,0.82599999999999996,0.877,0.94099999999999995,0.92300000000000004,0.61699999999999999,0.40300000000000002,0.46700000000000003,4.8000000000000001E-2,5.8999999999999997E-2,5.8999999999999997E-2,9.1999999999999998E-2,8.2000000000000003E-2,8.7999999999999995E-2,0.17,0.17599999999999999,0.188,3.2000000000000001E-2,3.9E-2,4.2000000000000003E-2,6.0999999999999999E-2,7.5999999999999998E-2,8.4000000000000005E-2,15994,18390,18686,30639,34447,34451,1513,1870,2351,16897,17154,17558,3713,3946,3484,0,0,0,9786,10341,10432,486778,489283,493070,103855,107417,112593,105483,104978,104608,0,0,0,26893,29280,24921,62644,63908,60020,8632,8571,8547,9.8000000000000004E-2,8.5999999999999993E-2,7.0000000000000007E-2,66724,74079,71127,0.45500000000000002,0.45500000000000002,0.49099999999999999,2013,2,"JUN","2013-06-01"]
["Stanislaus",38687,41147,41150,86863,90507,90467,0.47599999999999998,0.47099999999999997,0.44700000000000001,67874,67855,68455,0.75,0.745,0.746,1,0.98599999999999999,0.99399999999999999,0.96699999999999997,0.96699999999999997,0.97,2.5999999999999999E-2,8.0000000000000002E-3,1.0999999999999999E-2,2.5999999999999999E-2,0.19500000000000001,0.19900000000000001,0.13,0.28699999999999998,0.28999999999999998,0.183,0.14699999999999999,0.14199999999999999,0.21,0.16800000000000001,0.16500000000000001,36515,40036,41539,83529,88848,91048,2150,2464,2893,43670,44790,46298,5692,5991,5663,0,0,0,17532,17992,17711,518141,522651,527232,81410,84166,86547,145606,144581,144260,0,0,0,47675,48024,48602,136534,137356,128318,19462,19745,20057,0.16700000000000001,0.152,0.129,127006,117475,125680,0.65,0.75,0.72199999999999998,2013,2,"JUN","2013-06-01"]
["Sutter",4927,5125,5195,11972,12365,12460,0.39800000000000002,0.40799999999999997,0.39700000000000002,10625,11026,11018,0.88200000000000001,0.875,0.88100000000000001,0.95,0.96399999999999997,0.95699999999999996,0.94499999999999995,0.96199999999999997,0.95499999999999996,4.8000000000000001E-2,5.8999999999999997E-2,5.8999999999999997E-2,4.8000000000000001E-2,0.18099999999999999,0.16300000000000001,0.13300000000000001,0.247,0.24299999999999999,0.152,0.106,0.153,0.16300000000000001,0.123,0.16400000000000001,4537,4961,5215,11371,11946,12440,261,306,369,6239,6271,6642,789,830,689,0,0,0,2271,2311,2281,94764,95351,97386,17121,17496,18207,25548,25370,25333,0,0,0,9877,9590,8366,23430,23515,21895,3672,3661,3778,0.19,0.17599999999999999,0.14599999999999999,21064,20846,22883,0.53500000000000003,0.72699999999999998,0.53800000000000003,2013,2,"JUN","2013-06-01"]
["Tehama",4060,4205,4211,9592,9737,9682,0.44900000000000001,0.45200000000000001,0.44600000000000001,8753,8910,8868,0.88700000000000001,0.88800000000000001,0.88800000000000001,0.89700000000000002,0.96099999999999997,0.95299999999999996,0.99099999999999999,0.99,0.98799999999999999,4.8000000000000001E-2,5.8999999999999997E-2,5.8999999999999997E-2,4.9000000000000002E-2,0.182,0.14699999999999999,0.124,0.253,0.20699999999999999,0.15,0.159,0.16500000000000001,0.16200000000000001,0.16800000000000001,0.183,3910,4219,4320,9382,9899,9916,234,259,363,4866,4855,5013,493,469,441,0,0,0,1145,1161,1199,63514,63623,64498,14565,14869,15313,15769,15514,15280,0,0,0,2963,2546,2603,18073,17404,16152,3021,3057,3062,0.15,0.13900000000000001,0.11700000000000001,14706,14556,14220,0.629,0.66600000000000004,0.69199999999999995,2013,2,"JUN","2013-06-01"]
["Trinity",739,803,767,1513,1613,1548,0.4,0.41499999999999998,0.41,1345,1363,1289,0.85399999999999998,0.83,0.82899999999999996,1,0.94199999999999995,0.97599999999999998,0.98299999999999998,0.94199999999999995,0.67300000000000004,4.8000000000000001E-2,5.8999999999999997E-2,5.8999999999999997E-2,2.1000000000000001E-2,0.20899999999999999,0.16300000000000001,0.108,0.26400000000000001,0.23200000000000001,0.191,0.35399999999999998,0.216,0.20100000000000001,0.37,0.23899999999999999,686,776,762,1429,1557,1516,63,74,89,616,604,622,3,5,45,0,0,0,6,8,12,13546,13470,13776,4153,4270,4587,2380,2335,2276,0,0,0,21,21,36,2825,2854,2603,647,655,636,0.17799999999999999,0.158,0.121,2939,3088,3100,0.495,0.50600000000000001,0.502,2013,2,"JUN","2013-06-01"]
["Tulare",44257,46318,46458,109820,114115,115236,0.52800000000000002,0.54300000000000004,0.51700000000000002,92929,96556,97351,0.82399999999999995,0.82299999999999995,0.82599999999999996,1,1,1,0.97199999999999998,0.98299999999999998,0.97699999999999998,1.6E-2,5.8999999999999997E-2,3.6999999999999998E-2,0.20899999999999999,0.17199999999999999,0.191,0.32500000000000001,0.29599999999999999,0.32700000000000001,0.108,0.109,0.126,0.156,0.156,0.18,39921,44577,46471,105401,110086,114774,2505,2949,3459,62509,64076,67240,8030,8010,8233,0,0,0,35817,36803,37887,447665,451627,456075,62466,64345,66305,143355,142812,143372,0,0,0,59121,60886,60016,168390,169956,160183,17127,17288,17554,0.16700000000000001,0.158,0.14399999999999999,131314,151607,147863,0.80200000000000005,0.57199999999999995,0.77500000000000002,2013,2,"JUN","2013-06-01"]
["Tuolumne",2740,2836,2878,5167,5253,5227,0.44800000000000001,0.45,0.441,4564,4713,4613,0.86499999999999999,0.873,0.87,0.96599999999999997,0.95399999999999996,0.95099999999999996,0.92700000000000005,0.97099999999999997,0.97299999999999998,4.8000000000000001E-2,5.8999999999999997E-2,5.8999999999999997E-2,3.9E-2,0.161,0.14799999999999999,0.14499999999999999,0.22700000000000001,0.23400000000000001,0.126,0.16400000000000001,0.17699999999999999,0.14799999999999999,0.182,0.19500000000000001,2680,2755,2828,5076,5103,5153,208,265,299,2060,1962,1955,141,149,137,0,0,0,56,65,66,55041,54339,54811,16275,16528,17219,9458,9222,9088,0,0,0,656,653,696,8283,8101,7561,1593,1618,1635,0.13,0.11600000000000001,0.108,8377,8976,9822,0.60399999999999998,0.57399999999999995,0.53100000000000003,2013,2,"JUN","2013-06-01"]
["Ventura",31039,32230,32459,64668,66999,67793,0.36499999999999999,0.377,0.36799999999999999,47927,50038,49757,0.71599999999999997,0.71699999999999997,0.71699999999999997,0.99,0.98099999999999998,0.99299999999999999,0.97,0.94099999999999995,0.95299999999999996,1.9E-2,1.2E-2,0.03,0.111,0.104,0.111,0.223,0.23,0.23300000000000001,6.5000000000000002E-2,6.5000000000000002E-2,7.0999999999999994E-2,0.111,0.106,0.124,28856,31284,32232,60915,64382,66971,2288,2757,3498,35138,35426,37769,7675,8035,6844,0,0,0,22636,23314,25095,830215,834109,839617,144495,148960,156524,208859,206821,205584,0,0,0,80053,79320,76495,125546,123340,111492,14762,14656,14764,0.10100000000000001,0.09,7.9000000000000001E-2,102487,105820,112132,0.60099999999999998,0.61499999999999999,0.60099999999999998,2013,2,"JUN","2013-06-01"]
["Yolo",7631,7886,7901,16835,16966,16990,0.40300000000000002,0.41099999999999998,0.39600000000000002,13080,14441,14309,0.754,0.81899999999999995,0.82399999999999995,0.93300000000000005,0.76700000000000002,0.17299999999999999,0.91400000000000003,0.875,0.91500000000000004,4.8000000000000001E-2,5.8999999999999997E-2,5.8999999999999997E-2,0.10199999999999999,0.11600000000000001,0.115,0.16800000000000001,0.22,0.19800000000000001,4.5999999999999999E-2,5.6000000000000001E-2,6.4000000000000001E-2,7.9000000000000001E-2,8.5999999999999993E-2,0.10299999999999999,7126,7766,7850,15941,16880,16629,562,627,774,8309,8261,8108,1057,1070,874,0,0,0,4990,4871,4707,202630,204314,206621,30153,31386,32873,44868,44406,43847,0,0,0,16723,13923,14762,30903,31043,28422,5262,5307,5351,0.125,0.115,9.0999999999999998E-2,51733,44018,42449,0.308,0.38300000000000001,0.39300000000000002,2013,2,"JUN","2013-06-01"]
["Yuba",5701,5679,5715,12923,12871,12913,0.48899999999999999,0.49399999999999999,0.48799999999999999,11031,11207,11087,0.84599999999999997,0.85299999999999998,0.84699999999999998,1,0.97,1,0.94699999999999995,0.96199999999999997,0.96799999999999997,4.8000000000000001E-2,5.8999999999999997E-2,5.8999999999999997E-2,2.8000000000000001E-2,0.187,0.16200000000000001,0.11700000000000001,0.255,0.23,0.17299999999999999,0.20300000000000001,0.215,0.193,0.224,0.23799999999999999,5620,5776,5749,13060,13058,12919,244,298,341,6598,6360,6541,680,644,571,0,0,0,1771,1707,1586,72620,73021,73600,11156,11530,11868,20727,20586,20521,0,0,0,4197,3903,3382,20858,20229,18518,3694,3772,3733,0.184,0.16900000000000001,0.13100000000000001,13588,19440,14308,0.94799999999999995,0.66300000000000003,0.89600000000000002,2013,2,"JUN","2013-06-01"]
["Alameda",62045,62980,62875,124622,126214,125835,0.36699999999999999,0.34300000000000003,0.34499999999999997,98451,96499,97900,0.75600000000000001,0.754,0.751,0.91100000000000003,0.91400000000000003,0.88700000000000001,0.877,0.86199999999999999,0.871,1.6E-2,0.04,3.2000000000000001E-2,7.8E-2,9.9000000000000005E-2,8.1000000000000003E-2,0.16200000000000001,0.20300000000000001,0.17699999999999999,4.2999999999999997E-2,0.05,4.9000000000000002E-2,8.2000000000000003E-2,9.5000000000000001E-2,8.5000000000000006E-2,56312,62045,62875,116353,124622,125835,4838,5848,7267,60943,61164,63938,10808,11499,9990,0,0,0,34800,36077,39263,1526220,1540790,1563370,256848,265903,282890,341530,343820,346038,0,0,0,140068,134661,133681,250554,253472,243275,48001,48146,48141,0.104,0.09,7.2999999999999995E-2,220935,220282,220034,0.52500000000000002,0.56499999999999995,0.56699999999999995,2013,3,"SEP","2013-09-01"]
["Alpine",84,85,91,147,153,171,0.45,0.54400000000000004,0.54,121,137,149,0.81200000000000006,0.86099999999999999,0.85099999999999998,1,1,1,1,0.95,0.72699999999999998,5.5E-2,5.8999999999999997E-2,5.2999999999999999E-2,5.2999999999999999E-2,7.0999999999999994E-2,8.6999999999999994E-2,0.105,0.14299999999999999,0.217,0.105,0.107,0.217,0.105,0.107,0.217,78,84,91,144,147,171,13,9,11,46,53,62,2,2,0,0,0,0,0,0,0,1118,1127,1228,276,293,369,239,245,243,0,0,0,21,24,25,193,201,184,44,41,42,0.14799999999999999,0.13300000000000001,9.8000000000000004E-2,209,195,222,0.72099999999999997,0.749,0.70099999999999996,2013,3,"SEP","2013-09-01"]
["Amador",1717,1717,1685,3287,3262,3280,0.48399999999999999,0.48099999999999998,0.48699999999999999,2704,2650,2741,0.82299999999999995,0.83299999999999996,0.81599999999999995,0.95599999999999996,0.97299999999999998,0.97199999999999998,0.92800000000000005,0.95599999999999996,0.94399999999999995,5.5E-2,5.8999999999999997E-2,5.2999999999999999E-2,3.3000000000000002E-2,0.14399999999999999,0.155,0.14699999999999999,0.20599999999999999,0.224,0.152,0.19700000000000001,0.189,0.17100000000000001,0.21,0.20799999999999999,1485,1717,1685,2906,3287,3280,133,182,194,1175,1230,1298,60,61,69,0,0,0,85,81,98,37288,36899,36945,11475,11711,11769,6120,6009,5919,0,0,0,458,507,484,4505,4522,4116,628,654,674,0.128,0.11799999999999999,0.10299999999999999,4098,4237,4989,0.70299999999999996,0.76700000000000002,0.65700000000000003,2013,3,"SEP","2013-09-01"]
["Butte",13988,14409,14733,29226,29770,30211,0.438,0.438,0.442,26227,26304,27029,0.87,0.871,0.86099999999999999,0.89500000000000002,0.94199999999999995,0.96,0.94899999999999995,0.95299999999999996,0.93899999999999995,5.5E-2,5.8999999999999997E-2,5.2999999999999999E-2,3.5999999999999997E-2,0.13600000000000001,0.13200000000000001,0.11600000000000001,0.21099999999999999,0.20100000000000001,0.247,0.22700000000000001,0.17699999999999999,0.26400000000000001,0.24299999999999999,0.19600000000000001,12883,13988,14733,27531,29226,30211,697,842,1116,12820,12905,13523,1166,1187,1063,0,0,0,3175,2929,2782,220521,221118,222035,48592,49667,51734,46265,45992,45459,0,0,0,5007,5475,4375,52008,51266,47746,10702,10828,10914,0.13600000000000001,0.122,0.10299999999999999,61543,56950,57536,0.443,0.51200000000000001,0.52100000000000002,2013,3,"SEP","2013-09-01"]
["Calaveras",2522,2571,2576,4998,5023,4969,0.498,0.47499999999999998,0.48,4144,3991,4085,0.81899999999999995,0.82299999999999995,0.82299999999999995,1,0.98199999999999998,0.98,0.99199999999999999,0.98,0.98599999999999999,5.5E-2,5.8999999999999997E-2,5.2999999999999999E-2,2.8000000000000001E-2,0.14000000000000001,0.106,0.107,0.217,0.188,0.20899999999999999,0.17399999999999999,0.16700000000000001,0.23400000000000001,0.19700000000000001,0.191,2309,2522,2576,4736,4998,4969,219,278,322,1877,1881,1808,58,66,103,0,0,0,123,148,134,45143,45045,45214,14097,14458,15224,8594,8280,7993,0,0,0,510,559,410,6701,6850,6097,1005,1023,1043,0.14599999999999999,0.13,0.1,4923,5990,6022,0.95499999999999996,0.83099999999999996,0.82399999999999995,2013,3,"SEP","2013-09-01"]
["California",1843348,1926913,1942841,4074650,4202850,4221057,0.41499999999999998,0.40500000000000003,0.40200000000000002,3205731,3271525,3287488,0.81599999999999995,0.81799999999999995,0.81499999999999995,0.97699999999999998,0.97099999999999997,0.97299999999999998,0.94199999999999995,0.94299999999999995,0.91900000000000004,3.5999999999999997E-2,3.2000000000000001E-2,0.03,8.2000000000000003E-2,0.13,0.12,0.16700000000000001,0.218,0.20599999999999999,8.5999999999999993E-2,0.08,7.9000000000000001E-2,0.109,0.104,0.10100000000000001,1684027,1843348,1942841,3813817,4074650,4221057,115078,141407,176557,2138572,2184693,2272684,356627,372370,341378,0,0,0,1226258,1268115,1314549,37570307,37826160,38202206,6313717,6506534,6820715,9214425,9170526,9150549,0,0,0,3841701,3775905,3750293,7594872,7619341,7280074,1165670,1176286,1187606,0.11799999999999999,0.105,8.8999999999999996E-2,6883374,7121280,7166749,0.55200000000000005,0.56999999999999995,0.58399999999999996,2013,3,"SEP","2013-09-01"]
["Colusa",701,733,713,1728,1840,1710,0.28499999999999998,0.30199999999999999,0.28499999999999998,1547,1645,1569,0.89500000000000002,0.879,0.89300000000000002,0.93799999999999994,0.98,1,1,1,0.95799999999999996,5.5E-2,5.8999999999999997E-2,5.2999999999999999E-2,4.2999999999999997E-2,0.112,0.13400000000000001,0.154,0.193,0.19900000000000001,0.16900000000000001,0.158,0.17799999999999999,0.189,0.16600000000000001,0.221,673,701,713,1716,1728,1710,44,39,72,1083,1055,1032,87,108,164,0,0,0,590,598,553,21502,21614,21987,3687,3794,4033,6264,6173,6106,0,0,0,3215,3235,2986,4710,4695,4193,541,556,564,0.20499999999999999,0.2,0.19,4441,4435,3771,0.38,0.38900000000000001,0.46100000000000002,2013,3,"SEP","2013-09-01"]
["Contra Costa",32977,33077,32730,68789,68625,67763,0.35599999999999998,0.32500000000000001,0.32600000000000001,53398,52362,52924,0.751,0.748,0.74399999999999999,0.96499999999999997,0.95,0.95,0.84599999999999997,0.93700000000000006,0.79200000000000004,3.5999999999999997E-2,3.1E-2,0.04,8.7999999999999995E-2,0.115,9.2999999999999999E-2,0.16,0.20399999999999999,0.17799999999999999,3.4000000000000002E-2,4.4999999999999998E-2,3.3000000000000002E-2,5.7000000000000002E-2,8.1000000000000003E-2,6.0999999999999999E-2,30338,32977,32730,64763,68789,67763,1979,2515,3064,35431,35507,36829,6233,6651,5449,0,0,0,14843,15201,15787,1061375,1069803,1081862,198717,205603,215513,258003,255890,253746,0,0,0,62372,66528,66244,141199,143428,131952,23292,23603,24041,0.104,0.09,7.4999999999999997E-2,149672,135137,145293,0.432,0.50700000000000001,0.47099999999999997,2013,3,"SEP","2013-09-01"]
["Del Norte",2629,2542,2525,5445,5149,5132,0.50600000000000001,0.48699999999999999,0.48599999999999999,4826,4478,4490,0.88300000000000001,0.871,0.86599999999999999,1,1,1,0.98799999999999999,0.97399999999999998,0.98399999999999999,5.5E-2,5.8999999999999997E-2,5.2999999999999999E-2,6.6000000000000003E-2,0.21099999999999999,0.186,0.183,0.26500000000000001,0.252,0.23,0.19,0.19700000000000001,0.26300000000000001,0.2,0.223,2525,2629,2525,5328,5445,5132,122,157,193,2398,2343,2218,160,173,167,0,0,0,333,285,262,28498,28359,28530,5761,5913,6153,5949,5778,5698,0,0,0,577,549,733,8219,8091,7460,1936,1869,1817,0.13100000000000001,0.13400000000000001,0.11799999999999999,5502,5696,5923,0.95399999999999996,0.94399999999999995,0.86399999999999999,2013,3,"SEP","2013-09-01"]
["El Dorado",6081,6409,6397,11620,11947,11765,0.42099999999999999,0.41199999999999998,0.40400000000000003,9820,9680,9661,0.81299999999999994,0.80500000000000005,0.80100000000000005,1,0.99199999999999999,0.995,0.95899999999999996,0.96399999999999997,0.97699999999999998,5.5E-2,5.8999999999999997E-2,5.2999999999999999E-2,3.2000000000000001E-2,0.13500000000000001,0.123,0.13100000000000001,0.21199999999999999,0.20699999999999999,0.157,0.17799999999999999,0.16800000000000001,0.17299999999999999,0.2,0.19,5602,6081,6397,11204,11620,11765,481,581,732,4898,4822,4716,358,402,417,0,0,0,850,864,882,180663,180599,184054,41293,42806,46098,40109,39168,38276,0,0,0,3350,3301,3580,19110,19049,17413,2777,2818,2850,0.11899999999999999,0.104,8.5000000000000006E-2,25383,19223,26641,0.435,0.60599999999999998,0.441,2013,3,"SEP","2013-09-01"]
["Fresno",88850,91601,90783,215016,220493,217757,0.53500000000000003,0.51700000000000002,0.51300000000000001,175421,176222,174998,0.79800000000000004,0.78500000000000003,0.78900000000000003,0.96799999999999997,0.96,0.91900000000000004,0.97299999999999998,0.93300000000000005,0.83499999999999996,1.4999999999999999E-2,0.41,0.35,0.157,0.157,0.16500000000000001,0.27200000000000002,0.27900000000000003,0.29399999999999998,9.2999999999999999E-2,9.7000000000000003E-2,9.7000000000000003E-2,0.14899999999999999,0.152,0.14499999999999999,84399,88850,90783,206749,215016,217757,3822,4650,5364,119928,122558,123609,15136,15452,14216,0,0,0,60894,61549,59175,939278,946823,958260,138663,143086,147191,276363,275524,276923,0,0,0,112468,115573,108885,313221,316699,299363,39741,40171,40774,0.16500000000000001,0.152,0.13200000000000001,261012,283513,280018,0.78900000000000003,0.75800000000000001,0.78300000000000003,2013,3,"SEP","2013-09-01"]
["Glenn",1389,1451,1431,3419,3606,3549,0.39100000000000001,0.39200000000000002,0.38100000000000001,3167,3324,3262,0.90400000000000003,0.90600000000000003,0.91100000000000003,1,1,1,0.98199999999999998,0.99299999999999999,0.99199999999999999,5.5E-2,5.8999999999999997E-2,5.2999999999999999E-2,2.4E-2,0.13700000000000001,0.185,0.11600000000000001,0.21099999999999999,0.252,0.112,0.114,0.1,0.124,0.123,0.115,1323,1389,1431,3422,3419,3549,63,87,113,1955,1908,1985,219,231,237,0,0,0,744,769,739,28255,28208,28599,5356,5499,5834,7776,7657,7588,0,0,0,2387,2433,2638,7202,7157,6747,1118,1128,1136,0.158,0.14699999999999999,0.121,6094,6413,6196,0.54400000000000004,0.53700000000000003,0.56899999999999995,2013,3,"SEP","2013-09-01"]
["Humboldt",8114,8426,8812,15495,15819,16507,0.41599999999999998,0.42,0.42499999999999999,13354,13590,14160,0.83699999999999997,0.83199999999999996,0.82699999999999996,0.97899999999999998,0.98899999999999999,0.95099999999999996,0.94399999999999995,0.93300000000000005,0.89700000000000002,5.5E-2,5.8999999999999997E-2,5.2999999999999999E-2,3.5000000000000003E-2,0.11799999999999999,0.114,0.125,0.183,0.18099999999999999,0.184,0.186,0.17799999999999999,0.20699999999999999,0.20599999999999999,0.20699999999999999,7731,8114,8812,14836,15495,16507,422,496,695,6696,6496,7000,657,685,684,0,0,0,843,807,886,135218,134923,136480,27992,29078,30216,26890,26337,26025,0,0,0,2150,2104,2347,27304,27113,24939,5830,5740,5607,0.114,0.105,8.2000000000000003E-2,29447,32857,34043,0.5,0.46700000000000003,0.47399999999999998,2013,3,"SEP","2013-09-01"]
["Imperial",14037,14164,14518,36091,36277,37083,0.503,0.503,0.50700000000000001,32919,32838,33548,0.89100000000000001,0.88,0.88,1,1,0.93100000000000005,0.98399999999999999,0.98899999999999999,0.91400000000000003,5.5E-2,5.8999999999999997E-2,5.2999999999999999E-2,3.4000000000000002E-2,0.192,0.16300000000000001,0.121,0.28000000000000003,0.23899999999999999,0.16800000000000001,0.13600000000000001,0.13700000000000001,0.186,0.155,0.155,13153,14037,14518,34438,36091,37083,1259,1456,1738,18301,18176,19291,891,994,1028,0,0,0,17336,17886,19370,177229,178659,179326,26621,27470,28182,51037,50932,51426,0,0,0,31970,32769,32195,58086,58377,55474,10249,10349,10276,0.29699999999999999,0.28299999999999997,0.249,52830,44744,44790,0.65100000000000002,0.80800000000000005,0.81499999999999995,2013,3,"SEP","2013-09-01"]
["Inyo",957,1038,1058,1951,2058,2132,0.39100000000000001,0.41299999999999998,0.41899999999999998,1733,1818,1853,0.88500000000000001,0.86399999999999999,0.85499999999999998,1,1,1,0.99299999999999999,0.97799999999999998,0.99199999999999999,5.5E-2,5.8999999999999997E-2,5.2999999999999999E-2,5.3999999999999999E-2,0.16300000000000001,0.17100000000000001,0.161,0.24299999999999999,0.28299999999999997,0.125,0.19600000000000001,0.157,0.128,0.22700000000000001,0.17100000000000001,869,957,1058,1813,1951,2132,92,105,137,866,879,964,91,105,103,0,0,0,267,316,327,18687,18637,19241,5025,5121,5510,3816,3727,3660,0,0,0,454,490,532,3541,3534,3188,390,396,407,9.9000000000000005E-2,9.4E-2,7.9000000000000001E-2,2628,2515,2766,0.68799999999999994,0.77700000000000002,0.73899999999999999,2013,3,"SEP","2013-09-01"]
["Kern",57915,59622,59623,140798,144678,144653,0.47099999999999997,0.45300000000000001,0.44400000000000001,117648,120117,118680,0.81399999999999995,0.80700000000000005,0.81,0.98899999999999999,0.99099999999999999,0.99199999999999999,0.95099999999999996,0.95199999999999996,0.90200000000000002,3.2000000000000001E-2,2.5000000000000001E-2,2.1999999999999999E-2,5.3999999999999999E-2,0.20899999999999999,0.20599999999999999,0.159,0.29499999999999998,0.29299999999999998,0.157,0.125,0.124,0.182,0.14799999999999999,0.14699999999999999,53773,57915,59623,134833,140798,144653,2783,3379,3983,81944,82189,84978,11845,11952,10703,0,0,0,37108,37887,37191,848839,855522,869797,114797,119415,122971,252109,251296,252028,0,0,0,84185,85452,88100,239601,240099,224473,30734,31095,31384,0.14899999999999999,0.13300000000000001,0.11700000000000001,213705,213671,224185,0.626,0.65400000000000003,0.64,2013,3,"SEP","2013-09-01"]
["Kings",9624,10012,9956,22949,23729,23543,0.50800000000000001,0.49099999999999999,0.48,20596,21364,20935,0.88600000000000001,0.88100000000000001,0.88100000000000001,0.996,0.98399999999999999,0.996,0.88200000000000001,0.96899999999999997,0.96199999999999997,5.5E-2,5.8999999999999997E-2,5.2999999999999999E-2,4.2999999999999997E-2,0.21,0.19900000000000001,0.14399999999999999,0.29399999999999998,0.28899999999999998,0.14499999999999999,0.17899999999999999,0.19500000000000001,0.16400000000000001,0.20699999999999999,0.217,9036,9624,9956,22067,22949,23543,448,563,652,12407,12535,12892,1524,1554,1396,0,0,0,5421,5625,5451,151655,150843,152456,18146,18666,19636,41508,40866,41136,0,0,0,14643,14061,14426,36327,36030,33393,4723,4729,4659,0.16200000000000001,0.153,0.13500000000000001,28208,33431,34891,0.78300000000000003,0.68600000000000005,0.66900000000000004,2013,3,"SEP","2013-09-01"]
["Lake",5041,5165,5227,10039,10263,10453,0.42,0.41699999999999998,0.41799999999999998,8709,8736,8987,0.85199999999999998,0.85599999999999998,0.84899999999999998,0.95499999999999996,0.96099999999999997,0.94699999999999995,0.94,0.95199999999999996,0.872,5.5E-2,5.8999999999999997E-2,5.2999999999999999E-2,1.4999999999999999E-2,0.111,0.106,8.3000000000000004E-2,0.17199999999999999,0.17299999999999999,0.25600000000000001,0.17399999999999999,0.157,0.27800000000000002,0.19500000000000001,0.17899999999999999,4751,5041,5227,9789,10039,10453,382,477,586,4333,4340,4436,232,256,385,0,0,0,789,790,814,64419,64394,64782,16938,17355,18045,13319,13100,12882,0,0,0,1826,1920,1792,18109,17709,16443,3653,3701,3710,0.16800000000000001,0.15,0.108,17844,19370,17452,0.52,0.52300000000000002,0.59,2013,3,"SEP","2013-09-01"]
["Lassen",1386,1419,1426,2933,2954,2971,0.47499999999999998,0.46800000000000003,0.46899999999999997,2716,2662,2662,0.90100000000000002,0.879,0.88200000000000001,0.95699999999999996,0.98899999999999999,0.97899999999999998,0.93,0.95899999999999996,0.91200000000000003,5.5E-2,5.8999999999999997E-2,5.2999999999999999E-2,5.5E-2,0.155,0.156,0.17699999999999999,0.23400000000000001,0.23499999999999999,0.159,0.129,0.17899999999999999,0.17399999999999999,0.14599999999999999,0.189,1402,1386,1426,3018,2933,2971,61,81,99,1342,1284,1319,78,87,91,0,0,0,74,70,67,34668,33650,34966,5526,5593,6186,6095,5682,5574,0,0,0,745,704,769,5145,4859,4436,928,930,906,0.13400000000000001,0.126,0.106,4149,4471,4398,0.71699999999999997,0.65800000000000003,0.67800000000000005,2013,3,"SEP","2013-09-01"]
["Los Angeles",516984,549697,557570,1093422,1134472,1148512,0.34399999999999997,0.33,0.33400000000000002,865215,875815,889822,0.77800000000000002,0.76400000000000001,0.76800000000000002,0.97699999999999998,0.96699999999999997,0.97499999999999998,0.95899999999999996,0.96099999999999997,0.95699999999999996,3.6999999999999998E-2,3.1E-2,2.7E-2,0.105,9.6000000000000002E-2,7.8E-2,0.17699999999999999,0.17899999999999999,0.154,0,0.01,8.0000000000000002E-3,3.0000000000000001E-3,1.6E-2,1.2999999999999999E-2,478664,516984,557570,1027412,1093422,1148512,30250,36571,46590,589565,599556,629069,119837,124537,117585,0,0,0,413819,423844,444806,9860836,9911665,10010961,1574823,1620299,1701464,2357593,2341123,2329494,0,0,0,1413525,1372113,1402433,2418773,2410140,2250353,382816,385131,388148,0.123,0.109,9.8000000000000004E-2,1963598,2021648,2088070,0.52100000000000002,0.53900000000000003,0.54200000000000004,2013,3,"SEP","2013-09-01"]
["Madera",10437,10722,10608,26670,27189,26856,0.49099999999999999,0.46300000000000002,0.46100000000000002,24539,24568,24679,0.9,0.90900000000000003,0.90500000000000003,0.99099999999999999,0.97799999999999998,0.97499999999999998,0.99199999999999999,0.98199999999999998,0.97199999999999998,5.5E-2,5.8999999999999997E-2,5.2999999999999999E-2,5.3999999999999999E-2,0.17100000000000001,0.16600000000000001,0.161,0.25600000000000001,0.26600000000000001,0.18,0.17399999999999999,0.183,0.215,0.19600000000000001,0.216,10006,10437,10608,25675,26670,26856,467,534,619,16252,16732,16652,3162,3223,2773,0,0,0,9919,10100,9640,152008,151790,153409,25106,25433,26873,42605,42036,42149,0,0,0,19401,20218,20706,45597,45875,42230,4466,4441,4478,0.151,0.13600000000000001,0.125,33539,38099,38832,0.75700000000000001,0.69299999999999995,0.69099999999999995,2013,3,"SEP","2013-09-01"]
["Marin",5541,5648,5762,9408,9542,9774,0.32100000000000001,0.30399999999999999,0.309,8425,8447,8746,0.873,0.88100000000000001,0.877,0.99399999999999999,0.95099999999999996,0.97599999999999998,0.94399999999999995,0.95099999999999996,0.95399999999999996,5.5E-2,5.8999999999999997E-2,5.2999999999999999E-2,3.6999999999999998E-2,0.13200000000000001,0.14299999999999999,0.11799999999999999,0.19900000000000001,0.21299999999999999,0.13800000000000001,0.14899999999999999,0.13800000000000001,0.16,0.17399999999999999,0.157,5241,5541,5762,8890,9408,9774,659,758,887,4267,4358,4734,1168,1245,1271,0,0,0,2668,2958,3455,254359,254882,256264,63398,65062,69445,51983,51763,51412,0,0,0,8250,11689,8867,22986,22611,21230,3120,3102,3107,7.3999999999999996E-2,6.3E-2,5.1999999999999998E-2,28284,20101,22421,0.311,0.46300000000000002,0.42,2013,3,"SEP","2013-09-01"]
["Mariposa",875,913,920,1804,1828,1855,0.45700000000000002,0.45500000000000002,0.46899999999999997,1565,1592,1662,0.85799999999999998,0.88500000000000001,0.874,1,0.91100000000000003,0.93600000000000005,0.98899999999999999,0.94299999999999995,0.98699999999999999,5.5E-2,5.8999999999999997E-2,5.2999999999999999E-2,2.8000000000000001E-2,0.16200000000000001,0.14899999999999999,0.10100000000000001,0.247,0.19900000000000001,0.154,0.255,7.8E-2,0.17799999999999999,0.26800000000000002,9.8000000000000004E-2,796,875,920,1730,1804,1855,77,83,119,727,709,714,39,41,37,0,0,0,42,47,30,17977,17817,18101,5580,5675,5971,3136,3056,2988,0,0,0,331,155,227,2868,2854,2652,450,460,462,0.11899999999999999,0.11,0.105,2928,2848,3155,0.57399999999999995,0.623,0.58799999999999997,2013,3,"SEP","2013-09-01"]
["Mendocino",7242,6971,6923,13660,13205,13202,0.40300000000000002,0.38300000000000001,0.38400000000000001,11359,10969,11148,0.83,0.84599999999999997,0.84199999999999997,0.99099999999999999,1,0.996,0.98699999999999999,0.98899999999999999,0.995,5.5E-2,5.8999999999999997E-2,5.2999999999999999E-2,3.4000000000000002E-2,0.182,0.16,0.13200000000000001,0.28599999999999998,0.25700000000000001,0.153,0.186,0.18099999999999999,0.183,0.22600000000000001,0.21099999999999999,6735,7242,6923,13122,13660,13202,490,591,699,5593,5727,5665,571,592,688,0,0,0,1861,1934,1823,88071,88566,88931,21515,22245,23290,19200,19078,18865,0,0,0,4077,4188,4171,22789,23130,21783,3247,3238,3218,0.109,9.7000000000000003E-2,8.2000000000000003E-2,21298,19739,22381,0.61099999999999999,0.68700000000000006,0.58799999999999997,2013,3,"SEP","2013-09-01"]
["Merced",22003,22906,22956,53940,55780,55568,0.50700000000000001,0.51200000000000001,0.5,44721,46390,45636,0.81799999999999995,0.81899999999999995,0.82099999999999995,0.997,0.998,0.997,0.97699999999999998,0.99199999999999999,0.94799999999999995,0.02,0.56999999999999995,1.2999999999999999E-2,4.9000000000000002E-2,0.17799999999999999,0.17,0.156,0.26400000000000001,0.25600000000000001,0.247,0.23499999999999999,0.221,0.27,0.25900000000000001,0.24399999999999999,20289,22003,22956,51328,53940,55568,917,1122,1338,30050,30744,31540,3935,4110,4036,0,0,0,15243,15638,15579,259289,261708,263441,35643,36841,37818,80297,79582,79353,0,0,0,36166,31663,35644,84350,84983,80292,10642,10745,10849,0.183,0.17,0.14499999999999999,80133,67910,70247,0.63200000000000001,0.79,0.78600000000000003,2013,3,"SEP","2013-09-01"]
["Modoc",438,433,415,997,955,935,0.37,0.36399999999999999,0.36299999999999999,873,852,849,0.86899999999999999,0.86899999999999999,0.89300000000000002,0.95499999999999996,1,1,1,0.92300000000000004,1,5.5E-2,5.8999999999999997E-2,5.2999999999999999E-2,4.9000000000000002E-2,0.22,0.108,0.11,0.28000000000000003,0.188,0.123,0.1,0.11799999999999999,0.129,0.127,0.129,402,438,415,956,997,935,20,25,34,519,486,442,24,20,42,0,0,0,69,78,71,9565,9518,9457,2781,2834,2876,2072,2010,1952,0,0,0,279,280,335,2094,2012,1865,404,405,416,0.15,0.13500000000000001,0.124,2395,2460,2622,0.41399999999999998,0.40899999999999997,0.36099999999999999,2013,3,"SEP","2013-09-01"]
["Mono",447,335,400,709,606,656,0.32800000000000001,0.28299999999999997,0.27900000000000003,589,518,520,0.72399999999999998,0.76,0.76500000000000001,0.90900000000000003,1,0.97099999999999997,0.95,0.95799999999999996,0.84799999999999998,5.5E-2,5.8999999999999997E-2,5.2999999999999999E-2,1.6E-2,1.7999999999999999E-2,4.8000000000000001E-2,0.14399999999999999,0.14399999999999999,0.156,8.3000000000000004E-2,4.2999999999999997E-2,9.7000000000000003E-2,9.8000000000000004E-2,4.7E-2,0.129,383,447,400,619,709,656,21,32,43,272,326,283,3,3,74,0,0,0,172,226,163,14305,14258,14376,2323,2415,2711,2996,2971,3013,0,0,0,954,870,937,1381,1413,1248,98,102,101,0.10100000000000001,0.105,8.5000000000000006E-2,2449,2221,2021,0.23200000000000001,0.313,0.316,2013,3,"SEP","2013-09-01"]
["Monterey",19325,21740,20213,44518,50064,46145,0.371,0.35399999999999998,0.32800000000000001,37980,42828,39430,0.83799999999999997,0.84399999999999997,0.85299999999999998,1,1,1,0.99399999999999999,0.995,0.99199999999999999,1.9E-2,1.7999999999999999E-2,2.4E-2,2.5000000000000001E-2,0.17899999999999999,0.24,0.121,0.25,0.32800000000000001,0.14699999999999999,0.122,0.121,0.16400000000000001,0.13800000000000001,0.14399999999999999,17107,19325,20213,40060,44518,46145,936,1189,1572,27488,29906,29909,6060,6608,6960,0,0,0,19759,22110,21235,419998,422868,424119,66498,68145,71183,111651,111806,112481,0,0,0,78905,79767,64059,94574,96221,88589,8492,8502,8458,0.125,0.114,0.10299999999999999,84701,80400,83052,0.47599999999999998,0.55600000000000005,0.56499999999999995,2013,3,"SEP","2013-09-01"]
["Napa",3452,3358,3193,7287,7097,6710,0.32500000000000001,0.29899999999999999,0.28999999999999998,6333,6058,5989,0.83,0.85,0.83899999999999997,0.995,0.63400000000000001,0.75,0.98499999999999999,0.96599999999999997,0.89900000000000002,5.5E-2,5.8999999999999997E-2,5.2999999999999999E-2,2.5000000000000001E-2,0.115,0.13100000000000001,9.1999999999999998E-2,0.185,0.20699999999999999,0.22900000000000001,0.23300000000000001,0.23,0.253,0.26200000000000001,0.25900000000000001,3231,3452,3193,6899,7287,6710,230,292,341,4223,4244,4081,1012,1098,909,0,0,0,2859,3019,2892,137634,138577,139831,29909,30643,32036,31219,31125,31002,0,0,0,11887,12388,12782,17142,17126,15421,2126,2142,2156,9.0999999999999998E-2,7.8E-2,6.8000000000000005E-2,22177,18311,16770,0.312,0.39300000000000002,0.40699999999999997,2013,3,"SEP","2013-09-01"]
["Nevada",3667,3840,3898,7105,7327,7452,0.42,0.42299999999999999,0.42099999999999999,5872,6108,6269,0.81200000000000006,0.82399999999999995,0.81200000000000006,1,1,0.996,0.98799999999999999,0.97399999999999998,0.95199999999999996,5.5E-2,5.8999999999999997E-2,5.2999999999999999E-2,2.1999999999999999E-2,0.122,0.126,9.4E-2,0.20899999999999999,0.19600000000000001,0.13600000000000001,0.158,0.14499999999999999,0.161,0.182,0.161,3128,3667,3898,6272,7105,7452,247,314,445,2600,2726,2951,169,219,186,0,0,0,247,270,255,98593,98202,98317,29012,29761,31210,18477,18018,17565,0,0,0,1308,1312,1576,11559,11428,10758,1749,1771,1796,0.106,9.4E-2,8.1000000000000003E-2,15526,14198,16674,0.39500000000000002,0.495,0.442,2013,3,"SEP","2013-09-01"]
["Orange",97956,104202,105823,218827,230478,232862,0.35599999999999998,0.33,0.33200000000000002,173426,181573,184136,0.77200000000000002,0.77400000000000002,0.77300000000000002,0.998,0.998,0.998,0.995,0.996,0.996,1.9E-2,2.5000000000000001E-2,2.1999999999999999E-2,8.3000000000000004E-2,0.09,8.3000000000000004E-2,0.16300000000000001,0.18099999999999999,0.17,4.7E-2,5.2999999999999999E-2,4.7E-2,7.3999999999999996E-2,8.6999999999999994E-2,7.0999999999999994E-2,84958,97956,105823,195627,218827,232862,7953,10377,13145,122531,131451,139033,29734,31940,29922,0,0,0,97060,105140,111958,3047120,3071933,3097966,517519,533455,559090,728891,724926,721292,0,0,0,333989,322892,316852,453202,460035,467937,65415,66558,67573,8.7999999999999995E-2,7.5999999999999998E-2,6.5000000000000002E-2,433176,453553,444095,0.45,0.48199999999999998,0.51800000000000002,2013,3,"SEP","2013-09-01"]
["Placer",8227,8372,8480,17815,17632,17673,0.36699999999999999,0.34200000000000003,0.33900000000000002,12099,11461,11621,0.67200000000000004,0.65200000000000002,0.64700000000000002,0.96599999999999997,0.995,0.997,0.96299999999999997,0.97399999999999998,0.97399999999999998,5.5E-2,5.8999999999999997E-2,5.2999999999999999E-2,0.1,8.1000000000000003E-2,7.1999999999999995E-2,0.18,0.16200000000000001,0.14799999999999999,0.04,3.4000000000000002E-2,4.1000000000000002E-2,7.0000000000000007E-2,6.2E-2,6.8000000000000005E-2,7692,8227,8480,17524,17815,17673,598,791,1019,8196,8043,7868,860,871,677,0,0,0,2095,2058,2021,356367,360680,365125,77238,79177,85049,85424,85224,84419,0,0,0,8075,6656,8063,31025,31306,28497,4956,5044,5056,0.108,9.4E-2,7.6999999999999999E-2,41528,42087,39484,0.41599999999999998,0.42599999999999999,0.45,2013,3,"SEP","2013-09-01"]
["Plumas",756,802,773,1654,1729,1604,0.36599999999999999,0.39,0.38400000000000001,1404,1480,1461,0.83299999999999996,0.873,0.86299999999999999,0.94699999999999995,1,1,0.93799999999999994,0.97799999999999998,0.97,5.5E-2,5.8999999999999997E-2,5.2999999999999999E-2,2.1000000000000001E-2,0.17199999999999999,0.13500000000000001,9.0999999999999998E-2,0.221,0.19,0.14899999999999999,0.115,0.115,0.158,0.11799999999999999,0.13500000000000001,638,756,773,1497,1654,1604,46,50,82,683,701,676,19,27,34,0,0,0,25,21,22,19953,19523,19466,6266,6395,6703,3503,3317,3263,0,0,0,164,261,217,3112,3224,3027,657,665,641,0.16,0.14699999999999999,0.13900000000000001,3314,3548,3816,0.44700000000000001,0.46100000000000002,0.439,2013,3,"SEP","2013-09-01"]
["Riverside",109234,114243,115800,267997,274951,278117,0.44500000000000001,0.40500000000000003,0.39900000000000002,188630,196709,196586,0.69099999999999995,0.70099999999999996,0.70299999999999996,1,0.999,0.996,0.94699999999999995,0.95799999999999996,0.94299999999999995,3.6999999999999998E-2,3.3000000000000002E-2,3.2000000000000001E-2,2.5999999999999999E-2,0.17599999999999999,0.17199999999999999,0.11,0.255,0.247,0.18,0.158,0.157,0.19700000000000001,0.18099999999999999,0.17399999999999999,95761,109234,115800,242348,267997,278117,6565,8379,10225,137664,143506,151042,17706,18716,17000,0,0,0,59766,62978,65355,2220502,2244399,2264173,369034,378792,396291,615707,611198,608238,0,0,0,183465,178052,173255,407580,408855,409328,53606,54970,56654,0.13700000000000001,0.122,9.9000000000000005E-2,437744,482427,469029,0.55400000000000005,0.55400000000000005,0.59099999999999997,2013,3,"SEP","2013-09-01"]
["Sacramento",90856,93514,94824,204104,209287,210033,0.47299999999999998,0.44700000000000001,0.44500000000000001,159403,162345,162851,0.76100000000000001,0.75800000000000001,0.76500000000000001,0.97,0.98899999999999999,0.98799999999999999,0.98499999999999999,0.98399999999999999,0.98399999999999999,2.5000000000000001E-2,0.49,0.44,0.08,9.6000000000000002E-2,8.5999999999999993E-2,0.155,0.18099999999999999,0.17,4.2000000000000003E-2,4.8000000000000001E-2,4.7E-2,7.1999999999999995E-2,8.2000000000000003E-2,7.6999999999999999E-2,84650,90856,94824,195423,204104,210033,4102,5103,6598,101965,102959,105467,11260,11758,9994,0,0,0,47015,46984,47601,1430884,1439874,1448268,238059,245819,254622,360838,359112,358519,0,0,0,93023,97511,101446,320369,324426,308037,59011,60330,61371,0.121,0.106,8.8999999999999996E-2,276829,310462,306055,0.70299999999999996,0.65800000000000003,0.68100000000000005,2013,3,"SEP","2013-09-01"]
["San Benito",2609,2715,2684,6114,6339,6232,0.45100000000000001,0.46500000000000002,0.438,5147,5545,5276,0.82599999999999996,0.85299999999999998,0.85599999999999998,0.98699999999999999,0.94399999999999995,1,0.97499999999999998,0.97599999999999998,0.97299999999999998,5.5E-2,5.8999999999999997E-2,5.2999999999999999E-2,3.9E-2,0.188,0.18099999999999999,0.13300000000000001,0.26600000000000001,0.26700000000000002,0.218,0.125,0.193,0.246,0.14299999999999999,0.215,2637,2609,2684,6256,6114,6232,207,216,246,3463,3314,3361,489,502,472,0,0,0,1959,1849,1856,55950,56527,57366,8367,8675,9394,15728,15546,15424,0,0,0,6602,6386,5777,10335,10227,9287,871,897,882,0.159,0.13900000000000001,0.111,7551,8551,8524,0.82899999999999996,0.72099999999999997,0.72699999999999998,2013,3,"SEP","2013-09-01"]
["San Bernardino",151637,157421,159737,361404,369163,373620,0.51,0.48299999999999998,0.47499999999999998,257438,269409,267005,0.71099999999999997,0.71799999999999997,0.72,0.999,1,0.997,0.93200000000000005,0.93200000000000005,0.86199999999999999,1.7000000000000001E-2,1.4E-2,1.4E-2,3.3000000000000002E-2,0.21099999999999999,0.192,0.114,0.28499999999999998,0.26100000000000001,0.219,0.191,0.186,0.23400000000000001,0.21099999999999999,0.20200000000000001,134618,151637,159737,332778,361404,373620,8049,10026,12685,179558,187444,194878,21870,22712,21323,0,0,0,64816,67830,70335,2053348,2065016,2075160,281997,293471,301721,587130,579792,576858,0,0,0,158999,172415,156056,479967,486650,481334,63945,65325,66969,0.13400000000000001,0.12,9.8000000000000004E-2,420657,474491,441319,0.78800000000000003,0.75600000000000001,0.84199999999999997,2013,3,"SEP","2013-09-01"]
["San Diego",112361,119545,122561,246971,256921,260576,0.39900000000000002,0.36099999999999999,0.36199999999999999,184152,187869,189359,0.72399999999999998,0.70899999999999996,0.71399999999999997,0.97199999999999998,0.96499999999999997,0.96299999999999997,0.88500000000000001,0.89600000000000002,0.91100000000000003,7.2999999999999995E-2,2.5999999999999999E-2,2.5000000000000001E-2,0.157,0.12,0.11799999999999999,0.255,0.22,0.21199999999999999,0.09,3.3000000000000002E-2,6.2E-2,0.14499999999999999,6.5000000000000002E-2,9.7000000000000003E-2,99130,112361,122561,225828,246971,260576,8727,11289,13842,122746,125548,131432,17967,19228,15919,0,0,0,83752,88054,93092,3125321,3147220,3184072,518489,533349,558419,723802,722277,723080,0,0,0,255026,228674,236315,441366,442914,451842,74340,74992,75967,0.1,8.8999999999999996E-2,7.8E-2,548569,564164,553958,0.41199999999999998,0.438,0.46600000000000003,2013,3,"SEP","2013-09-01"]
["San Francisco",32910,32318,32096,50894,50482,50124,0.23300000000000001,0.221,0.221,33338,33103,33109,0.63200000000000001,0.63800000000000001,0.63600000000000001,0.97599999999999998,0.97699999999999998,0.97499999999999998,0.93200000000000005,0.89800000000000002,0.81699999999999995,3.4000000000000002E-2,3.6999999999999998E-2,3.7999999999999999E-2,8.5999999999999993E-2,0.114,9.7000000000000003E-2,0.183,0.219,0.2,6.4000000000000001E-2,8.5999999999999993E-2,7.1999999999999995E-2,0.1,0.126,0.104,32231,32910,32096,50192,50894,50124,4279,4864,5459,19821,19583,19668,4853,5068,4243,0,0,0,19063,19407,19818,813123,820349,833827,158587,162239,171662,112549,116481,119793,0,0,0,108545,105810,96046,134461,134748,134579,37828,37817,37708,8.5999999999999993E-2,7.2999999999999995E-2,5.5E-2,116917,121506,120297,0.42599999999999999,0.42,0.40600000000000003,2013,3,"SEP","2013-09-01"]
["San Joaquin",43790,46390,46964,107532,112172,113230,0.48,0.46200000000000002,0.46500000000000002,90442,92390,93653,0.82399999999999995,0.81599999999999995,0.81699999999999995,0.98099999999999998,0.98299999999999998,0.97799999999999998,0.92700000000000005,0.97399999999999998,0.91700000000000004,2.9000000000000001E-2,0.03,2.7E-2,4.8000000000000001E-2,0.16900000000000001,0.188,0.13,0.23599999999999999,0.26,0.16400000000000001,0.14099999999999999,0.13800000000000001,0.184,0.161,0.155,39626,43790,46964,100921,107532,113230,2121,2587,3502,59252,60071,63093,7516,7727,7295,0,0,0,23681,23960,23995,692862,699003,703790,106544,110087,113154,199369,197931,197012,0,0,0,65970,64140,64800,180727,181087,170765,26645,26908,27071,0.16800000000000001,0.152,0.124,137798,138592,156985,0.72399999999999998,0.77600000000000002,0.71299999999999997,2013,3,"SEP","2013-09-01"]
["San Luis Obispo",8899,9174,8907,17269,17852,17319,0.36199999999999999,0.35199999999999998,0.34499999999999997,12893,13159,13003,0.72199999999999998,0.72899999999999998,0.72299999999999998,0.97399999999999998,0.96399999999999997,0.96199999999999997,0.83499999999999996,0.89,0.91,5.5E-2,5.8999999999999997E-2,5.2999999999999999E-2,6.5000000000000002E-2,7.1999999999999995E-2,6.6000000000000003E-2,0.156,0.16400000000000001,0.16300000000000001,0.03,3.6999999999999998E-2,3.9E-2,5.8000000000000003E-2,7.4999999999999997E-2,7.2999999999999995E-2,8354,8899,8907,16733,17269,17319,698,882,1072,8305,8140,8228,1232,1285,1089,0,0,0,3089,3116,3239,270119,271021,271740,60011,61883,65066,50670,50367,50061,0,0,0,9115,9420,10073,33401,33196,30635,4490,4420,4383,9.4E-2,8.1000000000000003E-2,6.8000000000000005E-2,48412,43667,47791,0.34499999999999997,0.40200000000000002,0.36599999999999999,2013,3,"SEP","2013-09-01"]
["San Mateo",13612,14127,14493,28106,28842,29339,0.27100000000000002,0.25600000000000001,0.254,22492,22343,23802,0.76700000000000002,0.77300000000000002,0.745,0.95199999999999996,0.77700000000000002,0.83099999999999996,0.86599999999999999,0.754,0.80300000000000005,5.5E-2,5.8999999999999997E-2,5.2999999999999999E-2,0.08,8.5000000000000006E-2,6.9000000000000006E-2,0.158,0.17199999999999999,0.154,3.3000000000000002E-2,4.2999999999999997E-2,4.3999999999999997E-2,6.0999999999999999E-2,7.6999999999999999E-2,7.1999999999999995E-2,11040,13612,14493,23554,28106,29339,1380,1886,2531,14502,16040,17242,3076,3538,4025,0,0,0,10086,11878,13534,727980,736362,741857,142073,145950,155845,160750,162180,163248,0,0,0,55409,60960,58256,75236,78549,77027,11278,11180,10953,7.9000000000000001E-2,6.7000000000000004E-2,5.1999999999999998E-2,71742,72926,68114,0.32600000000000001,0.38200000000000001,0.42299999999999999,2013,3,"SEP","2013-09-01"]
["Santa Barbara",14197,15227,14344,32030,34310,32221,0.313,0.29399999999999998,0.27900000000000003,26944,28174,26990,0.82499999999999996,0.82399999999999995,0.82299999999999995,0.96,0.93,0.94399999999999995,0.94499999999999995,0.94,0.86499999999999999,5.5E-2,5.8999999999999997E-2,5.2999999999999999E-2,8.2000000000000003E-2,9.1999999999999998E-2,8.8999999999999996E-2,0.186,0.17399999999999999,0.193,0.05,0.05,0.05,9.2999999999999999E-2,9.2999999999999999E-2,8.8999999999999996E-2,13312,14197,14344,30406,32030,32221,727,866,1086,20425,20351,20051,5620,5628,4170,0,0,0,13586,13341,12614,425756,427358,433157,76570,78083,82325,98295,97785,97825,0,0,0,45828,45401,46332,81071,81084,74176,8708,8597,8477,8.8999999999999996E-2,0.08,7.0999999999999994E-2,64486,76855,79414,0.47799999999999998,0.41799999999999998,0.41399999999999998,2013,3,"SEP","2013-09-01"]
["Santa Clara",49038,51694,52296,105676,110071,110622,0.313,0.29099999999999998,0.29099999999999998,85096,87798,87826,0.78600000000000003,0.78,0.78400000000000003,0.80900000000000005,0.97699999999999998,0.96,0.86399999999999999,0.88800000000000001,0.84199999999999997,8.0000000000000002E-3,1.7000000000000001E-2,2.5000000000000001E-2,8.1000000000000003E-2,5.2999999999999999E-2,3.9E-2,0.14699999999999999,0.13500000000000001,0.127,1.2E-2,8.9999999999999993E-3,8.0000000000000002E-3,0.04,3.6999999999999998E-2,3.5999999999999997E-2,46050,49038,52296,100419,105676,110622,4566,5507,7200,57629,56627,59419,13468,13623,11654,0,0,0,43239,44837,48568,1806881,1828597,1850595,292023,301962,321578,432604,436447,439320,0,0,0,178479,178148,176036,261394,260965,261699,43993,43944,44002,9.8000000000000004E-2,8.4000000000000005E-2,6.5000000000000002E-2,208028,220691,215577,0.48,0.47699999999999998,0.503,2013,3,"SEP","2013-09-01"]
["Santa Cruz",10984,12061,11641,22390,24017,22732,0.36799999999999999,0.35499999999999998,0.34,16489,17580,16895,0.73599999999999999,0.73699999999999999,0.73799999999999999,0.96299999999999997,0.95599999999999996,0.93300000000000005,0.94599999999999995,0.96,0.78900000000000003,5.5E-2,5.8999999999999997E-2,5.2999999999999999E-2,4.9000000000000002E-2,6.5000000000000002E-2,5.5E-2,0.123,0.14199999999999999,0.151,3.5000000000000003E-2,2.5999999999999999E-2,3.2000000000000001E-2,8.4000000000000005E-2,0.06,7.0999999999999994E-2,10117,10984,11641,20667,22390,22732,752,922,1290,11923,11666,11843,3213,3317,2423,0,0,0,8669,8532,8317,265569,267569,271495,47897,50062,53904,55764,55954,55939,0,0,0,23185,21496,20137,42412,42528,38508,5143,5104,5077,0.123,0.111,0.10299999999999999,40432,37039,42179,0.499,0.58799999999999997,0.54500000000000004,2013,3,"SEP","2013-09-01"]
["Shasta",12445,11948,11911,25025,23665,23709,0.45200000000000001,0.433,0.437,21968,20599,21125,0.85399999999999998,0.85799999999999998,0.84499999999999997,0.97899999999999998,0.95199999999999996,0.94,0.88100000000000001,0.86899999999999999,0.84899999999999998,5.5E-2,5.8999999999999997E-2,5.2999999999999999E-2,2.5000000000000001E-2,0.16400000000000001,0.14899999999999999,0.13100000000000001,0.249,0.22600000000000001,0.186,0.17799999999999999,0.14299999999999999,0.20699999999999999,0.2,0.16400000000000001,11605,12445,11911,24047,25025,23709,691,821,990,10745,10508,10472,872,922,713,0,0,0,566,495,466,178089,178477,178591,43415,44441,45455,39287,39051,38745,0,0,0,2583,2105,3086,41918,41050,37387,9261,9329,9306,0.14899999999999999,0.13400000000000001,0.11799999999999999,41267,33389,40245,0.57699999999999996,0.74,0.58299999999999996,2013,3,"SEP","2013-09-01"]
["Sierra",156,158,156,302,306,305,0.42099999999999999,0.39800000000000002,0.40100000000000002,283,256,270,0.91300000000000003,0.84599999999999997,0.83899999999999997,1,1,1,1,1,1,5.5E-2,5.8999999999999997E-2,5.2999999999999999E-2,5.6000000000000001E-2,9.8000000000000004E-2,0.16700000000000001,0.14799999999999999,0.122,0.28599999999999998,3.6999999999999998E-2,0.17100000000000001,9.5000000000000001E-2,3.6999999999999998E-2,0.19500000000000001,0.11899999999999999,119,156,156,235,302,305,14,23,26,78,95,106,0,1,1,0,0,0,9,4,6,3146,3089,3270,1035,1060,1235,508,481,463,0,0,0,79,60,93,497,514,497,104,99,99,0.14799999999999999,0.14299999999999999,0.129,596,623,697,0.40899999999999997,0.45600000000000002,0.436,2013,3,"SEP","2013-09-01"]
["Siskiyou",2719,2921,2900,6100,6527,6486,0.44700000000000001,0.45800000000000002,0.45300000000000001,5394,5730,5752,0.871,0.871,0.871,1,0.99199999999999999,1,0.97,0.96299999999999997,0.96099999999999997,5.5E-2,5.8999999999999997E-2,5.2999999999999999E-2,2.3E-2,0.13100000000000001,0.114,9.6000000000000002E-2,0.20699999999999999,0.17199999999999999,0.17100000000000001,0.11600000000000001,0.14699999999999999,0.184,0.13100000000000001,0.158,2490,2719,2900,5722,6100,6486,184,220,275,2679,2701,2872,129,137,154,0,0,0,175,180,192,44875,44598,45215,12996,13353,13967,9107,8878,8755,0,0,0,741,820,782,10671,10616,10036,2406,2441,2475,0.16500000000000001,0.153,0.13200000000000001,9723,10259,10390,0.58299999999999996,0.59699999999999998,0.626,2013,3,"SEP","2013-09-01"]
["Solano",19954,20598,20782,40161,41065,41287,0.439,0.41899999999999998,0.42,34998,35254,35751,0.84199999999999997,0.84,0.83499999999999996,0.93500000000000005,0.93600000000000005,0.94199999999999995,0.95599999999999996,0.96199999999999997,0.94799999999999995,1.2999999999999999E-2,1.7000000000000001E-2,1.2E-2,0.03,4.1000000000000002E-2,0.03,0.13100000000000001,0.158,0.14399999999999999,1.2E-2,1.4E-2,1.0999999999999999E-2,5.0999999999999997E-2,5.8999999999999997E-2,4.7E-2,18530,19954,20782,38288,40161,41287,1219,1473,1823,19506,19347,20249,2885,3060,2463,0,0,0,6664,6772,6854,414337,415913,424048,73550,76529,80768,99231,97912,97128,0,0,0,22756,21564,20853,68794,68717,62999,11239,11520,11691,0.115,0.10100000000000001,0.09,58474,65053,61760,0.65400000000000003,0.61699999999999999,0.66800000000000004,2013,3,"SEP","2013-09-01"]
["Sonoma",18390,18765,18686,34447,34800,34451,0.38600000000000001,0.35799999999999998,0.35599999999999998,28889,29439,29668,0.80900000000000005,0.83099999999999996,0.82599999999999996,0.89900000000000002,0.92300000000000004,0.86699999999999999,0.7,0.46700000000000003,0.47199999999999998,5.5E-2,5.8999999999999997E-2,5.2999999999999999E-2,0.08,8.7999999999999995E-2,7.2999999999999995E-2,0.16500000000000001,0.188,0.18,3.5999999999999997E-2,4.2000000000000003E-2,0.04,7.1999999999999995E-2,8.4000000000000005E-2,7.8E-2,15994,18390,18686,30639,34447,34451,1513,1870,2351,16897,17154,17558,3713,3946,3484,0,0,0,9786,10341,10432,486778,489283,493070,103855,107417,112593,105483,104978,104608,0,0,0,26893,29280,24921,62644,63908,60020,8632,8571,8547,9.8000000000000004E-2,8.5999999999999993E-2,7.0000000000000007E-2,66724,74079,71127,0.45500000000000002,0.45500000000000002,0.49099999999999999,2013,3,"SEP","2013-09-01"]
["Stanislaus",40036,41150,41539,88848,90467,91048,0.47199999999999998,0.44700000000000001,0.443,67706,68455,68074,0.748,0.74199999999999999,0.746,1,0.99399999999999999,0.98399999999999999,0.96,0.97,0.93600000000000005,2.3E-2,1.0999999999999999E-2,0.97,2.1999999999999999E-2,0.19900000000000001,0.192,0.128,0.28999999999999998,0.27400000000000002,0.23,0.14199999999999999,0.15,0.254,0.16500000000000001,0.17299999999999999,36515,40036,41539,83529,88848,91048,2150,2464,2893,43670,44790,46298,5692,5991,5663,0,0,0,17532,17992,17711,518141,522651,527232,81410,84166,86547,145606,144581,144260,0,0,0,47675,48024,48602,136534,137356,128318,19462,19745,20057,0.16700000000000001,0.152,0.129,127006,117475,125680,0.65,0.75,0.72199999999999998,2013,3,"SEP","2013-09-01"]
["Sutter",4961,5195,5215,11946,12460,12440,0.39800000000000002,0.39700000000000002,0.39700000000000002,10758,11018,11183,0.88400000000000001,0.88300000000000001,0.88100000000000001,0.95099999999999996,0.95699999999999996,0.98099999999999998,0.94299999999999995,0.95499999999999996,0.876,5.5E-2,5.8999999999999997E-2,5.2999999999999999E-2,3.5000000000000003E-2,0.16300000000000001,0.188,0.13100000000000001,0.24299999999999999,0.26200000000000001,0.14899999999999999,0.153,0.129,0.16200000000000001,0.16400000000000001,0.14599999999999999,4537,4961,5215,11371,11946,12440,261,306,369,6239,6271,6642,789,830,689,0,0,0,2271,2311,2281,94764,95351,97386,17121,17496,18207,25548,25370,25333,0,0,0,9877,9590,8366,23430,23515,21895,3672,3661,3778,0.19,0.17599999999999999,0.14599999999999999,21064,20846,22883,0.53500000000000003,0.72699999999999998,0.53800000000000003,2013,3,"SEP","2013-09-01"]
["Tehama",4219,4211,4320,9899,9682,9916,0.46,0.44600000000000001,0.44900000000000001,9074,8868,9079,0.89,0.88600000000000001,0.88800000000000001,0.91300000000000003,0.95299999999999996,0.94299999999999995,0.998,0.98799999999999999,0.98199999999999998,5.5E-2,5.8999999999999997E-2,5.2999999999999999E-2,5.8999999999999997E-2,0.14699999999999999,0.14000000000000001,0.126,0.20699999999999999,0.20699999999999999,0.17499999999999999,0.16500000000000001,0.11899999999999999,0.188,0.183,0.125,3910,4219,4320,9382,9899,9916,234,259,363,4866,4855,5013,493,469,441,0,0,0,1145,1161,1199,63514,63623,64498,14565,14869,15313,15769,15514,15280,0,0,0,2963,2546,2603,18073,17404,16152,3021,3057,3062,0.15,0.13900000000000001,0.11700000000000001,14706,14556,14220,0.629,0.66600000000000004,0.69199999999999995,2013,3,"SEP","2013-09-01"]
["Trinity",776,767,762,1557,1548,1516,0.40100000000000002,0.41,0.41299999999999998,1363,1289,1335,0.84,0.83399999999999996,0.82899999999999996,0.97899999999999998,0.97599999999999998,1,0.92200000000000004,0.67300000000000004,0.65200000000000002,5.5E-2,5.8999999999999997E-2,5.2999999999999999E-2,3.5999999999999997E-2,0.16300000000000001,0.09,0.128,0.23200000000000001,0.18,0.27300000000000002,0.216,0.218,0.309,0.23899999999999999,0.24399999999999999,686,776,762,1429,1557,1516,63,74,89,616,604,622,3,5,45,0,0,0,6,8,12,13546,13470,13776,4153,4270,4587,2380,2335,2276,0,0,0,21,21,36,2825,2854,2603,647,655,636,0.17799999999999999,0.158,0.121,2939,3088,3100,0.495,0.50600000000000001,0.502,2013,3,"SEP","2013-09-01"]
["Tulare",44577,46458,46471,110086,115236,114774,0.52800000000000002,0.51700000000000002,0.51400000000000001,93328,97351,97318,0.82299999999999995,0.82399999999999995,0.82599999999999996,1,1,1,0.97,0.97699999999999998,0.95499999999999996,1.7999999999999999E-2,3.6999999999999998E-2,3.5999999999999997E-2,0.16500000000000001,0.191,0.17499999999999999,0.28699999999999998,0.32700000000000001,0.30499999999999999,0.104,0.126,0.111,0.153,0.18,0.154,39921,44577,46471,105401,110086,114774,2505,2949,3459,62509,64076,67240,8030,8010,8233,0,0,0,35817,36803,37887,447665,451627,456075,62466,64345,66305,143355,142812,143372,0,0,0,59121,60886,60016,168390,169956,160183,17127,17288,17554,0.16700000000000001,0.158,0.14399999999999999,131314,151607,147863,0.80200000000000005,0.57199999999999995,0.77500000000000002,2013,3,"SEP","2013-09-01"]
["Tuolumne",2755,2878,2828,5103,5227,5153,0.439,0.441,0.44,4508,4613,4641,0.871,0.88100000000000001,0.87,0.97799999999999998,0.95099999999999996,0.92300000000000004,0.94599999999999995,0.97299999999999998,0.95499999999999996,5.5E-2,5.8999999999999997E-2,5.2999999999999999E-2,0.04,0.14799999999999999,0.16800000000000001,0.158,0.23400000000000001,0.25800000000000001,0.16900000000000001,0.17699999999999999,0.17899999999999999,0.19,0.19500000000000001,0.20100000000000001,2680,2755,2828,5076,5103,5153,208,265,299,2060,1962,1955,141,149,137,0,0,0,56,65,66,55041,54339,54811,16275,16528,17219,9458,9222,9088,0,0,0,656,653,696,8283,8101,7561,1593,1618,1635,0.13,0.11600000000000001,0.108,8377,8976,9822,0.60399999999999998,0.57399999999999995,0.53100000000000003,2013,3,"SEP","2013-09-01"]
["Ventura",31284,32459,32232,64382,67793,66971,0.36299999999999999,0.36799999999999999,0.36499999999999999,47882,49757,49783,0.71399999999999997,0.71499999999999997,0.71699999999999997,0.98699999999999999,0.99299999999999999,0.98399999999999999,0.96399999999999997,0.95299999999999996,0.93799999999999994,1.6E-2,0.03,2.7E-2,9.2999999999999999E-2,0.111,9.9000000000000005E-2,0.215,0.23300000000000001,0.22800000000000001,5.7000000000000002E-2,7.0999999999999994E-2,7.0999999999999994E-2,0.10100000000000001,0.124,0.115,28856,31284,32232,60915,64382,66971,2288,2757,3498,35138,35426,37769,7675,8035,6844,0,0,0,22636,23314,25095,830215,834109,839617,144495,148960,156524,208859,206821,205584,0,0,0,80053,79320,76495,125546,123340,111492,14762,14656,14764,0.10100000000000001,0.09,7.9000000000000001E-2,102487,105820,112132,0.60099999999999998,0.61499999999999999,0.60099999999999998,2013,3,"SEP","2013-09-01"]
["Yolo",7766,7901,7850,16880,16990,16629,0.40699999999999997,0.39600000000000002,0.38700000000000001,13904,14309,14284,0.8,0.83499999999999996,0.82399999999999995,0.873,0.17299999999999999,0.84299999999999997,0.91700000000000004,0.91500000000000004,0.90700000000000003,5.5E-2,5.8999999999999997E-2,5.2999999999999999E-2,0.1,0.115,9.9000000000000005E-2,0.184,0.19800000000000001,0.187,4.4999999999999998E-2,6.4000000000000001E-2,4.8000000000000001E-2,8.1000000000000003E-2,0.10299999999999999,0.08,7126,7766,7850,15941,16880,16629,562,627,774,8309,8261,8108,1057,1070,874,0,0,0,4990,4871,4707,202630,204314,206621,30153,31386,32873,44868,44406,43847,0,0,0,16723,13923,14762,30903,31043,28422,5262,5307,5351,0.125,0.115,9.0999999999999998E-2,51733,44018,42449,0.308,0.38300000000000001,0.39300000000000002,2013,3,"SEP","2013-09-01"]
["Yuba",5776,5715,5749,13058,12913,12919,0.496,0.48799999999999999,0.49299999999999999,11311,11087,11269,0.84899999999999998,0.84699999999999998,0.84699999999999998,1,1,0.98599999999999999,0.98399999999999999,0.96799999999999997,0.95199999999999996,5.5E-2,5.8999999999999997E-2,5.2999999999999999E-2,2.8000000000000001E-2,0.16200000000000001,0.15,0.11899999999999999,0.23,0.24099999999999999,0.16700000000000001,0.215,0.219,0.185,0.23799999999999999,0.24,5620,5776,5749,13060,13058,12919,244,298,341,6598,6360,6541,680,644,571,0,0,0,1771,1707,1586,72620,73021,73600,11156,11530,11868,20727,20586,20521,0,0,0,4197,3903,3382,20858,20229,18518,3694,3772,3733,0.184,0.16900000000000001,0.13100000000000001,13588,19440,14308,0.94799999999999995,0.66300000000000003,0.89600000000000002,2013,3,"SEP","2013-09-01"]
["Alameda",63121,62875,64540,126571,125835,129167,0.36599999999999999,0.34499999999999997,0.35,98269,97900,99113,0.75600000000000001,0.754,0.75,0.92700000000000005,0.88700000000000001,0.90600000000000003,0.85499999999999998,0.871,0.86499999999999999,4.5999999999999999E-2,3.2000000000000001E-2,0.02,8.5000000000000006E-2,8.1000000000000003E-2,0.10100000000000001,0.183,0.17699999999999999,0.185,4.4999999999999998E-2,4.9000000000000002E-2,7.1999999999999995E-2,9.4E-2,8.5000000000000006E-2,0.124,56312,62045,62875,116353,124622,125835,4838,5848,7267,60943,61164,63938,10808,11499,9990,0,0,0,34800,36077,39263,1526220,1540790,1563370,256848,265903,282890,341530,343820,346038,0,0,0,140068,134661,133681,250554,253472,243275,48001,48146,48141,0.104,0.09,7.2999999999999995E-2,220935,220282,220034,0.52500000000000002,0.56499999999999995,0.56699999999999995,2013,4,"DEC","2013-12-01"]
["Alpine",80,91,90,137,171,154,0.49,0.54,0.502,123,149,138,0.879,0.86099999999999999,0.86799999999999999,1,1,1,0.93799999999999994,0.72699999999999998,0.64700000000000002,4.7E-2,5.2999999999999999E-2,0.112,0,8.6999999999999994E-2,0.14799999999999999,8.6999999999999994E-2,0.217,0.14799999999999999,8.6999999999999994E-2,0.217,7.3999999999999996E-2,8.6999999999999994E-2,0.217,0.14799999999999999,78,84,91,144,147,171,13,9,11,46,53,62,2,2,0,0,0,0,0,0,0,1118,1127,1228,276,293,369,239,245,243,0,0,0,21,24,25,193,201,184,44,41,42,0.14799999999999999,0.13300000000000001,9.8000000000000004E-2,209,195,222,0.72099999999999997,0.749,0.70099999999999996,2013,4,"DEC","2013-12-01"]
["Amador",1733,1685,1669,3340,3280,3261,0.49199999999999999,0.48699999999999999,0.47899999999999998,2748,2741,2759,0.82199999999999995,0.83299999999999996,0.83699999999999997,0.97299999999999998,0.97199999999999998,0.93100000000000005,0.93600000000000005,0.94399999999999995,0.98599999999999999,4.7E-2,5.2999999999999999E-2,0.112,2.9000000000000001E-2,0.155,0.18,0.14000000000000001,0.224,0.26400000000000001,0.19900000000000001,0.189,0.13600000000000001,0.22800000000000001,0.20799999999999999,0.152,1485,1717,1685,2906,3287,3280,133,182,194,1175,1230,1298,60,61,69,0,0,0,85,81,98,37288,36899,36945,11475,11711,11769,6120,6009,5919,0,0,0,458,507,484,4505,4522,4116,628,654,674,0.128,0.11799999999999999,0.10299999999999999,4098,4237,4989,0.70299999999999996,0.76700000000000002,0.65700000000000003,2013,4,"DEC","2013-12-01"]
["Butte",14325,14733,14919,29899,30211,30365,0.44,0.442,0.44,26485,27029,27007,0.86799999999999999,0.871,0.86699999999999999,0.91600000000000004,0.96,0.90600000000000003,0.95499999999999996,0.93899999999999995,0.93,4.7E-2,5.2999999999999999E-2,0.112,3.7999999999999999E-2,0.13200000000000001,0.157,0.13200000000000001,0.20100000000000001,0.23899999999999999,0.27800000000000002,0.17699999999999999,0.29399999999999998,0.29899999999999999,0.19600000000000001,0.318,12883,13988,14733,27531,29226,30211,697,842,1116,12820,12905,13523,1166,1187,1063,0,0,0,3175,2929,2782,220521,221118,222035,48592,49667,51734,46265,45992,45459,0,0,0,5007,5475,4375,52008,51266,47746,10702,10828,10914,0.13600000000000001,0.122,0.10299999999999999,61543,56950,57536,0.443,0.51200000000000001,0.52100000000000002,2013,4,"DEC","2013-12-01"]
["Calaveras",2491,2576,2547,4951,4969,4866,0.496,0.48,0.47499999999999998,4048,4085,4035,0.82499999999999996,0.82299999999999995,0.82599999999999996,0.98699999999999999,0.98,1,0.98799999999999999,0.98599999999999999,0.98199999999999998,4.7E-2,5.2999999999999999E-2,0.112,3.3000000000000002E-2,0.106,0.109,0.14099999999999999,0.188,0.20699999999999999,0.20599999999999999,0.16700000000000001,0.14899999999999999,0.23499999999999999,0.191,0.16800000000000001,2309,2522,2576,4736,4998,4969,219,278,322,1877,1881,1808,58,66,103,0,0,0,123,148,134,45143,45045,45214,14097,14458,15224,8594,8280,7993,0,0,0,510,559,410,6701,6850,6097,1005,1023,1043,0.14599999999999999,0.13,0.1,4923,5990,6022,0.95499999999999996,0.83099999999999996,0.82399999999999995,2013,4,"DEC","2013-12-01"]
["California",1887860,1942841,1977662,4147355,4221057,4285622,0.41199999999999998,0.40200000000000002,0.39300000000000002,3223285,3287488,3316387,0.81599999999999995,0.81799999999999995,0.81899999999999995,0.97699999999999998,0.97299999999999998,0.96499999999999997,0.93899999999999995,0.91900000000000004,0.92400000000000004,3.2000000000000001E-2,0.03,4.8000000000000001E-2,8.8999999999999996E-2,0.12,0.13900000000000001,0.20300000000000001,0.20599999999999999,0.224,9.0999999999999998E-2,7.9000000000000001E-2,0.11600000000000001,0.11600000000000001,0.10100000000000001,0.14499999999999999,1684027,1843348,1942841,3813817,4074650,4221057,115078,141407,176557,2138572,2184693,2272684,356627,372370,341378,0,0,0,1226258,1268115,1314549,37570307,37826160,38202206,6313717,6506534,6820715,9214425,9170526,9150549,0,0,0,3841701,3775905,3750293,7594872,7619341,7280074,1165670,1176286,1187606,0.11799999999999999,0.105,8.8999999999999996E-2,6883374,7121280,7166749,0.55200000000000005,0.56999999999999995,0.58399999999999996,2013,4,"DEC","2013-12-01"]
["Colusa",648,713,690,1600,1710,1624,0.27700000000000002,0.28499999999999998,0.27,1496,1569,1503,0.90200000000000002,0.879,0.88900000000000001,1,1,0.91700000000000004,1,0.95799999999999996,0.94899999999999995,4.7E-2,5.2999999999999999E-2,0.112,4.1000000000000002E-2,0.13400000000000001,0.128,0.13100000000000001,0.19900000000000001,0.23799999999999999,0.10299999999999999,0.17799999999999999,0.159,0.113,0.221,0.189,673,701,713,1716,1728,1710,44,39,72,1083,1055,1032,87,108,164,0,0,0,590,598,553,21502,21614,21987,3687,3794,4033,6264,6173,6106,0,0,0,3215,3235,2986,4710,4695,4193,541,556,564,0.20499999999999999,0.2,0.19,4441,4435,3771,0.38,0.38900000000000001,0.46100000000000002,2013,4,"DEC","2013-12-01"]
["Contra Costa",33886,32730,33853,70227,67763,70212,0.35599999999999998,0.32600000000000001,0.32600000000000001,53817,52924,54108,0.747,0.748,0.747,0.94099999999999995,0.95,0.92200000000000004,0.875,0.79200000000000004,0.71599999999999997,6.0000000000000001E-3,0.04,3.3000000000000002E-2,0.104,9.2999999999999999E-2,9.4E-2,0.18,0.17799999999999999,0.16300000000000001,4.7E-2,3.3000000000000002E-2,5.8999999999999997E-2,0.09,6.0999999999999999E-2,0.1,30338,32977,32730,64763,68789,67763,1979,2515,3064,35431,35507,36829,6233,6651,5449,0,0,0,14843,15201,15787,1061375,1069803,1081862,198717,205603,215513,258003,255890,253746,0,0,0,62372,66528,66244,141199,143428,131952,23292,23603,24041,0.104,0.09,7.4999999999999997E-2,149672,135137,145293,0.432,0.50700000000000001,0.47099999999999997,2013,4,"DEC","2013-12-01"]
["Del Norte",2566,2525,2477,5247,5132,5032,0.495,0.48599999999999999,0.46899999999999997,4637,4490,4518,0.878,0.871,0.88700000000000001,1,1,1,0.97799999999999998,0.98399999999999999,0.98199999999999998,4.7E-2,5.2999999999999999E-2,0.112,7.8E-2,0.186,0.22700000000000001,0.23699999999999999,0.252,0.32700000000000001,0.25,0.19700000000000001,0.245,0.28100000000000003,0.223,0.25900000000000001,2525,2629,2525,5328,5445,5132,122,157,193,2398,2343,2218,160,173,167,0,0,0,333,285,262,28498,28359,28530,5761,5913,6153,5949,5778,5698,0,0,0,577,549,733,8219,8091,7460,1936,1869,1817,0.13100000000000001,0.13400000000000001,0.11799999999999999,5502,5696,5923,0.95399999999999996,0.94399999999999995,0.86399999999999999,2013,4,"DEC","2013-12-01"]
["El Dorado",6224,6397,6240,11772,11765,11497,0.41899999999999998,0.40400000000000003,0.4,9730,9661,9792,0.80400000000000005,0.80500000000000005,0.82199999999999995,1,0.995,0.98799999999999999,0.97299999999999998,0.97699999999999998,0.878,4.7E-2,5.2999999999999999E-2,0.112,3.7999999999999999E-2,0.123,0.126,0.127,0.20699999999999999,0.217,0.17399999999999999,0.16800000000000001,0.182,0.19600000000000001,0.19,0.20799999999999999,5602,6081,6397,11204,11620,11765,481,581,732,4898,4822,4716,358,402,417,0,0,0,850,864,882,180663,180599,184054,41293,42806,46098,40109,39168,38276,0,0,0,3350,3301,3580,19110,19049,17413,2777,2818,2850,0.11899999999999999,0.104,8.5000000000000006E-2,25383,19223,26641,0.435,0.60599999999999998,0.441,2013,4,"DEC","2013-12-01"]
["Fresno",89468,90783,92503,215286,217757,220916,0.53100000000000003,0.51300000000000001,0.51300000000000001,174945,174998,176506,0.79400000000000004,0.78500000000000003,0.78200000000000003,0.98399999999999999,0.91900000000000004,0.92500000000000004,0.97,0.83499999999999996,0.91200000000000003,0,0.35,8.9999999999999993E-3,0.16,0.16500000000000001,0.14000000000000001,0.29699999999999999,0.29399999999999998,0.25600000000000001,7.1999999999999995E-2,9.7000000000000003E-2,9.6000000000000002E-2,0.114,0.14499999999999999,0.14899999999999999,84399,88850,90783,206749,215016,217757,3822,4650,5364,119928,122558,123609,15136,15452,14216,0,0,0,60894,61549,59175,939278,946823,958260,138663,143086,147191,276363,275524,276923,0,0,0,112468,115573,108885,313221,316699,299363,39741,40171,40774,0.16500000000000001,0.152,0.13200000000000001,261012,283513,280018,0.78900000000000003,0.75800000000000001,0.78300000000000003,2013,4,"DEC","2013-12-01"]
["Glenn",1392,1431,1387,3436,3549,3412,0.38100000000000001,0.38100000000000001,0.36699999999999999,3130,3262,3163,0.90600000000000003,0.90600000000000003,0.91100000000000003,1,1,1,0.99199999999999999,0.99199999999999999,1,4.7E-2,5.2999999999999999E-2,0.112,5.2999999999999999E-2,0.185,0.16500000000000001,0.16800000000000001,0.252,0.27800000000000002,0.19,0.1,0.155,0.21,0.115,0.17299999999999999,1323,1389,1431,3422,3419,3549,63,87,113,1955,1908,1985,219,231,237,0,0,0,744,769,739,28255,28208,28599,5356,5499,5834,7776,7657,7588,0,0,0,2387,2433,2638,7202,7157,6747,1118,1128,1136,0.158,0.14699999999999999,0.121,6094,6413,6196,0.54400000000000004,0.53700000000000003,0.56899999999999995,2013,4,"DEC","2013-12-01"]
["Humboldt",8197,8812,8895,15547,16507,16624,0.41699999999999998,0.42499999999999999,0.40699999999999997,13296,14160,14303,0.83,0.83199999999999996,0.83299999999999996,0.98799999999999999,0.95099999999999996,0.90400000000000003,0.89700000000000002,0.89700000000000002,0.88,4.7E-2,5.2999999999999999E-2,0.112,4.7E-2,0.114,0.104,0.13600000000000001,0.18099999999999999,0.189,0.23799999999999999,0.17799999999999999,0.193,0.27,0.20699999999999999,0.217,7731,8114,8812,14836,15495,16507,422,496,695,6696,6496,7000,657,685,684,0,0,0,843,807,886,135218,134923,136480,27992,29078,30216,26890,26337,26025,0,0,0,2150,2104,2347,27304,27113,24939,5830,5740,5607,0.114,0.105,8.2000000000000003E-2,29447,32857,34043,0.5,0.46700000000000003,0.47399999999999998,2013,4,"DEC","2013-12-01"]
["Imperial",14563,14518,14978,37524,37083,38207,0.51300000000000001,0.50700000000000001,0.50900000000000001,33980,33548,34284,0.89200000000000002,0.88,0.88,0.998,0.93100000000000005,0.88200000000000001,0.98799999999999999,0.91400000000000003,0.98199999999999998,4.7E-2,5.2999999999999999E-2,0.112,6.2E-2,0.16300000000000001,0.17699999999999999,0.14899999999999999,0.23899999999999999,0.25900000000000001,0.16500000000000001,0.13700000000000001,0.19600000000000001,0.182,0.155,0.217,13153,14037,14518,34438,36091,37083,1259,1456,1738,18301,18176,19291,891,994,1028,0,0,0,17336,17886,19370,177229,178659,179326,26621,27470,28182,51037,50932,51426,0,0,0,31970,32769,32195,58086,58377,55474,10249,10349,10276,0.29699999999999999,0.28299999999999997,0.249,52830,44744,44790,0.65100000000000002,0.80800000000000005,0.81499999999999995,2013,4,"DEC","2013-12-01"]
["Inyo",974,1058,1009,1967,2132,2028,0.39,0.41899999999999998,0.39500000000000002,1722,1853,1729,0.88,0.86399999999999999,0.85199999999999998,0.98299999999999998,1,1,0.99,0.99199999999999999,0.95799999999999996,4.7E-2,5.2999999999999999E-2,0.112,5.6000000000000001E-2,0.17100000000000001,0.123,0.158,0.28299999999999997,0.223,0.20799999999999999,0.157,0.253,0.221,0.17100000000000001,0.29099999999999998,869,957,1058,1813,1951,2132,92,105,137,866,879,964,91,105,103,0,0,0,267,316,327,18687,18637,19241,5025,5121,5510,3816,3727,3660,0,0,0,454,490,532,3541,3534,3188,390,396,407,9.9000000000000005E-2,9.4E-2,7.9000000000000001E-2,2628,2515,2766,0.68799999999999994,0.77700000000000002,0.73899999999999999,2013,4,"DEC","2013-12-01"]
["Kern",58235,59623,59300,140403,144653,142748,0.46500000000000002,0.44400000000000001,0.43099999999999999,116475,118680,116673,0.81100000000000005,0.80700000000000005,0.80300000000000005,0.98599999999999999,0.99199999999999999,0.98399999999999999,0.96299999999999997,0.90200000000000002,0.90400000000000003,4.0000000000000001E-3,2.1999999999999999E-2,3.9E-2,6.3E-2,0.20599999999999999,0.22700000000000001,0.17899999999999999,0.29299999999999998,0.32900000000000001,0.17299999999999999,0.124,0.23499999999999999,0.20100000000000001,0.14699999999999999,0.26600000000000001,53773,57915,59623,134833,140798,144653,2783,3379,3983,81944,82189,84978,11845,11952,10703,0,0,0,37108,37887,37191,848839,855522,869797,114797,119415,122971,252109,251296,252028,0,0,0,84185,85452,88100,239601,240099,224473,30734,31095,31384,0.14899999999999999,0.13300000000000001,0.11700000000000001,213705,213671,224185,0.626,0.65400000000000003,0.64,2013,4,"DEC","2013-12-01"]
["Kings",9527,9956,9741,22594,23543,22985,0.505,0.48,0.47199999999999998,20493,20935,20445,0.88600000000000001,0.88100000000000001,0.88100000000000001,0.99299999999999999,0.996,0.98299999999999998,0.90800000000000003,0.96199999999999997,0.94399999999999995,4.7E-2,5.2999999999999999E-2,0.112,5.5E-2,0.19900000000000001,0.23200000000000001,0.192,0.28899999999999998,0.33100000000000002,0.16800000000000001,0.19500000000000001,0.40500000000000003,0.189,0.217,0.438,9036,9624,9956,22067,22949,23543,448,563,652,12407,12535,12892,1524,1554,1396,0,0,0,5421,5625,5451,151655,150843,152456,18146,18666,19636,41508,40866,41136,0,0,0,14643,14061,14426,36327,36030,33393,4723,4729,4659,0.16200000000000001,0.153,0.13500000000000001,28208,33431,34891,0.78300000000000003,0.68600000000000005,0.66900000000000004,2013,4,"DEC","2013-12-01"]
["Lake",5076,5227,5154,10118,10453,10290,0.42,0.41799999999999998,0.40300000000000002,8755,8987,9012,0.85399999999999998,0.85599999999999998,0.85699999999999998,0.98299999999999998,0.94699999999999995,0.76500000000000001,0.95499999999999996,0.872,0.90300000000000002,4.7E-2,5.2999999999999999E-2,0.112,1.9E-2,0.106,0.105,9.7000000000000003E-2,0.17299999999999999,0.17599999999999999,0.27700000000000002,0.157,0.308,0.29899999999999999,0.17899999999999999,0.33900000000000002,4751,5041,5227,9789,10039,10453,382,477,586,4333,4340,4436,232,256,385,0,0,0,789,790,814,64419,64394,64782,16938,17355,18045,13319,13100,12882,0,0,0,1826,1920,1792,18109,17709,16443,3653,3701,3710,0.16800000000000001,0.15,0.108,17844,19370,17452,0.52,0.52300000000000002,0.59,2013,4,"DEC","2013-12-01"]
["Lassen",1408,1426,1441,2956,2971,3015,0.46400000000000002,0.46899999999999997,0.46200000000000002,2633,2662,2740,0.88300000000000001,0.879,0.88400000000000001,0.97799999999999998,0.97899999999999998,0.95699999999999996,0.90100000000000002,0.91200000000000003,0.91200000000000003,4.7E-2,5.2999999999999999E-2,0.112,9.9000000000000005E-2,0.156,0.14000000000000001,0.21199999999999999,0.23499999999999999,0.223,0.17199999999999999,0.17899999999999999,0.221,0.187,0.189,0.24099999999999999,1402,1386,1426,3018,2933,2971,61,81,99,1342,1284,1319,78,87,91,0,0,0,74,70,67,34668,33650,34966,5526,5593,6186,6095,5682,5574,0,0,0,745,704,769,5145,4859,4436,928,930,906,0.13400000000000001,0.126,0.106,4149,4471,4398,0.71699999999999997,0.65800000000000003,0.67800000000000005,2013,4,"DEC","2013-12-01"]
["Los Angeles",538221,557570,567409,1124832,1148512,1169214,0.34899999999999998,0.33400000000000002,0.33700000000000002,874210,889822,900373,0.76800000000000002,0.76400000000000001,0.76,0.97199999999999998,0.97499999999999998,0.96399999999999997,0.94899999999999995,0.95699999999999996,0.94899999999999995,2.4E-2,2.7E-2,3.2000000000000001E-2,0.107,7.8E-2,0.104,0.182,0.154,0.183,0,8.0000000000000002E-3,8.0000000000000002E-3,4.0000000000000001E-3,1.2999999999999999E-2,1.0999999999999999E-2,478664,516984,557570,1027412,1093422,1148512,30250,36571,46590,589565,599556,629069,119837,124537,117585,0,0,0,413819,423844,444806,9860836,9911665,10010961,1574823,1620299,1701464,2357593,2341123,2329494,0,0,0,1413525,1372113,1402433,2418773,2410140,2250353,382816,385131,388148,0.123,0.109,9.8000000000000004E-2,1963598,2021648,2088070,0.52100000000000002,0.53900000000000003,0.54200000000000004,2013,4,"DEC","2013-12-01"]
["Madera",10184,10608,10563,25845,26856,26658,0.47699999999999998,0.46100000000000002,0.45900000000000002,23623,24679,24793,0.9,0.90900000000000003,0.91300000000000003,0.98499999999999999,0.97499999999999998,0.98299999999999998,0.98499999999999999,0.97199999999999998,0.97499999999999998,4.7E-2,5.2999999999999999E-2,0.112,5.3999999999999999E-2,0.16600000000000001,0.17,0.192,0.26600000000000001,0.26900000000000002,0.20599999999999999,0.183,0.20200000000000001,0.23699999999999999,0.216,0.23100000000000001,10006,10437,10608,25675,26670,26856,467,534,619,16252,16732,16652,3162,3223,2773,0,0,0,9919,10100,9640,152008,151790,153409,25106,25433,26873,42605,42036,42149,0,0,0,19401,20218,20706,45597,45875,42230,4466,4441,4478,0.151,0.13600000000000001,0.125,33539,38099,38832,0.75700000000000001,0.69299999999999995,0.69099999999999995,2013,4,"DEC","2013-12-01"]
["Marin",5639,5762,5850,9538,9774,9846,0.317,0.309,0.30299999999999999,8290,8746,8915,0.86699999999999999,0.88100000000000001,0.89200000000000002,0.97099999999999997,0.97599999999999998,0.93799999999999994,0.94599999999999995,0.95399999999999996,0.94899999999999995,4.7E-2,5.2999999999999999E-2,0.112,4.1000000000000002E-2,0.14299999999999999,0.14099999999999999,0.115,0.21299999999999999,0.20200000000000001,0.17499999999999999,0.13800000000000001,0.17699999999999999,0.19,0.157,0.2,5241,5541,5762,8890,9408,9774,659,758,887,4267,4358,4734,1168,1245,1271,0,0,0,2668,2958,3455,254359,254882,256264,63398,65062,69445,51983,51763,51412,0,0,0,8250,11689,8867,22986,22611,21230,3120,3102,3107,7.3999999999999996E-2,6.3E-2,5.1999999999999998E-2,28284,20101,22421,0.311,0.46300000000000002,0.42,2013,4,"DEC","2013-12-01"]
["Mariposa",851,920,949,1746,1855,1905,0.45400000000000001,0.46899999999999997,0.48099999999999998,1538,1662,1733,0.86099999999999999,0.88500000000000001,0.876,0.873,0.93600000000000005,0.92600000000000005,0.96299999999999997,0.98699999999999999,0.86799999999999999,4.7E-2,5.2999999999999999E-2,0.112,4.7E-2,0.14899999999999999,9.4E-2,0.14499999999999999,0.19900000000000001,0.14799999999999999,0.18,7.8E-2,0.154,0.19600000000000001,9.8000000000000004E-2,0.16400000000000001,796,875,920,1730,1804,1855,77,83,119,727,709,714,39,41,37,0,0,0,42,47,30,17977,17817,18101,5580,5675,5971,3136,3056,2988,0,0,0,331,155,227,2868,2854,2652,450,460,462,0.11899999999999999,0.11,0.105,2928,2848,3155,0.57399999999999995,0.623,0.58799999999999997,2013,4,"DEC","2013-12-01"]
["Mendocino",7216,6923,6972,13612,13202,13061,0.39400000000000002,0.38400000000000001,0.36899999999999999,11042,11148,11177,0.82,0.84599999999999997,0.84299999999999997,0.99399999999999999,0.996,0.99099999999999999,0.99099999999999999,0.995,0.99399999999999999,4.7E-2,5.2999999999999999E-2,0.112,6.7000000000000004E-2,0.16,0.18,0.19,0.25700000000000001,0.27,0.26100000000000001,0.18099999999999999,0.27700000000000002,0.307,0.21099999999999999,0.32200000000000001,6735,7242,6923,13122,13660,13202,490,591,699,5593,5727,5665,571,592,688,0,0,0,1861,1934,1823,88071,88566,88931,21515,22245,23290,19200,19078,18865,0,0,0,4077,4188,4171,22789,23130,21783,3247,3238,3218,0.109,9.7000000000000003E-2,8.2000000000000003E-2,21298,19739,22381,0.61099999999999999,0.68700000000000006,0.58799999999999997,2013,4,"DEC","2013-12-01"]
["Merced",21978,22956,22674,53540,55568,54349,0.498,0.5,0.46600000000000003,44104,45636,44972,0.81799999999999995,0.81899999999999995,0.81799999999999995,0.996,0.997,0.98399999999999999,0.98599999999999999,0.94799999999999995,0.94799999999999995,7.0000000000000001E-3,1.2999999999999999E-2,8.0000000000000002E-3,6.2E-2,0.17,0.20799999999999999,0.19600000000000001,0.25600000000000001,0.308,0.26800000000000002,0.221,0.31,0.29199999999999998,0.24399999999999999,0.34300000000000003,20289,22003,22956,51328,53940,55568,917,1122,1338,30050,30744,31540,3935,4110,4036,0,0,0,15243,15638,15579,259289,261708,263441,35643,36841,37818,80297,79582,79353,0,0,0,36166,31663,35644,84350,84983,80292,10642,10745,10849,0.183,0.17,0.14499999999999999,80133,67910,70247,0.63200000000000001,0.79,0.78600000000000003,2013,4,"DEC","2013-12-01"]
["Modoc",425,415,412,959,935,952,0.35899999999999999,0.36299999999999999,0.35399999999999998,851,849,864,0.876,0.86899999999999999,0.89300000000000002,1,1,1,1,1,0.96199999999999997,4.7E-2,5.2999999999999999E-2,0.112,8.2000000000000003E-2,0.108,0.20100000000000001,0.19500000000000001,0.188,0.26300000000000001,0.23300000000000001,0.11799999999999999,0.17299999999999999,0.26400000000000001,0.129,0.19,402,438,415,956,997,935,20,25,34,519,486,442,24,20,42,0,0,0,69,78,71,9565,9518,9457,2781,2834,2876,2072,2010,1952,0,0,0,279,280,335,2094,2012,1865,404,405,416,0.15,0.13500000000000001,0.124,2395,2460,2622,0.41399999999999998,0.40899999999999997,0.36099999999999999,2013,4,"DEC","2013-12-01"]
["Mono",379,400,385,619,656,644,0.30299999999999999,0.27900000000000003,0.27900000000000003,532,520,554,0.78800000000000003,0.76,0.81200000000000006,0.96699999999999997,0.97099999999999997,0.92100000000000004,0.94499999999999995,0.84799999999999998,0.96599999999999997,4.7E-2,5.2999999999999999E-2,0.112,1.9E-2,4.8000000000000001E-2,1.4999999999999999E-2,0.185,0.156,0.108,9.1999999999999998E-2,9.7000000000000003E-2,6.2E-2,9.6000000000000002E-2,0.129,6.5000000000000002E-2,383,447,400,619,709,656,21,32,43,272,326,283,3,3,74,0,0,0,172,226,163,14305,14258,14376,2323,2415,2711,2996,2971,3013,0,0,0,954,870,937,1381,1413,1248,98,102,101,0.10100000000000001,0.105,8.5000000000000006E-2,2449,2221,2021,0.23200000000000001,0.313,0.316,2013,4,"DEC","2013-12-01"]
["Monterey",18468,20213,19094,41994,46145,43325,0.34499999999999997,0.32800000000000001,0.30599999999999999,35305,39430,36922,0.82799999999999996,0.84399999999999997,0.83399999999999996,1,1,1,0.99299999999999999,0.99199999999999999,0.97799999999999998,0,2.4E-2,8.5999999999999993E-2,3.7999999999999999E-2,0.24,0.23400000000000001,0.13700000000000001,0.32800000000000001,0.34899999999999998,0.11,0.121,0.106,0.12,0.14399999999999999,0.122,17107,19325,20213,40060,44518,46145,936,1189,1572,27488,29906,29909,6060,6608,6960,0,0,0,19759,22110,21235,419998,422868,424119,66498,68145,71183,111651,111806,112481,0,0,0,78905,79767,64059,94574,96221,88589,8492,8502,8458,0.125,0.114,0.10299999999999999,84701,80400,83052,0.47599999999999998,0.55600000000000005,0.56499999999999995,2013,4,"DEC","2013-12-01"]
["Napa",3387,3193,3156,7181,6710,6599,0.32500000000000001,0.28999999999999998,0.26600000000000001,6259,5989,6066,0.83199999999999996,0.85,0.872,0.93,0.75,0.76700000000000002,0.96199999999999997,0.89900000000000002,0.90600000000000003,4.7E-2,5.2999999999999999E-2,0.112,3.6999999999999998E-2,0.13100000000000001,0.12,0.10299999999999999,0.20699999999999999,0.19600000000000001,0.26700000000000002,0.23,0.16,0.32200000000000001,0.25900000000000001,0.17899999999999999,3231,3452,3193,6899,7287,6710,230,292,341,4223,4244,4081,1012,1098,909,0,0,0,2859,3019,2892,137634,138577,139831,29909,30643,32036,31219,31125,31002,0,0,0,11887,12388,12782,17142,17126,15421,2126,2142,2156,9.0999999999999998E-2,7.8E-2,6.8000000000000005E-2,22177,18311,16770,0.312,0.39300000000000002,0.40699999999999997,2013,4,"DEC","2013-12-01"]
["Nevada",3830,3898,3903,7339,7452,7422,0.42299999999999999,0.42099999999999999,0.41499999999999998,6034,6269,6320,0.80800000000000005,0.82399999999999995,0.82199999999999995,1,0.996,0.996,0.96899999999999997,0.95199999999999996,0.85799999999999998,4.7E-2,5.2999999999999999E-2,0.112,3.3000000000000002E-2,0.126,0.125,0.129,0.19600000000000001,0.187,0.161,0.14499999999999999,0.14399999999999999,0.186,0.161,0.16900000000000001,3128,3667,3898,6272,7105,7452,247,314,445,2600,2726,2951,169,219,186,0,0,0,247,270,255,98593,98202,98317,29012,29761,31210,18477,18018,17565,0,0,0,1308,1312,1576,11559,11428,10758,1749,1771,1796,0.106,9.4E-2,8.1000000000000003E-2,15526,14198,16674,0.39500000000000002,0.495,0.442,2013,4,"DEC","2013-12-01"]
["Orange",101210,105823,110142,225212,232862,240817,0.36099999999999999,0.33200000000000002,0.33100000000000002,177324,184136,188299,0.76900000000000002,0.77400000000000002,0.76700000000000002,0.996,0.998,0.995,0.99399999999999999,0.996,0.995,1.4999999999999999E-2,2.1999999999999999E-2,4.8000000000000001E-2,8.5999999999999993E-2,8.3000000000000004E-2,8.1000000000000003E-2,0.17100000000000001,0.17,0.14899999999999999,5.0999999999999997E-2,4.7E-2,6.4000000000000001E-2,8.1000000000000003E-2,7.0999999999999994E-2,0.10100000000000001,84958,97956,105823,195627,218827,232862,7953,10377,13145,122531,131451,139033,29734,31940,29922,0,0,0,97060,105140,111958,3047120,3071933,3097966,517519,533455,559090,728891,724926,721292,0,0,0,333989,322892,316852,453202,460035,467937,65415,66558,67573,8.7999999999999995E-2,7.5999999999999998E-2,6.5000000000000002E-2,433176,453553,444095,0.45,0.48199999999999998,0.51800000000000002,2013,4,"DEC","2013-12-01"]
["Placer",8252,8480,8802,17834,17673,18178,0.35899999999999999,0.33900000000000002,0.33800000000000002,11829,11621,11695,0.66200000000000003,0.65200000000000002,0.64100000000000001,0.98099999999999998,0.997,0.97699999999999998,0.94799999999999995,0.97399999999999998,0.94699999999999995,4.7E-2,5.2999999999999999E-2,0.112,8.6999999999999994E-2,7.1999999999999995E-2,9.1999999999999998E-2,0.17499999999999999,0.14799999999999999,0.161,3.9E-2,4.1000000000000002E-2,0.08,6.6000000000000003E-2,6.8000000000000005E-2,0.11700000000000001,7692,8227,8480,17524,17815,17673,598,791,1019,8196,8043,7868,860,871,677,0,0,0,2095,2058,2021,356367,360680,365125,77238,79177,85049,85424,85224,84419,0,0,0,8075,6656,8063,31025,31306,28497,4956,5044,5056,0.108,9.4E-2,7.6999999999999999E-2,41528,42087,39484,0.41599999999999998,0.42599999999999999,0.45,2013,4,"DEC","2013-12-01"]
["Plumas",772,773,829,1612,1604,1660,0.38,0.38400000000000001,0.378,1442,1461,1470,0.85099999999999998,0.873,0.84699999999999998,0.85899999999999999,1,0.96299999999999997,0.95399999999999996,0.97,0.81499999999999995,4.7E-2,5.2999999999999999E-2,0.112,0.03,0.13500000000000001,0.10299999999999999,9.2999999999999999E-2,0.19,0.183,0.16900000000000001,0.115,0.11700000000000001,0.17499999999999999,0.13500000000000001,0.125,638,756,773,1497,1654,1604,46,50,82,683,701,676,19,27,34,0,0,0,25,21,22,19953,19523,19466,6266,6395,6703,3503,3317,3263,0,0,0,164,261,217,3112,3224,3027,657,665,641,0.16,0.14699999999999999,0.13900000000000001,3314,3548,3816,0.44700000000000001,0.46100000000000002,0.439,2013,4,"DEC","2013-12-01"]
["Riverside",113640,115800,119124,276481,278117,284797,0.44800000000000001,0.39900000000000002,0.39700000000000002,191044,196586,200024,0.69,0.70099999999999996,0.70099999999999996,0.999,0.996,0.997,0.94199999999999995,0.94299999999999995,0.95199999999999996,2.7E-2,3.2000000000000001E-2,2.5000000000000001E-2,3.3000000000000002E-2,0.17199999999999999,0.19400000000000001,0.123,0.247,0.27300000000000002,0.186,0.157,0.20699999999999999,0.20300000000000001,0.17399999999999999,0.23,95761,109234,115800,242348,267997,278117,6565,8379,10225,137664,143506,151042,17706,18716,17000,0,0,0,59766,62978,65355,2220502,2244399,2264173,369034,378792,396291,615707,611198,608238,0,0,0,183465,178052,173255,407580,408855,409328,53606,54970,56654,0.13700000000000001,0.122,9.9000000000000005E-2,437744,482427,469029,0.55400000000000005,0.55400000000000005,0.59099999999999997,2013,4,"DEC","2013-12-01"]
["Sacramento",93411,94824,96705,208709,210033,213386,0.47699999999999998,0.44500000000000001,0.443,162349,162851,163078,0.76,0.75800000000000001,0.75700000000000001,0.98699999999999999,0.98799999999999999,0.97899999999999998,0.97399999999999998,0.98399999999999999,0.98,4.0000000000000001E-3,0.44,4.0000000000000001E-3,0.09,8.5999999999999993E-2,0.10100000000000001,0.17199999999999999,0.17,0.17299999999999999,5.1999999999999998E-2,4.7E-2,7.0999999999999994E-2,8.4000000000000005E-2,7.6999999999999999E-2,0.113,84650,90856,94824,195423,204104,210033,4102,5103,6598,101965,102959,105467,11260,11758,9994,0,0,0,47015,46984,47601,1430884,1439874,1448268,238059,245819,254622,360838,359112,358519,0,0,0,93023,97511,101446,320369,324426,308037,59011,60330,61371,0.121,0.106,8.8999999999999996E-2,276829,310462,306055,0.70299999999999996,0.65800000000000003,0.68100000000000005,2013,4,"DEC","2013-12-01"]
["San Benito",2580,2684,2580,6053,6232,5979,0.44700000000000001,0.438,0.42099999999999999,5097,5276,5232,0.84099999999999997,0.85299999999999998,0.86299999999999999,1,1,0.99399999999999999,0.996,0.97299999999999998,0.96699999999999997,4.7E-2,5.2999999999999999E-2,0.112,4.2999999999999997E-2,0.18099999999999999,0.20699999999999999,0.151,0.26700000000000002,0.30399999999999999,0.17299999999999999,0.193,0.20799999999999999,0.20499999999999999,0.215,0.22500000000000001,2637,2609,2684,6256,6114,6232,207,216,246,3463,3314,3361,489,502,472,0,0,0,1959,1849,1856,55950,56527,57366,8367,8675,9394,15728,15546,15424,0,0,0,6602,6386,5777,10335,10227,9287,871,897,882,0.159,0.13900000000000001,0.111,7551,8551,8524,0.82899999999999996,0.72099999999999997,0.72699999999999998,2013,4,"DEC","2013-12-01"]
["San Bernardino",155859,159737,162640,368935,373620,378592,0.51,0.47499999999999998,0.47,259386,267005,268592,0.71299999999999997,0.71799999999999997,0.71699999999999997,0.999,0.997,0.998,0.93600000000000005,0.86199999999999999,0.89500000000000002,7.0000000000000001E-3,1.4E-2,4.0000000000000001E-3,4.3999999999999997E-2,0.192,0.21099999999999999,0.13300000000000001,0.26100000000000001,0.28699999999999998,0.224,0.186,0.28799999999999998,0.24,0.20200000000000001,0.308,134618,151637,159737,332778,361404,373620,8049,10026,12685,179558,187444,194878,21870,22712,21323,0,0,0,64816,67830,70335,2053348,2065016,2075160,281997,293471,301721,587130,579792,576858,0,0,0,158999,172415,156056,479967,486650,481334,63945,65325,66969,0.13400000000000001,0.12,9.8000000000000004E-2,420657,474491,441319,0.78800000000000003,0.75600000000000001,0.84199999999999997,2013,4,"DEC","2013-12-01"]
["San Diego",115372,122561,126937,253631,260576,270406,0.40100000000000002,0.36199999999999999,0.36499999999999999,186377,189359,194302,0.72,0.70899999999999996,0.70599999999999996,0.97899999999999998,0.96299999999999997,0.97899999999999998,0.89200000000000002,0.91100000000000003,0.95199999999999996,4.8000000000000001E-2,2.5000000000000001E-2,1.4E-2,0.16900000000000001,0.11799999999999999,0.152,0.27600000000000002,0.21199999999999999,0.23499999999999999,7.8E-2,6.2E-2,9.4E-2,0.125,9.7000000000000003E-2,0.14499999999999999,99130,112361,122561,225828,246971,260576,8727,11289,13842,122746,125548,131432,17967,19228,15919,0,0,0,83752,88054,93092,3125321,3147220,3184072,518489,533349,558419,723802,722277,723080,0,0,0,255026,228674,236315,441366,442914,451842,74340,74992,75967,0.1,8.8999999999999996E-2,7.8E-2,548569,564164,553958,0.41199999999999998,0.438,0.46600000000000003,2013,4,"DEC","2013-12-01"]
["San Francisco",32845,32096,32234,50994,50124,50731,0.23300000000000001,0.221,0.221,33479,33109,33304,0.63500000000000001,0.63800000000000001,0.63900000000000001,0.98199999999999998,0.97499999999999998,0.97,0.91300000000000003,0.81699999999999995,0.69399999999999995,2.7E-2,3.7999999999999999E-2,7.0000000000000007E-2,8.6999999999999994E-2,9.7000000000000003E-2,0.10100000000000001,0.191,0.2,0.188,7.0999999999999994E-2,7.1999999999999995E-2,8.5999999999999993E-2,0.11700000000000001,0.104,0.13300000000000001,32231,32910,32096,50192,50894,50124,4279,4864,5459,19821,19583,19668,4853,5068,4243,0,0,0,19063,19407,19818,813123,820349,833827,158587,162239,171662,112549,116481,119793,0,0,0,108545,105810,96046,134461,134748,134579,37828,37817,37708,8.5999999999999993E-2,7.2999999999999995E-2,5.5E-2,116917,121506,120297,0.42599999999999999,0.42,0.40600000000000003,2013,4,"DEC","2013-12-01"]
["San Joaquin",44548,46964,47246,108719,113230,113328,0.47399999999999998,0.46500000000000002,0.45100000000000001,89441,93653,93553,0.81799999999999995,0.81599999999999995,0.81699999999999995,0.98599999999999999,0.97799999999999998,0.98199999999999998,0.96299999999999997,0.91700000000000004,0.93700000000000006,3.1E-2,2.7E-2,6.5000000000000002E-2,5.6000000000000001E-2,0.188,0.191,0.14599999999999999,0.26,0.26800000000000002,0.18,0.13800000000000001,0.20300000000000001,0.19900000000000001,0.155,0.22600000000000001,39626,43790,46964,100921,107532,113230,2121,2587,3502,59252,60071,63093,7516,7727,7295,0,0,0,23681,23960,23995,692862,699003,703790,106544,110087,113154,199369,197931,197012,0,0,0,65970,64140,64800,180727,181087,170765,26645,26908,27071,0.16800000000000001,0.152,0.124,137798,138592,156985,0.72399999999999998,0.77600000000000002,0.71299999999999997,2013,4,"DEC","2013-12-01"]
["San Luis Obispo",8995,8907,9023,17603,17319,17380,0.36299999999999999,0.34499999999999997,0.33,13040,13003,13132,0.72399999999999998,0.72899999999999998,0.72699999999999998,0.94599999999999995,0.96199999999999997,0.93500000000000005,0.89800000000000002,0.91,0.90800000000000003,4.7E-2,5.2999999999999999E-2,0.112,7.5999999999999998E-2,6.6000000000000003E-2,6.6000000000000003E-2,0.158,0.16300000000000001,0.14899999999999999,4.7E-2,3.9E-2,5.5E-2,7.2999999999999995E-2,7.2999999999999995E-2,9.0999999999999998E-2,8354,8899,8907,16733,17269,17319,698,882,1072,8305,8140,8228,1232,1285,1089,0,0,0,3089,3116,3239,270119,271021,271740,60011,61883,65066,50670,50367,50061,0,0,0,9115,9420,10073,33401,33196,30635,4490,4420,4383,9.4E-2,8.1000000000000003E-2,6.8000000000000005E-2,48412,43667,47791,0.34499999999999997,0.40200000000000002,0.36599999999999999,2013,4,"DEC","2013-12-01"]
["San Mateo",13945,14493,15436,28900,29339,31071,0.27500000000000002,0.254,0.253,23041,23802,24845,0.76600000000000001,0.77300000000000002,0.76700000000000002,0.94099999999999995,0.83099999999999996,0.96799999999999997,0.82699999999999996,0.80300000000000005,0.83,4.7E-2,5.2999999999999999E-2,0.112,8.1000000000000003E-2,6.9000000000000006E-2,7.8E-2,0.16900000000000001,0.154,0.14799999999999999,4.4999999999999998E-2,4.3999999999999997E-2,6.5000000000000002E-2,0.08,7.1999999999999995E-2,0.10199999999999999,11040,13612,14493,23554,28106,29339,1380,1886,2531,14502,16040,17242,3076,3538,4025,0,0,0,10086,11878,13534,727980,736362,741857,142073,145950,155845,160750,162180,163248,0,0,0,55409,60960,58256,75236,78549,77027,11278,11180,10953,7.9000000000000001E-2,6.7000000000000004E-2,5.1999999999999998E-2,71742,72926,68114,0.32600000000000001,0.38200000000000001,0.42299999999999999,2013,4,"DEC","2013-12-01"]
["Santa Barbara",14027,14344,14382,31696,32221,32271,0.308,0.27900000000000003,0.27900000000000003,26574,26990,26999,0.81899999999999995,0.82399999999999995,0.81299999999999994,0.95099999999999996,0.94399999999999995,0.92400000000000004,0.93300000000000005,0.86499999999999999,0.84699999999999998,4.7E-2,5.2999999999999999E-2,0.112,0.112,8.8999999999999996E-2,9.7000000000000003E-2,0.22,0.193,0.193,4.9000000000000002E-2,0.05,5.8999999999999997E-2,8.4000000000000005E-2,8.8999999999999996E-2,0.109,13312,14197,14344,30406,32030,32221,727,866,1086,20425,20351,20051,5620,5628,4170,0,0,0,13586,13341,12614,425756,427358,433157,76570,78083,82325,98295,97785,97825,0,0,0,45828,45401,46332,81071,81084,74176,8708,8597,8477,8.8999999999999996E-2,0.08,7.0999999999999994E-2,64486,76855,79414,0.47799999999999998,0.41799999999999998,0.41399999999999998,2013,4,"DEC","2013-12-01"]
["Santa Clara",50330,52296,53263,108071,110622,112280,0.313,0.29099999999999998,0.29099999999999998,86567,87826,88087,0.78500000000000003,0.78,0.77500000000000002,0.875,0.96,0.88600000000000001,0.85099999999999998,0.84199999999999997,0.92200000000000004,1.2E-2,2.5000000000000001E-2,4.2999999999999997E-2,6.5000000000000002E-2,3.9E-2,4.3999999999999997E-2,0.14299999999999999,0.127,0.121,1.0999999999999999E-2,8.0000000000000002E-3,1.0999999999999999E-2,4.2000000000000003E-2,3.5999999999999997E-2,5.3999999999999999E-2,46050,49038,52296,100419,105676,110622,4566,5507,7200,57629,56627,59419,13468,13623,11654,0,0,0,43239,44837,48568,1806881,1828597,1850595,292023,301962,321578,432604,436447,439320,0,0,0,178479,178148,176036,261394,260965,261699,43993,43944,44002,9.8000000000000004E-2,8.4000000000000005E-2,6.5000000000000002E-2,208028,220691,215577,0.48,0.47699999999999998,0.503,2013,4,"DEC","2013-12-01"]
["Santa Cruz",10856,11641,11533,21161,22732,22237,0.35099999999999998,0.34,0.32500000000000001,15651,16895,16577,0.72199999999999998,0.73699999999999999,0.73299999999999998,0.95399999999999996,0.93300000000000005,0.92900000000000005,0.88900000000000001,0.78900000000000003,0.68600000000000005,4.7E-2,5.2999999999999999E-2,0.112,5.5E-2,5.5E-2,5.0999999999999997E-2,0.17599999999999999,0.151,0.154,2.5000000000000001E-2,3.2000000000000001E-2,2.1000000000000001E-2,6.0999999999999999E-2,7.0999999999999994E-2,6.3E-2,10117,10984,11641,20667,22390,22732,752,922,1290,11923,11666,11843,3213,3317,2423,0,0,0,8669,8532,8317,265569,267569,271495,47897,50062,53904,55764,55954,55939,0,0,0,23185,21496,20137,42412,42528,38508,5143,5104,5077,0.123,0.111,0.10299999999999999,40432,37039,42179,0.499,0.58799999999999997,0.54500000000000004,2013,4,"DEC","2013-12-01"]
["Shasta",12319,11911,11458,24689,23709,22949,0.44700000000000001,0.437,0.41199999999999998,21490,21125,20506,0.84799999999999998,0.85799999999999998,0.85799999999999998,0.97599999999999998,0.94,0.82,0.89600000000000002,0.84899999999999998,0.875,4.7E-2,5.2999999999999999E-2,0.112,3.9E-2,0.14899999999999999,0.156,0.14199999999999999,0.22600000000000001,0.245,0.26,0.14299999999999999,0.191,0.28599999999999998,0.16400000000000001,0.21199999999999999,11605,12445,11911,24047,25025,23709,691,821,990,10745,10508,10472,872,922,713,0,0,0,566,495,466,178089,178477,178591,43415,44441,45455,39287,39051,38745,0,0,0,2583,2105,3086,41918,41050,37387,9261,9329,9306,0.14899999999999999,0.13400000000000001,0.11799999999999999,41267,33389,40245,0.57699999999999996,0.74,0.58299999999999996,2013,4,"DEC","2013-12-01"]
["Sierra",155,156,157,292,305,293,0.39,0.40100000000000002,0.39400000000000002,255,270,256,0.86099999999999999,0.84599999999999997,0.86799999999999999,1,1,1,0.95799999999999996,1,1,4.7E-2,5.2999999999999999E-2,0.112,0,0.16700000000000001,5.3999999999999999E-2,0.16300000000000001,0.28599999999999998,0.16200000000000001,0.122,9.5000000000000001E-2,0.13500000000000001,0.122,0.11899999999999999,0.13500000000000001,119,156,156,235,302,305,14,23,26,78,95,106,0,1,1,0,0,0,9,4,6,3146,3089,3270,1035,1060,1235,508,481,463,0,0,0,79,60,93,497,514,497,104,99,99,0.14799999999999999,0.14299999999999999,0.129,596,623,697,0.40899999999999997,0.45600000000000002,0.436,2013,4,"DEC","2013-12-01"]
["Siskiyou",2747,2900,2945,6114,6486,6523,0.439,0.45300000000000001,0.44600000000000001,5332,5752,5816,0.85399999999999998,0.871,0.86599999999999999,1,1,0.99399999999999999,0.95,0.96099999999999997,0.88300000000000001,4.7E-2,5.2999999999999999E-2,0.112,3.4000000000000002E-2,0.114,0.156,0.125,0.17199999999999999,0.23200000000000001,0.159,0.14699999999999999,0.186,0.17899999999999999,0.158,0.20100000000000001,2490,2719,2900,5722,6100,6486,184,220,275,2679,2701,2872,129,137,154,0,0,0,175,180,192,44875,44598,45215,12996,13353,13967,9107,8878,8755,0,0,0,741,820,782,10671,10616,10036,2406,2441,2475,0.16500000000000001,0.153,0.13200000000000001,9723,10259,10390,0.58299999999999996,0.59699999999999998,0.626,2013,4,"DEC","2013-12-01"]
["Solano",20526,20782,21193,41119,41287,41998,0.44400000000000001,0.42,0.42,35568,35751,36543,0.84299999999999997,0.84,0.84399999999999997,0.94899999999999995,0.94199999999999995,0.91,0.96399999999999997,0.94799999999999995,0.96099999999999997,3.5000000000000003E-2,1.2E-2,0,2.5000000000000001E-2,0.03,3.2000000000000001E-2,0.13600000000000001,0.14399999999999999,0.13200000000000001,1.4E-2,1.0999999999999999E-2,1.7999999999999999E-2,6.7000000000000004E-2,4.7E-2,7.4999999999999997E-2,18530,19954,20782,38288,40161,41287,1219,1473,1823,19506,19347,20249,2885,3060,2463,0,0,0,6664,6772,6854,414337,415913,424048,73550,76529,80768,99231,97912,97128,0,0,0,22756,21564,20853,68794,68717,62999,11239,11520,11691,0.115,0.10100000000000001,0.09,58474,65053,61760,0.65400000000000003,0.61699999999999999,0.66800000000000004,2013,4,"DEC","2013-12-01"]
["Sonoma",18467,18686,18795,34288,34451,34664,0.379,0.35599999999999998,0.34200000000000003,28717,29668,30178,0.81100000000000005,0.83099999999999996,0.84099999999999997,0.95,0.86699999999999999,0.86099999999999999,0.622,0.47199999999999998,0.48499999999999999,4.7E-2,5.2999999999999999E-2,0.112,8.1000000000000003E-2,7.2999999999999995E-2,9.7000000000000003E-2,0.18,0.18,0.18,0.04,0.04,7.5999999999999998E-2,7.0999999999999994E-2,7.8E-2,0.14299999999999999,15994,18390,18686,30639,34447,34451,1513,1870,2351,16897,17154,17558,3713,3946,3484,0,0,0,9786,10341,10432,486778,489283,493070,103855,107417,112593,105483,104978,104608,0,0,0,26893,29280,24921,62644,63908,60020,8632,8571,8547,9.8000000000000004E-2,8.5999999999999993E-2,7.0000000000000007E-2,66724,74079,71127,0.45500000000000002,0.45500000000000002,0.49099999999999999,2013,4,"DEC","2013-12-01"]
["Stanislaus",40651,41539,41708,89458,91048,90962,0.46899999999999997,0.443,0.438,67554,68074,68228,0.749,0.74199999999999999,0.74399999999999999,1,0.98399999999999999,0.96199999999999997,0.95699999999999996,0.93600000000000005,0.92800000000000005,0.01,0.97,3.9E-2,3.7999999999999999E-2,0.192,0.21099999999999999,0.158,0.27400000000000002,0.32100000000000001,0.219,0.15,0.27900000000000003,0.24299999999999999,0.17299999999999999,0.31,36515,40036,41539,83529,88848,91048,2150,2464,2893,43670,44790,46298,5692,5991,5663,0,0,0,17532,17992,17711,518141,522651,527232,81410,84166,86547,145606,144581,144260,0,0,0,47675,48024,48602,136534,137356,128318,19462,19745,20057,0.16700000000000001,0.152,0.129,127006,117475,125680,0.65,0.75,0.72199999999999998,2013,4,"DEC","2013-12-01"]
["Sutter",4941,5215,5126,11901,12440,12119,0.39500000000000002,0.39700000000000002,0.38300000000000001,10695,11183,10966,0.879,0.88300000000000001,0.89300000000000002,0.95199999999999996,0.98099999999999998,0.98899999999999999,0.95899999999999996,0.876,0.91800000000000004,4.7E-2,5.2999999999999999E-2,0.112,4.7E-2,0.188,0.2,0.151,0.26200000000000001,0.28599999999999998,0.182,0.129,0.22800000000000001,0.19700000000000001,0.14599999999999999,0.23799999999999999,4537,4961,5215,11371,11946,12440,261,306,369,6239,6271,6642,789,830,689,0,0,0,2271,2311,2281,94764,95351,97386,17121,17496,18207,25548,25370,25333,0,0,0,9877,9590,8366,23430,23515,21895,3672,3661,3778,0.19,0.17599999999999999,0.14599999999999999,21064,20846,22883,0.53500000000000003,0.72699999999999998,0.53800000000000003,2013,4,"DEC","2013-12-01"]
["Tehama",4168,4320,4481,9693,9916,10181,0.45,0.44900000000000001,0.44900000000000001,8865,9079,9226,0.88600000000000001,0.88600000000000001,0.89100000000000001,0.93400000000000005,0.94299999999999995,0.91700000000000004,0.98799999999999999,0.98199999999999998,0.99199999999999999,4.7E-2,5.2999999999999999E-2,0.112,0.1,0.14000000000000001,0.123,0.20899999999999999,0.20699999999999999,0.19400000000000001,0.222,0.11899999999999999,0.08,0.24399999999999999,0.125,8.4000000000000005E-2,3910,4219,4320,9382,9899,9916,234,259,363,4866,4855,5013,493,469,441,0,0,0,1145,1161,1199,63514,63623,64498,14565,14869,15313,15769,15514,15280,0,0,0,2963,2546,2603,18073,17404,16152,3021,3057,3062,0.15,0.13900000000000001,0.11700000000000001,14706,14556,14220,0.629,0.66600000000000004,0.69199999999999995,2013,4,"DEC","2013-12-01"]
["Trinity",825,762,807,1638,1516,1561,0.41699999999999998,0.41299999999999998,0.39100000000000001,1404,1335,1353,0.83399999999999996,0.83399999999999996,0.83499999999999996,0.91500000000000004,1,1,0.89100000000000001,0.65200000000000002,0.91900000000000004,4.7E-2,5.2999999999999999E-2,0.112,6.6000000000000003E-2,0.09,0.112,0.17899999999999999,0.18,0.182,0.28799999999999998,0.218,0.30599999999999999,0.311,0.24399999999999999,0.32600000000000001,686,776,762,1429,1557,1516,63,74,89,616,604,622,3,5,45,0,0,0,6,8,12,13546,13470,13776,4153,4270,4587,2380,2335,2276,0,0,0,21,21,36,2825,2854,2603,647,655,636,0.17799999999999999,0.158,0.121,2939,3088,3100,0.495,0.50600000000000001,0.502,2013,4,"DEC","2013-12-01"]
["Tulare",43609,46471,47423,110559,114774,116505,0.52600000000000002,0.51400000000000001,0.51400000000000001,93145,97318,97674,0.82299999999999995,0.82399999999999995,0.81899999999999995,1,1,1,0.97799999999999998,0.95499999999999996,0.97899999999999998,9.0999999999999998E-2,3.5999999999999997E-2,2.1000000000000001E-2,0.182,0.17499999999999999,0.216,0.32600000000000001,0.30499999999999999,0.33600000000000002,0.126,0.111,0.18099999999999999,0.17599999999999999,0.154,0.245,39921,44577,46471,105401,110086,114774,2505,2949,3459,62509,64076,67240,8030,8010,8233,0,0,0,35817,36803,37887,447665,451627,456075,62466,64345,66305,143355,142812,143372,0,0,0,59121,60886,60016,168390,169956,160183,17127,17288,17554,0.16700000000000001,0.158,0.14399999999999999,131314,151607,147863,0.80200000000000005,0.57199999999999995,0.77500000000000002,2013,4,"DEC","2013-12-01"]
["Tuolumne",2785,2828,2821,5153,5153,5192,0.436,0.44,0.43099999999999999,4547,4641,4591,0.878,0.88100000000000001,0.875,0.97,0.92300000000000004,0.88600000000000001,0.96,0.95499999999999996,0.95899999999999996,4.7E-2,5.2999999999999999E-2,0.112,3.5999999999999997E-2,0.16800000000000001,0.16600000000000001,0.14199999999999999,0.25800000000000001,0.25600000000000001,0.159,0.17899999999999999,0.17799999999999999,0.18,0.20100000000000001,0.21,2680,2755,2828,5076,5103,5153,208,265,299,2060,1962,1955,141,149,137,0,0,0,56,65,66,55041,54339,54811,16275,16528,17219,9458,9222,9088,0,0,0,656,653,696,8283,8101,7561,1593,1618,1635,0.13,0.11600000000000001,0.108,8377,8976,9822,0.60399999999999998,0.57399999999999995,0.53100000000000003,2013,4,"DEC","2013-12-01"]
["Ventura",31902,32232,33194,66179,66971,69194,0.371,0.36499999999999999,0.34699999999999998,49085,49783,51397,0.71599999999999997,0.71499999999999997,0.71499999999999997,0.98699999999999999,0.98399999999999999,0.94499999999999995,0.95399999999999996,0.93799999999999994,0.93200000000000005,7.0000000000000001E-3,2.7E-2,3.2000000000000001E-2,8.7999999999999995E-2,9.9000000000000005E-2,0.122,0.20899999999999999,0.22800000000000001,0.22900000000000001,6.8000000000000005E-2,7.0999999999999994E-2,0.106,0.11700000000000001,0.115,0.16400000000000001,28856,31284,32232,60915,64382,66971,2288,2757,3498,35138,35426,37769,7675,8035,6844,0,0,0,22636,23314,25095,830215,834109,839617,144495,148960,156524,208859,206821,205584,0,0,0,80053,79320,76495,125546,123340,111492,14762,14656,14764,0.10100000000000001,0.09,7.9000000000000001E-2,102487,105820,112132,0.60099999999999998,0.61499999999999999,0.60099999999999998,2013,4,"DEC","2013-12-01"]
["Yolo",7861,7850,8184,16929,16629,17295,0.40699999999999997,0.38700000000000001,0.372,14295,14284,14857,0.82199999999999995,0.83499999999999996,0.83699999999999997,0.90600000000000003,0.84299999999999997,0.88,0.90600000000000003,0.90700000000000003,0.91500000000000004,4.7E-2,5.2999999999999999E-2,0.112,0.113,9.9000000000000005E-2,0.107,0.214,0.187,0.192,5.8999999999999997E-2,4.8000000000000001E-2,6.7000000000000004E-2,0.105,0.08,0.106,7126,7766,7850,15941,16880,16629,562,627,774,8309,8261,8108,1057,1070,874,0,0,0,4990,4871,4707,202630,204314,206621,30153,31386,32873,44868,44406,43847,0,0,0,16723,13923,14762,30903,31043,28422,5262,5307,5351,0.125,0.115,9.0999999999999998E-2,51733,44018,42449,0.308,0.38300000000000001,0.39300000000000002,2013,4,"DEC","2013-12-01"]
["Yuba",5770,5749,5694,12952,12919,12695,0.48899999999999999,0.49299999999999999,0.48399999999999999,11122,11269,11090,0.84199999999999997,0.84699999999999998,0.84299999999999997,1,0.98599999999999999,0.96899999999999997,0.95699999999999996,0.95199999999999996,0.92800000000000005,4.7E-2,5.2999999999999999E-2,0.112,4.2000000000000003E-2,0.15,0.193,0.13600000000000001,0.24099999999999999,0.28100000000000003,0.20899999999999999,0.219,0.36599999999999999,0.23,0.24,0.39100000000000001,5620,5776,5749,13060,13058,12919,244,298,341,6598,6360,6541,680,644,571,0,0,0,1771,1707,1586,72620,73021,73600,11156,11530,11868,20727,20586,20521,0,0,0,4197,3903,3382,20858,20229,18518,3694,3772,3733,0.184,0.16900000000000001,0.13100000000000001,13588,19440,14308,0.94799999999999995,0.66300000000000003,0.89600000000000002,2013,4,"DEC","2013-12-01"]
["Alameda",63168,64540,64394,126482,129167,128065,0.35799999999999998,0.35,0.35199999999999998,98800,99113,104852,0.753,0.75,0.80100000000000005,0.9,0.90600000000000003,0.84499999999999997,0.86599999999999999,0.86499999999999999,0.877,3.5999999999999997E-2,0.02,2.1999999999999999E-2,8.2000000000000003E-2,0.10100000000000001,0.107,0.184,0.185,0.19400000000000001,0.05,7.1999999999999995E-2,0.06,9.5000000000000001E-2,0.124,0.111,62045,62875,64020,124622,125835,125434,5848,7267,9307,61164,63938,60223,11499,9990,9205,0,0,0,36077,39263,40011,1540790,1563370,1582119,265903,282890,294442,343820,346038,348428,0,0,0,134661,133681,139309,253472,243275,0,48146,48141,47823,0.09,7.2999999999999995E-2,5.8999999999999997E-2,220282,220034,214363,0.56495206368390971,0.56717244038342607,0.58770588854592853,2014,1,"MAR","2014-03-01"]
["Alpine",83,90,109,151,154,176,0.5,0.502,0.51200000000000001,133,138,149,0.89300000000000002,0.86799999999999999,0.83699999999999997,1,1,1,0.92900000000000005,0.64700000000000002,0.78900000000000003,5.8999999999999997E-2,0.112,7.1999999999999995E-2,0.188,0.14799999999999999,6.7000000000000004E-2,0.188,0.14799999999999999,0.2,0,7.3999999999999996E-2,3.3000000000000002E-2,0.125,0.14799999999999999,3.3000000000000002E-2,84,91,114,147,171,194,9,11,16,53,62,59,2,0,0,0,0,0,0,0,0,1127,1228,1243,293,369,398,245,243,245,0,0,0,24,25,23,201,184,0,41,42,39,0.13400000000000001,9.8000000000000004E-2,8.7999999999999995E-2,195,222,0,0.74896982598703987,0.70134951054248518,0.80292964974253522,2014,1,"MAR","2014-03-01"]
["Amador",1717,1669,1752,3319,3261,3428,0.48599999999999999,0.47899999999999998,0.47799999999999998,2703,2759,2868,0.81299999999999994,0.83699999999999997,0.83699999999999997,0.91400000000000003,0.93100000000000005,0.93700000000000006,0.93100000000000005,0.98599999999999999,0.97099999999999997,5.8999999999999997E-2,0.112,7.1999999999999995E-2,0.17100000000000001,0.18,0.14199999999999999,0.25600000000000001,0.26400000000000001,0.20399999999999999,0.189,0.13600000000000001,0.17,0.19600000000000001,0.152,0.193,1717,1685,1770,3287,3280,3373,182,194,250,1230,1298,1222,61,69,59,0,0,0,81,98,102,36899,36945,37017,11711,11769,12078,6009,5919,5806,0,0,0,507,484,559,4522,4116,0,654,674,696,0.11600000000000001,0.10299999999999999,8.3000000000000004E-2,4237,4989,0,0.76675028881618745,0.65704441950440784,0.66465992098604165,2014,1,"MAR","2014-03-01"]
["Butte",14278,14919,14930,29807,30365,30348,0.44,0.44,0.43099999999999999,26463,27007,27021,0.86699999999999999,0.86699999999999999,0.86299999999999999,0.93899999999999995,0.90600000000000003,0.93200000000000005,0.95799999999999996,0.93,0.89500000000000002,5.8999999999999997E-2,0.112,7.1999999999999995E-2,0.14699999999999999,0.157,0.14499999999999999,0.219,0.23899999999999999,0.218,0.217,0.29399999999999998,0.26100000000000001,0.23400000000000001,0.318,0.28899999999999998,13988,14733,15571,29226,30211,31036,842,1116,1577,12905,13523,12850,1187,1063,878,0,0,0,2929,2782,2667,221118,222035,224518,49667,51734,53940,45992,45459,45266,0,0,0,5475,4375,5637,51266,47746,0,10828,10914,10866,0.12,0.10299999999999999,8.6999999999999994E-2,56950,57536,54488,0.51154311092185545,0.52065366997840645,0.56693046889491883,2014,1,"MAR","2014-03-01"]
["Calaveras",2570,2547,2654,5004,4866,5060,0.5,0.47499999999999998,0.47199999999999998,4157,4035,4145,0.82699999999999996,0.82599999999999996,0.81899999999999995,0.97,1,0.99299999999999999,0.96399999999999997,0.98199999999999998,0.95199999999999996,5.8999999999999997E-2,0.112,7.1999999999999995E-2,0.126,0.109,0.13100000000000001,0.193,0.20699999999999999,0.189,0.13700000000000001,0.14899999999999999,0.17299999999999999,0.155,0.16800000000000001,0.193,2522,2576,2768,4998,4969,5231,278,322,437,1881,1808,1778,66,103,88,0,0,0,148,134,133,45045,45214,45508,14458,15224,15719,8280,7993,7801,0,0,0,559,410,598,6850,6097,0,1023,1043,1056,0.129,0.1,8.1000000000000003E-2,5990,6022,0,0.83065104422897051,0.82427123354235265,0.80293519722539908,2014,1,"MAR","2014-03-01"]
["California",1919085,1977662,2015005,4194682,4285622,4351103,0.41699999999999998,0.39300000000000002,0.4,3250685,3316387,3520222,0.81599999999999995,0.81899999999999995,0.83299999999999996,0.96599999999999997,0.96499999999999997,0.96,0.93700000000000006,0.92400000000000004,0.90600000000000003,3.1E-2,4.8000000000000001E-2,4.2999999999999997E-2,0.13500000000000001,0.13900000000000001,0.129,0.222,0.224,0.20399999999999999,7.1999999999999995E-2,0.11600000000000001,0.10199999999999999,9.4E-2,0.14499999999999999,0.129,1843348,1942841,2070803,4074650,4221057,4476031,141407,176557,234156,2184693,2272684,2226004,372370,341378,320176,0,0,0,1268115,1314549,1337933,37826160,38202206,38548204,6506534,6820715,7071818,9170526,9150549,9157600,0,0,0,3775905,3750293,3760183,7619341,7280074,0,1176286,1187606,1193089,0.104,8.8999999999999996E-2,7.4999999999999997E-2,7121280,7166749,6980319,0.56999999999999995,0.58399999999999996,0.63400000000000001,2014,1,"MAR","2014-03-01"]
["Colusa",716,690,733,1820,1624,1749,0.315,0.27,0.248,1682,1503,1623,0.88900000000000001,0.88900000000000001,0.88700000000000001,0.93400000000000005,0.91700000000000004,0.95699999999999996,1,0.94899999999999995,0.95,5.8999999999999997E-2,0.112,7.1999999999999995E-2,0.20499999999999999,0.128,9.8000000000000004E-2,0.28499999999999998,0.23799999999999999,0.17499999999999999,0.14199999999999999,0.159,0.215,0.159,0.189,0.24,701,713,725,1728,1710,1722,39,72,84,1055,1032,1004,108,164,142,0,0,0,598,553,570,21614,21987,22254,3794,4033,4198,6173,6106,6114,0,0,0,3235,2986,3111,4695,4193,0,556,564,563,0.20100000000000001,0.19,0.17499999999999999,4435,3771,0,0.38904925365351106,0.46113151104422845,0.39141984295657661,2014,1,"MAR","2014-03-01"]
["Contra Costa",33220,33853,34380,68857,70212,71039,0.35099999999999998,0.32600000000000001,0.32500000000000001,53266,54108,57601,0.748,0.747,0.79600000000000004,0.94599999999999995,0.92200000000000004,0.91,0.90700000000000003,0.71599999999999997,0.85499999999999998,2.3E-2,3.3000000000000002E-2,0.04,0.115,9.4E-2,9.4E-2,0.20899999999999999,0.16300000000000001,0.16300000000000001,4.3999999999999997E-2,5.8999999999999997E-2,5.3999999999999999E-2,8.1000000000000003E-2,0.1,8.5999999999999993E-2,32977,32730,35280,68789,67763,76061,2515,3064,3876,35507,36829,36150,6651,5449,5317,0,0,0,15201,15787,16078,1069803,1081862,1095476,205603,215513,223639,255890,253746,251862,0,0,0,66528,66244,68215,143428,131952,0,23603,24041,24288,0.09,7.4999999999999997E-2,6.2E-2,135137,145293,129295,0.50723295638066834,0.47067971198742864,0.57143348851746278,2014,1,"MAR","2014-03-01"]
["Del Norte",2581,2477,2556,5251,5032,5205,0.496,0.46899999999999997,0.48,4577,4518,4629,0.872,0.88700000000000001,0.88900000000000001,1,1,1,0.98799999999999999,0.98199999999999998,0.97699999999999998,5.8999999999999997E-2,0.112,7.1999999999999995E-2,0.249,0.22700000000000001,0.188,0.33600000000000002,0.32700000000000001,0.246,0.25,0.245,0.34200000000000003,0.26500000000000001,0.25900000000000001,0.36299999999999999,2629,2525,2545,5445,5132,5227,157,193,238,2343,2218,2130,173,167,139,0,0,0,285,262,223,28359,28530,28477,5913,6153,6387,5778,5698,5655,0,0,0,549,733,725,8091,7460,0,1869,1817,1816,0.13300000000000001,0.11799999999999999,0.10199999999999999,5696,5923,0,0.94447219934568005,0.86431084940613745,0.91507601883208589,2014,1,"MAR","2014-03-01"]
["El Dorado",6386,6240,6484,11975,11497,11899,0.42599999999999999,0.4,0.38200000000000001,9941,9792,10120,0.8,0.82199999999999995,0.81599999999999995,0.97899999999999998,0.98799999999999999,0.98799999999999999,0.98799999999999999,0.878,0.78800000000000003,5.8999999999999997E-2,0.112,7.1999999999999995E-2,0.14799999999999999,0.126,0.10100000000000001,0.224,0.217,0.16800000000000001,0.156,0.182,0.159,0.17599999999999999,0.20799999999999999,0.17899999999999999,6081,6397,6871,11620,11765,12479,581,732,972,4822,4716,4740,402,417,396,0,0,0,864,882,886,180599,184054,184320,42806,46098,47929,39168,38276,37665,0,0,0,3301,3580,3522,19049,17413,0,2818,2850,2851,0.10299999999999999,8.5000000000000006E-2,7.0000000000000007E-2,19223,26641,27235,0.6063224191345471,0.44106704599832475,0.45696364279304263,2014,1,"MAR","2014-03-01"]
["Fresno",91393,92503,94981,219915,220916,226573,0.53900000000000003,0.51300000000000001,0.52500000000000002,177890,176506,185899,0.79300000000000004,0.78200000000000003,0.81,0.96899999999999997,0.92500000000000004,0.90500000000000003,0.97099999999999997,0.91200000000000003,0.92300000000000004,6.0000000000000001E-3,8.9999999999999993E-3,3.1E-2,0.128,0.14000000000000001,0.129,0.247,0.25600000000000001,0.22700000000000001,5.0999999999999997E-2,9.6000000000000002E-2,7.0999999999999994E-2,8.7999999999999995E-2,0.14899999999999999,0.11700000000000001,88850,90783,94285,215016,217757,224430,4650,5364,7362,122558,123609,122849,15452,14216,13450,0,0,0,61549,59175,60875,946823,958260,969338,143086,147191,152725,275524,276923,279805,0,0,0,115573,108885,109792,316699,299363,0,40171,40774,41053,0.15,0.13200000000000001,0.11600000000000001,283513,280018,281486,0.75799045321685599,0.78293622520574913,0.80626906421255717,2014,1,"MAR","2014-03-01"]
["Glenn",1410,1387,1472,3555,3412,3606,0.39600000000000002,0.36699999999999999,0.36,3291,3163,3376,0.91300000000000003,0.91100000000000003,0.90600000000000003,1,1,1,1,1,0.94399999999999995,5.8999999999999997E-2,0.112,7.1999999999999995E-2,0.20300000000000001,0.16500000000000001,0.152,0.28299999999999997,0.27800000000000002,0.20799999999999999,0.14699999999999999,0.155,0.125,0.159,0.17299999999999999,0.14299999999999999,1389,1431,1514,3419,3549,3697,87,113,148,1908,1985,1960,231,237,215,0,0,0,769,739,762,28208,28599,28868,5499,5834,6039,7657,7588,7542,0,0,0,2433,2638,2410,7157,6747,0,1128,1136,1111,0.14299999999999999,0.121,0.107,6413,6196,0,0.53650977283308565,0.56850757302200194,0.55838355889207381,2014,1,"MAR","2014-03-01"]
["Humboldt",8301,8895,9266,15689,16624,17196,0.42199999999999999,0.40699999999999997,0.41799999999999998,13474,14303,14761,0.83199999999999996,0.83299999999999996,0.82599999999999996,0.96499999999999997,0.90400000000000003,0.95699999999999996,0.9,0.88,0.748,5.8999999999999997E-2,0.112,7.1999999999999995E-2,0.13700000000000001,0.104,7.9000000000000001E-2,0.214,0.189,0.13200000000000001,0.19900000000000001,0.193,0.16200000000000001,0.22800000000000001,0.217,0.18,8114,8812,10547,15495,16507,19098,496,695,1117,6496,7000,7428,685,684,644,0,0,0,807,886,900,134923,136480,136779,29078,30216,31381,26337,26025,25824,0,0,0,2104,2347,2266,27113,24939,0,5740,5607,5545,0.104,8.2000000000000003E-2,6.8000000000000005E-2,32857,34043,33222,0.46724637565969279,0.474035923417713,0.56563435374326043,2014,1,"MAR","2014-03-01"]
["Imperial",14424,14978,15263,36983,38207,38782,0.50800000000000001,0.50900000000000001,0.49399999999999999,33514,34284,34291,0.88600000000000001,0.88,0.878,1,0.88200000000000001,0.95299999999999996,0.98699999999999999,0.98199999999999998,0.89400000000000002,5.8999999999999997E-2,0.112,7.1999999999999995E-2,0.193,0.17699999999999999,0.16200000000000001,0.27500000000000002,0.25900000000000001,0.24299999999999999,0.156,0.19600000000000001,0.22,0.17699999999999999,0.217,0.25600000000000001,14037,14518,15936,36091,37083,40394,1456,1738,2213,18176,19291,19838,994,1028,990,0,0,0,17886,19370,21381,178659,179326,183154,27470,28182,29668,50932,51426,52464,0,0,0,32769,32195,33803,58377,55474,0,10349,10276,10238,0.27200000000000002,0.249,0.23599999999999999,44744,44790,44826,0.80804160369013844,0.81464017162211388,0.89508144333471995,2014,1,"MAR","2014-03-01"]
["Inyo",994,1009,1052,1992,2028,2152,0.39400000000000002,0.39500000000000002,0.40400000000000003,1733,1729,1815,0.87,0.85199999999999998,0.84899999999999998,0.98799999999999999,1,0.99099999999999999,0.98399999999999999,0.95799999999999996,0.95499999999999996,5.8999999999999997E-2,0.112,7.1999999999999995E-2,0.153,0.123,0.10299999999999999,0.20399999999999999,0.223,0.19500000000000001,0.14299999999999999,0.253,0.218,0.153,0.29099999999999998,0.224,957,1058,1068,1951,2132,2149,105,137,154,879,964,928,105,103,98,0,0,0,316,327,296,18637,19241,19244,5121,5510,5699,3727,3660,3590,0,0,0,490,532,510,3534,3188,0,396,407,402,9.4E-2,7.9000000000000001E-2,7.0000000000000007E-2,2515,2766,0,0.77670818481640058,0.73946492362442684,0.72042269416670368,2014,1,"MAR","2014-03-01"]
["Kern",59233,59300,60740,144045,142748,147170,0.47099999999999997,0.43099999999999999,0.45700000000000002,118416,116673,126647,0.80900000000000005,0.80300000000000005,0.84,0.97499999999999998,0.98399999999999999,0.97699999999999998,0.95599999999999996,0.90400000000000003,0.88400000000000001,2.8000000000000001E-2,3.9E-2,2.5999999999999999E-2,0.22900000000000001,0.22700000000000001,0.20599999999999999,0.31,0.32900000000000001,0.28399999999999997,0.125,0.23499999999999999,0.191,0.14699999999999999,0.26600000000000001,0.222,57915,59623,61918,140798,144653,148150,3379,3983,5081,82189,84978,82576,11952,10703,9808,0,0,0,37887,37191,37076,855522,869797,878356,119415,122971,128553,251296,252028,256535,0,0,0,85452,88100,79181,240099,224473,0,31095,31384,31592,0.13300000000000001,0.11700000000000001,0.104,213671,224185,225536,0.65421253208901731,0.64036520264020891,0.6560986851203231,2014,1,"MAR","2014-03-01"]
["Kings",9824,9741,10051,23337,22985,23815,0.51100000000000001,0.47199999999999998,0.49,20864,20445,21075,0.88,0.88100000000000001,0.874,0.98799999999999999,0.98299999999999998,0.96899999999999997,0.95299999999999996,0.94399999999999995,0.88700000000000001,5.8999999999999997E-2,0.112,7.1999999999999995E-2,0.20200000000000001,0.23200000000000001,0.18099999999999999,0.28399999999999997,0.33100000000000002,0.255,0.16,0.40500000000000003,0.34899999999999998,0.18,0.438,0.379,9624,9956,10210,22949,23543,24002,563,652,797,12535,12892,12521,1554,1396,1267,0,0,0,5625,5451,5713,150843,152456,153601,18666,19636,20420,40866,41136,41468,0,0,0,14061,14426,15306,36030,33393,0,4729,4659,4635,0.151,0.13500000000000001,0.121,33431,34891,38859,0.68555666915226354,0.66930047437077489,0.61675060236025636,2014,1,"MAR","2014-03-01"]
["Lake",5134,5154,5262,10232,10290,10622,0.42199999999999999,0.40300000000000002,0.41399999999999998,8799,9012,9172,0.84399999999999997,0.85699999999999998,0.84499999999999997,0.94099999999999995,0.76500000000000001,0.86499999999999999,0.95199999999999996,0.90300000000000002,0.85499999999999998,5.8999999999999997E-2,0.112,7.1999999999999995E-2,0.107,0.105,6.6000000000000003E-2,0.17499999999999999,0.17599999999999999,0.112,0.214,0.308,0.34899999999999998,0.24399999999999999,0.33900000000000002,0.39300000000000002,5041,5227,5525,10039,10453,11036,477,586,736,4340,4436,4622,256,385,344,0,0,0,790,814,817,64394,64782,65465,17355,18045,18728,13100,12882,12726,0,0,0,1920,1792,1951,17709,16443,0,3701,3710,3663,0.14199999999999999,0.108,8.8999999999999996E-2,19370,17452,17435,0.52275795740758546,0.58994489464318189,0.6317675039698486,2014,1,"MAR","2014-03-01"]
["Lassen",1410,1441,1488,2939,3015,3149,0.47499999999999998,0.46200000000000002,0.47299999999999998,2689,2740,2819,0.89200000000000002,0.88400000000000001,0.88100000000000001,0.97099999999999997,0.95699999999999996,0.90200000000000002,0.92100000000000004,0.91200000000000003,0.82699999999999996,5.8999999999999997E-2,0.112,7.1999999999999995E-2,0.161,0.14000000000000001,0.10299999999999999,0.251,0.223,0.189,0.16700000000000001,0.221,0.247,0.19500000000000001,0.24099999999999999,0.27600000000000002,1386,1426,1536,2933,2971,3168,81,99,150,1284,1319,1345,87,91,108,0,0,0,70,67,71,33650,34966,35038,5593,6186,6479,5682,5574,5519,0,0,0,704,769,712,4859,4436,0,930,906,880,0.125,0.106,9.2999999999999999E-2,4471,4398,0,0.6584276616338256,0.67780447504446817,0.78611426364455528,2014,1,"MAR","2014-03-01"]
["Los Angeles",546975,567409,573325,1133944,1169214,1177757,0.34899999999999998,0.33700000000000002,0.34399999999999997,870624,900373,931107,0.76300000000000001,0.76,0.77900000000000003,0.95699999999999996,0.96399999999999997,0.96899999999999997,0.95099999999999996,0.94899999999999995,0.93899999999999995,2.5000000000000001E-2,3.2000000000000001E-2,3.2000000000000001E-2,0.113,0.104,0.104,0.19400000000000001,0.183,0.17499999999999999,1.0999999999999999E-2,8.0000000000000002E-3,8.9999999999999993E-3,1.6E-2,1.0999999999999999E-2,1.4E-2,516984,557570,585696,1093422,1148512,1193453,36571,46590,59648,599556,629069,614546,124537,117585,109736,0,0,0,423844,444806,444589,9911665,10010961,10082664,1620299,1701464,1760921,2341123,2329494,2322213,0,0,0,1372113,1402433,1394350,2410140,2250353,0,385131,388148,389765,0.109,9.8000000000000004E-2,8.3000000000000004E-2,2021648,2088070,2032450,0.53852316431437086,0.54211494769640123,0.58334051625028915,2014,1,"MAR","2014-03-01"]
["Madera",10502,10563,11221,26692,26658,28263,0.49099999999999999,0.45900000000000002,0.48199999999999998,24534,24793,25994,0.9,0.91300000000000003,0.90300000000000002,0.96099999999999997,0.98299999999999998,0.97099999999999997,0.98299999999999998,0.97499999999999998,0.88700000000000001,5.8999999999999997E-2,0.112,7.1999999999999995E-2,0.187,0.17,0.14099999999999999,0.27800000000000002,0.26900000000000002,0.20699999999999999,0.153,0.20200000000000001,0.214,0.18,0.23100000000000001,0.246,10437,10608,11507,26670,26856,28885,534,619,799,16732,16652,16999,3223,2773,2654,0,0,0,10100,9640,10033,151790,153409,154829,25433,26873,27801,42036,42149,43015,0,0,0,20218,20706,20778,45875,42230,0,4441,4478,4505,0.13300000000000001,0.125,0.11,38099,38832,38903,0.69333969565110631,0.69096227737139893,0.74120990607815518,2014,1,"MAR","2014-03-01"]
["Marin",5562,5850,5920,9420,9846,9998,0.318,0.30299999999999999,0.30099999999999999,8317,8915,9105,0.86799999999999999,0.89200000000000002,0.89,0.94499999999999995,0.93799999999999994,0.94699999999999995,0.93300000000000005,0.94899999999999995,0.90100000000000002,5.8999999999999997E-2,0.112,7.1999999999999995E-2,0.16200000000000001,0.14099999999999999,0.14699999999999999,0.222,0.20200000000000001,0.21199999999999999,0.13500000000000001,0.17699999999999999,0.19800000000000001,0.157,0.2,0.22900000000000001,5541,5762,6216,9408,9774,10397,758,887,1119,4358,4734,4831,1245,1271,1282,0,0,0,2958,3455,3804,254882,256264,257792,65062,69445,70897,51763,51412,51122,0,0,0,11689,8867,11871,22611,21230,0,3102,3107,3034,6.3E-2,5.1999999999999998E-2,4.2999999999999997E-2,20101,22421,22696,0.463432407333705,0.41976609833322831,0.45416962715835596,2014,1,"MAR","2014-03-01"]
["Mariposa",893,949,1017,1837,1905,2034,0.47199999999999998,0.48099999999999998,0.49199999999999999,1645,1733,1833,0.87,0.876,0.89,0.89700000000000002,0.92600000000000005,0.91200000000000003,0.93799999999999994,0.86799999999999999,0.91500000000000004,5.8999999999999997E-2,0.112,7.1999999999999995E-2,0.14099999999999999,9.4E-2,9.2999999999999999E-2,0.187,0.14799999999999999,0.124,0.14499999999999999,0.154,0.19900000000000001,0.17,0.16400000000000001,0.223,875,920,1005,1804,1855,1974,83,119,172,709,714,711,41,37,31,0,0,0,47,30,52,17817,18101,18091,5675,5971,6133,3056,2988,2966,0,0,0,155,227,199,2854,2652,0,460,462,454,0.11,0.105,8.7999999999999995E-2,2848,3155,0,0.62310270335867513,0.58782568148826908,0.63584459078564948,2014,1,"MAR","2014-03-01"]
["Mendocino",7117,6972,7144,13483,13061,13415,0.39600000000000002,0.36899999999999999,0.38300000000000001,11126,11177,11483,0.82699999999999996,0.84299999999999997,0.82599999999999996,0.99399999999999999,0.99099999999999999,0.99399999999999999,0.98899999999999999,0.99399999999999999,0.95499999999999996,5.8999999999999997E-2,0.112,7.1999999999999995E-2,0.216,0.18,0.107,0.32200000000000001,0.27,0.191,0.16200000000000001,0.27700000000000002,3.5999999999999997E-2,0.19900000000000001,0.32200000000000001,4.2000000000000003E-2,7242,6923,7569,13660,13202,14007,591,699,941,5727,5665,5681,592,688,618,0,0,0,1934,1823,1931,88566,88931,88795,22245,23290,24007,19078,18865,18784,0,0,0,4188,4171,4690,23130,21783,0,3238,3218,3145,9.5000000000000001E-2,8.2000000000000003E-2,6.9000000000000006E-2,19739,22381,19834,0.68661650850578071,0.58791930175161367,0.69491422244138812,2014,1,"MAR","2014-03-01"]
["Merced",22570,22674,23364,55147,54349,55842,0.51200000000000001,0.46600000000000003,0.49099999999999999,45577,44972,48612,0.81799999999999995,0.81799999999999995,0.85199999999999998,0.98599999999999999,0.98399999999999999,0.96099999999999997,0.99099999999999999,0.94799999999999995,0.92300000000000004,3.0000000000000001E-3,8.0000000000000002E-3,4.0000000000000001E-3,0.20399999999999999,0.20799999999999999,0.16500000000000001,0.29599999999999999,0.308,0.24099999999999999,0.189,0.31,0.253,0.21,0.34300000000000003,0.28199999999999997,22003,22956,24370,53940,55568,57733,1122,1338,1886,30744,31540,31258,4110,4036,3796,0,0,0,15638,15579,15688,261708,263441,266444,36841,37818,39238,79582,79353,79287,0,0,0,31663,35644,33521,84983,80292,0,10745,10849,10825,0.16900000000000001,0.14499999999999999,0.128,67910,70247,74499,0.78991568533045808,0.78565860623862072,0.76763611001397902,2014,1,"MAR","2014-03-01"]
["Modoc",425,412,437,965,952,963,0.371,0.35399999999999998,0.35399999999999998,877,864,840,0.874,0.89300000000000002,0.88500000000000001,1,1,0.96699999999999997,0.94499999999999995,0.96199999999999997,0.94399999999999995,5.8999999999999997E-2,0.112,7.1999999999999995E-2,0.22500000000000001,0.20100000000000001,0.128,0.34399999999999997,0.26300000000000001,0.17699999999999999,0.113,0.17299999999999999,0.184,0.13100000000000001,0.19,0.184,438,415,467,997,935,1001,25,34,40,486,442,438,20,42,31,0,0,0,78,71,62,9518,9457,9395,2834,2876,2896,2010,1952,1905,0,0,0,280,335,353,2012,1865,0,405,416,421,0.13500000000000001,0.124,0.105,2460,2622,0,0.40888128921992001,0.36099657830335341,0.4472268901875262,2014,1,"MAR","2014-03-01"]
["Mono",414,385,522,703,644,823,0.315,0.27900000000000003,0.28199999999999997,557,554,634,0.77100000000000002,0.81200000000000006,0.70599999999999996,0.91200000000000003,0.92100000000000004,0.93400000000000005,0.89100000000000001,0.96599999999999997,0.90300000000000002,5.8999999999999997E-2,0.112,7.1999999999999995E-2,0.107,1.4999999999999999E-2,2.3E-2,0.14699999999999999,0.108,4.5999999999999999E-2,3.4000000000000002E-2,6.2E-2,4.9000000000000002E-2,8.5000000000000006E-2,6.5000000000000002E-2,5.8999999999999997E-2,447,400,522,709,656,855,32,43,49,326,283,334,3,74,70,0,0,0,226,163,218,14258,14376,14440,2415,2711,2804,2971,3013,3046,0,0,0,870,937,1069,1413,1248,0,102,101,100,0.107,8.5000000000000006E-2,7.1999999999999995E-2,2221,2021,0,0.31314011822398347,0.31554896752066686,0.49939412291526875,2014,1,"MAR","2014-03-01"]
["Monterey",20885,19094,22399,48096,43325,51281,0.40200000000000002,0.30599999999999999,0.376,41868,36922,46141,0.83899999999999997,0.83399999999999996,0.873,0.998,1,1,0.995,0.97799999999999998,0.95599999999999996,0.01,8.5999999999999993E-2,7.9000000000000001E-2,0.16800000000000001,0.23400000000000001,0.13200000000000001,0.224,0.34899999999999998,0.19800000000000001,0.1,0.106,0.115,0.112,0.122,0.13,19325,20213,21758,44518,46145,49132,1189,1572,2212,29906,29909,30054,6608,6960,6638,0,0,0,22110,21235,22043,422868,424119,426670,68145,71183,73258,111806,112481,113104,0,0,0,79767,64059,74856,96221,88589,0,8502,8458,8488,0.115,0.10299999999999999,9.0999999999999998E-2,80400,83052,76819,0.55609456512781497,0.56469538837346811,0.65190822926998127,2014,1,"MAR","2014-03-01"]
["Napa",3344,3156,3420,7165,6599,7164,0.33,0.26600000000000001,0.28199999999999997,6287,6066,6505,0.83199999999999996,0.872,0.873,0.73299999999999998,0.76700000000000002,0.72,0.97,0.90600000000000003,0.96199999999999997,5.8999999999999997E-2,0.112,7.1999999999999995E-2,0.111,0.12,8.8999999999999996E-2,0.18,0.19600000000000001,0.14699999999999999,0.248,0.16,0.14000000000000001,0.27500000000000002,0.17899999999999999,0.16,3452,3193,3526,7287,6710,7325,292,341,433,4244,4081,4040,1098,909,798,0,0,0,3019,2892,2923,138577,139831,141172,30643,32036,32913,31125,31002,30942,0,0,0,12388,12782,11600,17126,15421,0,2142,2156,2118,7.8E-2,6.8000000000000005E-2,5.6000000000000001E-2,18311,16770,13997,0.39325422361242962,0.40661393682295693,0.52160944627671246,2014,1,"MAR","2014-03-01"]
["Nevada",3872,3903,4004,7389,7422,7593,0.42499999999999999,0.41499999999999998,0.38300000000000001,6081,6320,6502,0.80600000000000005,0.82199999999999995,0.82799999999999996,0.99299999999999999,0.996,0.996,0.94499999999999995,0.85799999999999998,0.81,5.8999999999999997E-2,0.112,7.1999999999999995E-2,0.129,0.125,0.10100000000000001,0.20699999999999999,0.187,0.17100000000000001,0.11700000000000001,0.14399999999999999,0.13100000000000001,0.13500000000000001,0.16900000000000001,0.153,3667,3898,4221,7105,7452,7804,314,445,640,2726,2951,2868,219,186,165,0,0,0,270,255,284,98202,98317,98453,29761,31210,32138,18018,17565,17237,0,0,0,1312,1576,1472,11428,10758,0,1771,1796,1796,9.2999999999999999E-2,8.1000000000000003E-2,6.6000000000000003E-2,14198,16674,12649,0.49477604673947106,0.44248242080254063,0.61057440393830054,2014,1,"MAR","2014-03-01"]
["Orange",102785,110142,113508,227792,240817,245759,0.34399999999999997,0.33100000000000002,0.34100000000000003,179518,188299,203037,0.77300000000000002,0.76700000000000002,0.81699999999999995,0.998,0.995,0.98399999999999999,0.99299999999999999,0.995,0.98799999999999999,1.6E-2,4.8000000000000001E-2,3.4000000000000002E-2,8.6999999999999994E-2,8.1000000000000003E-2,9.4E-2,0.17699999999999999,0.14899999999999999,0.16600000000000001,4.2999999999999997E-2,6.4000000000000001E-2,5.2999999999999999E-2,7.1999999999999995E-2,0.10100000000000001,8.6999999999999994E-2,97956,105823,117235,218827,232862,270245,10377,13145,17616,131451,139033,135615,31940,29922,28117,0,0,0,105140,111958,114889,3071933,3097966,3125833,533455,559090,579380,724926,721292,719772,0,0,0,322892,316852,325313,460035,467937,0,66558,67573,68202,7.5999999999999998E-2,6.5000000000000002E-2,5.5E-2,453553,444095,443857,0.48162070387488537,0.51788536634810356,0.58262619430581397,2014,1,"MAR","2014-03-01"]
["Placer",8299,8802,9024,17706,18178,18465,0.35199999999999998,0.33800000000000002,0.33100000000000002,11627,11695,13351,0.65300000000000002,0.64100000000000001,0.72199999999999998,0.98899999999999999,0.97699999999999998,0.997,0.96699999999999997,0.94699999999999995,0.97399999999999998,5.8999999999999997E-2,0.112,7.1999999999999995E-2,8.5999999999999993E-2,9.1999999999999998E-2,0.1,0.17,0.161,0.17199999999999999,3.4000000000000002E-2,0.08,5.8999999999999997E-2,5.8999999999999997E-2,0.11700000000000001,9.5000000000000001E-2,8227,8480,9206,17815,17673,18455,791,1019,1416,8043,7868,7411,871,677,658,0,0,0,2058,2021,1954,360680,365125,369460,79177,85049,87902,85224,84419,83682,0,0,0,6656,8063,6222,31306,28497,0,5044,5056,5087,9.2999999999999999E-2,7.6999999999999999E-2,6.3E-2,42087,39484,41239,0.42561434824216915,0.44976744876628461,0.44945277490867924,2014,1,"MAR","2014-03-01"]
["Plumas",815,829,909,1759,1660,1844,0.39,0.378,0.38300000000000001,1519,1470,1535,0.85599999999999998,0.84699999999999998,0.81,0.91900000000000004,0.96299999999999997,0.98699999999999999,0.98099999999999998,0.81499999999999995,0.55100000000000005,5.8999999999999997E-2,0.112,7.1999999999999995E-2,0.17100000000000001,0.10299999999999999,5.7000000000000002E-2,0.22800000000000001,0.183,0.107,0.11700000000000001,0.11700000000000001,0.14499999999999999,0.12,0.125,0.16400000000000001,756,773,956,1654,1604,1793,50,82,116,701,676,707,27,34,37,0,0,0,21,22,22,19523,19466,19416,6395,6703,6907,3317,3263,3252,0,0,0,261,217,202,3224,3027,0,665,641,651,0.14599999999999999,0.13900000000000001,0.11700000000000001,3548,3816,0,0.46142844968902808,0.43854437804865226,0.5261404932248257,2014,1,"MAR","2014-03-01"]
["Riverside",114341,119124,121060,276891,284797,287272,0.41799999999999998,0.39700000000000002,0.40699999999999997,190915,200024,213646,0.69199999999999995,0.70099999999999996,0.74199999999999999,0.997,0.997,0.997,0.95799999999999996,0.95199999999999996,0.879,3.1E-2,2.5000000000000001E-2,3.5000000000000003E-2,0.182,0.19400000000000001,0.17399999999999999,0.25800000000000001,0.27300000000000002,0.248,0.14000000000000001,0.20699999999999999,0.214,0.161,0.23,0.24299999999999999,109234,115800,124316,267997,278117,289618,8379,10225,13821,143506,151042,148026,18716,17000,16149,0,0,0,62978,65355,66204,2244399,2264173,2294333,378792,396291,411572,611198,608238,609127,0,0,0,178052,173255,172588,408855,409328,0,54970,56654,57657,0.121,9.9000000000000005E-2,8.2000000000000003E-2,482427,469029,455320,0.55385221853286526,0.59124914316236565,0.63751163857777993,2014,1,"MAR","2014-03-01"]
["Sacramento",93843,96705,97098,210145,213386,213072,0.47599999999999998,0.443,0.44,162627,163078,169082,0.75900000000000001,0.75700000000000001,0.79,0.99,0.97899999999999998,0.97599999999999998,0.95599999999999996,0.98,0.97099999999999997,5.0000000000000001E-3,4.0000000000000001E-3,7.0000000000000001E-3,9.4E-2,0.10100000000000001,0.1,0.182,0.17299999999999999,0.17599999999999999,4.8000000000000001E-2,7.0999999999999994E-2,5.7000000000000002E-2,8.2000000000000003E-2,0.113,9.1999999999999998E-2,90856,94824,101502,204104,210033,217077,5103,6598,9056,102959,105467,101011,11758,9994,9400,0,0,0,46984,47601,47736,1439874,1448268,1461174,245819,254622,264452,359112,358519,358865,0,0,0,97511,101446,94516,324426,308037,0,60330,61371,62271,0.105,8.8999999999999996E-2,7.2999999999999995E-2,310462,306055,295178,0.65832222594433532,0.68101648407910953,0.7368741653264238,2014,1,"MAR","2014-03-01"]
["San Benito",2710,2580,2757,6390,5979,6378,0.46200000000000002,0.42099999999999999,0.40799999999999997,5371,5232,5515,0.84199999999999997,0.86299999999999999,0.85799999999999998,0.98399999999999999,0.99399999999999999,1,0.97699999999999998,0.96699999999999997,0.95,5.8999999999999997E-2,0.112,7.1999999999999995E-2,0.17100000000000001,0.20699999999999999,0.186,0.23699999999999999,0.30399999999999999,0.23899999999999999,0.12,0.20799999999999999,0.21,0.13900000000000001,0.22500000000000001,0.23599999999999999,2609,2684,2710,6114,6232,6169,216,246,292,3314,3361,3209,502,472,436,0,0,0,1849,1856,1802,56527,57366,58222,8675,9394,9875,15546,15424,15274,0,0,0,6386,5777,5516,10227,9287,0,897,882,899,0.13900000000000001,0.111,9.2999999999999999E-2,8551,8524,0,0.7212493977186083,0.72675062462478957,0.70741531862364759,2014,1,"MAR","2014-03-01"]
["San Bernardino",156747,162640,166127,368618,378592,382585,0.48199999999999998,0.47,0.48899999999999999,256699,268592,296197,0.71299999999999997,0.71699999999999997,0.78100000000000003,0.999,0.998,0.997,0.92700000000000005,0.89500000000000002,0.86399999999999999,1.2E-2,4.0000000000000001E-3,0.01,0.218,0.21099999999999999,0.2,0.28599999999999998,0.28699999999999998,0.26500000000000001,0.14899999999999999,0.28799999999999998,0.26800000000000002,0.16500000000000001,0.308,0.29099999999999998,151637,159737,172721,361404,373620,392265,10026,12685,17508,187444,194878,192219,22712,21323,19813,0,0,0,67830,70335,71384,2065016,2075160,2096123,293471,301721,316194,579792,576858,575598,0,0,0,172415,156056,164799,486650,481334,0,65325,66969,68029,0.11899999999999999,9.8000000000000004E-2,8.1000000000000003E-2,474491,441319,458343,0.75629444227201259,0.84152610654688464,0.85480513964161331,2014,1,"MAR","2014-03-01"]
["San Diego",116389,126937,128475,253991,270406,272951,0.375,0.36499999999999999,0.38100000000000001,189381,194302,215893,0.71899999999999997,0.70599999999999996,0.78100000000000003,0.96899999999999997,0.97899999999999998,0.97399999999999998,0.91400000000000003,0.95199999999999996,0.96399999999999997,0.03,1.4E-2,0.05,0.11600000000000001,0.152,0.14599999999999999,0.22700000000000001,0.23499999999999999,0.22900000000000001,2.8000000000000001E-2,9.4E-2,0.06,5.5E-2,0.14499999999999999,0.1,112361,122561,134694,246971,260576,300896,11289,13842,19191,125548,131432,131324,19228,15919,15532,0,0,0,88054,93092,97970,3147220,3184072,3214279,533349,558419,579311,722277,723080,726020,0,0,0,228674,236315,228246,442914,451842,0,74992,75967,76554,8.8999999999999996E-2,7.8E-2,6.4000000000000001E-2,564164,553958,548766,0.43821868941117176,0.4659832261291611,0.5173190533272255,2014,1,"MAR","2014-03-01"]
["San Francisco",32190,32234,32282,50440,50731,50484,0.223,0.221,0.22800000000000001,33196,33304,35776,0.63700000000000001,0.63900000000000001,0.69799999999999995,0.97599999999999998,0.97,0.96599999999999997,0.753,0.69399999999999995,0.75600000000000001,3.5000000000000003E-2,7.0000000000000007E-2,4.2000000000000003E-2,0.10299999999999999,0.10100000000000001,0.108,0.20499999999999999,0.188,0.193,0.08,8.5999999999999993E-2,0.09,0.11600000000000001,0.13300000000000001,0.129,32910,32096,32961,50894,50124,53900,4864,5459,6615,19583,19668,18721,5068,4243,3966,0,0,0,19407,19818,20630,820349,833827,840391,162239,171662,176508,116481,119793,123334,0,0,0,105810,96046,103652,134748,134579,0,37817,37708,37503,7.1999999999999995E-2,5.5E-2,4.3999999999999997E-2,121506,120297,100798,0.41957574357943345,0.40594685641860467,0.51877955213904448,2014,1,"MAR","2014-03-01"]
["San Joaquin",45591,47246,48102,110995,113328,114754,0.48499999999999999,0.45100000000000001,0.46400000000000002,92269,93553,98502,0.81799999999999995,0.81699999999999995,0.84599999999999997,0.98699999999999999,0.98199999999999998,0.99099999999999999,0.97499999999999998,0.93700000000000006,0.88300000000000001,0.04,6.5000000000000002E-2,4.9000000000000002E-2,0.19800000000000001,0.191,0.14099999999999999,0.26,0.26800000000000002,0.20499999999999999,0.14000000000000001,0.20300000000000001,0.217,0.157,0.22600000000000001,0.24199999999999999,43790,46964,50358,107532,113230,118029,2587,3502,4706,60071,63093,61837,7727,7295,6809,0,0,0,23960,23995,24307,699003,703790,713961,110087,113154,117867,197931,197012,196893,0,0,0,64140,64800,65961,181087,170765,0,26908,27071,27296,0.15,0.124,0.106,138592,156985,155948,0.77570448329394892,0.71282208923144241,0.75448405858440615,2014,1,"MAR","2014-03-01"]
["San Luis Obispo",9090,9023,9399,17743,17380,17988,0.371,0.33,0.35,13421,13132,14538,0.72899999999999998,0.72699999999999998,0.78100000000000003,0.98299999999999998,0.93500000000000005,0.93400000000000005,0.89800000000000002,0.90800000000000003,0.90100000000000002,5.8999999999999997E-2,0.112,7.1999999999999995E-2,6.6000000000000003E-2,6.6000000000000003E-2,7.3999999999999996E-2,0.15,0.14899999999999999,0.13700000000000001,0.03,5.5E-2,3.4000000000000002E-2,5.3999999999999999E-2,9.0999999999999998E-2,6.2E-2,8899,8907,9573,17269,17319,17983,882,1072,1399,8140,8228,8025,1285,1089,1102,0,0,0,3116,3239,3371,271021,271740,272941,61883,65066,67294,50367,50061,49890,0,0,0,9420,10073,10622,33196,30635,0,4420,4383,4290,0.08,6.8000000000000005E-2,5.6000000000000001E-2,43667,47791,45982,0.40160253059420031,0.36625752524840383,0.39378556835265566,2014,1,"MAR","2014-03-01"]
["San Mateo",13784,15436,15819,28487,31071,32181,0.26200000000000001,0.253,0.26,22874,24845,26799,0.76300000000000001,0.76700000000000002,0.82499999999999996,0.622,0.96799999999999997,0.98399999999999999,0.81100000000000005,0.83,0.875,5.8999999999999997E-2,0.112,7.1999999999999995E-2,7.6999999999999999E-2,7.8E-2,0.1,0.16400000000000001,0.14799999999999999,0.184,3.7999999999999999E-2,6.5000000000000002E-2,0.05,6.7000000000000004E-2,0.10199999999999999,8.3000000000000004E-2,13612,14493,16060,28106,29339,32208,1886,2531,3450,16040,17242,16879,3538,4025,3907,0,0,0,11878,13534,14235,736362,741857,747334,145950,155845,160763,162180,163248,163900,0,0,0,60960,58256,55943,78549,77027,0,11180,10953,10783,6.7000000000000004E-2,5.1999999999999998E-2,4.2000000000000003E-2,72926,68114,63839,0.38226904295385361,0.42299145074748989,0.5047687081036859,2014,1,"MAR","2014-03-01"]
["Santa Barbara",14689,14382,15581,33164,32271,34841,0.33,0.27900000000000003,0.309,28670,26999,30591,0.82399999999999995,0.81299999999999994,0.84499999999999997,0.95399999999999996,0.92400000000000004,0.626,0.92200000000000004,0.84699999999999998,0.81699999999999995,5.8999999999999997E-2,0.112,7.1999999999999995E-2,9.8000000000000004E-2,9.7000000000000003E-2,9.8000000000000004E-2,0.187,0.193,0.17299999999999999,4.8000000000000001E-2,5.8999999999999997E-2,0.04,7.3999999999999996E-2,0.109,6.9000000000000006E-2,14197,14344,15674,32030,32221,34497,866,1086,1559,20351,20051,20526,5628,4170,4029,0,0,0,13341,12614,13524,427358,433157,435999,78083,82325,84301,97785,97825,98027,0,0,0,45401,46332,43550,81084,74176,0,8597,8477,8393,0.08,7.0999999999999994E-2,6.0999999999999999E-2,76855,79414,83642,0.41813738624253444,0.41419200848854154,0.42200119780622236,2014,1,"MAR","2014-03-01"]
["Santa Clara",50852,53263,53489,108748,112280,112246,0.29699999999999999,0.29099999999999998,0.29699999999999999,87258,88087,92680,0.78800000000000003,0.77500000000000002,0.82,0.878,0.88600000000000001,0.94499999999999995,0.87,0.92200000000000004,0.88400000000000001,1.4999999999999999E-2,4.2999999999999997E-2,3.4000000000000002E-2,5.7000000000000002E-2,4.3999999999999997E-2,4.3999999999999997E-2,0.13600000000000001,0.121,0.126,1.0999999999999999E-2,1.0999999999999999E-2,8.0000000000000002E-3,3.9E-2,5.3999999999999999E-2,4.4999999999999998E-2,49038,52296,55307,105676,110622,113439,5507,7200,9510,56627,59419,55723,13623,11654,10556,0,0,0,44837,48568,49052,1828597,1850595,1871516,301962,321578,334221,436447,439320,442256,0,0,0,178148,176036,174224,260965,261699,0,43944,44002,43472,8.4000000000000005E-2,6.5000000000000002E-2,5.1999999999999998E-2,220691,215577,173716,0.4774607565369185,0.50311228218070525,0.65194601619115522,2014,1,"MAR","2014-03-01"]
["Santa Cruz",11632,11533,12054,23021,22237,23647,0.38400000000000001,0.32500000000000001,0.36299999999999999,17255,16577,19392,0.73299999999999998,0.73299999999999998,0.79100000000000004,0.81499999999999995,0.92900000000000005,0.72099999999999997,0.92300000000000004,0.68600000000000005,0.69299999999999995,5.8999999999999997E-2,0.112,7.1999999999999995E-2,3.9E-2,5.0999999999999997E-2,0.03,0.11600000000000001,0.154,0.112,3.1E-2,2.1000000000000001E-2,1.4E-2,5.8999999999999997E-2,6.3E-2,4.2999999999999997E-2,10984,11641,12402,22390,22732,23719,922,1290,1797,11666,11843,11576,3317,2423,2244,0,0,0,8532,8317,8530,267569,271495,272210,50062,53904,56302,55954,55939,56013,0,0,0,21496,20137,23557,42528,38508,0,5104,5077,5038,0.112,0.10299999999999999,8.6999999999999994E-2,37039,42179,47670,0.58842082196675705,0.54467417520778982,0.50502675093748539,2014,1,"MAR","2014-03-01"]
["Shasta",11900,11458,11995,23749,22949,23916,0.441,0.41199999999999998,0.41699999999999998,20956,20506,21012,0.84699999999999998,0.85799999999999998,0.85799999999999998,0.93400000000000005,0.82,0.96399999999999997,0.85,0.875,0.93300000000000005,5.8999999999999997E-2,0.112,7.1999999999999995E-2,0.17799999999999999,0.156,0.13,0.26100000000000001,0.245,0.191,0.17599999999999999,0.191,0.2,0.20100000000000001,0.21199999999999999,0.22,12445,11911,12720,25025,23709,24671,821,990,1221,10508,10472,9992,922,713,609,0,0,0,495,466,465,178477,178591,179305,44441,45455,46860,39051,38745,38532,0,0,0,2105,3086,2491,41050,37387,0,9329,9306,9289,0.13300000000000001,0.11799999999999999,9.7000000000000003E-2,33389,40245,29544,0.73982412472550396,0.58273132182190857,0.83034253379074596,2014,1,"MAR","2014-03-01"]
["Sierra",165,157,166,314,293,299,0.41899999999999998,0.39400000000000002,0.39800000000000002,281,256,267,0.88400000000000001,0.86799999999999999,0.873,0.91700000000000004,1,1,0.96199999999999997,1,0.91300000000000003,5.8999999999999997E-2,0.112,7.1999999999999995E-2,0.17899999999999999,5.3999999999999999E-2,0.14899999999999999,0.26800000000000002,0.16200000000000001,0.21299999999999999,0.107,0.13500000000000001,0.191,0.107,0.13500000000000001,0.21299999999999999,156,156,163,302,305,294,23,26,41,95,106,86,1,1,3,0,0,0,4,6,8,3089,3270,3267,1060,1235,1274,481,463,450,0,0,0,60,93,89,514,497,0,99,99,89,0.14499999999999999,0.129,0.1,623,697,0,0.45574835793595003,0.43626999716296844,0.56159427452170951,2014,1,"MAR","2014-03-01"]
["Siskiyou",2862,2945,3140,6426,6523,6927,0.45600000000000002,0.44600000000000001,0.46500000000000002,5659,5816,6155,0.86,0.86599999999999999,0.87,1,0.99399999999999999,1,0.95,0.88300000000000001,0.86899999999999999,5.8999999999999997E-2,0.112,7.1999999999999995E-2,0.13400000000000001,0.156,9.9000000000000005E-2,0.20100000000000001,0.23200000000000001,0.16,0.127,0.186,0.218,0.14199999999999999,0.20100000000000001,0.23899999999999999,2719,2900,3184,6100,6486,6907,220,275,413,2701,2872,2825,137,154,141,0,0,0,180,192,181,44598,45215,45290,13353,13967,14388,8878,8755,8639,0,0,0,820,782,717,10616,10036,0,2441,2475,2431,0.153,0.13200000000000001,0.113,10259,10390,0,0.59692071647033884,0.62649903974722321,0.60582435845117577,2014,1,"MAR","2014-03-01"]
["Solano",20595,21193,21494,41335,41998,42499,0.443,0.42,0.41899999999999998,35839,36543,36921,0.84,0.84399999999999997,0.84899999999999998,0.92600000000000005,0.91,0.94,0.95099999999999996,0.96099999999999997,0.95899999999999996,3.2000000000000001E-2,0,6.0000000000000001E-3,3.1E-2,3.2000000000000001E-2,2.5999999999999999E-2,0.154,0.13200000000000001,0.122,1.2999999999999999E-2,1.7999999999999999E-2,8.9999999999999993E-3,6.3E-2,7.4999999999999997E-2,5.3999999999999999E-2,19954,20782,22292,40161,41287,43531,1473,1823,2457,19347,20249,19919,3060,2463,2272,0,0,0,6772,6854,6844,415913,424048,428705,76529,80768,84375,97912,97128,96723,0,0,0,21564,20853,18343,68717,62999,0,11520,11691,11752,0.10100000000000001,0.09,7.4999999999999997E-2,65053,61760,56429,0.61665326783404339,0.66764538469704438,0.76925949545071659,2014,1,"MAR","2014-03-01"]
["Sonoma",24176,18795,18820,40348,34664,34735,0.38300000000000001,0.34200000000000003,0.33900000000000002,29356,30178,30189,0.81299999999999994,0.84099999999999997,0.84,0.94099999999999995,0.86099999999999999,0.84099999999999997,0.40300000000000002,0.48499999999999999,0.45900000000000002,5.8999999999999997E-2,0.112,7.1999999999999995E-2,8.2000000000000003E-2,9.7000000000000003E-2,0.108,0.17599999999999999,0.18,0.19500000000000001,3.9E-2,7.5999999999999998E-2,4.9000000000000002E-2,7.5999999999999998E-2,0.14299999999999999,9.1999999999999998E-2,18390,18686,19304,34447,34451,34951,1870,2351,2986,17154,17558,16974,3946,3484,3249,0,0,0,10341,10432,10517,489283,493070,497260,107417,112593,116344,104978,104608,104298,0,0,0,29280,24921,25983,63908,60020,0,8571,8547,8488,8.5000000000000006E-2,7.0000000000000007E-2,5.6000000000000001E-2,74079,71127,69971,0.45491205373541377,0.49066532056361034,0.50345315035929272,2014,1,"MAR","2014-03-01"]
["Stanislaus",41147,41708,42193,90507,90962,92065,0.47099999999999997,0.438,0.46,67855,68228,74797,0.745,0.74399999999999999,0.79700000000000004,0.98599999999999999,0.96199999999999997,0.95299999999999996,0.96699999999999997,0.92800000000000005,0.878,8.0000000000000002E-3,3.9E-2,1.7999999999999999E-2,0.19500000000000001,0.21099999999999999,0.17499999999999999,0.28699999999999998,0.32100000000000001,0.25600000000000001,0.14699999999999999,0.27900000000000003,0.26700000000000002,0.16800000000000001,0.31,0.30199999999999999,40036,41539,42873,88848,91048,92778,2464,2893,3835,44790,46298,45160,5991,5663,5238,0,0,0,17992,17711,18095,522651,527232,532344,84166,86547,89829,144581,144260,144079,0,0,0,48024,48602,48829,137356,128318,0,19745,20057,20165,0.151,0.129,0.112,117475,125680,115985,0.74978094811434948,0.72214889693563,0.79497781177320248,2014,1,"MAR","2014-03-01"]
["Sutter",5125,5126,5424,12365,12119,12740,0.40799999999999997,0.38300000000000001,0.375,11026,10966,11517,0.875,0.89300000000000002,0.88600000000000001,0.96399999999999997,0.98899999999999999,0.94399999999999995,0.96199999999999997,0.91800000000000004,0.90400000000000003,5.8999999999999997E-2,0.112,7.1999999999999995E-2,0.18099999999999999,0.2,0.16200000000000001,0.247,0.28599999999999998,0.20899999999999999,0.106,0.22800000000000001,0.19400000000000001,0.123,0.23799999999999999,0.21299999999999999,4961,5215,5623,11946,12440,13083,306,369,491,6271,6642,6535,830,689,648,0,0,0,2311,2281,2388,95351,97386,97257,17496,18207,18667,25370,25333,25371,0,0,0,9590,8366,8544,23515,21895,0,3661,3778,3793,0.17499999999999999,0.14599999999999999,0.127,20846,22883,16038,0.72718857098591638,0.53769509167762497,0.8091986651521671,2014,1,"MAR","2014-03-01"]
["Tehama",4205,4481,4645,9737,10181,10409,0.45200000000000001,0.44900000000000001,0.44400000000000001,8910,9226,9562,0.88800000000000001,0.89100000000000001,0.88800000000000001,0.96099999999999997,0.91700000000000004,0.96699999999999997,0.99,0.99199999999999999,0.91,5.8999999999999997E-2,0.112,7.1999999999999995E-2,0.182,0.123,0.11600000000000001,0.253,0.19400000000000001,0.16300000000000001,0.159,0.08,9.6000000000000002E-2,0.16800000000000001,8.4000000000000005E-2,0.1,4219,4320,5009,9899,9916,11155,259,363,492,4855,5013,5146,469,441,422,0,0,0,1161,1199,1283,63623,64498,64827,14869,15313,15700,15514,15280,15138,0,0,0,2546,2603,2345,17404,16152,0,3057,3062,3106,0.13700000000000001,0.11700000000000001,9.7000000000000003E-2,14556,14220,0,0.66594202724809604,0.69231531437680793,0.76327104213104657,2014,1,"MAR","2014-03-01"]
["Trinity",803,807,850,1613,1561,1609,0.41499999999999998,0.39100000000000001,0.4,1363,1353,1394,0.83,0.83499999999999996,0.82599999999999996,0.94199999999999995,1,0.95799999999999996,0.94199999999999995,0.91900000000000004,0.72,5.8999999999999997E-2,0.112,7.1999999999999995E-2,0.20899999999999999,0.112,8.5000000000000006E-2,0.26400000000000001,0.182,0.14899999999999999,0.35399999999999998,0.30599999999999999,0.214,0.37,0.32600000000000001,0.23799999999999999,776,762,1001,1557,1516,1838,74,89,117,604,622,623,5,45,42,0,0,0,8,12,10,13470,13776,13782,4270,4587,4753,2335,2276,2215,0,0,0,21,36,49,2854,2603,0,655,636,656,0.156,0.121,9.9000000000000005E-2,3088,3100,0,0.50631183546685954,0.50150279286577459,0.5912422140107656,2014,1,"MAR","2014-03-01"]
["Tulare",46318,47423,49187,114115,116505,120087,0.54300000000000004,0.51400000000000001,0.52800000000000002,96556,97674,103442,0.82299999999999995,0.81899999999999995,0.85099999999999998,1,1,1,0.98299999999999998,0.97899999999999998,0.97399999999999998,5.8999999999999997E-2,2.1000000000000001E-2,3.4000000000000002E-2,0.17199999999999999,0.216,0.182,0.29599999999999999,0.33600000000000002,0.27600000000000002,0.109,0.18099999999999999,0.108,0.156,0.245,0.154,44577,46471,50975,110086,114774,132774,2949,3459,4856,64076,67240,65842,8010,8233,7798,0,0,0,36803,37887,39618,451627,456075,461703,64345,66305,68896,142812,143372,144472,0,0,0,60886,60016,63244,169956,160183,0,17288,17554,17865,0.159,0.14399999999999999,0.13200000000000001,151607,147863,139566,0.57209225930295116,0.77504881539151371,0.90358518151528189,2014,1,"MAR","2014-03-01"]
["Tuolumne",2836,2821,2943,5253,5192,5409,0.45,0.43099999999999999,0.42299999999999999,4713,4591,4760,0.873,0.875,0.874,0.95399999999999996,0.88600000000000001,0.93400000000000005,0.97099999999999997,0.95899999999999996,0.91400000000000003,5.8999999999999997E-2,0.112,7.1999999999999995E-2,0.161,0.16600000000000001,0.112,0.22700000000000001,0.25600000000000001,0.20799999999999999,0.16400000000000001,0.17799999999999999,0.193,0.182,0.21,0.22700000000000001,2755,2828,3009,5103,5153,5556,265,299,409,1962,1955,2013,149,137,115,0,0,0,65,66,76,54339,54811,54592,16528,17219,17563,9222,9088,8943,0,0,0,653,696,628,8101,7561,0,1618,1635,1639,0.11700000000000001,0.108,8.6999999999999994E-2,8976,9822,0,0.57443890320256608,0.5308063709413704,0.55096208037690064,2014,1,"MAR","2014-03-01"]
["Ventura",32230,33194,33751,66999,69194,69753,0.377,0.34699999999999998,0.35599999999999998,50038,51397,55207,0.71699999999999997,0.71499999999999997,0.76200000000000001,0.98099999999999998,0.94499999999999995,0.92500000000000004,0.94099999999999995,0.93200000000000005,0.92100000000000004,1.2E-2,3.2000000000000001E-2,2.3E-2,0.104,0.122,0.13200000000000001,0.23,0.22900000000000001,0.23300000000000001,6.5000000000000002E-2,0.106,7.3999999999999996E-2,0.106,0.16400000000000001,0.11799999999999999,31284,32232,35024,64382,66971,77031,2757,3498,4822,35426,37769,37317,8035,6844,6549,0,0,0,23314,25095,26091,834109,839617,844833,148960,156524,162247,206821,205584,204901,0,0,0,79320,76495,75693,123340,111492,0,14656,14764,14875,9.0999999999999998E-2,7.9000000000000001E-2,6.7000000000000004E-2,105820,112132,114150,0.61510962347937126,0.60105354961794943,0.64997993128460252,2014,1,"MAR","2014-03-01"]
["Yolo",7886,8184,8490,16966,17295,17981,0.41099999999999998,0.372,0.38200000000000001,14441,14857,15503,0.81899999999999995,0.83699999999999997,0.83899999999999997,0.76700000000000002,0.88,0.85299999999999998,0.875,0.91500000000000004,0.91100000000000003,5.8999999999999997E-2,0.112,7.1999999999999995E-2,0.11600000000000001,0.107,0.11899999999999999,0.22,0.192,0.188,5.6000000000000001E-2,6.7000000000000004E-2,5.5E-2,8.5999999999999993E-2,0.106,9.8000000000000004E-2,7766,7850,8865,16880,16629,18273,627,774,1075,8261,8108,8448,1070,874,867,0,0,0,4871,4707,5033,204314,206621,208069,31386,32873,34248,44406,43847,43396,0,0,0,13923,14762,11918,31043,28422,0,5307,5351,5314,0.113,9.0999999999999998E-2,7.6999999999999999E-2,44018,42449,50238,0.38251247558070017,0.39257891056597655,0.3707119276196772,2014,1,"MAR","2014-03-01"]
["Yuba",5679,5694,5883,12871,12695,13040,0.49399999999999999,0.48399999999999999,0.47699999999999998,11207,11090,11343,0.85299999999999998,0.84299999999999997,0.84799999999999998,0.97,0.96899999999999997,0.99399999999999999,0.96199999999999997,0.92800000000000005,0.94,5.8999999999999997E-2,0.112,7.1999999999999995E-2,0.187,0.193,0.187,0.255,0.28100000000000003,0.25700000000000001,0.20300000000000001,0.36599999999999999,0.377,0.224,0.39100000000000001,0.40200000000000002,5776,5749,6026,13058,12919,13449,298,341,435,6360,6541,6332,644,571,501,0,0,0,1707,1586,1526,73021,73600,74258,11530,11868,12397,20586,20521,20606,0,0,0,3903,3382,4010,20229,18518,0,3772,3733,3734,0.16800000000000001,0.13100000000000001,0.112,19440,14308,17376,0.66300000000000003,0.89600000000000002,0.76600000000000001,2014,1,"MAR","2014-03-01"]
["Alameda",62980,64394,64208,126214,128065,127457,0.34300000000000003,0.35199999999999998,0.35899999999999999,96499,104852,111463,0.751,0.80100000000000005,0.85799999999999998,0.91400000000000003,0.84499999999999997,0.85799999999999998,0.86199999999999999,0.877,0.89900000000000002,0.04,2.1999999999999999E-2,3.1E-2,9.9000000000000005E-2,0.107,0.1,0.20300000000000001,0.19400000000000001,0.19600000000000001,0.05,0.06,6.5000000000000002E-2,9.5000000000000001E-2,0.111,0.122,62045,62875,64020,124622,125835,125434,5848,7267,9307,61164,63938,60223,11499,9990,9205,0,0,0,36077,39263,40011,1540790,1563370,1582119,265903,282890,294442,343820,346038,348428,0,0,0,134661,133681,139309,253472,243275,0,48146,48141,47823,0.09,7.2999999999999995E-2,5.8999999999999997E-2,220282,220034,214363,0.56495206368390971,0.56717244038342607,0.58770588854592853,2014,2,"JUN","2014-06-01"]
["Alpine",85,109,111,153,176,180,0.54400000000000004,0.51200000000000001,0.52200000000000002,137,149,157,0.85099999999999998,0.83699999999999997,0.872,1,1,1,0.95,0.78900000000000003,0.91700000000000004,5.8999999999999997E-2,7.1999999999999995E-2,8.5999999999999993E-2,7.0999999999999994E-2,6.7000000000000004E-2,0,0.14299999999999999,0.2,0.105,0.107,3.3000000000000002E-2,0,0.107,3.3000000000000002E-2,0,84,91,114,147,171,194,9,11,16,53,62,59,2,0,0,0,0,0,0,0,0,1127,1228,1243,293,369,398,245,243,245,0,0,0,24,25,23,201,184,0,41,42,39,0.13400000000000001,9.8000000000000004E-2,8.7999999999999995E-2,195,222,0,0.74896982598703987,0.70134951054248518,0.80292964974253522,2014,2,"JUN","2014-06-01"]
["Amador",1717,1752,1771,3262,3428,3411,0.48099999999999998,0.47799999999999998,0.498,2650,2868,3057,0.81599999999999995,0.83699999999999997,0.88900000000000001,0.97299999999999998,0.93700000000000006,0.96599999999999997,0.95599999999999996,0.97099999999999997,0.95699999999999996,5.8999999999999997E-2,7.1999999999999995E-2,8.5999999999999993E-2,0.14399999999999999,0.14199999999999999,0.13600000000000001,0.20599999999999999,0.20399999999999999,0.216,0.19700000000000001,0.17,0.249,0.21,0.193,0.26700000000000002,1717,1685,1770,3287,3280,3373,182,194,250,1230,1298,1222,61,69,59,0,0,0,81,98,102,36899,36945,37017,11711,11769,12078,6009,5919,5806,0,0,0,507,484,559,4522,4116,0,654,674,696,0.11600000000000001,0.10299999999999999,8.3000000000000004E-2,4237,4989,0,0.76675028881618745,0.65704441950440784,0.66465992098604165,2014,2,"JUN","2014-06-01"]
["Butte",14409,14930,15212,29770,30348,30559,0.438,0.43099999999999999,0.45100000000000001,26304,27021,29126,0.86099999999999999,0.86299999999999999,0.92600000000000005,0.94199999999999995,0.93200000000000005,0.88600000000000001,0.95299999999999996,0.89500000000000002,0.9,5.8999999999999997E-2,7.1999999999999995E-2,8.5999999999999993E-2,0.13600000000000001,0.14499999999999999,0.13700000000000001,0.21099999999999999,0.218,0.21199999999999999,0.22700000000000001,0.26100000000000001,0.28499999999999998,0.24299999999999999,0.28899999999999998,0.315,13988,14733,15571,29226,30211,31036,842,1116,1577,12905,13523,12850,1187,1063,878,0,0,0,2929,2782,2667,221118,222035,224518,49667,51734,53940,45992,45459,45266,0,0,0,5475,4375,5637,51266,47746,0,10828,10914,10866,0.12,0.10299999999999999,8.6999999999999994E-2,56950,57536,54488,0.51154311092185545,0.52065366997840645,0.56693046889491883,2014,2,"JUN","2014-06-01"]
["Calaveras",2571,2654,2685,5023,5060,5094,0.47499999999999998,0.47199999999999998,0.505,3991,4145,4620,0.82299999999999995,0.81899999999999995,0.90200000000000002,0.98199999999999998,0.99299999999999999,0.95799999999999996,0.98,0.95199999999999996,0.96399999999999997,5.8999999999999997E-2,7.1999999999999995E-2,8.5999999999999993E-2,0.14000000000000001,0.13100000000000001,0.108,0.217,0.189,0.17199999999999999,0.17399999999999999,0.17299999999999999,0.20399999999999999,0.19700000000000001,0.193,0.22,2522,2576,2768,4998,4969,5231,278,322,437,1881,1808,1778,66,103,88,0,0,0,148,134,133,45045,45214,45508,14458,15224,15719,8280,7993,7801,0,0,0,559,410,598,6850,6097,0,1023,1043,1056,0.129,0.1,8.1000000000000003E-2,5990,6022,0,0.83065104422897051,0.82427123354235265,0.80293519722539908,2014,2,"JUN","2014-06-01"]
["California",1926913,2015005,2046381,4202850,4351103,4393812,0.40500000000000003,0.4,0.42599999999999999,3271525,3520222,3853453,0.81499999999999995,0.83299999999999996,0.90400000000000003,0.97099999999999997,0.96,0.95899999999999996,0.94299999999999995,0.90600000000000003,0.92400000000000004,3.2000000000000001E-2,4.2999999999999997E-2,4.9000000000000002E-2,0.13,0.129,0.12,0.218,0.20399999999999999,0.2,0.08,0.10199999999999999,0.113,0.104,0.129,0.14099999999999999,1843348,1942841,2070803,4074650,4221057,4476031,141407,176557,234156,2184693,2272684,2226004,372370,341378,320176,0,0,0,1268115,1314549,1337933,37826160,38202206,38548204,6506534,6820715,7071818,9170526,9150549,9157600,0,0,0,3775905,3750293,3760183,7619341,7280074,0,1176286,1187606,1193089,0.104,8.8999999999999996E-2,7.4999999999999997E-2,7121280,7166749,6980319,0.56999999999999995,0.58399999999999996,0.63400000000000001,2014,2,"JUN","2014-06-01"]
["Colusa",733,733,752,1840,1749,1810,0.30199999999999999,0.248,0.27200000000000002,1645,1623,1761,0.89300000000000002,0.88700000000000001,0.95099999999999996,0.98,0.95699999999999996,0.67600000000000005,1,0.95,0.95899999999999996,5.8999999999999997E-2,7.1999999999999995E-2,8.5999999999999993E-2,0.112,9.8000000000000004E-2,5.6000000000000001E-2,0.193,0.17499999999999999,0.121,0.158,0.215,0.29299999999999998,0.16600000000000001,0.24,0.32900000000000001,701,713,725,1728,1710,1722,39,72,84,1055,1032,1004,108,164,142,0,0,0,598,553,570,21614,21987,22254,3794,4033,4198,6173,6106,6114,0,0,0,3235,2986,3111,4695,4193,0,556,564,563,0.20100000000000001,0.19,0.17499999999999999,4435,3771,0,0.38904925365351106,0.46113151104422845,0.39141984295657661,2014,2,"JUN","2014-06-01"]
["Contra Costa",33077,34380,34921,68625,71039,71884,0.32500000000000001,0.32500000000000001,0.34300000000000003,52362,57601,63793,0.74399999999999999,0.79600000000000004,0.88,0.95,0.91,0.95199999999999996,0.93700000000000006,0.85499999999999998,0.85799999999999998,3.1E-2,0.04,4.1000000000000002E-2,0.115,9.4E-2,0.08,0.20399999999999999,0.16300000000000001,0.14399999999999999,4.4999999999999998E-2,5.3999999999999999E-2,5.8999999999999997E-2,8.1000000000000003E-2,8.5999999999999993E-2,9.2999999999999999E-2,32977,32730,35280,68789,67763,76061,2515,3064,3876,35507,36829,36150,6651,5449,5317,0,0,0,15201,15787,16078,1069803,1081862,1095476,205603,215513,223639,255890,253746,251862,0,0,0,66528,66244,68215,143428,131952,0,23603,24041,24288,0.09,7.4999999999999997E-2,6.2E-2,135137,145293,129295,0.50723295638066834,0.47067971198742864,0.57143348851746278,2014,2,"JUN","2014-06-01"]
["Del Norte",2542,2556,2511,5149,5205,5175,0.48699999999999999,0.48,0.49299999999999999,4478,4629,4880,0.86599999999999999,0.88900000000000001,0.94599999999999995,1,1,1,0.97399999999999998,0.97699999999999998,0.95199999999999996,5.8999999999999997E-2,7.1999999999999995E-2,8.5999999999999993E-2,0.21099999999999999,0.188,0.16200000000000001,0.26500000000000001,0.246,0.23400000000000001,0.19,0.34200000000000003,0.39500000000000002,0.2,0.36299999999999999,0.41099999999999998,2629,2525,2545,5445,5132,5227,157,193,238,2343,2218,2130,173,167,139,0,0,0,285,262,223,28359,28530,28477,5913,6153,6387,5778,5698,5655,0,0,0,549,733,725,8091,7460,0,1869,1817,1816,0.13300000000000001,0.11799999999999999,0.10199999999999999,5696,5923,0,0.94447219934568005,0.86431084940613745,0.91507601883208589,2014,2,"JUN","2014-06-01"]
["El Dorado",6409,6484,6836,11947,11899,12431,0.41199999999999998,0.38200000000000001,0.41399999999999998,9680,10120,11294,0.80100000000000005,0.81599999999999995,0.88500000000000001,0.99199999999999999,0.98799999999999999,0.98799999999999999,0.96399999999999997,0.78800000000000003,0.82499999999999996,5.8999999999999997E-2,7.1999999999999995E-2,8.5999999999999993E-2,0.13500000000000001,0.10100000000000001,0.11,0.21199999999999999,0.16800000000000001,0.17699999999999999,0.17799999999999999,0.159,0.21099999999999999,0.2,0.17899999999999999,0.23899999999999999,6081,6397,6871,11620,11765,12479,581,732,972,4822,4716,4740,402,417,396,0,0,0,864,882,886,180599,184054,184320,42806,46098,47929,39168,38276,37665,0,0,0,3301,3580,3522,19049,17413,0,2818,2850,2851,0.10299999999999999,8.5000000000000006E-2,7.0000000000000007E-2,19223,26641,27235,0.6063224191345471,0.44106704599832475,0.45696364279304263,2014,2,"JUN","2014-06-01"]
["Fresno",91601,94981,97184,220493,226573,230446,0.51700000000000002,0.52500000000000002,0.54800000000000004,176222,185899,207391,0.78900000000000003,0.81,0.89800000000000002,0.96,0.90500000000000003,0.91300000000000003,0.93300000000000005,0.92300000000000004,0.97,4.0000000000000001E-3,3.1E-2,2.5999999999999999E-2,0.157,0.129,0.13200000000000001,0.27900000000000003,0.22700000000000001,0.22700000000000001,9.7000000000000003E-2,7.0999999999999994E-2,7.4999999999999997E-2,0.152,0.11700000000000001,0.124,88850,90783,94285,215016,217757,224430,4650,5364,7362,122558,123609,122849,15452,14216,13450,0,0,0,61549,59175,60875,946823,958260,969338,143086,147191,152725,275524,276923,279805,0,0,0,115573,108885,109792,316699,299363,0,40171,40774,41053,0.15,0.13200000000000001,0.11600000000000001,283513,280018,281486,0.75799045321685599,0.78293622520574913,0.80626906421255717,2014,2,"JUN","2014-06-01"]
["Glenn",1451,1472,1522,3606,3606,3735,0.39200000000000002,0.36,0.38900000000000001,3324,3376,3567,0.91100000000000003,0.90600000000000003,0.94199999999999995,1,1,0.98799999999999999,0.99299999999999999,0.94399999999999995,1,5.8999999999999997E-2,7.1999999999999995E-2,8.5999999999999993E-2,0.13700000000000001,0.152,0.13900000000000001,0.21099999999999999,0.20799999999999999,0.221,0.114,0.125,0.152,0.123,0.14299999999999999,0.17100000000000001,1389,1431,1514,3419,3549,3697,87,113,148,1908,1985,1960,231,237,215,0,0,0,769,739,762,28208,28599,28868,5499,5834,6039,7657,7588,7542,0,0,0,2433,2638,2410,7157,6747,0,1128,1136,1111,0.14299999999999999,0.121,0.107,6413,6196,0,0.53650977283308565,0.56850757302200194,0.55838355889207381,2014,2,"JUN","2014-06-01"]
["Humboldt",8426,9266,9987,15819,17196,18257,0.42,0.41799999999999998,0.45900000000000002,13590,14761,16724,0.82699999999999996,0.82599999999999996,0.89800000000000002,0.98899999999999999,0.95699999999999996,0.98599999999999999,0.93300000000000005,0.748,0.86299999999999999,5.8999999999999997E-2,7.1999999999999995E-2,8.5999999999999993E-2,0.11799999999999999,7.9000000000000001E-2,8.5000000000000006E-2,0.183,0.13200000000000001,0.13800000000000001,0.186,0.16200000000000001,0.20399999999999999,0.20599999999999999,0.18,0.223,8114,8812,10547,15495,16507,19098,496,695,1117,6496,7000,7428,685,684,644,0,0,0,807,886,900,134923,136480,136779,29078,30216,31381,26337,26025,25824,0,0,0,2104,2347,2266,27113,24939,0,5740,5607,5545,0.104,8.2000000000000003E-2,6.8000000000000005E-2,32857,34043,33222,0.46724637565969279,0.474035923417713,0.56563435374326043,2014,2,"JUN","2014-06-01"]
["Imperial",14164,15263,15146,36277,38782,38209,0.503,0.49399999999999999,0.502,32838,34291,36390,0.88,0.878,0.93300000000000005,1,0.95299999999999996,0.94499999999999995,0.98899999999999999,0.89400000000000002,0.88300000000000001,5.8999999999999997E-2,7.1999999999999995E-2,8.5999999999999993E-2,0.192,0.16200000000000001,0.13300000000000001,0.28000000000000003,0.24299999999999999,0.222,0.13600000000000001,0.22,0.22,0.155,0.25600000000000001,0.253,14037,14518,15936,36091,37083,40394,1456,1738,2213,18176,19291,19838,994,1028,990,0,0,0,17886,19370,21381,178659,179326,183154,27470,28182,29668,50932,51426,52464,0,0,0,32769,32195,33803,58377,55474,0,10349,10276,10238,0.27200000000000002,0.249,0.23599999999999999,44744,44790,44826,0.80804160369013844,0.81464017162211388,0.89508144333471995,2014,2,"JUN","2014-06-01"]
["Inyo",1038,1052,1091,2058,2152,2198,0.41299999999999998,0.40400000000000003,0.443,1818,1815,1982,0.85499999999999998,0.84899999999999998,0.90800000000000003,1,0.99099999999999999,1,0.97799999999999998,0.95499999999999996,0.96199999999999997,5.8999999999999997E-2,7.1999999999999995E-2,8.5999999999999993E-2,0.16300000000000001,0.10299999999999999,0.104,0.24299999999999999,0.19500000000000001,0.16300000000000001,0.19600000000000001,0.218,0.26300000000000001,0.22700000000000001,0.224,0.313,957,1058,1068,1951,2132,2149,105,137,154,879,964,928,105,103,98,0,0,0,316,327,296,18637,19241,19244,5121,5510,5699,3727,3660,3590,0,0,0,490,532,510,3534,3188,0,396,407,402,9.4E-2,7.9000000000000001E-2,7.0000000000000007E-2,2515,2766,0,0.77670818481640058,0.73946492362442684,0.72042269416670368,2014,2,"JUN","2014-06-01"]
["Kern",59622,60740,61152,144678,147170,147731,0.45300000000000001,0.45700000000000002,0.47299999999999998,120117,126647,136824,0.81,0.84,0.91300000000000003,0.99099999999999999,0.97699999999999998,0.98399999999999999,0.95199999999999996,0.88400000000000001,0.90800000000000003,2.5000000000000001E-2,2.5999999999999999E-2,2.1999999999999999E-2,0.20899999999999999,0.20599999999999999,0.19900000000000001,0.29499999999999998,0.28399999999999997,0.28899999999999998,0.125,0.191,0.20899999999999999,0.14799999999999999,0.222,0.24299999999999999,57915,59623,61918,140798,144653,148150,3379,3983,5081,82189,84978,82576,11952,10703,9808,0,0,0,37887,37191,37076,855522,869797,878356,119415,122971,128553,251296,252028,256535,0,0,0,85452,88100,79181,240099,224473,0,31095,31384,31592,0.13300000000000001,0.11700000000000001,0.104,213671,224185,225536,0.65421253208901731,0.64036520264020891,0.6560986851203231,2014,2,"JUN","2014-06-01"]
["Kings",10012,10051,10267,23729,23815,24396,0.49099999999999999,0.49,0.52800000000000002,21364,21075,22688,0.88100000000000001,0.874,0.92800000000000005,0.98399999999999999,0.96899999999999997,0.99099999999999999,0.96899999999999997,0.88700000000000001,0.84499999999999997,5.8999999999999997E-2,7.1999999999999995E-2,8.5999999999999993E-2,0.21,0.18099999999999999,0.187,0.29399999999999998,0.255,0.27100000000000002,0.17899999999999999,0.34899999999999998,0.38,0.20699999999999999,0.379,0.41399999999999998,9624,9956,10210,22949,23543,24002,563,652,797,12535,12892,12521,1554,1396,1267,0,0,0,5625,5451,5713,150843,152456,153601,18666,19636,20420,40866,41136,41468,0,0,0,14061,14426,15306,36030,33393,0,4729,4659,4635,0.151,0.13500000000000001,0.121,33431,34891,38859,0.68555666915226354,0.66930047437077489,0.61675060236025636,2014,2,"JUN","2014-06-01"]
["Lake",5165,5262,5383,10263,10622,10896,0.41699999999999998,0.41399999999999998,0.44700000000000001,8736,9172,10374,0.84899999999999998,0.84499999999999997,0.92500000000000004,0.96099999999999997,0.86499999999999999,0.873,0.95199999999999996,0.85499999999999998,0.81599999999999995,5.8999999999999997E-2,7.1999999999999995E-2,8.5999999999999993E-2,0.111,6.6000000000000003E-2,5.6000000000000001E-2,0.17199999999999999,0.112,0.11700000000000001,0.17399999999999999,0.34899999999999998,0.33900000000000002,0.19500000000000001,0.39300000000000002,0.38,5041,5227,5525,10039,10453,11036,477,586,736,4340,4436,4622,256,385,344,0,0,0,790,814,817,64394,64782,65465,17355,18045,18728,13100,12882,12726,0,0,0,1920,1792,1951,17709,16443,0,3701,3710,3663,0.14199999999999999,0.108,8.8999999999999996E-2,19370,17452,17435,0.52275795740758546,0.58994489464318189,0.6317675039698486,2014,2,"JUN","2014-06-01"]
["Lassen",1419,1488,1570,2954,3149,3235,0.46800000000000003,0.47299999999999998,0.48499999999999999,2662,2819,3017,0.88200000000000001,0.88100000000000001,0.92900000000000005,0.98899999999999999,0.90200000000000002,0.96199999999999997,0.95899999999999996,0.82699999999999996,0.875,5.8999999999999997E-2,7.1999999999999995E-2,8.5999999999999993E-2,0.155,0.10299999999999999,7.9000000000000001E-2,0.23400000000000001,0.189,0.17199999999999999,0.129,0.247,0.22600000000000001,0.14599999999999999,0.27600000000000002,0.253,1386,1426,1536,2933,2971,3168,81,99,150,1284,1319,1345,87,91,108,0,0,0,70,67,71,33650,34966,35038,5593,6186,6479,5682,5574,5519,0,0,0,704,769,712,4859,4436,0,930,906,880,0.125,0.106,9.2999999999999999E-2,4471,4398,0,0.6584276616338256,0.67780447504446817,0.78611426364455528,2014,2,"JUN","2014-06-01"]
["Los Angeles",549697,573325,576682,1134472,1177757,1180079,0.33,0.34399999999999997,0.36499999999999999,875815,931107,985179,0.76800000000000002,0.77900000000000003,0.82699999999999996,0.96699999999999997,0.96899999999999997,0.96299999999999997,0.96099999999999997,0.93899999999999995,0.94499999999999995,3.1E-2,3.2000000000000001E-2,4.9000000000000002E-2,9.6000000000000002E-2,0.104,9.5000000000000001E-2,0.17899999999999999,0.17499999999999999,0.17499999999999999,0.01,8.9999999999999993E-3,6.0000000000000001E-3,1.6E-2,1.4E-2,8.9999999999999993E-3,516984,557570,585696,1093422,1148512,1193453,36571,46590,59648,599556,629069,614546,124537,117585,109736,0,0,0,423844,444806,444589,9911665,10010961,10082664,1620299,1701464,1760921,2341123,2329494,2322213,0,0,0,1372113,1402433,1394350,2410140,2250353,0,385131,388148,389765,0.109,9.8000000000000004E-2,8.3000000000000004E-2,2021648,2088070,2032450,0.53852316431437086,0.54211494769640123,0.58334051625028915,2014,2,"JUN","2014-06-01"]
["Madera",10722,11221,11593,27189,28263,29027,0.46300000000000002,0.48199999999999998,0.504,24568,25994,27702,0.90500000000000003,0.90300000000000002,0.94699999999999995,0.97799999999999998,0.97099999999999997,0.97899999999999998,0.98199999999999998,0.88700000000000001,0.91300000000000003,5.8999999999999997E-2,7.1999999999999995E-2,8.5999999999999993E-2,0.17100000000000001,0.14099999999999999,0.13900000000000001,0.25600000000000001,0.20699999999999999,0.22,0.17399999999999999,0.214,0.254,0.19600000000000001,0.246,0.27500000000000002,10437,10608,11507,26670,26856,28885,534,619,799,16732,16652,16999,3223,2773,2654,0,0,0,10100,9640,10033,151790,153409,154829,25433,26873,27801,42036,42149,43015,0,0,0,20218,20706,20778,45875,42230,0,4441,4478,4505,0.13300000000000001,0.125,0.11,38099,38832,38903,0.69333969565110631,0.69096227737139893,0.74120990607815518,2014,2,"JUN","2014-06-01"]
["Marin",5648,5920,6107,9542,9998,10224,0.30399999999999999,0.30099999999999999,0.32100000000000001,8447,9105,9762,0.877,0.89,0.94,0.95099999999999996,0.94699999999999995,0.96,0.95099999999999996,0.90100000000000002,0.93,5.8999999999999997E-2,7.1999999999999995E-2,8.5999999999999993E-2,0.13200000000000001,0.14699999999999999,0.13400000000000001,0.19900000000000001,0.21199999999999999,0.20300000000000001,0.14899999999999999,0.19800000000000001,0.20799999999999999,0.17399999999999999,0.22900000000000001,0.252,5541,5762,6216,9408,9774,10397,758,887,1119,4358,4734,4831,1245,1271,1282,0,0,0,2958,3455,3804,254882,256264,257792,65062,69445,70897,51763,51412,51122,0,0,0,11689,8867,11871,22611,21230,0,3102,3107,3034,6.3E-2,5.1999999999999998E-2,4.2999999999999997E-2,20101,22421,22696,0.463432407333705,0.41976609833322831,0.45416962715835596,2014,2,"JUN","2014-06-01"]
["Mariposa",913,1017,1032,1828,2034,2059,0.45500000000000002,0.49199999999999999,0.51400000000000001,1592,1833,1950,0.874,0.89,0.93899999999999995,0.91100000000000003,0.91200000000000003,0.872,0.94299999999999995,0.91500000000000004,0.92500000000000004,5.8999999999999997E-2,7.1999999999999995E-2,8.5999999999999993E-2,0.16200000000000001,9.2999999999999999E-2,8.2000000000000003E-2,0.247,0.124,0.13800000000000001,0.255,0.19900000000000001,0.19400000000000001,0.26800000000000002,0.223,0.224,875,920,1005,1804,1855,1974,83,119,172,709,714,711,41,37,31,0,0,0,47,30,52,17817,18101,18091,5675,5971,6133,3056,2988,2966,0,0,0,155,227,199,2854,2652,0,460,462,454,0.11,0.105,8.7999999999999995E-2,2848,3155,0,0.62310270335867513,0.58782568148826908,0.63584459078564948,2014,2,"JUN","2014-06-01"]
["Mendocino",6971,7144,7590,13205,13415,14074,0.38300000000000001,0.38300000000000001,0.42099999999999999,10969,11483,12815,0.84199999999999997,0.82599999999999996,0.89700000000000002,1,0.99399999999999999,0.997,0.98899999999999999,0.95499999999999996,0.98,5.8999999999999997E-2,7.1999999999999995E-2,8.5999999999999993E-2,0.182,0.107,0.108,0.28599999999999998,0.191,0.157,0.186,3.5999999999999997E-2,0.19800000000000001,0.22600000000000001,4.2000000000000003E-2,0.249,7242,6923,7569,13660,13202,14007,591,699,941,5727,5665,5681,592,688,618,0,0,0,1934,1823,1931,88566,88931,88795,22245,23290,24007,19078,18865,18784,0,0,0,4188,4171,4690,23130,21783,0,3238,3218,3145,9.5000000000000001E-2,8.2000000000000003E-2,6.9000000000000006E-2,19739,22381,19834,0.68661650850578071,0.58791930175161367,0.69491422244138812,2014,2,"JUN","2014-06-01"]
["Merced",22906,23364,24009,55780,55842,57288,0.51200000000000001,0.49099999999999999,0.51900000000000002,46390,48612,54112,0.82099999999999995,0.85199999999999998,0.93400000000000005,0.998,0.96099999999999997,0.97199999999999998,0.99199999999999999,0.92300000000000004,0.94399999999999995,6.0000000000000001E-3,4.0000000000000001E-3,1.2E-2,0.17799999999999999,0.16500000000000001,0.14499999999999999,0.26400000000000001,0.24099999999999999,0.218,0.23499999999999999,0.253,0.32800000000000001,0.25900000000000001,0.28199999999999997,0.36299999999999999,22003,22956,24370,53940,55568,57733,1122,1338,1886,30744,31540,31258,4110,4036,3796,0,0,0,15638,15579,15688,261708,263441,266444,36841,37818,39238,79582,79353,79287,0,0,0,31663,35644,33521,84983,80292,0,10745,10849,10825,0.16900000000000001,0.14499999999999999,0.128,67910,70247,74499,0.78991568533045808,0.78565860623862072,0.76763611001397902,2014,2,"JUN","2014-06-01"]
["Modoc",433,437,455,955,963,997,0.36399999999999999,0.35399999999999998,0.38200000000000001,852,840,930,0.89300000000000002,0.88500000000000001,0.93400000000000005,1,0.96699999999999997,1,0.92300000000000004,0.94399999999999995,0.873,5.8999999999999997E-2,7.1999999999999995E-2,8.5999999999999993E-2,0.22,0.128,0.16300000000000001,0.28000000000000003,0.17699999999999999,0.21099999999999999,0.1,0.184,0.17699999999999999,0.127,0.184,0.191,438,415,467,997,935,1001,25,34,40,486,442,438,20,42,31,0,0,0,78,71,62,9518,9457,9395,2834,2876,2896,2010,1952,1905,0,0,0,280,335,353,2012,1865,0,405,416,421,0.13500000000000001,0.124,0.105,2460,2622,0,0.40888128921992001,0.36099657830335341,0.4472268901875262,2014,2,"JUN","2014-06-01"]
["Mono",335,522,581,606,823,920,0.28299999999999997,0.28199999999999997,0.32600000000000001,518,634,756,0.76500000000000001,0.70599999999999996,0.8,1,0.93400000000000005,1,0.95799999999999996,0.90300000000000002,0.85599999999999998,5.8999999999999997E-2,7.1999999999999995E-2,8.5999999999999993E-2,1.7999999999999999E-2,2.3E-2,9.1999999999999998E-2,0.14399999999999999,4.5999999999999999E-2,0.20399999999999999,4.2999999999999997E-2,4.9000000000000002E-2,7.9000000000000001E-2,4.7E-2,5.8999999999999997E-2,0.1,447,400,522,709,656,855,32,43,49,326,283,334,3,74,70,0,0,0,226,163,218,14258,14376,14440,2415,2711,2804,2971,3013,3046,0,0,0,870,937,1069,1413,1248,0,102,101,100,0.107,8.5000000000000006E-2,7.1999999999999995E-2,2221,2021,0,0.31314011822398347,0.31554896752066686,0.49939412291526875,2014,2,"JUN","2014-06-01"]
["Monterey",21740,22399,23498,50064,51281,53709,0.35399999999999998,0.376,0.41,42828,46141,50702,0.85299999999999998,0.873,0.93700000000000006,1,1,1,0.995,0.95599999999999996,0.97099999999999997,1.7999999999999999E-2,7.9000000000000001E-2,7.9000000000000001E-2,0.17899999999999999,0.13200000000000001,0.126,0.25,0.19800000000000001,0.20100000000000001,0.122,0.115,0.158,0.13800000000000001,0.13,0.185,19325,20213,21758,44518,46145,49132,1189,1572,2212,29906,29909,30054,6608,6960,6638,0,0,0,22110,21235,22043,422868,424119,426670,68145,71183,73258,111806,112481,113104,0,0,0,79767,64059,74856,96221,88589,0,8502,8458,8488,0.115,0.10299999999999999,9.0999999999999998E-2,80400,83052,76819,0.55609456512781497,0.56469538837346811,0.65190822926998127,2014,2,"JUN","2014-06-01"]
["Napa",3358,3420,3561,7097,7164,7455,0.29899999999999999,0.28199999999999997,0.308,6058,6505,7016,0.83899999999999997,0.873,0.92800000000000005,0.63400000000000001,0.72,0.97199999999999998,0.96599999999999997,0.96199999999999997,0.97899999999999998,5.8999999999999997E-2,7.1999999999999995E-2,8.5999999999999993E-2,0.115,8.8999999999999996E-2,0.1,0.185,0.14699999999999999,0.161,0.23300000000000001,0.14000000000000001,0.17799999999999999,0.26200000000000001,0.16,0.19600000000000001,3452,3193,3526,7287,6710,7325,292,341,433,4244,4081,4040,1098,909,798,0,0,0,3019,2892,2923,138577,139831,141172,30643,32036,32913,31125,31002,30942,0,0,0,12388,12782,11600,17126,15421,0,2142,2156,2118,7.8E-2,6.8000000000000005E-2,5.6000000000000001E-2,18311,16770,13997,0.39325422361242962,0.40661393682295693,0.52160944627671246,2014,2,"JUN","2014-06-01"]
["Nevada",3840,4004,4160,7327,7593,7813,0.42299999999999999,0.38300000000000001,0.41799999999999998,6108,6502,7251,0.81200000000000006,0.82799999999999996,0.9,1,0.996,0.97599999999999998,0.97399999999999998,0.81,0.76600000000000001,5.8999999999999997E-2,7.1999999999999995E-2,8.5999999999999993E-2,0.122,0.10100000000000001,8.7999999999999995E-2,0.20899999999999999,0.17100000000000001,0.16400000000000001,0.158,0.13100000000000001,0.20399999999999999,0.182,0.153,0.23599999999999999,3667,3898,4221,7105,7452,7804,314,445,640,2726,2951,2868,219,186,165,0,0,0,270,255,284,98202,98317,98453,29761,31210,32138,18018,17565,17237,0,0,0,1312,1576,1472,11428,10758,0,1771,1796,1796,9.2999999999999999E-2,8.1000000000000003E-2,6.6000000000000003E-2,14198,16674,12649,0.49477604673947106,0.44248242080254063,0.61057440393830054,2014,2,"JUN","2014-06-01"]
["Orange",104202,113508,115195,230478,245759,248563,0.33,0.34100000000000003,0.36099999999999999,181573,203037,223200,0.77300000000000002,0.81699999999999995,0.9,0.998,0.98399999999999999,0.97699999999999998,0.996,0.98799999999999999,0.995,2.5000000000000001E-2,3.4000000000000002E-2,3.2000000000000001E-2,0.09,9.4E-2,9.2999999999999999E-2,0.18099999999999999,0.16600000000000001,0.17299999999999999,5.2999999999999999E-2,5.2999999999999999E-2,5.8999999999999997E-2,8.6999999999999994E-2,8.6999999999999994E-2,9.6000000000000002E-2,97956,105823,117235,218827,232862,270245,10377,13145,17616,131451,139033,135615,31940,29922,28117,0,0,0,105140,111958,114889,3071933,3097966,3125833,533455,559090,579380,724926,721292,719772,0,0,0,322892,316852,325313,460035,467937,0,66558,67573,68202,7.5999999999999998E-2,6.5000000000000002E-2,5.5E-2,453553,444095,443857,0.48162070387488537,0.51788536634810356,0.58262619430581397,2014,2,"JUN","2014-06-01"]
["Placer",8372,9024,9099,17632,18465,18437,0.34200000000000003,0.33100000000000002,0.35099999999999998,11461,13351,14956,0.64700000000000002,0.72199999999999998,0.82299999999999995,0.995,0.997,0.98799999999999999,0.97399999999999998,0.97399999999999998,0.97499999999999998,5.8999999999999997E-2,7.1999999999999995E-2,8.5999999999999993E-2,8.1000000000000003E-2,0.1,9.9000000000000005E-2,0.16200000000000001,0.17199999999999999,0.184,3.4000000000000002E-2,5.8999999999999997E-2,6.2E-2,6.2E-2,9.5000000000000001E-2,0.1,8227,8480,9206,17815,17673,18455,791,1019,1416,8043,7868,7411,871,677,658,0,0,0,2058,2021,1954,360680,365125,369460,79177,85049,87902,85224,84419,83682,0,0,0,6656,8063,6222,31306,28497,0,5044,5056,5087,9.2999999999999999E-2,7.6999999999999999E-2,6.3E-2,42087,39484,41239,0.42561434824216915,0.44976744876628461,0.44945277490867924,2014,2,"JUN","2014-06-01"]
["Plumas",802,909,991,1729,1844,1951,0.39,0.38300000000000001,0.41699999999999998,1480,1535,1727,0.86299999999999999,0.81,0.88800000000000001,1,0.98699999999999999,1,0.97799999999999998,0.55100000000000005,0.53300000000000003,5.8999999999999997E-2,7.1999999999999995E-2,8.5999999999999993E-2,0.17199999999999999,5.7000000000000002E-2,7.3999999999999996E-2,0.221,0.107,0.13500000000000001,0.115,0.14499999999999999,0.22900000000000001,0.11799999999999999,0.16400000000000001,0.249,756,773,956,1654,1604,1793,50,82,116,701,676,707,27,34,37,0,0,0,21,22,22,19523,19466,19416,6395,6703,6907,3317,3263,3252,0,0,0,261,217,202,3224,3027,0,665,641,651,0.14599999999999999,0.13900000000000001,0.11700000000000001,3548,3816,0,0.46142844968902808,0.43854437804865226,0.5261404932248257,2014,2,"JUN","2014-06-01"]
["Riverside",114243,121060,121622,274951,287272,285410,0.40500000000000003,0.40699999999999997,0.44,196709,213646,242560,0.70299999999999996,0.74199999999999999,0.84899999999999998,0.999,0.997,0.996,0.95799999999999996,0.879,0.88400000000000001,3.3000000000000002E-2,3.5000000000000003E-2,3.5000000000000003E-2,0.17599999999999999,0.17399999999999999,0.16,0.255,0.248,0.24,0.158,0.214,0.23699999999999999,0.18099999999999999,0.24299999999999999,0.26700000000000002,109234,115800,124316,267997,278117,289618,8379,10225,13821,143506,151042,148026,18716,17000,16149,0,0,0,62978,65355,66204,2244399,2264173,2294333,378792,396291,411572,611198,608238,609127,0,0,0,178052,173255,172588,408855,409328,0,54970,56654,57657,0.121,9.9000000000000005E-2,8.2000000000000003E-2,482427,469029,455320,0.55385221853286526,0.59124914316236565,0.63751163857777993,2014,2,"JUN","2014-06-01"]
["Sacramento",93514,97098,99448,209287,213072,215919,0.44700000000000001,0.44,0.46100000000000002,162345,169082,190711,0.76500000000000001,0.79,0.88700000000000001,0.98899999999999999,0.97599999999999998,0.97499999999999998,0.98399999999999999,0.97099999999999997,0.98099999999999998,5.0000000000000001E-3,7.0000000000000001E-3,3.0000000000000001E-3,9.6000000000000002E-2,0.1,9.8000000000000004E-2,0.18099999999999999,0.17599999999999999,0.17199999999999999,4.8000000000000001E-2,5.7000000000000002E-2,5.8000000000000003E-2,8.2000000000000003E-2,9.1999999999999998E-2,9.2999999999999999E-2,90856,94824,101502,204104,210033,217077,5103,6598,9056,102959,105467,101011,11758,9994,9400,0,0,0,46984,47601,47736,1439874,1448268,1461174,245819,254622,264452,359112,358519,358865,0,0,0,97511,101446,94516,324426,308037,0,60330,61371,62271,0.105,8.8999999999999996E-2,7.2999999999999995E-2,310462,306055,295178,0.65832222594433532,0.68101648407910953,0.7368741653264238,2014,2,"JUN","2014-06-01"]
["San Benito",2715,2757,2752,6339,6378,6390,0.46500000000000002,0.40799999999999997,0.41499999999999998,5545,5515,5885,0.85599999999999998,0.85799999999999998,0.92500000000000004,0.94399999999999995,1,1,0.97599999999999998,0.95,0.94599999999999995,5.8999999999999997E-2,7.1999999999999995E-2,8.5999999999999993E-2,0.188,0.186,0.13400000000000001,0.26600000000000001,0.23899999999999999,0.245,0.125,0.21,0.26200000000000001,0.14299999999999999,0.23599999999999999,0.29399999999999998,2609,2684,2710,6114,6232,6169,216,246,292,3314,3361,3209,502,472,436,0,0,0,1849,1856,1802,56527,57366,58222,8675,9394,9875,15546,15424,15274,0,0,0,6386,5777,5516,10227,9287,0,897,882,899,0.13900000000000001,0.111,9.2999999999999999E-2,8551,8524,0,0.7212493977186083,0.72675062462478957,0.70741531862364759,2014,2,"JUN","2014-06-01"]
["San Bernardino",157421,166127,168897,369163,382585,385964,0.48299999999999998,0.48899999999999999,0.52,269409,296197,332250,0.72,0.78100000000000003,0.87,1,0.997,0.999,0.93200000000000005,0.86399999999999999,0.90600000000000003,1.4E-2,0.01,1.7000000000000001E-2,0.21099999999999999,0.2,0.19800000000000001,0.28499999999999998,0.26500000000000001,0.27200000000000002,0.191,0.26800000000000002,0.30599999999999999,0.21099999999999999,0.29099999999999998,0.33400000000000002,151637,159737,172721,361404,373620,392265,10026,12685,17508,187444,194878,192219,22712,21323,19813,0,0,0,67830,70335,71384,2065016,2075160,2096123,293471,301721,316194,579792,576858,575598,0,0,0,172415,156056,164799,486650,481334,0,65325,66969,68029,0.11899999999999999,9.8000000000000004E-2,8.1000000000000003E-2,474491,441319,458343,0.75629444227201259,0.84152610654688464,0.85480513964161331,2014,2,"JUN","2014-06-01"]
["San Diego",119545,128475,131667,256921,272951,276963,0.36099999999999999,0.38100000000000001,0.40699999999999997,187869,215893,237836,0.71399999999999997,0.78100000000000003,0.85799999999999998,0.96499999999999997,0.97399999999999998,0.90200000000000002,0.89600000000000002,0.96399999999999997,0.96799999999999997,2.5999999999999999E-2,0.05,4.3999999999999997E-2,0.12,0.14599999999999999,0.122,0.22,0.22900000000000001,0.20499999999999999,3.3000000000000002E-2,0.06,6.2E-2,6.5000000000000002E-2,0.1,0.10299999999999999,112361,122561,134694,246971,260576,300896,11289,13842,19191,125548,131432,131324,19228,15919,15532,0,0,0,88054,93092,97970,3147220,3184072,3214279,533349,558419,579311,722277,723080,726020,0,0,0,228674,236315,228246,442914,451842,0,74992,75967,76554,8.8999999999999996E-2,7.8E-2,6.4000000000000001E-2,564164,553958,548766,0.43821868941117176,0.4659832261291611,0.5173190533272255,2014,2,"JUN","2014-06-01"]
["San Francisco",32318,32282,32863,50482,50484,51155,0.221,0.22800000000000001,0.26,33103,35776,42391,0.63600000000000001,0.69799999999999995,0.81799999999999995,0.97699999999999998,0.96599999999999997,0.97099999999999997,0.89800000000000002,0.75600000000000001,0.9,3.6999999999999998E-2,4.2000000000000003E-2,4.9000000000000002E-2,0.114,0.108,0.11700000000000001,0.219,0.193,0.19600000000000001,8.5999999999999993E-2,0.09,0.10100000000000001,0.126,0.129,0.14499999999999999,32910,32096,32961,50894,50124,53900,4864,5459,6615,19583,19668,18721,5068,4243,3966,0,0,0,19407,19818,20630,820349,833827,840391,162239,171662,176508,116481,119793,123334,0,0,0,105810,96046,103652,134748,134579,0,37817,37708,37503,7.1999999999999995E-2,5.5E-2,4.3999999999999997E-2,121506,120297,100798,0.41957574357943345,0.40594685641860467,0.51877955213904448,2014,2,"JUN","2014-06-01"]
["San Joaquin",46390,48102,49324,112172,114754,116685,0.46200000000000002,0.46400000000000002,0.49099999999999999,92390,98502,109343,0.81699999999999995,0.84599999999999997,0.92300000000000004,0.98299999999999998,0.99099999999999999,0.98299999999999998,0.97399999999999998,0.88300000000000001,0.88600000000000001,0.03,4.9000000000000002E-2,5.3999999999999999E-2,0.16900000000000001,0.14099999999999999,0.13300000000000001,0.23599999999999999,0.20499999999999999,0.20599999999999999,0.14099999999999999,0.217,0.26700000000000002,0.161,0.24199999999999999,0.29899999999999999,43790,46964,50358,107532,113230,118029,2587,3502,4706,60071,63093,61837,7727,7295,6809,0,0,0,23960,23995,24307,699003,703790,713961,110087,113154,117867,197931,197012,196893,0,0,0,64140,64800,65961,181087,170765,0,26908,27071,27296,0.15,0.124,0.106,138592,156985,155948,0.77570448329394892,0.71282208923144241,0.75448405858440615,2014,2,"JUN","2014-06-01"]
["San Luis Obispo",9174,9399,9675,17852,17988,18502,0.35199999999999998,0.35,0.38900000000000001,13159,14538,16858,0.72299999999999998,0.78100000000000003,0.89400000000000002,0.96399999999999997,0.93400000000000005,0.97199999999999998,0.89,0.90100000000000002,0.90500000000000003,5.8999999999999997E-2,7.1999999999999995E-2,8.5999999999999993E-2,7.1999999999999995E-2,7.3999999999999996E-2,6.7000000000000004E-2,0.16400000000000001,0.13700000000000001,0.13100000000000001,3.6999999999999998E-2,3.4000000000000002E-2,0.04,7.4999999999999997E-2,6.2E-2,7.2999999999999995E-2,8899,8907,9573,17269,17319,17983,882,1072,1399,8140,8228,8025,1285,1089,1102,0,0,0,3116,3239,3371,271021,271740,272941,61883,65066,67294,50367,50061,49890,0,0,0,9420,10073,10622,33196,30635,0,4420,4383,4290,0.08,6.8000000000000005E-2,5.6000000000000001E-2,43667,47791,45982,0.40160253059420031,0.36625752524840383,0.39378556835265566,2014,2,"JUN","2014-06-01"]
["San Mateo",14127,15819,15963,28842,32181,32354,0.25600000000000001,0.26,0.27900000000000003,22343,26799,28934,0.745,0.82499999999999996,0.89300000000000002,0.77700000000000002,0.98399999999999999,0.97699999999999998,0.754,0.875,0.88900000000000001,5.8999999999999997E-2,7.1999999999999995E-2,8.5999999999999993E-2,8.5000000000000006E-2,0.1,8.6999999999999994E-2,0.17199999999999999,0.184,0.17100000000000001,4.2999999999999997E-2,0.05,5.6000000000000001E-2,7.6999999999999999E-2,8.3000000000000004E-2,9.4E-2,13612,14493,16060,28106,29339,32208,1886,2531,3450,16040,17242,16879,3538,4025,3907,0,0,0,11878,13534,14235,736362,741857,747334,145950,155845,160763,162180,163248,163900,0,0,0,60960,58256,55943,78549,77027,0,11180,10953,10783,6.7000000000000004E-2,5.1999999999999998E-2,4.2000000000000003E-2,72926,68114,63839,0.38226904295385361,0.42299145074748989,0.5047687081036859,2014,2,"JUN","2014-06-01"]
["Santa Barbara",15227,15581,16217,34310,34841,36132,0.29399999999999998,0.309,0.33900000000000002,28174,30591,34345,0.82299999999999995,0.84499999999999997,0.93200000000000005,0.93,0.626,0.79600000000000004,0.94,0.81699999999999995,0.88600000000000001,5.8999999999999997E-2,7.1999999999999995E-2,8.5999999999999993E-2,9.1999999999999998E-2,9.8000000000000004E-2,7.6999999999999999E-2,0.17399999999999999,0.17299999999999999,0.14199999999999999,0.05,0.04,4.9000000000000002E-2,9.2999999999999999E-2,6.9000000000000006E-2,8.4000000000000005E-2,14197,14344,15674,32030,32221,34497,866,1086,1559,20351,20051,20526,5628,4170,4029,0,0,0,13341,12614,13524,427358,433157,435999,78083,82325,84301,97785,97825,98027,0,0,0,45401,46332,43550,81084,74176,0,8597,8477,8393,0.08,7.0999999999999994E-2,6.0999999999999999E-2,76855,79414,83642,0.41813738624253444,0.41419200848854154,0.42200119780622236,2014,2,"JUN","2014-06-01"]
["Santa Clara",51694,53489,54498,110071,112246,113186,0.29099999999999998,0.29699999999999999,0.317,87798,92680,100661,0.78400000000000003,0.82,0.89,0.97699999999999998,0.94499999999999995,0.96799999999999997,0.88800000000000001,0.88400000000000001,0.93400000000000005,1.7000000000000001E-2,3.4000000000000002E-2,2.7E-2,5.2999999999999999E-2,4.3999999999999997E-2,3.4000000000000002E-2,0.13500000000000001,0.126,0.11700000000000001,8.9999999999999993E-3,8.0000000000000002E-3,8.0000000000000002E-3,3.6999999999999998E-2,4.4999999999999998E-2,4.7E-2,49038,52296,55307,105676,110622,113439,5507,7200,9510,56627,59419,55723,13623,11654,10556,0,0,0,44837,48568,49052,1828597,1850595,1871516,301962,321578,334221,436447,439320,442256,0,0,0,178148,176036,174224,260965,261699,0,43944,44002,43472,8.4000000000000005E-2,6.5000000000000002E-2,5.1999999999999998E-2,220691,215577,173716,0.4774607565369185,0.50311228218070525,0.65194601619115522,2014,2,"JUN","2014-06-01"]
["Santa Cruz",12061,12054,12796,24017,23647,24910,0.35499999999999998,0.36299999999999999,0.40100000000000002,17580,19392,22566,0.73799999999999999,0.79100000000000004,0.89400000000000002,0.95599999999999996,0.72099999999999997,0.80700000000000005,0.96,0.69299999999999995,0.93799999999999994,5.8999999999999997E-2,7.1999999999999995E-2,8.5999999999999993E-2,6.5000000000000002E-2,0.03,0.03,0.14199999999999999,0.112,9.1999999999999998E-2,2.5999999999999999E-2,1.4E-2,1.7999999999999999E-2,0.06,4.2999999999999997E-2,5.2999999999999999E-2,10984,11641,12402,22390,22732,23719,922,1290,1797,11666,11843,11576,3317,2423,2244,0,0,0,8532,8317,8530,267569,271495,272210,50062,53904,56302,55954,55939,56013,0,0,0,21496,20137,23557,42528,38508,0,5104,5077,5038,0.112,0.10299999999999999,8.6999999999999994E-2,37039,42179,47670,0.58842082196675705,0.54467417520778982,0.50502675093748539,2014,2,"JUN","2014-06-01"]
["Shasta",11948,11995,12324,23665,23916,24283,0.433,0.41699999999999998,0.438,20599,21012,22632,0.84499999999999997,0.85799999999999998,0.91300000000000003,0.95199999999999996,0.96399999999999997,0.95499999999999996,0.86899999999999999,0.93300000000000005,0.95499999999999996,5.8999999999999997E-2,7.1999999999999995E-2,8.5999999999999993E-2,0.16400000000000001,0.13,0.126,0.249,0.191,0.19700000000000001,0.17799999999999999,0.2,0.23499999999999999,0.2,0.22,0.26500000000000001,12445,11911,12720,25025,23709,24671,821,990,1221,10508,10472,9992,922,713,609,0,0,0,495,466,465,178477,178591,179305,44441,45455,46860,39051,38745,38532,0,0,0,2105,3086,2491,41050,37387,0,9329,9306,9289,0.13300000000000001,0.11799999999999999,9.7000000000000003E-2,33389,40245,29544,0.73982412472550396,0.58273132182190857,0.83034253379074596,2014,2,"JUN","2014-06-01"]
["Sierra",158,166,172,306,299,306,0.39800000000000002,0.39800000000000002,0.436,256,267,285,0.83899999999999997,0.873,0.92800000000000005,1,1,0.9,1,0.91300000000000003,1,5.8999999999999997E-2,7.1999999999999995E-2,8.5999999999999993E-2,9.8000000000000004E-2,0.14899999999999999,6.7000000000000004E-2,0.122,0.21299999999999999,0.1,0.17100000000000001,0.191,0.13300000000000001,0.19500000000000001,0.21299999999999999,0.16700000000000001,156,156,163,302,305,294,23,26,41,95,106,86,1,1,3,0,0,0,4,6,8,3089,3270,3267,1060,1235,1274,481,463,450,0,0,0,60,93,89,514,497,0,99,99,89,0.14499999999999999,0.129,0.1,623,697,0,0.45574835793595003,0.43626999716296844,0.56159427452170951,2014,2,"JUN","2014-06-01"]
["Siskiyou",2921,3140,3206,6527,6927,7024,0.45800000000000002,0.46500000000000002,0.48,5730,6155,6641,0.871,0.87,0.93799999999999994,0.99199999999999999,1,1,0.96299999999999997,0.86899999999999999,0.85399999999999998,5.8999999999999997E-2,7.1999999999999995E-2,8.5999999999999993E-2,0.13100000000000001,9.9000000000000005E-2,0.12,0.20699999999999999,0.16,0.18099999999999999,0.11600000000000001,0.218,0.23699999999999999,0.13100000000000001,0.23899999999999999,0.253,2719,2900,3184,6100,6486,6907,220,275,413,2701,2872,2825,137,154,141,0,0,0,180,192,181,44598,45215,45290,13353,13967,14388,8878,8755,8639,0,0,0,820,782,717,10616,10036,0,2441,2475,2431,0.153,0.13200000000000001,0.113,10259,10390,0,0.59692071647033884,0.62649903974722321,0.60582435845117577,2014,2,"JUN","2014-06-01"]
["Solano",20598,21494,21995,41065,42499,43407,0.41899999999999998,0.41899999999999998,0.442,35254,36921,39913,0.83499999999999996,0.84899999999999998,0.90400000000000003,0.93600000000000005,0.94,0.94499999999999995,0.96199999999999997,0.95899999999999996,0.97199999999999998,1.7000000000000001E-2,6.0000000000000001E-3,0.01,4.1000000000000002E-2,2.5999999999999999E-2,1.7999999999999999E-2,0.158,0.122,0.114,1.4E-2,8.9999999999999993E-3,8.9999999999999993E-3,5.8999999999999997E-2,5.3999999999999999E-2,5.8999999999999997E-2,19954,20782,22292,40161,41287,43531,1473,1823,2457,19347,20249,19919,3060,2463,2272,0,0,0,6772,6854,6844,415913,424048,428705,76529,80768,84375,97912,97128,96723,0,0,0,21564,20853,18343,68717,62999,0,11520,11691,11752,0.10100000000000001,0.09,7.4999999999999997E-2,65053,61760,56429,0.61665326783404339,0.66764538469704438,0.76925949545071659,2014,2,"JUN","2014-06-01"]
["Sonoma",18765,18820,19162,34800,34735,35221,0.35799999999999998,0.33900000000000002,0.36899999999999999,29439,30189,33198,0.82599999999999996,0.84,0.91,0.92300000000000004,0.84099999999999997,0.83799999999999997,0.46700000000000003,0.45900000000000002,0.71699999999999997,5.8999999999999997E-2,7.1999999999999995E-2,8.5999999999999993E-2,8.7999999999999995E-2,0.108,0.105,0.188,0.19500000000000001,0.189,4.2000000000000003E-2,4.9000000000000002E-2,5.3999999999999999E-2,8.4000000000000005E-2,9.1999999999999998E-2,0.10100000000000001,18390,18686,19304,34447,34451,34951,1870,2351,2986,17154,17558,16974,3946,3484,3249,0,0,0,10341,10432,10517,489283,493070,497260,107417,112593,116344,104978,104608,104298,0,0,0,29280,24921,25983,63908,60020,0,8571,8547,8488,8.5000000000000006E-2,7.0000000000000007E-2,5.6000000000000001E-2,74079,71127,69971,0.45491205373541377,0.49066532056361034,0.50345315035929272,2014,2,"JUN","2014-06-01"]
["Stanislaus",41150,42193,42355,90467,92065,92163,0.44700000000000001,0.46,0.49,68455,74797,83281,0.746,0.79700000000000004,0.89300000000000002,0.99399999999999999,0.95299999999999996,0.91500000000000004,0.97,0.878,0.85299999999999998,1.0999999999999999E-2,1.7999999999999999E-2,1.7000000000000001E-2,0.19900000000000001,0.17499999999999999,0.16,0.28999999999999998,0.25600000000000001,0.251,0.14199999999999999,0.26700000000000002,0.32100000000000001,0.16500000000000001,0.30199999999999999,0.36,40036,41539,42873,88848,91048,92778,2464,2893,3835,44790,46298,45160,5991,5663,5238,0,0,0,17992,17711,18095,522651,527232,532344,84166,86547,89829,144581,144260,144079,0,0,0,48024,48602,48829,137356,128318,0,19745,20057,20165,0.151,0.129,0.112,117475,125680,115985,0.74978094811434948,0.72214889693563,0.79497781177320248,2014,2,"JUN","2014-06-01"]
["Sutter",5195,5424,5565,12460,12740,12986,0.39700000000000002,0.375,0.39600000000000002,11018,11517,12142,0.88100000000000001,0.88600000000000001,0.92900000000000005,0.95699999999999996,0.94399999999999995,0.97199999999999998,0.95499999999999996,0.90400000000000003,0.90600000000000003,5.8999999999999997E-2,7.1999999999999995E-2,8.5999999999999993E-2,0.16300000000000001,0.16200000000000001,0.15,0.24299999999999999,0.20899999999999999,0.21199999999999999,0.153,0.19400000000000001,0.20799999999999999,0.16400000000000001,0.21299999999999999,0.22900000000000001,4961,5215,5623,11946,12440,13083,306,369,491,6271,6642,6535,830,689,648,0,0,0,2311,2281,2388,95351,97386,97257,17496,18207,18667,25370,25333,25371,0,0,0,9590,8366,8544,23515,21895,0,3661,3778,3793,0.17499999999999999,0.14599999999999999,0.127,20846,22883,16038,0.72718857098591638,0.53769509167762497,0.8091986651521671,2014,2,"JUN","2014-06-01"]
["Tehama",4211,4645,4917,9682,10409,10963,0.44600000000000001,0.44400000000000001,0.46700000000000003,8868,9562,10343,0.88800000000000001,0.88800000000000001,0.92900000000000005,0.95299999999999996,0.96699999999999997,0.94399999999999995,0.98799999999999999,0.91,0.92200000000000004,5.8999999999999997E-2,7.1999999999999995E-2,8.5999999999999993E-2,0.14699999999999999,0.11600000000000001,0.113,0.20699999999999999,0.16300000000000001,0.17100000000000001,0.16500000000000001,9.6000000000000002E-2,0.10299999999999999,0.183,0.1,0.11,4219,4320,5009,9899,9916,11155,259,363,492,4855,5013,5146,469,441,422,0,0,0,1161,1199,1283,63623,64498,64827,14869,15313,15700,15514,15280,15138,0,0,0,2546,2603,2345,17404,16152,0,3057,3062,3106,0.13700000000000001,0.11700000000000001,9.7000000000000003E-2,14556,14220,0,0.66594202724809604,0.69231531437680793,0.76327104213104657,2014,2,"JUN","2014-06-01"]
["Trinity",767,850,939,1548,1609,1775,0.41,0.4,0.44400000000000001,1289,1394,1650,0.82899999999999996,0.82599999999999996,0.91200000000000003,0.97599999999999998,0.95799999999999996,1,0.67300000000000004,0.72,0.89400000000000002,5.8999999999999997E-2,7.1999999999999995E-2,8.5999999999999993E-2,0.16300000000000001,8.5000000000000006E-2,4.3999999999999997E-2,0.23200000000000001,0.14899999999999999,9.1999999999999998E-2,0.216,0.214,4.8000000000000001E-2,0.23899999999999999,0.23799999999999999,5.1999999999999998E-2,776,762,1001,1557,1516,1838,74,89,117,604,622,623,5,45,42,0,0,0,8,12,10,13470,13776,13782,4270,4587,4753,2335,2276,2215,0,0,0,21,36,49,2854,2603,0,655,636,656,0.156,0.121,9.9000000000000005E-2,3088,3100,0,0.50631183546685954,0.50150279286577459,0.5912422140107656,2014,2,"JUN","2014-06-01"]
["Tulare",46458,49187,50688,115236,120087,123505,0.51700000000000002,0.52800000000000002,0.54900000000000004,97351,103442,114249,0.82599999999999996,0.85099999999999998,0.92600000000000005,1,1,1,0.97699999999999998,0.97399999999999998,0.98199999999999998,3.6999999999999998E-2,3.4000000000000002E-2,4.7E-2,0.191,0.182,0.16800000000000001,0.32700000000000001,0.27600000000000002,0.27200000000000002,0.126,0.108,0.13100000000000001,0.18,0.154,0.186,44577,46471,50975,110086,114774,132774,2949,3459,4856,64076,67240,65842,8010,8233,7798,0,0,0,36803,37887,39618,451627,456075,461703,64345,66305,68896,142812,143372,144472,0,0,0,60886,60016,63244,169956,160183,0,17288,17554,17865,0.159,0.14399999999999999,0.13200000000000001,151607,147863,139566,0.57209225930295116,0.77504881539151371,0.90358518151528189,2014,2,"JUN","2014-06-01"]
["Tuolumne",2878,2943,3035,5227,5409,5567,0.441,0.42299999999999999,0.45500000000000002,4613,4760,5231,0.87,0.874,0.93400000000000005,0.95099999999999996,0.93400000000000005,0.93899999999999995,0.97299999999999998,0.91400000000000003,0.88800000000000001,5.8999999999999997E-2,7.1999999999999995E-2,8.5999999999999993E-2,0.14799999999999999,0.112,0.123,0.23400000000000001,0.20799999999999999,0.20399999999999999,0.17699999999999999,0.193,0.24099999999999999,0.19500000000000001,0.22700000000000001,0.25800000000000001,2755,2828,3009,5103,5153,5556,265,299,409,1962,1955,2013,149,137,115,0,0,0,65,66,76,54339,54811,54592,16528,17219,17563,9222,9088,8943,0,0,0,653,696,628,8101,7561,0,1618,1635,1639,0.11700000000000001,0.108,8.6999999999999994E-2,8976,9822,0,0.57443890320256608,0.5308063709413704,0.55096208037690064,2014,2,"JUN","2014-06-01"]
["Ventura",32459,33751,34857,67793,69753,71740,0.36799999999999999,0.35599999999999998,0.38400000000000001,49757,55207,63209,0.71699999999999997,0.76200000000000001,0.871,0.99299999999999999,0.92500000000000004,0.96499999999999997,0.95299999999999996,0.92100000000000004,0.94699999999999995,0.03,2.3E-2,3.2000000000000001E-2,0.111,0.13200000000000001,0.11799999999999999,0.23300000000000001,0.23300000000000001,0.218,7.0999999999999994E-2,7.3999999999999996E-2,8.3000000000000004E-2,0.124,0.11799999999999999,0.13200000000000001,31284,32232,35024,64382,66971,77031,2757,3498,4822,35426,37769,37317,8035,6844,6549,0,0,0,23314,25095,26091,834109,839617,844833,148960,156524,162247,206821,205584,204901,0,0,0,79320,76495,75693,123340,111492,0,14656,14764,14875,9.0999999999999998E-2,7.9000000000000001E-2,6.7000000000000004E-2,105820,112132,114150,0.61510962347937126,0.60105354961794943,0.64997993128460252,2014,2,"JUN","2014-06-01"]
["Yolo",7901,8490,8647,16990,17981,18353,0.39600000000000002,0.38200000000000001,0.40400000000000003,14309,15503,16833,0.82399999999999995,0.83899999999999997,0.90300000000000002,0.17299999999999999,0.85299999999999998,0.84199999999999997,0.91500000000000004,0.91100000000000003,0.89500000000000002,5.8999999999999997E-2,7.1999999999999995E-2,8.5999999999999993E-2,0.115,0.11899999999999999,0.12,0.19800000000000001,0.188,0.20200000000000001,6.4000000000000001E-2,5.5E-2,6.0999999999999999E-2,0.10299999999999999,9.8000000000000004E-2,0.109,7766,7850,8865,16880,16629,18273,627,774,1075,8261,8108,8448,1070,874,867,0,0,0,4871,4707,5033,204314,206621,208069,31386,32873,34248,44406,43847,43396,0,0,0,13923,14762,11918,31043,28422,0,5307,5351,5314,0.113,9.0999999999999998E-2,7.6999999999999999E-2,44018,42449,50238,0.38251247558070017,0.39257891056597655,0.3707119276196772,2014,2,"JUN","2014-06-01"]
["Yuba",5715,5883,5935,12913,13040,13249,0.48799999999999999,0.47699999999999998,0.496,11087,11343,12340,0.84699999999999998,0.84799999999999998,0.91800000000000004,1,0.99399999999999999,1,0.96799999999999997,0.94,0.96199999999999997,5.8999999999999997E-2,7.1999999999999995E-2,8.5999999999999993E-2,0.16200000000000001,0.187,0.16700000000000001,0.23,0.25700000000000001,0.23599999999999999,0.215,0.377,0.40600000000000003,0.23799999999999999,0.40200000000000002,0.42899999999999999,5776,5749,6026,13058,12919,13449,298,341,435,6360,6541,6332,644,571,501,0,0,0,1707,1586,1526,73021,73600,74258,11530,11868,12397,20586,20521,20606,0,0,0,3903,3382,4010,20229,18518,0,3772,3733,3734,0.16800000000000001,0.13100000000000001,0.112,19440,14308,17376,0.66300000000000003,0.89600000000000002,0.76600000000000001,2014,2,"JUN","2014-06-01"]
["Alameda",62875,64208,64020,125835,127457,125434,0.34499999999999997,0.35899999999999999,0.35299999999999998,97900,111463,111396,0.754,0.85799999999999998,0.85899999999999999,0.88700000000000001,0.85799999999999998,0.88400000000000001,0.871,0.89900000000000002,0.86899999999999999,3.2000000000000001E-2,3.1E-2,0.04,8.1000000000000003E-2,0.1,0.123,0.17699999999999999,0.19600000000000001,0.21199999999999999,4.9000000000000002E-2,6.5000000000000002E-2,6.9000000000000006E-2,8.5000000000000006E-2,0.122,0.129,62045,62875,64020,124622,125835,125434,5848,7267,9307,61164,63938,60223,11499,9990,9205,0,0,0,36077,39263,40011,1540790,1563370,1582119,265903,282890,294442,343820,346038,348428,0,0,0,134661,133681,139309,253472,243275,0,48146,48141,47823,0.09,7.2999999999999995E-2,5.8999999999999997E-2,220282,220034,214363,0.56495206368390971,0.56717244038342607,0.58770588854592853,2014,3,"SEP","2014-09-01"]
["Alpine",91,111,114,171,180,194,0.54,0.52200000000000002,0.51400000000000001,149,157,178,0.86099999999999999,0.872,0.90800000000000003,1,1,1,0.72699999999999998,0.91700000000000004,0.78900000000000003,5.2999999999999999E-2,8.5999999999999993E-2,7.9000000000000001E-2,8.6999999999999994E-2,0,0.08,0.217,0.105,0.16,0.217,0,0.04,0.217,0,0.04,84,91,114,147,171,194,9,11,16,53,62,59,2,0,0,0,0,0,0,0,0,1127,1228,1243,293,369,398,245,243,245,0,0,0,24,25,23,201,184,0,41,42,39,0.13400000000000001,9.8000000000000004E-2,8.7999999999999995E-2,195,222,0,0.74896982598703987,0.70134951054248518,0.80292964974253522,2014,3,"SEP","2014-09-01"]
["Amador",1685,1771,1770,3280,3411,3373,0.48699999999999999,0.498,0.47199999999999998,2741,3057,3032,0.83299999999999996,0.88900000000000001,0.89300000000000002,0.97199999999999998,0.96599999999999997,1,0.94399999999999995,0.95699999999999996,0.95299999999999996,5.2999999999999999E-2,8.5999999999999993E-2,7.9000000000000001E-2,0.155,0.13600000000000001,0.16200000000000001,0.224,0.216,0.23,0.189,0.249,0.253,0.20799999999999999,0.26700000000000002,0.28499999999999998,1717,1685,1770,3287,3280,3373,182,194,250,1230,1298,1222,61,69,59,0,0,0,81,98,102,36899,36945,37017,11711,11769,12078,6009,5919,5806,0,0,0,507,484,559,4522,4116,0,654,674,696,0.11600000000000001,0.10299999999999999,8.3000000000000004E-2,4237,4989,0,0.76675028881618745,0.65704441950440784,0.66465992098604165,2014,3,"SEP","2014-09-01"]
["Butte",14733,15212,15571,30211,30559,31036,0.442,0.45100000000000001,0.435,27029,29126,29670,0.871,0.92600000000000005,0.93300000000000005,0.96,0.88600000000000001,0.93700000000000006,0.93899999999999995,0.9,0.94199999999999995,5.2999999999999999E-2,8.5999999999999993E-2,7.9000000000000001E-2,0.13200000000000001,0.13700000000000001,0.13600000000000001,0.20100000000000001,0.21199999999999999,0.20899999999999999,0.17699999999999999,0.28499999999999998,0.28100000000000003,0.19600000000000001,0.315,0.30399999999999999,13988,14733,15571,29226,30211,31036,842,1116,1577,12905,13523,12850,1187,1063,878,0,0,0,2929,2782,2667,221118,222035,224518,49667,51734,53940,45992,45459,45266,0,0,0,5475,4375,5637,51266,47746,0,10828,10914,10866,0.12,0.10299999999999999,8.6999999999999994E-2,56950,57536,54488,0.51154311092185545,0.52065366997840645,0.56693046889491883,2014,3,"SEP","2014-09-01"]
["Calaveras",2576,2685,2768,4969,5094,5231,0.48,0.505,0.495,4085,4620,4826,0.82299999999999995,0.90200000000000002,0.91600000000000004,0.98,0.95799999999999996,1,0.98599999999999999,0.96399999999999997,0.96899999999999997,5.2999999999999999E-2,8.5999999999999993E-2,7.9000000000000001E-2,0.106,0.108,9.8000000000000004E-2,0.188,0.17199999999999999,0.182,0.16700000000000001,0.20399999999999999,0.16,0.191,0.22,0.188,2522,2576,2768,4998,4969,5231,278,322,437,1881,1808,1778,66,103,88,0,0,0,148,134,133,45045,45214,45508,14458,15224,15719,8280,7993,7801,0,0,0,559,410,598,6850,6097,0,1023,1043,1056,0.129,0.1,8.1000000000000003E-2,5990,6022,0,0.83065104422897051,0.82427123354235265,0.80293519722539908,2014,3,"SEP","2014-09-01"]
["California",1942841,2046381,2070802,4221057,4393812,4476030,0.40200000000000002,0.42599999999999999,0.41199999999999998,3287488,3853453,3911196,0.81799999999999995,0.90400000000000003,0.91,0.97299999999999998,0.95899999999999996,0.97,0.91900000000000004,0.92400000000000004,0.92800000000000005,0.03,4.9000000000000002E-2,5.0999999999999997E-2,0.12,0.12,0.126,0.20599999999999999,0.2,0.20200000000000001,7.9000000000000001E-2,0.113,0.114,0.10100000000000001,0.14099999999999999,0.14499999999999999,1843348,1942841,2070803,4074650,4221057,4476031,141407,176557,234156,2184693,2272684,2226004,372370,341378,320176,0,0,0,1268115,1314549,1337933,37826160,38202206,38548204,6506534,6820715,7071818,9170526,9150549,9157600,0,0,0,3775905,3750293,3760183,7619341,7280074,0,1176286,1187606,1193089,0.104,8.8999999999999996E-2,7.4999999999999997E-2,7121280,7166749,6980319,0.56999999999999995,0.58399999999999996,0.63400000000000001,2014,3,"SEP","2014-09-01"]
["Colusa",713,752,725,1710,1810,1722,0.28499999999999998,0.27200000000000002,0.245,1569,1761,1671,0.879,0.95099999999999996,0.93700000000000006,1,0.67600000000000005,0.81799999999999995,0.95799999999999996,0.95899999999999996,0.93799999999999994,5.2999999999999999E-2,8.5999999999999993E-2,7.9000000000000001E-2,0.13400000000000001,5.6000000000000001E-2,7.8E-2,0.19900000000000001,0.121,0.152,0.17799999999999999,0.29299999999999998,0.36899999999999999,0.221,0.32900000000000001,0.41,701,713,725,1728,1710,1722,39,72,84,1055,1032,1004,108,164,142,0,0,0,598,553,570,21614,21987,22254,3794,4033,4198,6173,6106,6114,0,0,0,3235,2986,3111,4695,4193,0,556,564,563,0.20100000000000001,0.19,0.17499999999999999,4435,3771,0,0.38904925365351106,0.46113151104422845,0.39141984295657661,2014,3,"SEP","2014-09-01"]
["Contra Costa",32730,34921,35280,67763,71884,76061,0.32600000000000001,0.34300000000000003,0.34,52924,63793,64658,0.748,0.88,0.88400000000000001,0.95,0.95199999999999996,0.93500000000000005,0.79200000000000004,0.85799999999999998,0.82699999999999996,0.04,4.1000000000000002E-2,3.7999999999999999E-2,9.2999999999999999E-2,0.08,8.6999999999999994E-2,0.17799999999999999,0.14399999999999999,0.157,3.3000000000000002E-2,5.8999999999999997E-2,6.3E-2,6.0999999999999999E-2,9.2999999999999999E-2,0.104,32977,32730,35280,68789,67763,76061,2515,3064,3876,35507,36829,36150,6651,5449,5317,0,0,0,15201,15787,16078,1069803,1081862,1095476,205603,215513,223639,255890,253746,251862,0,0,0,66528,66244,68215,143428,131952,0,23603,24041,24288,0.09,7.4999999999999997E-2,6.2E-2,135137,145293,129295,0.50723295638066834,0.47067971198742864,0.57143348851746278,2014,3,"SEP","2014-09-01"]
["Del Norte",2525,2511,2545,5132,5175,5227,0.48599999999999999,0.49299999999999999,0.48099999999999998,4490,4880,4969,0.871,0.94599999999999995,0.95399999999999996,1,1,0.99099999999999999,0.98399999999999999,0.95199999999999996,0.95699999999999996,5.2999999999999999E-2,8.5999999999999993E-2,7.9000000000000001E-2,0.186,0.16200000000000001,0.193,0.252,0.23400000000000001,0.254,0.19700000000000001,0.39500000000000002,0.307,0.223,0.41099999999999998,0.33300000000000002,2629,2525,2545,5445,5132,5227,157,193,238,2343,2218,2130,173,167,139,0,0,0,285,262,223,28359,28530,28477,5913,6153,6387,5778,5698,5655,0,0,0,549,733,725,8091,7460,0,1869,1817,1816,0.13300000000000001,0.11799999999999999,0.10199999999999999,5696,5923,0,0.94447219934568005,0.86431084940613745,0.91507601883208589,2014,3,"SEP","2014-09-01"]
["El Dorado",6397,6836,6871,11765,12431,12479,0.40400000000000003,0.41399999999999998,0.39900000000000002,9661,11294,11574,0.80500000000000005,0.88500000000000001,0.89800000000000002,0.995,0.98799999999999999,0.995,0.97699999999999998,0.82499999999999996,0.95399999999999996,5.2999999999999999E-2,8.5999999999999993E-2,7.9000000000000001E-2,0.123,0.11,0.112,0.20699999999999999,0.17699999999999999,0.19,0.16800000000000001,0.21099999999999999,0.20799999999999999,0.19,0.23899999999999999,0.24399999999999999,6081,6397,6871,11620,11765,12479,581,732,972,4822,4716,4740,402,417,396,0,0,0,864,882,886,180599,184054,184320,42806,46098,47929,39168,38276,37665,0,0,0,3301,3580,3522,19049,17413,0,2818,2850,2851,0.10299999999999999,8.5000000000000006E-2,7.0000000000000007E-2,19223,26641,27235,0.6063224191345471,0.44106704599832475,0.45696364279304263,2014,3,"SEP","2014-09-01"]
["Fresno",90783,97184,94285,217757,230446,224430,0.51300000000000001,0.54800000000000004,0.54200000000000004,174998,207391,211244,0.78500000000000003,0.89800000000000002,0.90700000000000003,0.91900000000000004,0.91300000000000003,0.94799999999999995,0.83499999999999996,0.97,0.97699999999999998,0.35,2.5999999999999999E-2,2.1000000000000001E-2,0.16500000000000001,0.13200000000000001,0.14899999999999999,0.29399999999999998,0.22700000000000001,0.245,9.7000000000000003E-2,7.4999999999999997E-2,9.7000000000000003E-2,0.14499999999999999,0.124,0.16300000000000001,88850,90783,94285,215016,217757,224430,4650,5364,7362,122558,123609,122849,15452,14216,13450,0,0,0,61549,59175,60875,946823,958260,969338,143086,147191,152725,275524,276923,279805,0,0,0,115573,108885,109792,316699,299363,0,40171,40774,41053,0.15,0.13200000000000001,0.11600000000000001,283513,280018,281486,0.75799045321685599,0.78293622520574913,0.80626906421255717,2014,3,"SEP","2014-09-01"]
["Glenn",1431,1522,1514,3549,3735,3697,0.38100000000000001,0.38900000000000001,0.36499999999999999,3262,3567,3537,0.90600000000000003,0.94199999999999995,0.94299999999999995,1,0.98799999999999999,1,0.99199999999999999,1,0.97499999999999998,5.2999999999999999E-2,8.5999999999999993E-2,7.9000000000000001E-2,0.185,0.13900000000000001,0.10100000000000001,0.252,0.221,0.17599999999999999,0.1,0.152,0.16200000000000001,0.115,0.17100000000000001,0.17799999999999999,1389,1431,1514,3419,3549,3697,87,113,148,1908,1985,1960,231,237,215,0,0,0,769,739,762,28208,28599,28868,5499,5834,6039,7657,7588,7542,0,0,0,2433,2638,2410,7157,6747,0,1128,1136,1111,0.14299999999999999,0.121,0.107,6413,6196,0,0.53650977283308565,0.56850757302200194,0.55838355889207381,2014,3,"SEP","2014-09-01"]
["Humboldt",8812,9987,10547,16507,18257,19098,0.42499999999999999,0.45900000000000002,0.45300000000000001,14160,16724,17534,0.83199999999999996,0.89800000000000002,0.9,0.95099999999999996,0.98599999999999999,0.99299999999999999,0.89700000000000002,0.86299999999999999,0.86599999999999999,5.2999999999999999E-2,8.5999999999999993E-2,7.9000000000000001E-2,0.114,8.5000000000000006E-2,9.9000000000000005E-2,0.18099999999999999,0.13800000000000001,0.151,0.17799999999999999,0.20399999999999999,0.20200000000000001,0.20699999999999999,0.223,0.22,8114,8812,10547,15495,16507,19098,496,695,1117,6496,7000,7428,685,684,644,0,0,0,807,886,900,134923,136480,136779,29078,30216,31381,26337,26025,25824,0,0,0,2104,2347,2266,27113,24939,0,5740,5607,5545,0.104,8.2000000000000003E-2,6.8000000000000005E-2,32857,34043,33222,0.46724637565969279,0.474035923417713,0.56563435374326043,2014,3,"SEP","2014-09-01"]
["Imperial",14518,15146,15936,37083,38209,40394,0.50700000000000001,0.502,0.51300000000000001,33548,36390,38693,0.88,0.93300000000000005,0.93799999999999994,0.93100000000000005,0.94499999999999995,0.91500000000000004,0.91400000000000003,0.88300000000000001,0.82599999999999996,5.2999999999999999E-2,8.5999999999999993E-2,7.9000000000000001E-2,0.16300000000000001,0.13300000000000001,0.13100000000000001,0.23899999999999999,0.222,0.20300000000000001,0.13700000000000001,0.22,0.23599999999999999,0.155,0.253,0.26300000000000001,14037,14518,15936,36091,37083,40394,1456,1738,2213,18176,19291,19838,994,1028,990,0,0,0,17886,19370,21381,178659,179326,183154,27470,28182,29668,50932,51426,52464,0,0,0,32769,32195,33803,58377,55474,0,10349,10276,10238,0.27200000000000002,0.249,0.23599999999999999,44744,44790,44826,0.80804160369013844,0.81464017162211388,0.89508144333471995,2014,3,"SEP","2014-09-01"]
["Inyo",1058,1091,1068,2132,2198,2149,0.41899999999999998,0.443,0.40899999999999997,1853,1982,1947,0.86399999999999999,0.90800000000000003,0.90900000000000003,1,1,0.98399999999999999,0.99199999999999999,0.96199999999999997,0.96,5.2999999999999999E-2,8.5999999999999993E-2,7.9000000000000001E-2,0.17100000000000001,0.104,0.10100000000000001,0.28299999999999997,0.16300000000000001,0.189,0.157,0.26300000000000001,0.23899999999999999,0.17100000000000001,0.313,0.249,957,1058,1068,1951,2132,2149,105,137,154,879,964,928,105,103,98,0,0,0,316,327,296,18637,19241,19244,5121,5510,5699,3727,3660,3590,0,0,0,490,532,510,3534,3188,0,396,407,402,9.4E-2,7.9000000000000001E-2,7.0000000000000007E-2,2515,2766,0,0.77670818481640058,0.73946492362442684,0.72042269416670368,2014,3,"SEP","2014-09-01"]
["Kern",59623,61152,61918,144653,147731,148150,0.44400000000000001,0.47299999999999998,0.46300000000000002,118680,136824,138969,0.80700000000000005,0.91300000000000003,0.92200000000000004,0.99199999999999999,0.98399999999999999,0.99399999999999999,0.90200000000000002,0.90800000000000003,0.92,2.1999999999999999E-2,2.1999999999999999E-2,1.6E-2,0.20599999999999999,0.19900000000000001,0.17699999999999999,0.29299999999999998,0.28899999999999998,0.26500000000000001,0.124,0.20899999999999999,0.20200000000000001,0.14699999999999999,0.24299999999999999,0.23499999999999999,57915,59623,61918,140798,144653,148150,3379,3983,5081,82189,84978,82576,11952,10703,9808,0,0,0,37887,37191,37076,855522,869797,878356,119415,122971,128553,251296,252028,256535,0,0,0,85452,88100,79181,240099,224473,0,31095,31384,31592,0.13300000000000001,0.11700000000000001,0.104,213671,224185,225536,0.65421253208901731,0.64036520264020891,0.6560986851203231,2014,3,"SEP","2014-09-01"]
["Kings",9956,10267,10210,23543,24396,24002,0.48,0.52800000000000002,0.505,20935,22688,22644,0.88100000000000001,0.92800000000000005,0.93600000000000005,0.996,0.99099999999999999,0.99399999999999999,0.96199999999999997,0.84499999999999997,0.80500000000000005,5.2999999999999999E-2,8.5999999999999993E-2,7.9000000000000001E-2,0.19900000000000001,0.187,0.184,0.28899999999999998,0.27100000000000002,0.26600000000000001,0.19500000000000001,0.38,0.32700000000000001,0.217,0.41399999999999998,0.36799999999999999,9624,9956,10210,22949,23543,24002,563,652,797,12535,12892,12521,1554,1396,1267,0,0,0,5625,5451,5713,150843,152456,153601,18666,19636,20420,40866,41136,41468,0,0,0,14061,14426,15306,36030,33393,0,4729,4659,4635,0.151,0.13500000000000001,0.121,33431,34891,38859,0.68555666915226354,0.66930047437077489,0.61675060236025636,2014,3,"SEP","2014-09-01"]
["Lake",5227,5383,5525,10453,10896,11036,0.41799999999999998,0.44700000000000001,0.43,8987,10374,10561,0.85599999999999998,0.92500000000000004,0.93500000000000005,0.94699999999999995,0.873,0.88300000000000001,0.872,0.81599999999999995,0.89,5.2999999999999999E-2,8.5999999999999993E-2,7.9000000000000001E-2,0.106,5.6000000000000001E-2,6.6000000000000003E-2,0.17299999999999999,0.11700000000000001,0.13700000000000001,0.157,0.33900000000000002,0.308,0.17899999999999999,0.38,0.34399999999999997,5041,5227,5525,10039,10453,11036,477,586,736,4340,4436,4622,256,385,344,0,0,0,790,814,817,64394,64782,65465,17355,18045,18728,13100,12882,12726,0,0,0,1920,1792,1951,17709,16443,0,3701,3710,3663,0.14199999999999999,0.108,8.8999999999999996E-2,19370,17452,17435,0.52275795740758546,0.58994489464318189,0.6317675039698486,2014,3,"SEP","2014-09-01"]
["Lassen",1426,1570,1536,2971,3235,3168,0.46899999999999997,0.48499999999999999,0.46200000000000002,2662,3017,2962,0.879,0.92900000000000005,0.92900000000000005,0.97899999999999998,0.96199999999999997,0.93799999999999994,0.91200000000000003,0.875,0.84899999999999998,5.2999999999999999E-2,8.5999999999999993E-2,7.9000000000000001E-2,0.156,7.9000000000000001E-2,0.12,0.23499999999999999,0.17199999999999999,0.20200000000000001,0.17899999999999999,0.22600000000000001,0.20200000000000001,0.189,0.253,0.223,1386,1426,1536,2933,2971,3168,81,99,150,1284,1319,1345,87,91,108,0,0,0,70,67,71,33650,34966,35038,5593,6186,6479,5682,5574,5519,0,0,0,704,769,712,4859,4436,0,930,906,880,0.125,0.106,9.2999999999999999E-2,4471,4398,0,0.6584276616338256,0.67780447504446817,0.78611426364455528,2014,3,"SEP","2014-09-01"]
["Los Angeles",557570,576682,585696,1148512,1180079,1193453,0.33400000000000002,0.36499999999999999,0.35499999999999998,889822,985179,989063,0.76400000000000001,0.82699999999999996,0.82399999999999995,0.97499999999999998,0.96299999999999997,0.97199999999999998,0.95699999999999996,0.94499999999999995,0.93500000000000005,2.7E-2,4.9000000000000002E-2,4.7E-2,7.8E-2,9.5000000000000001E-2,9.0999999999999998E-2,0.154,0.17499999999999999,0.157,8.0000000000000002E-3,6.0000000000000001E-3,6.0000000000000001E-3,1.2999999999999999E-2,8.9999999999999993E-3,8.0000000000000002E-3,516984,557570,585696,1093422,1148512,1193453,36571,46590,59648,599556,629069,614546,124537,117585,109736,0,0,0,423844,444806,444589,9911665,10010961,10082664,1620299,1701464,1760921,2341123,2329494,2322213,0,0,0,1372113,1402433,1394350,2410140,2250353,0,385131,388148,389765,0.109,9.8000000000000004E-2,8.3000000000000004E-2,2021648,2088070,2032450,0.53852316431437086,0.54211494769640123,0.58334051625028915,2014,3,"SEP","2014-09-01"]
["Madera",10608,11593,11507,26856,29027,28885,0.46100000000000002,0.504,0.48299999999999998,24679,27702,27734,0.90900000000000003,0.94699999999999995,0.95299999999999996,0.97499999999999998,0.97899999999999998,0.996,0.97199999999999998,0.91300000000000003,0.92500000000000004,5.2999999999999999E-2,8.5999999999999993E-2,7.9000000000000001E-2,0.16600000000000001,0.13900000000000001,0.125,0.26600000000000001,0.22,0.218,0.183,0.254,0.23899999999999999,0.216,0.27500000000000002,0.28699999999999998,10437,10608,11507,26670,26856,28885,534,619,799,16732,16652,16999,3223,2773,2654,0,0,0,10100,9640,10033,151790,153409,154829,25433,26873,27801,42036,42149,43015,0,0,0,20218,20706,20778,45875,42230,0,4441,4478,4505,0.13300000000000001,0.125,0.11,38099,38832,38903,0.69333969565110631,0.69096227737139893,0.74120990607815518,2014,3,"SEP","2014-09-01"]
["Marin",5762,6107,6216,9774,10224,10397,0.309,0.32100000000000001,0.314,8746,9762,9986,0.88100000000000001,0.94,0.93899999999999995,0.97599999999999998,0.96,0.97799999999999998,0.95399999999999996,0.93,0.92600000000000005,5.2999999999999999E-2,8.5999999999999993E-2,7.9000000000000001E-2,0.14299999999999999,0.13400000000000001,0.13900000000000001,0.21299999999999999,0.20300000000000001,0.20799999999999999,0.13800000000000001,0.20799999999999999,0.21099999999999999,0.157,0.252,0.24399999999999999,5541,5762,6216,9408,9774,10397,758,887,1119,4358,4734,4831,1245,1271,1282,0,0,0,2958,3455,3804,254882,256264,257792,65062,69445,70897,51763,51412,51122,0,0,0,11689,8867,11871,22611,21230,0,3102,3107,3034,6.3E-2,5.1999999999999998E-2,4.2999999999999997E-2,20101,22421,22696,0.463432407333705,0.41976609833322831,0.45416962715835596,2014,3,"SEP","2014-09-01"]
["Mariposa",920,1032,1005,1855,2059,1974,0.46899999999999997,0.51400000000000001,0.47299999999999998,1662,1950,1868,0.88500000000000001,0.93899999999999995,0.94199999999999995,0.93600000000000005,0.872,0.86499999999999999,0.98699999999999999,0.92500000000000004,0.97699999999999998,5.2999999999999999E-2,8.5999999999999993E-2,7.9000000000000001E-2,0.14899999999999999,8.2000000000000003E-2,0.14299999999999999,0.19900000000000001,0.13800000000000001,0.20499999999999999,7.8E-2,0.19400000000000001,0.189,9.8000000000000004E-2,0.224,0.23200000000000001,875,920,1005,1804,1855,1974,83,119,172,709,714,711,41,37,31,0,0,0,47,30,52,17817,18101,18091,5675,5971,6133,3056,2988,2966,0,0,0,155,227,199,2854,2652,0,460,462,454,0.11,0.105,8.7999999999999995E-2,2848,3155,0,0.62310270335867513,0.58782568148826908,0.63584459078564948,2014,3,"SEP","2014-09-01"]
["Mendocino",6923,7590,7569,13202,14074,14007,0.38400000000000001,0.42099999999999999,0.39800000000000002,11148,12815,12740,0.84599999999999997,0.89700000000000002,0.89600000000000002,0.996,0.997,0.995,0.995,0.98,0.96499999999999997,5.2999999999999999E-2,8.5999999999999993E-2,7.9000000000000001E-2,0.16,0.108,0.13700000000000001,0.25700000000000001,0.157,0.23200000000000001,0.18099999999999999,0.19800000000000001,0.218,0.21099999999999999,0.249,0.27600000000000002,7242,6923,7569,13660,13202,14007,591,699,941,5727,5665,5681,592,688,618,0,0,0,1934,1823,1931,88566,88931,88795,22245,23290,24007,19078,18865,18784,0,0,0,4188,4171,4690,23130,21783,0,3238,3218,3145,9.5000000000000001E-2,8.2000000000000003E-2,6.9000000000000006E-2,19739,22381,19834,0.68661650850578071,0.58791930175161367,0.69491422244138812,2014,3,"SEP","2014-09-01"]
["Merced",22956,24009,24370,55568,57288,57733,0.5,0.51900000000000002,0.50900000000000001,45636,54112,55236,0.81899999999999995,0.93400000000000005,0.94699999999999995,0.997,0.97199999999999998,0.98299999999999998,0.94799999999999995,0.94399999999999995,0.95,1.2999999999999999E-2,1.2E-2,1.0999999999999999E-2,0.17,0.14499999999999999,0.14299999999999999,0.25600000000000001,0.218,0.219,0.221,0.32800000000000001,0.30099999999999999,0.24399999999999999,0.36299999999999999,0.34200000000000003,22003,22956,24370,53940,55568,57733,1122,1338,1886,30744,31540,31258,4110,4036,3796,0,0,0,15638,15579,15688,261708,263441,266444,36841,37818,39238,79582,79353,79287,0,0,0,31663,35644,33521,84983,80292,0,10745,10849,10825,0.16900000000000001,0.14499999999999999,0.128,67910,70247,74499,0.78991568533045808,0.78565860623862072,0.76763611001397902,2014,3,"SEP","2014-09-01"]
["Modoc",415,455,467,935,997,1001,0.36299999999999999,0.38200000000000001,0.36299999999999999,849,930,931,0.86899999999999999,0.93400000000000005,0.91700000000000004,1,1,1,1,0.873,0.84399999999999997,5.2999999999999999E-2,8.5999999999999993E-2,7.9000000000000001E-2,0.108,0.16300000000000001,0.128,0.188,0.21099999999999999,0.16800000000000001,0.11799999999999999,0.17699999999999999,0.22800000000000001,0.129,0.191,0.24199999999999999,438,415,467,997,935,1001,25,34,40,486,442,438,20,42,31,0,0,0,78,71,62,9518,9457,9395,2834,2876,2896,2010,1952,1905,0,0,0,280,335,353,2012,1865,0,405,416,421,0.13500000000000001,0.124,0.105,2460,2622,0,0.40888128921992001,0.36099657830335341,0.4472268901875262,2014,3,"SEP","2014-09-01"]
["Mono",400,581,522,656,920,855,0.27900000000000003,0.32600000000000001,0.29699999999999999,520,756,735,0.76,0.8,0.84,0.97099999999999997,1,0.90600000000000003,0.84799999999999998,0.85599999999999998,0.89300000000000002,5.2999999999999999E-2,8.5999999999999993E-2,7.9000000000000001E-2,4.8000000000000001E-2,9.1999999999999998E-2,5.8999999999999997E-2,0.156,0.20399999999999999,0.157,9.7000000000000003E-2,7.9000000000000001E-2,0.157,0.129,0.1,0.17699999999999999,447,400,522,709,656,855,32,43,49,326,283,334,3,74,70,0,0,0,226,163,218,14258,14376,14440,2415,2711,2804,2971,3013,3046,0,0,0,870,937,1069,1413,1248,0,102,101,100,0.107,8.5000000000000006E-2,7.1999999999999995E-2,2221,2021,0,0.31314011822398347,0.31554896752066686,0.49939412291526875,2014,3,"SEP","2014-09-01"]
["Monterey",20213,23498,21758,46145,53709,49132,0.32800000000000001,0.41,0.36,39430,50702,46383,0.84399999999999997,0.93700000000000006,0.93799999999999994,1,1,1,0.99199999999999999,0.97099999999999997,0.95799999999999996,2.4E-2,7.9000000000000001E-2,7.4999999999999997E-2,0.24,0.126,0.20799999999999999,0.32800000000000001,0.20100000000000001,0.29899999999999999,0.121,0.158,0.21299999999999999,0.14399999999999999,0.185,0.253,19325,20213,21758,44518,46145,49132,1189,1572,2212,29906,29909,30054,6608,6960,6638,0,0,0,22110,21235,22043,422868,424119,426670,68145,71183,73258,111806,112481,113104,0,0,0,79767,64059,74856,96221,88589,0,8502,8458,8488,0.115,0.10299999999999999,9.0999999999999998E-2,80400,83052,76819,0.55609456512781497,0.56469538837346811,0.65190822926998127,2014,3,"SEP","2014-09-01"]
["Napa",3193,3561,3525,6710,7455,7324,0.28999999999999998,0.308,0.29199999999999998,5989,7016,6993,0.85,0.92800000000000005,0.93400000000000005,0.75,0.97199999999999998,0.98299999999999998,0.89900000000000002,0.97899999999999998,0.96399999999999997,5.2999999999999999E-2,8.5999999999999993E-2,7.9000000000000001E-2,0.13100000000000001,0.1,9.2999999999999999E-2,0.20699999999999999,0.161,0.16600000000000001,0.23,0.17799999999999999,0.22500000000000001,0.25900000000000001,0.19600000000000001,0.25800000000000001,3452,3193,3526,7287,6710,7325,292,341,433,4244,4081,4040,1098,909,798,0,0,0,3019,2892,2923,138577,139831,141172,30643,32036,32913,31125,31002,30942,0,0,0,12388,12782,11600,17126,15421,0,2142,2156,2118,7.8E-2,6.8000000000000005E-2,5.6000000000000001E-2,18311,16770,13997,0.39325422361242962,0.40661393682295693,0.52160944627671246,2014,3,"SEP","2014-09-01"]
["Nevada",3898,4160,4221,7452,7813,7804,0.42099999999999999,0.41799999999999998,0.39500000000000002,6269,7251,7226,0.82399999999999995,0.9,0.90600000000000003,0.996,0.97599999999999998,0.99,0.95199999999999996,0.76600000000000001,0.79400000000000004,5.2999999999999999E-2,8.5999999999999993E-2,7.9000000000000001E-2,0.126,8.7999999999999995E-2,0.108,0.19600000000000001,0.16400000000000001,0.189,0.14499999999999999,0.20399999999999999,0.223,0.161,0.23599999999999999,0.255,3667,3898,4221,7105,7452,7804,314,445,640,2726,2951,2868,219,186,165,0,0,0,270,255,284,98202,98317,98453,29761,31210,32138,18018,17565,17237,0,0,0,1312,1576,1472,11428,10758,0,1771,1796,1796,9.2999999999999999E-2,8.1000000000000003E-2,6.6000000000000003E-2,14198,16674,12649,0.49477604673947106,0.44248242080254063,0.61057440393830054,2014,3,"SEP","2014-09-01"]
["Orange",105823,115195,117235,232862,248563,270245,0.33200000000000002,0.36099999999999999,0.35699999999999998,184136,223200,227559,0.77400000000000002,0.9,0.90400000000000003,0.998,0.97699999999999998,0.98199999999999998,0.996,0.995,0.995,2.1999999999999999E-2,3.2000000000000001E-2,3.5000000000000003E-2,8.3000000000000004E-2,9.2999999999999999E-2,0.111,0.17,0.17299999999999999,0.19,4.7E-2,5.8999999999999997E-2,7.1999999999999995E-2,7.0999999999999994E-2,9.6000000000000002E-2,0.12,97956,105823,117235,218827,232862,270245,10377,13145,17616,131451,139033,135615,31940,29922,28117,0,0,0,105140,111958,114889,3071933,3097966,3125833,533455,559090,579380,724926,721292,719772,0,0,0,322892,316852,325313,460035,467937,0,66558,67573,68202,7.5999999999999998E-2,6.5000000000000002E-2,5.5E-2,453553,444095,443857,0.48162070387488537,0.51788536634810356,0.58262619430581397,2014,3,"SEP","2014-09-01"]
["Placer",8480,9099,9206,17673,18437,18455,0.33900000000000002,0.35099999999999998,0.34399999999999997,11621,14956,15365,0.65200000000000002,0.82299999999999995,0.83899999999999997,0.997,0.98799999999999999,0.98099999999999998,0.97399999999999998,0.97499999999999998,0.97099999999999997,5.2999999999999999E-2,8.5999999999999993E-2,7.9000000000000001E-2,7.1999999999999995E-2,9.9000000000000005E-2,9.8000000000000004E-2,0.14799999999999999,0.184,0.16500000000000001,4.1000000000000002E-2,6.2E-2,7.0000000000000007E-2,6.8000000000000005E-2,0.1,0.111,8227,8480,9206,17815,17673,18455,791,1019,1416,8043,7868,7411,871,677,658,0,0,0,2058,2021,1954,360680,365125,369460,79177,85049,87902,85224,84419,83682,0,0,0,6656,8063,6222,31306,28497,0,5044,5056,5087,9.2999999999999999E-2,7.6999999999999999E-2,6.3E-2,42087,39484,41239,0.42561434824216915,0.44976744876628461,0.44945277490867924,2014,3,"SEP","2014-09-01"]
["Plumas",773,991,956,1604,1951,1793,0.38400000000000001,0.41699999999999998,0.39200000000000002,1461,1727,1691,0.873,0.88800000000000001,0.89900000000000002,1,1,1,0.97,0.53300000000000003,0.874,5.2999999999999999E-2,8.5999999999999993E-2,7.9000000000000001E-2,0.13500000000000001,7.3999999999999996E-2,9.1999999999999998E-2,0.19,0.13500000000000001,0.14699999999999999,0.115,0.22900000000000001,0.24099999999999999,0.13500000000000001,0.249,0.251,756,773,956,1654,1604,1793,50,82,116,701,676,707,27,34,37,0,0,0,21,22,22,19523,19466,19416,6395,6703,6907,3317,3263,3252,0,0,0,261,217,202,3224,3027,0,665,641,651,0.14599999999999999,0.13900000000000001,0.11700000000000001,3548,3816,0,0.46142844968902808,0.43854437804865226,0.5261404932248257,2014,3,"SEP","2014-09-01"]
["Riverside",115800,121622,124316,278117,285410,289618,0.39900000000000002,0.44,0.437,196586,242560,250549,0.70099999999999996,0.84899999999999998,0.85499999999999998,0.996,0.996,0.997,0.94299999999999995,0.88400000000000001,0.874,3.2000000000000001E-2,3.5000000000000003E-2,3.6999999999999998E-2,0.17199999999999999,0.16,0.156,0.247,0.24,0.23,0.157,0.23699999999999999,0.224,0.17399999999999999,0.26700000000000002,0.25,109234,115800,124316,267997,278117,289618,8379,10225,13821,143506,151042,148026,18716,17000,16149,0,0,0,62978,65355,66204,2244399,2264173,2294333,378792,396291,411572,611198,608238,609127,0,0,0,178052,173255,172588,408855,409328,0,54970,56654,57657,0.121,9.9000000000000005E-2,8.2000000000000003E-2,482427,469029,455320,0.55385221853286526,0.59124914316236565,0.63751163857777993,2014,3,"SEP","2014-09-01"]
["Sacramento",94824,99448,101502,210033,215919,217077,0.44500000000000001,0.46100000000000002,0.46100000000000002,162851,190711,196162,0.75800000000000001,0.88700000000000001,0.89400000000000002,0.98799999999999999,0.97499999999999998,0.98899999999999999,0.98399999999999999,0.98099999999999998,0.98199999999999998,0.44,3.0000000000000001E-3,2E-3,8.5999999999999993E-2,9.8000000000000004E-2,0.105,0.17,0.17199999999999999,0.17499999999999999,4.7E-2,5.8000000000000003E-2,6.3E-2,7.6999999999999999E-2,9.2999999999999999E-2,0.10100000000000001,90856,94824,101502,204104,210033,217077,5103,6598,9056,102959,105467,101011,11758,9994,9400,0,0,0,46984,47601,47736,1439874,1448268,1461174,245819,254622,264452,359112,358519,358865,0,0,0,97511,101446,94516,324426,308037,0,60330,61371,62271,0.105,8.8999999999999996E-2,7.2999999999999995E-2,310462,306055,295178,0.65832222594433532,0.68101648407910953,0.7368741653264238,2014,3,"SEP","2014-09-01"]
["San Benito",2684,2752,2710,6232,6390,6169,0.438,0.41499999999999998,0.4,5276,5885,5770,0.85299999999999998,0.92500000000000004,0.93200000000000005,1,1,1,0.97299999999999998,0.94599999999999995,0.96399999999999997,5.2999999999999999E-2,8.5999999999999993E-2,7.9000000000000001E-2,0.18099999999999999,0.13400000000000001,0.125,0.26700000000000002,0.245,0.187,0.193,0.26200000000000001,0.318,0.215,0.29399999999999998,0.35799999999999998,2609,2684,2710,6114,6232,6169,216,246,292,3314,3361,3209,502,472,436,0,0,0,1849,1856,1802,56527,57366,58222,8675,9394,9875,15546,15424,15274,0,0,0,6386,5777,5516,10227,9287,0,897,882,899,0.13900000000000001,0.111,9.2999999999999999E-2,8551,8524,0,0.7212493977186083,0.72675062462478957,0.70741531862364759,2014,3,"SEP","2014-09-01"]
["San Bernardino",159737,168897,172721,373620,385964,392265,0.47499999999999998,0.52,0.52,267005,332250,344506,0.71799999999999997,0.87,0.879,0.997,0.999,1,0.86199999999999999,0.90600000000000003,0.94799999999999995,1.4E-2,1.7000000000000001E-2,2.8000000000000001E-2,0.192,0.19800000000000001,0.19400000000000001,0.26100000000000001,0.27200000000000002,0.26600000000000001,0.186,0.30599999999999999,0.28399999999999997,0.20200000000000001,0.33400000000000002,0.31,151637,159737,172721,361404,373620,392265,10026,12685,17508,187444,194878,192219,22712,21323,19813,0,0,0,67830,70335,71384,2065016,2075160,2096123,293471,301721,316194,579792,576858,575598,0,0,0,172415,156056,164799,486650,481334,0,65325,66969,68029,0.11899999999999999,9.8000000000000004E-2,8.1000000000000003E-2,474491,441319,458343,0.75629444227201259,0.84152610654688464,0.85480513964161331,2014,3,"SEP","2014-09-01"]
["San Diego",122561,131667,134694,260576,276963,300896,0.36199999999999999,0.40699999999999997,0.40500000000000003,189359,237836,244639,0.70899999999999996,0.85799999999999998,0.86099999999999999,0.96299999999999997,0.90200000000000002,0.93500000000000005,0.91100000000000003,0.96799999999999997,0.97399999999999998,2.5000000000000001E-2,4.3999999999999997E-2,3.9E-2,0.11799999999999999,0.122,0.14000000000000001,0.21199999999999999,0.20499999999999999,0.224,6.2E-2,6.2E-2,7.1999999999999995E-2,9.7000000000000003E-2,0.10299999999999999,0.11600000000000001,112361,122561,134694,246971,260576,300896,11289,13842,19191,125548,131432,131324,19228,15919,15532,0,0,0,88054,93092,97970,3147220,3184072,3214279,533349,558419,579311,722277,723080,726020,0,0,0,228674,236315,228246,442914,451842,0,74992,75967,76554,8.8999999999999996E-2,7.8E-2,6.4000000000000001E-2,564164,553958,548766,0.43821868941117176,0.4659832261291611,0.5173190533272255,2014,3,"SEP","2014-09-01"]
["San Francisco",32096,32863,32961,50124,51155,53900,0.221,0.26,0.26200000000000001,33109,42391,43583,0.63800000000000001,0.81799999999999995,0.83499999999999996,0.97499999999999998,0.97099999999999997,0.97699999999999998,0.81699999999999995,0.9,0.83399999999999996,3.7999999999999999E-2,4.9000000000000002E-2,7.1999999999999995E-2,9.7000000000000003E-2,0.11700000000000001,0.13800000000000001,0.2,0.19600000000000001,0.221,7.1999999999999995E-2,0.10100000000000001,9.8000000000000004E-2,0.104,0.14499999999999999,0.13800000000000001,32910,32096,32961,50894,50124,53900,4864,5459,6615,19583,19668,18721,5068,4243,3966,0,0,0,19407,19818,20630,820349,833827,840391,162239,171662,176508,116481,119793,123334,0,0,0,105810,96046,103652,134748,134579,0,37817,37708,37503,7.1999999999999995E-2,5.5E-2,4.3999999999999997E-2,121506,120297,100798,0.41957574357943345,0.40594685641860467,0.51877955213904448,2014,3,"SEP","2014-09-01"]
["San Joaquin",46964,49324,50358,113230,116685,118029,0.46500000000000002,0.49099999999999999,0.48699999999999999,93653,109343,112203,0.81599999999999995,0.92300000000000004,0.93400000000000005,0.97799999999999998,0.98299999999999998,0.98,0.91700000000000004,0.88600000000000001,0.89,2.7E-2,5.3999999999999999E-2,4.5999999999999999E-2,0.188,0.13300000000000001,0.13400000000000001,0.26,0.20599999999999999,0.20100000000000001,0.13800000000000001,0.26700000000000002,0.25600000000000001,0.155,0.29899999999999999,0.28699999999999998,43790,46964,50358,107532,113230,118029,2587,3502,4706,60071,63093,61837,7727,7295,6809,0,0,0,23960,23995,24307,699003,703790,713961,110087,113154,117867,197931,197012,196893,0,0,0,64140,64800,65961,181087,170765,0,26908,27071,27296,0.15,0.124,0.106,138592,156985,155948,0.77570448329394892,0.71282208923144241,0.75448405858440615,2014,3,"SEP","2014-09-01"]
["San Luis Obispo",8907,9675,9573,17319,18502,17983,0.34499999999999997,0.38900000000000001,0.376,13003,16858,16826,0.72899999999999998,0.89400000000000002,0.90700000000000003,0.96199999999999997,0.97199999999999998,0.97399999999999998,0.91,0.90500000000000003,0.90400000000000003,5.2999999999999999E-2,8.5999999999999993E-2,7.9000000000000001E-2,6.6000000000000003E-2,6.7000000000000004E-2,7.2999999999999995E-2,0.16300000000000001,0.13100000000000001,0.158,3.9E-2,0.04,4.9000000000000002E-2,7.2999999999999995E-2,7.2999999999999995E-2,9.4E-2,8899,8907,9573,17269,17319,17983,882,1072,1399,8140,8228,8025,1285,1089,1102,0,0,0,3116,3239,3371,271021,271740,272941,61883,65066,67294,50367,50061,49890,0,0,0,9420,10073,10622,33196,30635,0,4420,4383,4290,0.08,6.8000000000000005E-2,5.6000000000000001E-2,43667,47791,45982,0.40160253059420031,0.36625752524840383,0.39378556835265566,2014,3,"SEP","2014-09-01"]
["San Mateo",14493,15963,16060,29339,32354,32208,0.254,0.27900000000000003,0.27400000000000002,23802,28934,29057,0.77300000000000002,0.89300000000000002,0.89700000000000002,0.83099999999999996,0.97699999999999998,0.97299999999999998,0.80300000000000005,0.88900000000000001,0.91100000000000003,5.2999999999999999E-2,8.5999999999999993E-2,7.9000000000000001E-2,6.9000000000000006E-2,8.6999999999999994E-2,0.113,0.154,0.17100000000000001,0.19900000000000001,4.3999999999999997E-2,5.6000000000000001E-2,7.4999999999999997E-2,7.1999999999999995E-2,9.4E-2,0.11700000000000001,13612,14493,16060,28106,29339,32208,1886,2531,3450,16040,17242,16879,3538,4025,3907,0,0,0,11878,13534,14235,736362,741857,747334,145950,155845,160763,162180,163248,163900,0,0,0,60960,58256,55943,78549,77027,0,11180,10953,10783,6.7000000000000004E-2,5.1999999999999998E-2,4.2000000000000003E-2,72926,68114,63839,0.38226904295385361,0.42299145074748989,0.5047687081036859,2014,3,"SEP","2014-09-01"]
["Santa Barbara",14344,16217,15674,32221,36132,34497,0.27900000000000003,0.33900000000000002,0.317,26990,34345,32868,0.82399999999999995,0.93200000000000005,0.92600000000000005,0.94399999999999995,0.79600000000000004,0.875,0.86499999999999999,0.88600000000000001,0.91300000000000003,5.2999999999999999E-2,8.5999999999999993E-2,7.9000000000000001E-2,8.8999999999999996E-2,7.6999999999999999E-2,8.6999999999999994E-2,0.193,0.14199999999999999,0.16200000000000001,0.05,4.9000000000000002E-2,5.8000000000000003E-2,8.8999999999999996E-2,8.4000000000000005E-2,0.11700000000000001,14197,14344,15674,32030,32221,34497,866,1086,1559,20351,20051,20526,5628,4170,4029,0,0,0,13341,12614,13524,427358,433157,435999,78083,82325,84301,97785,97825,98027,0,0,0,45401,46332,43550,81084,74176,0,8597,8477,8393,0.08,7.0999999999999994E-2,6.0999999999999999E-2,76855,79414,83642,0.41813738624253444,0.41419200848854154,0.42200119780622236,2014,3,"SEP","2014-09-01"]
["Santa Clara",52296,54498,55307,110622,113186,113439,0.29099999999999998,0.317,0.316,87826,100661,102886,0.78,0.89,0.89800000000000002,0.96,0.96799999999999997,0.97199999999999998,0.84199999999999997,0.93400000000000005,0.96499999999999997,2.5000000000000001E-2,2.7E-2,2.8000000000000001E-2,3.9E-2,3.4000000000000002E-2,3.6999999999999998E-2,0.127,0.11700000000000001,0.11600000000000001,8.0000000000000002E-3,8.0000000000000002E-3,1.6E-2,3.5999999999999997E-2,4.7E-2,6.2E-2,49038,52296,55307,105676,110622,113439,5507,7200,9510,56627,59419,55723,13623,11654,10556,0,0,0,44837,48568,49052,1828597,1850595,1871516,301962,321578,334221,436447,439320,442256,0,0,0,178148,176036,174224,260965,261699,0,43944,44002,43472,8.4000000000000005E-2,6.5000000000000002E-2,5.1999999999999998E-2,220691,215577,173716,0.4774607565369185,0.50311228218070525,0.65194601619115522,2014,3,"SEP","2014-09-01"]
["Santa Cruz",11641,12796,12402,22732,24910,23719,0.34,0.40100000000000002,0.37,16895,22566,21265,0.73699999999999999,0.89400000000000002,0.90200000000000002,0.93300000000000005,0.80700000000000005,0.872,0.78900000000000003,0.93799999999999994,0.97299999999999998,5.2999999999999999E-2,8.5999999999999993E-2,7.9000000000000001E-2,5.5E-2,0.03,4.3999999999999997E-2,0.151,9.1999999999999998E-2,0.11700000000000001,3.2000000000000001E-2,1.7999999999999999E-2,1.7999999999999999E-2,7.0999999999999994E-2,5.2999999999999999E-2,7.3999999999999996E-2,10984,11641,12402,22390,22732,23719,922,1290,1797,11666,11843,11576,3317,2423,2244,0,0,0,8532,8317,8530,267569,271495,272210,50062,53904,56302,55954,55939,56013,0,0,0,21496,20137,23557,42528,38508,0,5104,5077,5038,0.112,0.10299999999999999,8.6999999999999994E-2,37039,42179,47670,0.58842082196675705,0.54467417520778982,0.50502675093748539,2014,3,"SEP","2014-09-01"]
["Shasta",11911,12324,12720,23709,24283,24671,0.437,0.438,0.42699999999999999,21125,22632,23236,0.85799999999999998,0.91300000000000003,0.92200000000000004,0.94,0.95499999999999996,0.97199999999999998,0.84899999999999998,0.95499999999999996,0.95799999999999996,5.2999999999999999E-2,8.5999999999999993E-2,7.9000000000000001E-2,0.14899999999999999,0.126,0.13600000000000001,0.22600000000000001,0.19700000000000001,0.214,0.14299999999999999,0.23499999999999999,0.22,0.16400000000000001,0.26500000000000001,0.245,12445,11911,12720,25025,23709,24671,821,990,1221,10508,10472,9992,922,713,609,0,0,0,495,466,465,178477,178591,179305,44441,45455,46860,39051,38745,38532,0,0,0,2105,3086,2491,41050,37387,0,9329,9306,9289,0.13300000000000001,0.11799999999999999,9.7000000000000003E-2,33389,40245,29544,0.73982412472550396,0.58273132182190857,0.83034253379074596,2014,3,"SEP","2014-09-01"]
["Sierra",156,172,163,305,306,294,0.40100000000000002,0.436,0.40400000000000003,270,285,275,0.84599999999999997,0.92800000000000005,0.92600000000000005,1,0.9,1,1,1,1,5.2999999999999999E-2,8.5999999999999993E-2,7.9000000000000001E-2,0.16700000000000001,6.7000000000000004E-2,5.2999999999999999E-2,0.28599999999999998,0.1,0.184,9.5000000000000001E-2,0.13300000000000001,0.13200000000000001,0.11899999999999999,0.16700000000000001,0.158,156,156,163,302,305,294,23,26,41,95,106,86,1,1,3,0,0,0,4,6,8,3089,3270,3267,1060,1235,1274,481,463,450,0,0,0,60,93,89,514,497,0,99,99,89,0.14499999999999999,0.129,0.1,623,697,0,0.45574835793595003,0.43626999716296844,0.56159427452170951,2014,3,"SEP","2014-09-01"]
["Siskiyou",2900,3206,3184,6486,7024,6907,0.45300000000000001,0.48,0.45600000000000002,5752,6641,6547,0.871,0.93799999999999994,0.94,1,1,1,0.96099999999999997,0.85399999999999998,0.89600000000000002,5.2999999999999999E-2,8.5999999999999993E-2,7.9000000000000001E-2,0.114,0.12,0.14299999999999999,0.17199999999999999,0.18099999999999999,0.216,0.14699999999999999,0.23699999999999999,0.26700000000000002,0.158,0.253,0.29599999999999999,2719,2900,3184,6100,6486,6907,220,275,413,2701,2872,2825,137,154,141,0,0,0,180,192,181,44598,45215,45290,13353,13967,14388,8878,8755,8639,0,0,0,820,782,717,10616,10036,0,2441,2475,2431,0.153,0.13200000000000001,0.113,10259,10390,0,0.59692071647033884,0.62649903974722321,0.60582435845117577,2014,3,"SEP","2014-09-01"]
["Solano",20782,21995,22292,41287,43407,43531,0.42,0.442,0.42499999999999999,35751,39913,40409,0.84,0.90400000000000003,0.91,0.94199999999999995,0.94499999999999995,0.94,0.94799999999999995,0.97199999999999998,0.97399999999999998,1.2E-2,0.01,1.2E-2,0.03,1.7999999999999999E-2,2.4E-2,0.14399999999999999,0.114,0.109,1.0999999999999999E-2,8.9999999999999993E-3,7.0000000000000001E-3,4.7E-2,5.8999999999999997E-2,6.3E-2,19954,20782,22292,40161,41287,43531,1473,1823,2457,19347,20249,19919,3060,2463,2272,0,0,0,6772,6854,6844,415913,424048,428705,76529,80768,84375,97912,97128,96723,0,0,0,21564,20853,18343,68717,62999,0,11520,11691,11752,0.10100000000000001,0.09,7.4999999999999997E-2,65053,61760,56429,0.61665326783404339,0.66764538469704438,0.76925949545071659,2014,3,"SEP","2014-09-01"]
["Sonoma",18686,19162,19304,34451,35221,34951,0.35599999999999998,0.36899999999999999,0.34699999999999998,29668,33198,32982,0.83099999999999996,0.91,0.91200000000000003,0.86699999999999999,0.83799999999999997,0.89700000000000002,0.47199999999999998,0.71699999999999997,0.73399999999999999,5.2999999999999999E-2,8.5999999999999993E-2,7.9000000000000001E-2,7.2999999999999995E-2,0.105,9.9000000000000005E-2,0.18,0.189,0.18099999999999999,0.04,5.3999999999999999E-2,6.0999999999999999E-2,7.8E-2,0.10100000000000001,0.11,18390,18686,19304,34447,34451,34951,1870,2351,2986,17154,17558,16974,3946,3484,3249,0,0,0,10341,10432,10517,489283,493070,497260,107417,112593,116344,104978,104608,104298,0,0,0,29280,24921,25983,63908,60020,0,8571,8547,8488,8.5000000000000006E-2,7.0000000000000007E-2,5.6000000000000001E-2,74079,71127,69971,0.45491205373541377,0.49066532056361034,0.50345315035929272,2014,3,"SEP","2014-09-01"]
["Stanislaus",41539,42355,42873,91048,92163,92778,0.443,0.49,0.48299999999999998,68074,83281,85292,0.74199999999999999,0.89300000000000002,0.90800000000000003,0.98399999999999999,0.91500000000000004,0.96499999999999997,0.93600000000000005,0.85299999999999998,0.84599999999999997,0.97,1.7000000000000001E-2,1.4E-2,0.192,0.16,0.17599999999999999,0.27400000000000002,0.251,0.26300000000000001,0.15,0.32100000000000001,0.28199999999999997,0.17299999999999999,0.36,0.32800000000000001,40036,41539,42873,88848,91048,92778,2464,2893,3835,44790,46298,45160,5991,5663,5238,0,0,0,17992,17711,18095,522651,527232,532344,84166,86547,89829,144581,144260,144079,0,0,0,48024,48602,48829,137356,128318,0,19745,20057,20165,0.151,0.129,0.112,117475,125680,115985,0.74978094811434948,0.72214889693563,0.79497781177320248,2014,3,"SEP","2014-09-01"]
["Sutter",5215,5565,5623,12440,12986,13083,0.39700000000000002,0.39600000000000002,0.378,11183,12142,12348,0.88300000000000001,0.92900000000000005,0.93200000000000005,0.98099999999999998,0.97199999999999998,0.98899999999999999,0.876,0.90600000000000003,0.90800000000000003,5.2999999999999999E-2,8.5999999999999993E-2,7.9000000000000001E-2,0.188,0.15,0.184,0.26200000000000001,0.21199999999999999,0.24399999999999999,0.129,0.20799999999999999,0.26,0.14599999999999999,0.22900000000000001,0.28299999999999997,4961,5215,5623,11946,12440,13083,306,369,491,6271,6642,6535,830,689,648,0,0,0,2311,2281,2388,95351,97386,97257,17496,18207,18667,25370,25333,25371,0,0,0,9590,8366,8544,23515,21895,0,3661,3778,3793,0.17499999999999999,0.14599999999999999,0.127,20846,22883,16038,0.72718857098591638,0.53769509167762497,0.8091986651521671,2014,3,"SEP","2014-09-01"]
["Tehama",4320,4917,5009,9916,10963,11155,0.44900000000000001,0.46700000000000003,0.44900000000000001,9079,10343,10518,0.88600000000000001,0.92900000000000005,0.93400000000000005,0.94299999999999995,0.94399999999999995,0.93600000000000005,0.98199999999999998,0.92200000000000004,0.93200000000000005,5.2999999999999999E-2,8.5999999999999993E-2,7.9000000000000001E-2,0.14000000000000001,0.113,0.113,0.20699999999999999,0.17100000000000001,0.17,0.11899999999999999,0.10299999999999999,0.24399999999999999,0.125,0.11,0.27200000000000002,4219,4320,5009,9899,9916,11155,259,363,492,4855,5013,5146,469,441,422,0,0,0,1161,1199,1283,63623,64498,64827,14869,15313,15700,15514,15280,15138,0,0,0,2546,2603,2345,17404,16152,0,3057,3062,3106,0.13700000000000001,0.11700000000000001,9.7000000000000003E-2,14556,14220,0,0.66594202724809604,0.69231531437680793,0.76327104213104657,2014,3,"SEP","2014-09-01"]
["Trinity",762,939,1001,1516,1775,1838,0.41299999999999998,0.44400000000000001,0.44600000000000001,1335,1650,1732,0.83399999999999996,0.91200000000000003,0.91400000000000003,1,1,1,0.65200000000000002,0.89400000000000002,0.874,5.2999999999999999E-2,8.5999999999999993E-2,7.9000000000000001E-2,0.09,4.3999999999999997E-2,0.12,0.18,9.1999999999999998E-2,0.17499999999999999,0.218,4.8000000000000001E-2,0.14199999999999999,0.24399999999999999,5.1999999999999998E-2,0.17499999999999999,776,762,1001,1557,1516,1838,74,89,117,604,622,623,5,45,42,0,0,0,8,12,10,13470,13776,13782,4270,4587,4753,2335,2276,2215,0,0,0,21,36,49,2854,2603,0,655,636,656,0.156,0.121,9.9000000000000005E-2,3088,3100,0,0.50631183546685954,0.50150279286577459,0.5912422140107656,2014,3,"SEP","2014-09-01"]
["Tulare",46471,50688,50975,114774,123505,132774,0.51400000000000001,0.54900000000000004,0.53700000000000003,97318,114249,115400,0.82399999999999995,0.92600000000000005,0.93700000000000006,1,1,0.99099999999999999,0.95499999999999996,0.98199999999999998,0.96699999999999997,3.5999999999999997E-2,4.7E-2,4.1000000000000002E-2,0.17499999999999999,0.16800000000000001,0.21099999999999999,0.30499999999999999,0.27200000000000002,0.32600000000000001,0.111,0.13100000000000001,0.13900000000000001,0.154,0.186,0.20100000000000001,44577,46471,50975,110086,114774,132774,2949,3459,4856,64076,67240,65842,8010,8233,7798,0,0,0,36803,37887,39618,451627,456075,461703,64345,66305,68896,142812,143372,144472,0,0,0,60886,60016,63244,169956,160183,0,17288,17554,17865,0.159,0.14399999999999999,0.13200000000000001,151607,147863,139566,0.57209225930295116,0.77504881539151371,0.90358518151528189,2014,3,"SEP","2014-09-01"]
["Tuolumne",2828,3035,3009,5153,5567,5556,0.44,0.45500000000000002,0.434,4641,5231,5274,0.88100000000000001,0.93400000000000005,0.93400000000000005,0.92300000000000004,0.93899999999999995,0.95399999999999996,0.95499999999999996,0.88800000000000001,0.91200000000000003,5.2999999999999999E-2,8.5999999999999993E-2,7.9000000000000001E-2,0.16800000000000001,0.123,0.13500000000000001,0.25800000000000001,0.20399999999999999,0.214,0.17899999999999999,0.24099999999999999,0.248,0.20100000000000001,0.25800000000000001,0.27800000000000002,2755,2828,3009,5103,5153,5556,265,299,409,1962,1955,2013,149,137,115,0,0,0,65,66,76,54339,54811,54592,16528,17219,17563,9222,9088,8943,0,0,0,653,696,628,8101,7561,0,1618,1635,1639,0.11700000000000001,0.108,8.6999999999999994E-2,8976,9822,0,0.57443890320256608,0.5308063709413704,0.55096208037690064,2014,3,"SEP","2014-09-01"]
["Ventura",32232,34857,35024,66971,71740,77031,0.36499999999999999,0.38400000000000001,0.38,49783,63209,63846,0.71499999999999997,0.871,0.871,0.98399999999999999,0.96499999999999997,0.97699999999999998,0.93799999999999994,0.94699999999999995,0.93500000000000005,2.7E-2,3.2000000000000001E-2,3.6999999999999998E-2,9.9000000000000005E-2,0.11799999999999999,0.13800000000000001,0.22800000000000001,0.218,0.247,7.0999999999999994E-2,8.3000000000000004E-2,9.5000000000000001E-2,0.115,0.13200000000000001,0.156,31284,32232,35024,64382,66971,77031,2757,3498,4822,35426,37769,37317,8035,6844,6549,0,0,0,23314,25095,26091,834109,839617,844833,148960,156524,162247,206821,205584,204901,0,0,0,79320,76495,75693,123340,111492,0,14656,14764,14875,9.0999999999999998E-2,7.9000000000000001E-2,6.7000000000000004E-2,105820,112132,114150,0.61510962347937126,0.60105354961794943,0.64997993128460252,2014,3,"SEP","2014-09-01"]
["Yolo",7850,8647,8865,16629,18353,18273,0.38700000000000001,0.40400000000000003,0.38900000000000001,14284,16833,16886,0.83499999999999996,0.90300000000000002,0.89800000000000002,0.84299999999999997,0.84199999999999997,0.81599999999999995,0.90700000000000003,0.89500000000000002,0.89400000000000002,5.2999999999999999E-2,8.5999999999999993E-2,7.9000000000000001E-2,9.9000000000000005E-2,0.12,0.107,0.187,0.20200000000000001,0.18,4.8000000000000001E-2,6.0999999999999999E-2,6.2E-2,0.08,0.109,0.10199999999999999,7766,7850,8865,16880,16629,18273,627,774,1075,8261,8108,8448,1070,874,867,0,0,0,4871,4707,5033,204314,206621,208069,31386,32873,34248,44406,43847,43396,0,0,0,13923,14762,11918,31043,28422,0,5307,5351,5314,0.113,9.0999999999999998E-2,7.6999999999999999E-2,44018,42449,50238,0.38251247558070017,0.39257891056597655,0.3707119276196772,2014,3,"SEP","2014-09-01"]
["Yuba",5749,5935,6026,12919,13249,13449,0.49299999999999999,0.496,0.48399999999999999,11269,12340,12562,0.84699999999999998,0.91800000000000004,0.92400000000000004,0.98599999999999999,1,1,0.95199999999999996,0.96199999999999997,0.95099999999999996,5.2999999999999999E-2,8.5999999999999993E-2,7.9000000000000001E-2,0.15,0.16700000000000001,0.17299999999999999,0.24099999999999999,0.23599999999999999,0.23300000000000001,0.219,0.40600000000000003,0.35399999999999998,0.24,0.42899999999999999,0.38,5776,5749,6026,13058,12919,13449,298,341,435,6360,6541,6332,644,571,501,0,0,0,1707,1586,1526,73021,73600,74258,11530,11868,12397,20586,20521,20606,0,0,0,3903,3382,4010,20229,18518,0,3772,3733,3734,0.16800000000000001,0.13100000000000001,0.112,19440,14308,17376,0.66300000000000003,0.89600000000000002,0.76600000000000001,2014,3,"SEP","2014-09-01"]
["Alameda",64540,64020,63146,129167,125434,123955,0.35,0.35299999999999998,0.35199999999999998,99113,111396,112683,0.75,0.85899999999999999,0.879,0.90600000000000003,0.88400000000000001,0.86399999999999999,0.86499999999999999,0.86899999999999999,0.86799999999999999,0.02,0.04,0.112,0.10100000000000001,0.123,0.11700000000000001,0.185,0.21199999999999999,0.22800000000000001,7.1999999999999995E-2,6.9000000000000006E-2,8.7999999999999995E-2,0.124,0.129,0.157,62045,62875,64020,124622,125835,125434,5848,7267,9307,61164,63938,60223,11499,9990,9205,0,0,0,36077,39263,40011,1540790,1563370,1582119,265903,282890,294442,343820,346038,348428,0,0,0,134661,133681,139309,253472,243275,0,48146,48141,47823,0.09,7.2999999999999995E-2,5.8999999999999997E-2,220282,220034,214363,0.56495206368390971,0.56717244038342607,0.58770588854592853,2014,4,"DEC","2014-12-01"]
["Alpine",90,114,114,154,194,185,0.502,0.51400000000000001,0.51100000000000001,138,178,167,0.86799999999999999,0.90800000000000003,0.90300000000000002,1,1,1,0.64700000000000002,0.78900000000000003,0.77800000000000002,0.112,7.9000000000000001E-2,1.9E-2,0.14799999999999999,0.08,0.04,0.14799999999999999,0.16,0.12,7.3999999999999996E-2,0.04,0.08,0.14799999999999999,0.04,0.12,84,91,114,147,171,194,9,11,16,53,62,59,2,0,0,0,0,0,0,0,0,1127,1228,1243,293,369,398,245,243,245,0,0,0,24,25,23,201,184,0,41,42,39,0.13400000000000001,9.8000000000000004E-2,8.7999999999999995E-2,195,222,0,0.74896982598703987,0.70134951054248518,0.80292964974253522,2014,4,"DEC","2014-12-01"]
["Amador",1669,1770,1727,3261,3373,3308,0.47899999999999998,0.47199999999999998,0.499,2759,3032,3067,0.83699999999999997,0.89300000000000002,0.89600000000000002,0.93100000000000005,1,0.95699999999999996,0.98599999999999999,0.95299999999999996,0.94,0.112,7.9000000000000001E-2,1.9E-2,0.18,0.16200000000000001,0.17100000000000001,0.26400000000000001,0.23,0.26300000000000001,0.13600000000000001,0.253,0.27600000000000002,0.152,0.28499999999999998,0.32,1717,1685,1770,3287,3280,3373,182,194,250,1230,1298,1222,61,69,59,0,0,0,81,98,102,36899,36945,37017,11711,11769,12078,6009,5919,5806,0,0,0,507,484,559,4522,4116,0,654,674,696,0.11600000000000001,0.10299999999999999,8.3000000000000004E-2,4237,4989,0,0.76675028881618745,0.65704441950440784,0.66465992098604165,2014,4,"DEC","2014-12-01"]
["Butte",14919,15571,15879,30365,31036,31231,0.44,0.435,0.44500000000000001,27007,29670,29798,0.86699999999999999,0.93300000000000005,0.93600000000000005,0.90600000000000003,0.93700000000000006,0.94199999999999995,0.93,0.94199999999999995,0.94,0.112,7.9000000000000001E-2,1.9E-2,0.157,0.13600000000000001,0.13300000000000001,0.23899999999999999,0.20899999999999999,0.214,0.29399999999999998,0.28100000000000003,0.311,0.318,0.30399999999999999,0.34499999999999997,13988,14733,15571,29226,30211,31036,842,1116,1577,12905,13523,12850,1187,1063,878,0,0,0,2929,2782,2667,221118,222035,224518,49667,51734,53940,45992,45459,45266,0,0,0,5475,4375,5637,51266,47746,0,10828,10914,10866,0.12,0.10299999999999999,8.6999999999999994E-2,56950,57536,54488,0.51154311092185545,0.52065366997840645,0.56693046889491883,2014,4,"DEC","2014-12-01"]
["Calaveras",2547,2768,2867,4866,5231,5378,0.47499999999999998,0.495,0.51300000000000001,4035,4826,4940,0.82599999999999996,0.91600000000000004,0.91800000000000004,1,1,1,0.98199999999999998,0.96899999999999997,0.95699999999999996,0.112,7.9000000000000001E-2,1.9E-2,0.109,9.8000000000000004E-2,0.13,0.20699999999999999,0.182,0.20499999999999999,0.14899999999999999,0.16,0.215,0.16800000000000001,0.188,0.26300000000000001,2522,2576,2768,4998,4969,5231,278,322,437,1881,1808,1778,66,103,88,0,0,0,148,134,133,45045,45214,45508,14458,15224,15719,8280,7993,7801,0,0,0,559,410,598,6850,6097,0,1023,1043,1056,0.129,0.1,8.1000000000000003E-2,5990,6022,0,0.83065104422897051,0.82427123354235265,0.80293519722539908,2014,4,"DEC","2014-12-01"]
["California",1977662,2070802,2089037,4285622,4476030,4477428,0.39300000000000002,0.41199999999999998,0.42099999999999999,3316387,3911196,3977294,0.81899999999999995,0.91,0.91700000000000004,0.96499999999999997,0.97,0.96699999999999997,0.92400000000000004,0.92800000000000005,0.93300000000000005,4.8000000000000001E-2,5.0999999999999997E-2,7.1999999999999995E-2,0.13900000000000001,0.126,0.14199999999999999,0.224,0.20200000000000001,0.23400000000000001,0.11600000000000001,0.114,0.129,0.14499999999999999,0.14499999999999999,0.16200000000000001,1843348,1942841,2070803,4074650,4221057,4476031,141407,176557,234156,2184693,2272684,2226004,372370,341378,320176,0,0,0,1268115,1314549,1337933,37826160,38202206,38548204,6506534,6820715,7071818,9170526,9150549,9157600,0,0,0,3775905,3750293,3760183,7619341,7280074,0,1176286,1187606,1193089,0.104,8.8999999999999996E-2,7.4999999999999997E-2,7121280,7166749,6980319,0.56999999999999995,0.58399999999999996,0.63400000000000001,2014,4,"DEC","2014-12-01"]
["Colusa",690,725,666,1624,1722,1540,0.27,0.245,0.23699999999999999,1503,1671,1555,0.88900000000000001,0.93700000000000006,0.95299999999999996,0.91700000000000004,0.81799999999999995,0.60899999999999999,0.94899999999999995,0.93799999999999994,0.89700000000000002,0.112,7.9000000000000001E-2,1.9E-2,0.128,7.8E-2,0.11,0.23799999999999999,0.152,0.23100000000000001,0.159,0.36899999999999999,0.28399999999999997,0.189,0.41,0.32200000000000001,701,713,725,1728,1710,1722,39,72,84,1055,1032,1004,108,164,142,0,0,0,598,553,570,21614,21987,22254,3794,4033,4198,6173,6106,6114,0,0,0,3235,2986,3111,4695,4193,0,556,564,563,0.20100000000000001,0.19,0.17499999999999999,4435,3771,0,0.38904925365351106,0.46113151104422845,0.39141984295657661,2014,4,"DEC","2014-12-01"]
["Contra Costa",33853,35280,35825,70212,76061,77345,0.32600000000000001,0.34,0.34200000000000003,54108,64658,65951,0.747,0.88400000000000001,0.89700000000000002,0.92200000000000004,0.93500000000000005,0.92500000000000004,0.71599999999999997,0.82699999999999996,0.94099999999999995,3.3000000000000002E-2,3.7999999999999999E-2,4.2999999999999997E-2,9.4E-2,8.6999999999999994E-2,9.1999999999999998E-2,0.16300000000000001,0.157,0.16800000000000001,5.8999999999999997E-2,6.3E-2,7.0999999999999994E-2,0.1,0.104,0.114,32977,32730,35280,68789,67763,76061,2515,3064,3876,35507,36829,36150,6651,5449,5317,0,0,0,15201,15787,16078,1069803,1081862,1095476,205603,215513,223639,255890,253746,251862,0,0,0,66528,66244,68215,143428,131952,0,23603,24041,24288,0.09,7.4999999999999997E-2,6.2E-2,135137,145293,129295,0.50723295638066834,0.47067971198742864,0.57143348851746278,2014,4,"DEC","2014-12-01"]
["Del Norte",2477,2545,2516,5032,5227,5167,0.46899999999999997,0.48099999999999998,0.49199999999999999,4518,4969,4957,0.88700000000000001,0.95399999999999996,0.95599999999999996,1,0.99099999999999999,1,0.98199999999999998,0.95699999999999996,0.99,0.112,7.9000000000000001E-2,1.9E-2,0.22700000000000001,0.193,0.19500000000000001,0.32700000000000001,0.254,0.27500000000000002,0.245,0.307,0.35799999999999998,0.25900000000000001,0.33300000000000002,0.39500000000000002,2629,2525,2545,5445,5132,5227,157,193,238,2343,2218,2130,173,167,139,0,0,0,285,262,223,28359,28530,28477,5913,6153,6387,5778,5698,5655,0,0,0,549,733,725,8091,7460,0,1869,1817,1816,0.13300000000000001,0.11799999999999999,0.10199999999999999,5696,5923,0,0.94447219934568005,0.86431084940613745,0.91507601883208589,2014,4,"DEC","2014-12-01"]
["El Dorado",6240,6871,6932,11497,12479,12578,0.4,0.39900000000000002,0.42,9792,11574,11698,0.82199999999999995,0.89800000000000002,0.89600000000000002,0.98799999999999999,0.995,1,0.878,0.95399999999999996,0.94299999999999995,0.112,7.9000000000000001E-2,1.9E-2,0.126,0.112,0.112,0.217,0.19,0.193,0.182,0.20799999999999999,0.2,0.20799999999999999,0.24399999999999999,0.23100000000000001,6081,6397,6871,11620,11765,12479,581,732,972,4822,4716,4740,402,417,396,0,0,0,864,882,886,180599,184054,184320,42806,46098,47929,39168,38276,37665,0,0,0,3301,3580,3522,19049,17413,0,2818,2850,2851,0.10299999999999999,8.5000000000000006E-2,7.0000000000000007E-2,19223,26641,27235,0.6063224191345471,0.44106704599832475,0.45696364279304263,2014,4,"DEC","2014-12-01"]
["Fresno",92503,94285,94483,220916,224430,223686,0.51300000000000001,0.54200000000000004,0.54,176506,211244,212720,0.78200000000000003,0.90700000000000003,0.91700000000000004,0.92500000000000004,0.94799999999999995,0.95699999999999996,0.91200000000000003,0.97699999999999998,0.96399999999999997,8.9999999999999993E-3,2.1000000000000001E-2,8.9999999999999993E-3,0.14000000000000001,0.14899999999999999,0.152,0.25600000000000001,0.245,0.27600000000000002,9.6000000000000002E-2,9.7000000000000003E-2,0.109,0.14899999999999999,0.16300000000000001,0.16500000000000001,88850,90783,94285,215016,217757,224430,4650,5364,7362,122558,123609,122849,15452,14216,13450,0,0,0,61549,59175,60875,946823,958260,969338,143086,147191,152725,275524,276923,279805,0,0,0,115573,108885,109792,316699,299363,0,40171,40774,41053,0.15,0.13200000000000001,0.11600000000000001,283513,280018,281486,0.75799045321685599,0.78293622520574913,0.80626906421255717,2014,4,"DEC","2014-12-01"]
["Glenn",1387,1514,1485,3412,3697,3565,0.36699999999999999,0.36499999999999999,0.379,3163,3537,3514,0.91100000000000003,0.94299999999999995,0.95499999999999996,1,1,1,1,0.97499999999999998,0.98499999999999999,0.112,7.9000000000000001E-2,1.9E-2,0.16500000000000001,0.10100000000000001,0.152,0.27800000000000002,0.17599999999999999,0.246,0.155,0.16200000000000001,0.19700000000000001,0.17299999999999999,0.17799999999999999,0.23899999999999999,1389,1431,1514,3419,3549,3697,87,113,148,1908,1985,1960,231,237,215,0,0,0,769,739,762,28208,28599,28868,5499,5834,6039,7657,7588,7542,0,0,0,2433,2638,2410,7157,6747,0,1128,1136,1111,0.14299999999999999,0.121,0.107,6413,6196,0,0.53650977283308565,0.56850757302200194,0.55838355889207381,2014,4,"DEC","2014-12-01"]
["Humboldt",8895,10547,11119,16624,19098,19813,0.40699999999999997,0.45300000000000001,0.48399999999999999,14303,17534,18319,0.83299999999999996,0.9,0.90500000000000003,0.90400000000000003,0.99299999999999999,0.99399999999999999,0.88,0.86599999999999999,0.90500000000000003,0.112,7.9000000000000001E-2,1.9E-2,0.104,9.9000000000000005E-2,0.11,0.189,0.151,0.17299999999999999,0.193,0.20200000000000001,0.20899999999999999,0.217,0.22,0.23300000000000001,8114,8812,10547,15495,16507,19098,496,695,1117,6496,7000,7428,685,684,644,0,0,0,807,886,900,134923,136480,136779,29078,30216,31381,26337,26025,25824,0,0,0,2104,2347,2266,27113,24939,0,5740,5607,5545,0.104,8.2000000000000003E-2,6.8000000000000005E-2,32857,34043,33222,0.46724637565969279,0.474035923417713,0.56563435374326043,2014,4,"DEC","2014-12-01"]
["Imperial",14978,15936,16657,38207,40394,42202,0.50900000000000001,0.51300000000000001,0.54300000000000004,34284,38693,40337,0.88,0.93799999999999994,0.94,0.88200000000000001,0.91500000000000004,0.91500000000000004,0.98199999999999998,0.82599999999999996,0.89500000000000002,0.112,7.9000000000000001E-2,1.9E-2,0.17699999999999999,0.13100000000000001,0.14799999999999999,0.25900000000000001,0.20300000000000001,0.218,0.19600000000000001,0.23599999999999999,0.20399999999999999,0.217,0.26300000000000001,0.22900000000000001,14037,14518,15936,36091,37083,40394,1456,1738,2213,18176,19291,19838,994,1028,990,0,0,0,17886,19370,21381,178659,179326,183154,27470,28182,29668,50932,51426,52464,0,0,0,32769,32195,33803,58377,55474,0,10349,10276,10238,0.27200000000000002,0.249,0.23599999999999999,44744,44790,44826,0.80804160369013844,0.81464017162211388,0.89508144333471995,2014,4,"DEC","2014-12-01"]
["Inyo",1009,1068,1043,2028,2149,2093,0.39500000000000002,0.40899999999999997,0.42399999999999999,1729,1947,1937,0.85199999999999998,0.90900000000000003,0.92200000000000004,1,0.98399999999999999,1,0.95799999999999996,0.96,0.92900000000000005,0.112,7.9000000000000001E-2,1.9E-2,0.123,0.10100000000000001,0.11899999999999999,0.223,0.189,0.22,0.253,0.23899999999999999,0.31,0.29099999999999998,0.249,0.33800000000000002,957,1058,1068,1951,2132,2149,105,137,154,879,964,928,105,103,98,0,0,0,316,327,296,18637,19241,19244,5121,5510,5699,3727,3660,3590,0,0,0,490,532,510,3534,3188,0,396,407,402,9.4E-2,7.9000000000000001E-2,7.0000000000000007E-2,2515,2766,0,0.77670818481640058,0.73946492362442684,0.72042269416670368,2014,4,"DEC","2014-12-01"]
["Kern",59300,61918,62059,142748,148150,147285,0.43099999999999999,0.46300000000000002,0.46600000000000003,116673,138969,140138,0.80300000000000005,0.92200000000000004,0.93,0.98399999999999999,0.99399999999999999,0.995,0.90400000000000003,0.92,0.92,3.9E-2,1.6E-2,7.0000000000000001E-3,0.22700000000000001,0.17699999999999999,0.21099999999999999,0.32900000000000001,0.26500000000000001,0.31,0.23499999999999999,0.20200000000000001,0.20899999999999999,0.26600000000000001,0.23499999999999999,0.25,57915,59623,61918,140798,144653,148150,3379,3983,5081,82189,84978,82576,11952,10703,9808,0,0,0,37887,37191,37076,855522,869797,878356,119415,122971,128553,251296,252028,256535,0,0,0,85452,88100,79181,240099,224473,0,31095,31384,31592,0.13300000000000001,0.11700000000000001,0.104,213671,224185,225536,0.65421253208901731,0.64036520264020891,0.6560986851203231,2014,4,"DEC","2014-12-01"]
["Kings",9741,10210,10066,22985,24002,23550,0.47199999999999998,0.505,0.50700000000000001,20445,22644,22455,0.88100000000000001,0.93600000000000005,0.94099999999999995,0.98299999999999998,0.99399999999999999,0.998,0.94399999999999995,0.80500000000000005,0.93400000000000005,0.112,7.9000000000000001E-2,1.9E-2,0.23200000000000001,0.184,0.217,0.33100000000000002,0.26600000000000001,0.318,0.40500000000000003,0.32700000000000001,0.33700000000000002,0.438,0.36799999999999999,0.36699999999999999,9624,9956,10210,22949,23543,24002,563,652,797,12535,12892,12521,1554,1396,1267,0,0,0,5625,5451,5713,150843,152456,153601,18666,19636,20420,40866,41136,41468,0,0,0,14061,14426,15306,36030,33393,0,4729,4659,4635,0.151,0.13500000000000001,0.121,33431,34891,38859,0.68555666915226354,0.66930047437077489,0.61675060236025636,2014,4,"DEC","2014-12-01"]
["Lake",5154,5525,5693,10290,11036,11283,0.40300000000000002,0.43,0.443,9012,10561,10843,0.85699999999999998,0.93500000000000005,0.94199999999999995,0.76500000000000001,0.88300000000000001,0.95099999999999996,0.90300000000000002,0.89,0.92300000000000004,0.112,7.9000000000000001E-2,1.9E-2,0.105,6.6000000000000003E-2,7.0000000000000007E-2,0.17599999999999999,0.13700000000000001,0.14799999999999999,0.308,0.308,0.312,0.33900000000000002,0.34399999999999997,0.36299999999999999,5041,5227,5525,10039,10453,11036,477,586,736,4340,4436,4622,256,385,344,0,0,0,790,814,817,64394,64782,65465,17355,18045,18728,13100,12882,12726,0,0,0,1920,1792,1951,17709,16443,0,3701,3710,3663,0.14199999999999999,0.108,8.8999999999999996E-2,19370,17452,17435,0.52275795740758546,0.58994489464318189,0.6317675039698486,2014,4,"DEC","2014-12-01"]
["Lassen",1441,1536,1574,3015,3168,3216,0.46200000000000002,0.46200000000000002,0.47599999999999998,2740,2962,3046,0.88400000000000001,0.92900000000000005,0.93500000000000005,0.95699999999999996,0.93799999999999994,0.83199999999999996,0.91200000000000003,0.84899999999999998,0.77600000000000002,0.112,7.9000000000000001E-2,1.9E-2,0.14000000000000001,0.12,8.7999999999999995E-2,0.223,0.20200000000000001,0.14000000000000001,0.221,0.20200000000000001,0.20699999999999999,0.24099999999999999,0.223,0.23799999999999999,1386,1426,1536,2933,2971,3168,81,99,150,1284,1319,1345,87,91,108,0,0,0,70,67,71,33650,34966,35038,5593,6186,6479,5682,5574,5519,0,0,0,704,769,712,4859,4436,0,930,906,880,0.125,0.106,9.2999999999999999E-2,4471,4398,0,0.6584276616338256,0.67780447504446817,0.78611426364455528,2014,4,"DEC","2014-12-01"]
["Los Angeles",567409,585696,585664,1169214,1193453,1190842,0.33700000000000002,0.35499999999999998,0.36399999999999999,900373,989063,1003749,0.76,0.82399999999999995,0.83899999999999997,0.96399999999999997,0.97199999999999998,0.96499999999999997,0.94899999999999995,0.93500000000000005,0.92900000000000005,3.2000000000000001E-2,4.7E-2,8.1000000000000003E-2,0.104,9.0999999999999998E-2,0.122,0.183,0.157,0.21,8.0000000000000002E-3,6.0000000000000001E-3,8.0000000000000002E-3,1.0999999999999999E-2,8.0000000000000002E-3,1.0999999999999999E-2,516984,557570,585696,1093422,1148512,1193453,36571,46590,59648,599556,629069,614546,124537,117585,109736,0,0,0,423844,444806,444589,9911665,10010961,10082664,1620299,1701464,1760921,2341123,2329494,2322213,0,0,0,1372113,1402433,1394350,2410140,2250353,0,385131,388148,389765,0.109,9.8000000000000004E-2,8.3000000000000004E-2,2021648,2088070,2032450,0.53852316431437086,0.54211494769640123,0.58334051625028915,2014,4,"DEC","2014-12-01"]
["Madera",10563,11507,11515,26658,28885,28701,0.45900000000000002,0.48299999999999998,0.49099999999999999,24793,27734,27711,0.91300000000000003,0.95299999999999996,0.95599999999999996,0.98299999999999998,0.996,0.998,0.97499999999999998,0.92500000000000004,0.88400000000000001,0.112,7.9000000000000001E-2,1.9E-2,0.17,0.125,0.17399999999999999,0.26900000000000002,0.218,0.28100000000000003,0.20200000000000001,0.23899999999999999,0.23300000000000001,0.23100000000000001,0.28699999999999998,0.26700000000000002,10437,10608,11507,26670,26856,28885,534,619,799,16732,16652,16999,3223,2773,2654,0,0,0,10100,9640,10033,151790,153409,154829,25433,26873,27801,42036,42149,43015,0,0,0,20218,20706,20778,45875,42230,0,4441,4478,4505,0.13300000000000001,0.125,0.11,38099,38832,38903,0.69333969565110631,0.69096227737139893,0.74120990607815518,2014,4,"DEC","2014-12-01"]
["Marin",5850,6216,6311,9846,10397,10475,0.30299999999999999,0.314,0.32700000000000001,8915,9986,10174,0.89200000000000002,0.93899999999999995,0.94399999999999995,0.93799999999999994,0.97799999999999998,0.96899999999999997,0.94899999999999995,0.92600000000000005,0.94,0.112,7.9000000000000001E-2,1.9E-2,0.14099999999999999,0.13900000000000001,0.14599999999999999,0.20200000000000001,0.20799999999999999,0.22600000000000001,0.17699999999999999,0.21099999999999999,0.22800000000000001,0.2,0.24399999999999999,0.26400000000000001,5541,5762,6216,9408,9774,10397,758,887,1119,4358,4734,4831,1245,1271,1282,0,0,0,2958,3455,3804,254882,256264,257792,65062,69445,70897,51763,51412,51122,0,0,0,11689,8867,11871,22611,21230,0,3102,3107,3034,6.3E-2,5.1999999999999998E-2,4.2999999999999997E-2,20101,22421,22696,0.463432407333705,0.41976609833322831,0.45416962715835596,2014,4,"DEC","2014-12-01"]
["Mariposa",949,1005,1016,1905,1974,1972,0.48099999999999998,0.47299999999999998,0.497,1733,1868,1919,0.876,0.94199999999999995,0.95599999999999996,0.92600000000000005,0.86499999999999999,0.80400000000000005,0.86799999999999999,0.97699999999999998,0.92600000000000005,0.112,7.9000000000000001E-2,1.9E-2,9.4E-2,0.14299999999999999,0.182,0.14799999999999999,0.20499999999999999,0.26400000000000001,0.154,0.189,0.19,0.16400000000000001,0.23200000000000001,0.20799999999999999,875,920,1005,1804,1855,1974,83,119,172,709,714,711,41,37,31,0,0,0,47,30,52,17817,18101,18091,5675,5971,6133,3056,2988,2966,0,0,0,155,227,199,2854,2652,0,460,462,454,0.11,0.105,8.7999999999999995E-2,2848,3155,0,0.62310270335867513,0.58782568148826908,0.63584459078564948,2014,4,"DEC","2014-12-01"]
["Mendocino",6972,7569,7329,13061,14007,13591,0.36899999999999999,0.39800000000000002,0.40200000000000002,11177,12740,12610,0.84299999999999997,0.89600000000000002,0.91200000000000003,0.99099999999999999,0.995,0.98099999999999998,0.99399999999999999,0.96499999999999997,0.96499999999999997,0.112,7.9000000000000001E-2,1.9E-2,0.18,0.13700000000000001,0.17199999999999999,0.27,0.23200000000000001,0.29199999999999998,0.27700000000000002,0.218,0.35499999999999998,0.32200000000000001,0.27600000000000002,0.42599999999999999,7242,6923,7569,13660,13202,14007,591,699,941,5727,5665,5681,592,688,618,0,0,0,1934,1823,1931,88566,88931,88795,22245,23290,24007,19078,18865,18784,0,0,0,4188,4171,4690,23130,21783,0,3238,3218,3145,9.5000000000000001E-2,8.2000000000000003E-2,6.9000000000000006E-2,19739,22381,19834,0.68661650850578071,0.58791930175161367,0.69491422244138812,2014,4,"DEC","2014-12-01"]
["Merced",22674,24370,24235,54349,57733,57128,0.46600000000000003,0.50900000000000001,0.50700000000000001,44972,55236,55436,0.81799999999999995,0.94699999999999995,0.95699999999999996,0.98399999999999999,0.98299999999999998,0.98899999999999999,0.94799999999999995,0.95,0.95,8.0000000000000002E-3,1.0999999999999999E-2,3.3000000000000002E-2,0.20799999999999999,0.14299999999999999,0.17399999999999999,0.308,0.219,0.28899999999999998,0.31,0.30099999999999999,0.35299999999999998,0.34300000000000003,0.34200000000000003,0.39600000000000002,22003,22956,24370,53940,55568,57733,1122,1338,1886,30744,31540,31258,4110,4036,3796,0,0,0,15638,15579,15688,261708,263441,266444,36841,37818,39238,79582,79353,79287,0,0,0,31663,35644,33521,84983,80292,0,10745,10849,10825,0.16900000000000001,0.14499999999999999,0.128,67910,70247,74499,0.78991568533045808,0.78565860623862072,0.76763611001397902,2014,4,"DEC","2014-12-01"]
["Modoc",412,467,481,952,1001,1033,0.35399999999999998,0.36299999999999999,0.38600000000000001,864,931,984,0.89300000000000002,0.91700000000000004,0.94499999999999995,1,1,1,0.96199999999999997,0.84399999999999997,0.89100000000000001,0.112,7.9000000000000001E-2,1.9E-2,0.20100000000000001,0.128,0.17599999999999999,0.26300000000000001,0.16800000000000001,0.30299999999999999,0.17299999999999999,0.22800000000000001,0.27500000000000002,0.19,0.24199999999999999,0.31,438,415,467,997,935,1001,25,34,40,486,442,438,20,42,31,0,0,0,78,71,62,9518,9457,9395,2834,2876,2896,2010,1952,1905,0,0,0,280,335,353,2012,1865,0,405,416,421,0.13500000000000001,0.124,0.105,2460,2622,0,0.40888128921992001,0.36099657830335341,0.4472268901875262,2014,4,"DEC","2014-12-01"]
["Mono",385,522,456,644,855,778,0.27900000000000003,0.29699999999999999,0.29899999999999999,554,735,699,0.81200000000000006,0.84,0.85,0.92100000000000004,0.90600000000000003,1,0.96599999999999997,0.89300000000000002,0.92400000000000004,0.112,7.9000000000000001E-2,1.9E-2,1.4999999999999999E-2,5.8999999999999997E-2,6.9000000000000006E-2,0.108,0.157,0.13400000000000001,6.2E-2,0.157,6.9000000000000006E-2,6.5000000000000002E-2,0.17699999999999999,8.1000000000000003E-2,447,400,522,709,656,855,32,43,49,326,283,334,3,74,70,0,0,0,226,163,218,14258,14376,14440,2415,2711,2804,2971,3013,3046,0,0,0,870,937,1069,1413,1248,0,102,101,100,0.107,8.5000000000000006E-2,7.1999999999999995E-2,2221,2021,0,0.31314011822398347,0.31554896752066686,0.49939412291526875,2014,4,"DEC","2014-12-01"]
["Monterey",19094,21758,20520,43325,49132,45843,0.30599999999999999,0.36,0.35499999999999998,36922,46383,45149,0.83399999999999996,0.93799999999999994,0.94699999999999995,1,1,1,0.97799999999999998,0.95799999999999996,0.95399999999999996,8.5999999999999993E-2,7.4999999999999997E-2,8.8999999999999996E-2,0.23400000000000001,0.20799999999999999,0.22800000000000001,0.34899999999999998,0.29899999999999999,0.35299999999999998,0.106,0.21299999999999999,0.193,0.122,0.253,0.219,19325,20213,21758,44518,46145,49132,1189,1572,2212,29906,29909,30054,6608,6960,6638,0,0,0,22110,21235,22043,422868,424119,426670,68145,71183,73258,111806,112481,113104,0,0,0,79767,64059,74856,96221,88589,0,8502,8458,8488,0.115,0.10299999999999999,9.0999999999999998E-2,80400,83052,76819,0.55609456512781497,0.56469538837346811,0.65190822926998127,2014,4,"DEC","2014-12-01"]
["Napa",3156,3525,3444,6599,7324,7124,0.26600000000000001,0.29199999999999998,0.30099999999999999,6066,6993,6858,0.872,0.93400000000000005,0.93300000000000005,0.76700000000000002,0.98299999999999998,0.88200000000000001,0.90600000000000003,0.96399999999999997,0.95399999999999996,0.112,7.9000000000000001E-2,1.9E-2,0.12,9.2999999999999999E-2,0.113,0.19600000000000001,0.16600000000000001,0.183,0.16,0.22500000000000001,0.22900000000000001,0.17899999999999999,0.25800000000000001,0.27500000000000002,3452,3193,3526,7287,6710,7325,292,341,433,4244,4081,4040,1098,909,798,0,0,0,3019,2892,2923,138577,139831,141172,30643,32036,32913,31125,31002,30942,0,0,0,12388,12782,11600,17126,15421,0,2142,2156,2118,7.8E-2,6.8000000000000005E-2,5.6000000000000001E-2,18311,16770,13997,0.39325422361242962,0.40661393682295693,0.52160944627671246,2014,4,"DEC","2014-12-01"]
["Nevada",3903,4221,4202,7422,7804,7687,0.41499999999999998,0.39500000000000002,0.40500000000000003,6320,7226,7224,0.82199999999999995,0.90600000000000003,0.91200000000000003,0.996,0.99,1,0.85799999999999998,0.79400000000000004,0.85899999999999999,0.112,7.9000000000000001E-2,1.9E-2,0.125,0.108,0.104,0.187,0.189,0.192,0.14399999999999999,0.223,0.222,0.16900000000000001,0.255,0.255,3667,3898,4221,7105,7452,7804,314,445,640,2726,2951,2868,219,186,165,0,0,0,270,255,284,98202,98317,98453,29761,31210,32138,18018,17565,17237,0,0,0,1312,1576,1472,11428,10758,0,1771,1796,1796,9.2999999999999999E-2,8.1000000000000003E-2,6.6000000000000003E-2,14198,16674,12649,0.49477604673947106,0.44248242080254063,0.61057440393830054,2014,4,"DEC","2014-12-01"]
["Orange",110142,117235,118925,240817,270245,273208,0.33100000000000002,0.35699999999999998,0.36199999999999999,188299,227559,230344,0.76700000000000002,0.90400000000000003,0.90600000000000003,0.995,0.98199999999999998,0.98499999999999999,0.995,0.995,0.996,4.8000000000000001E-2,3.5000000000000003E-2,3.2000000000000001E-2,8.1000000000000003E-2,0.111,0.11,0.14899999999999999,0.19,0.19800000000000001,6.4000000000000001E-2,7.1999999999999995E-2,8.5999999999999993E-2,0.10100000000000001,0.12,0.13100000000000001,97956,105823,117235,218827,232862,270245,10377,13145,17616,131451,139033,135615,31940,29922,28117,0,0,0,105140,111958,114889,3071933,3097966,3125833,533455,559090,579380,724926,721292,719772,0,0,0,322892,316852,325313,460035,467937,0,66558,67573,68202,7.5999999999999998E-2,6.5000000000000002E-2,5.5E-2,453553,444095,443857,0.48162070387488537,0.51788536634810356,0.58262619430581397,2014,4,"DEC","2014-12-01"]
["Placer",8802,9206,9374,18178,18455,18731,0.33800000000000002,0.34399999999999997,0.35,11695,15365,15675,0.64100000000000001,0.83899999999999997,0.84699999999999998,0.97699999999999998,0.98099999999999998,0.99299999999999999,0.94699999999999995,0.97099999999999997,0.97,0.112,7.9000000000000001E-2,1.9E-2,9.1999999999999998E-2,9.8000000000000004E-2,0.114,0.161,0.16500000000000001,0.19500000000000001,0.08,7.0000000000000007E-2,0.10199999999999999,0.11700000000000001,0.111,0.14899999999999999,8227,8480,9206,17815,17673,18455,791,1019,1416,8043,7868,7411,871,677,658,0,0,0,2058,2021,1954,360680,365125,369460,79177,85049,87902,85224,84419,83682,0,0,0,6656,8063,6222,31306,28497,0,5044,5056,5087,9.2999999999999999E-2,7.6999999999999999E-2,6.3E-2,42087,39484,41239,0.42561434824216915,0.44976744876628461,0.44945277490867924,2014,4,"DEC","2014-12-01"]
["Plumas",829,956,969,1660,1793,1888,0.378,0.39200000000000002,0.41699999999999998,1470,1691,1769,0.84699999999999998,0.89900000000000002,0.89600000000000002,0.96299999999999997,1,0.96399999999999997,0.81499999999999995,0.874,0.874,0.112,7.9000000000000001E-2,1.9E-2,0.10299999999999999,9.1999999999999998E-2,0.08,0.183,0.14699999999999999,0.14499999999999999,0.11700000000000001,0.24099999999999999,0.23799999999999999,0.125,0.251,0.25900000000000001,756,773,956,1654,1604,1793,50,82,116,701,676,707,27,34,37,0,0,0,21,22,22,19523,19466,19416,6395,6703,6907,3317,3263,3252,0,0,0,261,217,202,3224,3027,0,665,641,651,0.14599999999999999,0.13900000000000001,0.11700000000000001,3548,3816,0,0.46142844968902808,0.43854437804865226,0.5261404932248257,2014,4,"DEC","2014-12-01"]
["Riverside",119124,124316,127594,284797,289618,296194,0.39700000000000002,0.437,0.45100000000000001,200024,250549,261887,0.70099999999999996,0.85499999999999998,0.872,0.997,0.997,0.99399999999999999,0.95199999999999996,0.874,0.88600000000000001,2.5000000000000001E-2,3.6999999999999998E-2,6.8000000000000005E-2,0.19400000000000001,0.156,0.17599999999999999,0.27300000000000002,0.23,0.25600000000000001,0.20699999999999999,0.224,0.23799999999999999,0.23,0.25,0.26900000000000002,109234,115800,124316,267997,278117,289618,8379,10225,13821,143506,151042,148026,18716,17000,16149,0,0,0,62978,65355,66204,2244399,2264173,2294333,378792,396291,411572,611198,608238,609127,0,0,0,178052,173255,172588,408855,409328,0,54970,56654,57657,0.121,9.9000000000000005E-2,8.2000000000000003E-2,482427,469029,455320,0.55385221853286526,0.59124914316236565,0.63751163857777993,2014,4,"DEC","2014-12-01"]
["Sacramento",96705,101502,103843,213386,217077,220147,0.443,0.46100000000000002,0.46400000000000002,163078,196162,200265,0.75700000000000001,0.89400000000000002,0.90500000000000003,0.97899999999999998,0.98899999999999999,0.98599999999999999,0.98,0.98199999999999998,0.98399999999999999,4.0000000000000001E-3,2E-3,0,0.10100000000000001,0.105,0.11799999999999999,0.17299999999999999,0.17499999999999999,0.19700000000000001,7.0999999999999994E-2,6.3E-2,9.0999999999999998E-2,0.113,0.10100000000000001,0.13800000000000001,90856,94824,101502,204104,210033,217077,5103,6598,9056,102959,105467,101011,11758,9994,9400,0,0,0,46984,47601,47736,1439874,1448268,1461174,245819,254622,264452,359112,358519,358865,0,0,0,97511,101446,94516,324426,308037,0,60330,61371,62271,0.105,8.8999999999999996E-2,7.2999999999999995E-2,310462,306055,295178,0.65832222594433532,0.68101648407910953,0.7368741653264238,2014,4,"DEC","2014-12-01"]
["San Benito",2580,2710,2658,5979,6169,5905,0.42099999999999999,0.4,0.40300000000000002,5232,5770,5661,0.86299999999999999,0.93200000000000005,0.93600000000000005,0.99399999999999999,1,0.9,0.96699999999999997,0.96399999999999997,0.95199999999999996,0.112,7.9000000000000001E-2,1.9E-2,0.20699999999999999,0.125,0.159,0.30399999999999999,0.187,0.28000000000000003,0.20799999999999999,0.318,0.36,0.22500000000000001,0.35799999999999998,0.39900000000000002,2609,2684,2710,6114,6232,6169,216,246,292,3314,3361,3209,502,472,436,0,0,0,1849,1856,1802,56527,57366,58222,8675,9394,9875,15546,15424,15274,0,0,0,6386,5777,5516,10227,9287,0,897,882,899,0.13900000000000001,0.111,9.2999999999999999E-2,8551,8524,0,0.7212493977186083,0.72675062462478957,0.70741531862364759,2014,4,"DEC","2014-12-01"]
["San Bernardino",162640,172721,176843,378592,392265,399898,0.47,0.52,0.53100000000000003,268592,344506,353580,0.71699999999999997,0.879,0.88800000000000001,0.998,1,1,0.89500000000000002,0.94799999999999995,0.96299999999999997,4.0000000000000001E-3,2.8000000000000001E-2,7.2999999999999995E-2,0.21099999999999999,0.19400000000000001,0.219,0.28699999999999998,0.26600000000000001,0.29599999999999999,0.28799999999999998,0.28399999999999997,0.32,0.308,0.31,0.35199999999999998,151637,159737,172721,361404,373620,392265,10026,12685,17508,187444,194878,192219,22712,21323,19813,0,0,0,67830,70335,71384,2065016,2075160,2096123,293471,301721,316194,579792,576858,575598,0,0,0,172415,156056,164799,486650,481334,0,65325,66969,68029,0.11899999999999999,9.8000000000000004E-2,8.1000000000000003E-2,474491,441319,458343,0.75629444227201259,0.84152610654688464,0.85480513964161331,2014,4,"DEC","2014-12-01"]
["San Diego",126937,134694,138327,270406,300896,285499,0.36499999999999999,0.40500000000000003,0.41799999999999998,194302,244639,254027,0.70599999999999996,0.86099999999999999,0.872,0.97899999999999998,0.93500000000000005,0.93400000000000005,0.95199999999999996,0.97399999999999998,0.97599999999999998,1.4E-2,3.9E-2,4.0000000000000001E-3,0.152,0.14000000000000001,0.152,0.23499999999999999,0.224,0.24199999999999999,9.4E-2,7.1999999999999995E-2,8.7999999999999995E-2,0.14499999999999999,0.11600000000000001,0.13200000000000001,112361,122561,134694,246971,260576,300896,11289,13842,19191,125548,131432,131324,19228,15919,15532,0,0,0,88054,93092,97970,3147220,3184072,3214279,533349,558419,579311,722277,723080,726020,0,0,0,228674,236315,228246,442914,451842,0,74992,75967,76554,8.8999999999999996E-2,7.8E-2,6.4000000000000001E-2,564164,553958,548766,0.43821868941117176,0.4659832261291611,0.5173190533272255,2014,4,"DEC","2014-12-01"]
["San Francisco",32234,32961,33173,50731,53900,54246,0.221,0.26200000000000001,0.26900000000000002,33304,43583,44525,0.63900000000000001,0.83499999999999996,0.85199999999999998,0.97,0.97699999999999998,0.97299999999999998,0.69399999999999995,0.83399999999999996,0.86499999999999999,7.0000000000000007E-2,7.1999999999999995E-2,9.4E-2,0.10100000000000001,0.13800000000000001,0.12,0.188,0.221,0.2,8.5999999999999993E-2,9.8000000000000004E-2,0.11700000000000001,0.13300000000000001,0.13800000000000001,0.16900000000000001,32910,32096,32961,50894,50124,53900,4864,5459,6615,19583,19668,18721,5068,4243,3966,0,0,0,19407,19818,20630,820349,833827,840391,162239,171662,176508,116481,119793,123334,0,0,0,105810,96046,103652,134748,134579,0,37817,37708,37503,7.1999999999999995E-2,5.5E-2,4.3999999999999997E-2,121506,120297,100798,0.41957574357943345,0.40594685641860467,0.51877955213904448,2014,4,"DEC","2014-12-01"]
["San Joaquin",47246,50358,51189,113328,118029,119161,0.45100000000000001,0.48699999999999999,0.5,93553,112203,113884,0.81699999999999995,0.93400000000000005,0.94099999999999995,0.98199999999999998,0.98,0.97799999999999998,0.93700000000000006,0.89,0.89200000000000002,6.5000000000000002E-2,4.5999999999999999E-2,1.7999999999999999E-2,0.191,0.13400000000000001,0.155,0.26800000000000002,0.20100000000000001,0.23300000000000001,0.20300000000000001,0.25600000000000001,0.27300000000000002,0.22600000000000001,0.28699999999999998,0.30499999999999999,43790,46964,50358,107532,113230,118029,2587,3502,4706,60071,63093,61837,7727,7295,6809,0,0,0,23960,23995,24307,699003,703790,713961,110087,113154,117867,197931,197012,196893,0,0,0,64140,64800,65961,181087,170765,0,26908,27071,27296,0.15,0.124,0.106,138592,156985,155948,0.77570448329394892,0.71282208923144241,0.75448405858440615,2014,4,"DEC","2014-12-01"]
["San Luis Obispo",9023,9573,9447,17380,17983,17677,0.33,0.376,0.375,13132,16826,16605,0.72699999999999998,0.90700000000000003,0.91200000000000003,0.93500000000000005,0.97399999999999998,0.98499999999999999,0.90800000000000003,0.90400000000000003,0.92900000000000005,0.112,7.9000000000000001E-2,1.9E-2,6.6000000000000003E-2,7.2999999999999995E-2,7.1999999999999995E-2,0.14899999999999999,0.158,0.16400000000000001,5.5E-2,4.9000000000000002E-2,6.3E-2,9.0999999999999998E-2,9.4E-2,0.108,8899,8907,9573,17269,17319,17983,882,1072,1399,8140,8228,8025,1285,1089,1102,0,0,0,3116,3239,3371,271021,271740,272941,61883,65066,67294,50367,50061,49890,0,0,0,9420,10073,10622,33196,30635,0,4420,4383,4290,0.08,6.8000000000000005E-2,5.6000000000000001E-2,43667,47791,45982,0.40160253059420031,0.36625752524840383,0.39378556835265566,2014,4,"DEC","2014-12-01"]
["San Mateo",15436,16060,16053,31071,32208,32074,0.253,0.27400000000000002,0.27700000000000002,24845,29057,29194,0.76700000000000002,0.89700000000000002,0.9,0.96799999999999997,0.97299999999999998,0.97,0.83,0.91100000000000003,0.88900000000000001,0.112,7.9000000000000001E-2,1.9E-2,7.8E-2,0.113,9.1999999999999998E-2,0.14799999999999999,0.19900000000000001,0.188,6.5000000000000002E-2,7.4999999999999997E-2,7.4999999999999997E-2,0.10199999999999999,0.11700000000000001,0.122,13612,14493,16060,28106,29339,32208,1886,2531,3450,16040,17242,16879,3538,4025,3907,0,0,0,11878,13534,14235,736362,741857,747334,145950,155845,160763,162180,163248,163900,0,0,0,60960,58256,55943,78549,77027,0,11180,10953,10783,6.7000000000000004E-2,5.1999999999999998E-2,4.2000000000000003E-2,72926,68114,63839,0.38226904295385361,0.42299145074748989,0.5047687081036859,2014,4,"DEC","2014-12-01"]
["Santa Barbara",14382,15674,15956,32271,34497,34829,0.27900000000000003,0.317,0.32800000000000001,26999,32868,33577,0.81299999999999994,0.92600000000000005,0.93300000000000005,0.92400000000000004,0.875,0.88900000000000001,0.84699999999999998,0.91300000000000003,0.86399999999999999,0.112,7.9000000000000001E-2,1.9E-2,9.7000000000000003E-2,8.6999999999999994E-2,0.09,0.193,0.16200000000000001,0.191,5.8999999999999997E-2,5.8000000000000003E-2,6.6000000000000003E-2,0.109,0.11700000000000001,0.114,14197,14344,15674,32030,32221,34497,866,1086,1559,20351,20051,20526,5628,4170,4029,0,0,0,13341,12614,13524,427358,433157,435999,78083,82325,84301,97785,97825,98027,0,0,0,45401,46332,43550,81084,74176,0,8597,8477,8393,0.08,7.0999999999999994E-2,6.0999999999999999E-2,76855,79414,83642,0.41813738624253444,0.41419200848854154,0.42200119780622236,2014,4,"DEC","2014-12-01"]
["Santa Clara",53263,55307,55515,112280,113439,113741,0.29099999999999998,0.316,0.32700000000000001,88087,102886,103199,0.77500000000000002,0.89800000000000002,0.9,0.88600000000000001,0.97199999999999998,0.97199999999999998,0.92200000000000004,0.96499999999999997,0.94399999999999995,4.2999999999999997E-2,2.8000000000000001E-2,1.7999999999999999E-2,4.3999999999999997E-2,3.6999999999999998E-2,3.4000000000000002E-2,0.121,0.11600000000000001,0.14199999999999999,1.0999999999999999E-2,1.6E-2,1.2999999999999999E-2,5.3999999999999999E-2,6.2E-2,5.7000000000000002E-2,49038,52296,55307,105676,110622,113439,5507,7200,9510,56627,59419,55723,13623,11654,10556,0,0,0,44837,48568,49052,1828597,1850595,1871516,301962,321578,334221,436447,439320,442256,0,0,0,178148,176036,174224,260965,261699,0,43944,44002,43472,8.4000000000000005E-2,6.5000000000000002E-2,5.1999999999999998E-2,220691,215577,173716,0.4774607565369185,0.50311228218070525,0.65194601619115522,2014,4,"DEC","2014-12-01"]
["Santa Cruz",11533,12402,12360,22237,23719,23430,0.32500000000000001,0.37,0.376,16577,21265,21751,0.73299999999999998,0.90200000000000002,0.91300000000000003,0.92900000000000005,0.872,0.83099999999999996,0.68600000000000005,0.97299999999999998,0.97299999999999998,0.112,7.9000000000000001E-2,1.9E-2,5.0999999999999997E-2,4.3999999999999997E-2,2.5999999999999999E-2,0.154,0.11700000000000001,0.122,2.1000000000000001E-2,1.7999999999999999E-2,0.01,6.3E-2,7.3999999999999996E-2,5.1999999999999998E-2,10984,11641,12402,22390,22732,23719,922,1290,1797,11666,11843,11576,3317,2423,2244,0,0,0,8532,8317,8530,267569,271495,272210,50062,53904,56302,55954,55939,56013,0,0,0,21496,20137,23557,42528,38508,0,5104,5077,5038,0.112,0.10299999999999999,8.6999999999999994E-2,37039,42179,47670,0.58842082196675705,0.54467417520778982,0.50502675093748539,2014,4,"DEC","2014-12-01"]
["Shasta",11458,12720,12892,22949,24671,24856,0.41199999999999998,0.42699999999999999,0.439,20506,23236,23744,0.85799999999999998,0.92200000000000004,0.93400000000000005,0.82,0.97199999999999998,0.93799999999999994,0.875,0.95799999999999996,0.96199999999999997,0.112,7.9000000000000001E-2,1.9E-2,0.156,0.13600000000000001,0.16200000000000001,0.245,0.214,0.249,0.191,0.22,0.29199999999999998,0.21199999999999999,0.245,0.33100000000000002,12445,11911,12720,25025,23709,24671,821,990,1221,10508,10472,9992,922,713,609,0,0,0,495,466,465,178477,178591,179305,44441,45455,46860,39051,38745,38532,0,0,0,2105,3086,2491,41050,37387,0,9329,9306,9289,0.13300000000000001,0.11799999999999999,9.7000000000000003E-2,33389,40245,29544,0.73982412472550396,0.58273132182190857,0.83034253379074596,2014,4,"DEC","2014-12-01"]
["Sierra",157,163,160,293,294,298,0.39400000000000002,0.40400000000000003,0.436,256,275,287,0.86799999999999999,0.92600000000000005,0.92300000000000004,1,1,1,1,1,0.87,0.112,7.9000000000000001E-2,1.9E-2,5.3999999999999999E-2,5.2999999999999999E-2,6.0999999999999999E-2,0.16200000000000001,0.184,0.16300000000000001,0.13500000000000001,0.13200000000000001,8.2000000000000003E-2,0.13500000000000001,0.158,0.122,156,156,163,302,305,294,23,26,41,95,106,86,1,1,3,0,0,0,4,6,8,3089,3270,3267,1060,1235,1274,481,463,450,0,0,0,60,93,89,514,497,0,99,99,89,0.14499999999999999,0.129,0.1,623,697,0,0.45574835793595003,0.43626999716296844,0.56159427452170951,2014,4,"DEC","2014-12-01"]
["Siskiyou",2945,3184,3201,6523,6907,6911,0.44600000000000001,0.45600000000000002,0.46500000000000002,5816,6547,6703,0.86599999999999999,0.94,0.95299999999999996,0.99399999999999999,1,1,0.88300000000000001,0.89600000000000002,0.92,0.112,7.9000000000000001E-2,1.9E-2,0.156,0.14299999999999999,0.14000000000000001,0.23200000000000001,0.216,0.22700000000000001,0.186,0.26700000000000002,0.24199999999999999,0.20100000000000001,0.29599999999999999,0.26700000000000002,2719,2900,3184,6100,6486,6907,220,275,413,2701,2872,2825,137,154,141,0,0,0,180,192,181,44598,45215,45290,13353,13967,14388,8878,8755,8639,0,0,0,820,782,717,10616,10036,0,2441,2475,2431,0.153,0.13200000000000001,0.113,10259,10390,0,0.59692071647033884,0.62649903974722321,0.60582435845117577,2014,4,"DEC","2014-12-01"]
["Solano",21193,22292,22378,41998,43531,43554,0.42,0.42499999999999999,0.42899999999999999,36543,40409,40492,0.84399999999999997,0.91,0.91400000000000003,0.91,0.94,0.93200000000000005,0.96099999999999997,0.97399999999999998,0.97199999999999998,0,1.2E-2,5.1999999999999998E-2,3.2000000000000001E-2,2.4E-2,1.7999999999999999E-2,0.13200000000000001,0.109,0.126,1.7999999999999999E-2,7.0000000000000001E-3,8.0000000000000002E-3,7.4999999999999997E-2,6.3E-2,7.1999999999999995E-2,19954,20782,22292,40161,41287,43531,1473,1823,2457,19347,20249,19919,3060,2463,2272,0,0,0,6772,6854,6844,415913,424048,428705,76529,80768,84375,97912,97128,96723,0,0,0,21564,20853,18343,68717,62999,0,11520,11691,11752,0.10100000000000001,0.09,7.4999999999999997E-2,65053,61760,56429,0.61665326783404339,0.66764538469704438,0.76925949545071659,2014,4,"DEC","2014-12-01"]
["Sonoma",18795,19304,19632,34664,34951,35567,0.34200000000000003,0.34699999999999998,0.36,30178,32982,33275,0.84099999999999997,0.91200000000000003,0.91200000000000003,0.86099999999999999,0.89700000000000002,0.95899999999999996,0.48499999999999999,0.73399999999999999,0.75900000000000001,0.112,7.9000000000000001E-2,1.9E-2,9.7000000000000003E-2,9.9000000000000005E-2,0.11700000000000001,0.18,0.18099999999999999,0.20599999999999999,7.5999999999999998E-2,6.0999999999999999E-2,7.6999999999999999E-2,0.14299999999999999,0.11,0.13400000000000001,18390,18686,19304,34447,34451,34951,1870,2351,2986,17154,17558,16974,3946,3484,3249,0,0,0,10341,10432,10517,489283,493070,497260,107417,112593,116344,104978,104608,104298,0,0,0,29280,24921,25983,63908,60020,0,8571,8547,8488,8.5000000000000006E-2,7.0000000000000007E-2,5.6000000000000001E-2,74079,71127,69971,0.45491205373541377,0.49066532056361034,0.50345315035929272,2014,4,"DEC","2014-12-01"]
["Stanislaus",41708,42873,42524,90962,92778,91500,0.438,0.48299999999999998,0.47799999999999998,68228,85292,85464,0.74399999999999999,0.90800000000000003,0.92300000000000004,0.96199999999999997,0.96499999999999997,0.98499999999999999,0.92800000000000005,0.84599999999999997,0.85599999999999998,3.9E-2,1.4E-2,1.4E-2,0.21099999999999999,0.17599999999999999,0.17899999999999999,0.32100000000000001,0.26300000000000001,0.28100000000000003,0.27900000000000003,0.28199999999999997,0.315,0.31,0.32800000000000001,0.36399999999999999,40036,41539,42873,88848,91048,92778,2464,2893,3835,44790,46298,45160,5991,5663,5238,0,0,0,17992,17711,18095,522651,527232,532344,84166,86547,89829,144581,144260,144079,0,0,0,48024,48602,48829,137356,128318,0,19745,20057,20165,0.151,0.129,0.112,117475,125680,115985,0.74978094811434948,0.72214889693563,0.79497781177320248,2014,4,"DEC","2014-12-01"]
["Sutter",5126,5623,5567,12119,13083,12903,0.38300000000000001,0.378,0.38900000000000001,10966,12348,12396,0.89300000000000002,0.93200000000000005,0.94899999999999995,0.98899999999999999,0.98899999999999999,0.98799999999999999,0.91800000000000004,0.90800000000000003,0.91600000000000004,0.112,7.9000000000000001E-2,1.9E-2,0.2,0.184,0.187,0.28599999999999998,0.24399999999999999,0.28199999999999997,0.22800000000000001,0.26,0.23599999999999999,0.23799999999999999,0.28299999999999997,0.26500000000000001,4961,5215,5623,11946,12440,13083,306,369,491,6271,6642,6535,830,689,648,0,0,0,2311,2281,2388,95351,97386,97257,17496,18207,18667,25370,25333,25371,0,0,0,9590,8366,8544,23515,21895,0,3661,3778,3793,0.17499999999999999,0.14599999999999999,0.127,20846,22883,16038,0.72718857098591638,0.53769509167762497,0.8091986651521671,2014,4,"DEC","2014-12-01"]
["Tehama",4481,5009,4848,10181,11155,10646,0.44900000000000001,0.44900000000000001,0.44600000000000001,9226,10518,10212,0.89100000000000001,0.93400000000000005,0.94399999999999995,0.91700000000000004,0.93600000000000005,0.97,0.99199999999999999,0.93200000000000005,0.94799999999999995,0.112,7.9000000000000001E-2,1.9E-2,0.123,0.113,0.14599999999999999,0.19400000000000001,0.17,0.23699999999999999,0.08,0.24399999999999999,0.34399999999999997,8.4000000000000005E-2,0.27200000000000002,0.36899999999999999,4219,4320,5009,9899,9916,11155,259,363,492,4855,5013,5146,469,441,422,0,0,0,1161,1199,1283,63623,64498,64827,14869,15313,15700,15514,15280,15138,0,0,0,2546,2603,2345,17404,16152,0,3057,3062,3106,0.13700000000000001,0.11700000000000001,9.7000000000000003E-2,14556,14220,0,0.66594202724809604,0.69231531437680793,0.76327104213104657,2014,4,"DEC","2014-12-01"]
["Trinity",807,1001,1032,1561,1838,1880,0.39100000000000001,0.44600000000000001,0.45500000000000002,1353,1732,1765,0.83499999999999996,0.91400000000000003,0.91400000000000003,1,1,0.96799999999999997,0.91900000000000004,0.874,0.69799999999999995,0.112,7.9000000000000001E-2,1.9E-2,0.112,0.12,0.12,0.182,0.17499999999999999,0.185,0.30599999999999999,0.14199999999999999,0.25800000000000001,0.32600000000000001,0.17499999999999999,0.30499999999999999,776,762,1001,1557,1516,1838,74,89,117,604,622,623,5,45,42,0,0,0,8,12,10,13470,13776,13782,4270,4587,4753,2335,2276,2215,0,0,0,21,36,49,2854,2603,0,655,636,656,0.156,0.121,9.9000000000000005E-2,3088,3100,0,0.50631183546685954,0.50150279286577459,0.5912422140107656,2014,4,"DEC","2014-12-01"]
["Tulare",47423,50975,51603,116505,132774,133499,0.51400000000000001,0.53700000000000003,0.53500000000000003,97674,115400,115478,0.81899999999999995,0.93700000000000006,0.94,1,0.99099999999999999,0.98299999999999998,0.97899999999999998,0.96699999999999997,0.98299999999999998,2.1000000000000001E-2,4.1000000000000002E-2,3.3000000000000002E-2,0.216,0.21099999999999999,0.215,0.33600000000000002,0.32600000000000001,0.34100000000000003,0.18099999999999999,0.13900000000000001,0.185,0.245,0.20100000000000001,0.249,44577,46471,50975,110086,114774,132774,2949,3459,4856,64076,67240,65842,8010,8233,7798,0,0,0,36803,37887,39618,451627,456075,461703,64345,66305,68896,142812,143372,144472,0,0,0,60886,60016,63244,169956,160183,0,17288,17554,17865,0.159,0.14399999999999999,0.13200000000000001,151607,147863,139566,0.57209225930295116,0.77504881539151371,0.90358518151528189,2014,4,"DEC","2014-12-01"]
["Tuolumne",2821,3009,2981,5192,5556,5465,0.43099999999999999,0.434,0.45500000000000002,4591,5274,5252,0.875,0.93400000000000005,0.93600000000000005,0.88600000000000001,0.95399999999999996,0.96499999999999997,0.95899999999999996,0.91200000000000003,0.85799999999999998,0.112,7.9000000000000001E-2,1.9E-2,0.16600000000000001,0.13500000000000001,0.159,0.25600000000000001,0.214,0.24,0.17799999999999999,0.248,0.222,0.21,0.27800000000000002,0.251,2755,2828,3009,5103,5153,5556,265,299,409,1962,1955,2013,149,137,115,0,0,0,65,66,76,54339,54811,54592,16528,17219,17563,9222,9088,8943,0,0,0,653,696,628,8101,7561,0,1618,1635,1639,0.11700000000000001,0.108,8.6999999999999994E-2,8976,9822,0,0.57443890320256608,0.5308063709413704,0.55096208037690064,2014,4,"DEC","2014-12-01"]
["Ventura",33194,35024,35715,69194,77031,78777,0.34699999999999998,0.38,0.39500000000000002,51397,63846,65237,0.71499999999999997,0.871,0.873,0.94499999999999995,0.97699999999999998,0.97699999999999998,0.93200000000000005,0.93500000000000005,0.94,3.2000000000000001E-2,3.6999999999999998E-2,0.04,0.122,0.13800000000000001,0.13500000000000001,0.22900000000000001,0.247,0.248,0.106,9.5000000000000001E-2,0.113,0.16400000000000001,0.156,0.16900000000000001,31284,32232,35024,64382,66971,77031,2757,3498,4822,35426,37769,37317,8035,6844,6549,0,0,0,23314,25095,26091,834109,839617,844833,148960,156524,162247,206821,205584,204901,0,0,0,79320,76495,75693,123340,111492,0,14656,14764,14875,9.0999999999999998E-2,7.9000000000000001E-2,6.7000000000000004E-2,105820,112132,114150,0.61510962347937126,0.60105354961794943,0.64997993128460252,2014,4,"DEC","2014-12-01"]
["Yolo",8184,8865,9243,17295,18273,18981,0.372,0.38900000000000001,0.40699999999999997,14857,16886,17669,0.83699999999999997,0.89800000000000002,0.90500000000000003,0.88,0.81599999999999995,0.89900000000000002,0.91500000000000004,0.89400000000000002,0.872,0.112,7.9000000000000001E-2,1.9E-2,0.107,0.107,0.114,0.192,0.18,0.19,6.7000000000000004E-2,6.2E-2,7.9000000000000001E-2,0.106,0.10199999999999999,0.11600000000000001,7766,7850,8865,16880,16629,18273,627,774,1075,8261,8108,8448,1070,874,867,0,0,0,4871,4707,5033,204314,206621,208069,31386,32873,34248,44406,43847,43396,0,0,0,13923,14762,11918,31043,28422,0,5307,5351,5314,0.113,9.0999999999999998E-2,7.6999999999999999E-2,44018,42449,50238,0.38251247558070017,0.39257891056597655,0.3707119276196772,2014,4,"DEC","2014-12-01"]
["Yuba",5694,6026,6011,12695,13449,13409,0.48399999999999999,0.48399999999999999,0.498,11090,12562,12739,0.84299999999999997,0.92400000000000004,0.93899999999999995,0.96899999999999997,1,1,0.92800000000000005,0.95099999999999996,0.96699999999999997,0.112,7.9000000000000001E-2,1.9E-2,0.193,0.17299999999999999,0.21,0.28100000000000003,0.23300000000000001,0.29499999999999998,0.36599999999999999,0.35399999999999998,0.434,0.39100000000000001,0.38,0.45900000000000002,5776,5749,6026,13058,12919,13449,298,341,435,6360,6541,6332,644,571,501,0,0,0,1707,1586,1526,73021,73600,74258,11530,11868,12397,20586,20521,20606,0,0,0,3903,3382,4010,20229,18518,0,3772,3733,3734,0.16800000000000001,0.13100000000000001,0.112,19440,14308,17376,0.66300000000000003,0.89600000000000002,0.76600000000000001,2014,4,"DEC","2014-12-01"]
["Alameda",64394,63146,61869,128065,123955,121684,0.35199999999999998,0.35199999999999998,0.34599999999999997,104852,112683,114442,0.80100000000000005,0.879,0.89800000000000002,0.84499999999999997,0.86399999999999999,0.85199999999999998,0.877,0.86799999999999999,0.85399999999999998,2.1999999999999999E-2,0.112,6.8000000000000005E-2,0.107,0.11700000000000001,0.115,0.19400000000000001,0.22800000000000001,0.224,0.06,8.7999999999999995E-2,7.2999999999999995E-2,0.111,0.157,0.13300000000000001,62875,64020,62663,125835,125434,121577,7267,9307,12022,63938,60223,71736,9990,9205,10229,0,0,0,39263,40011,48924,1563370,1582119,1599888,282890,294442,306991,346038,348428,350486,0,0,0,133681,139309,0,243275,0,0,48141,47823,47331,7.2999999999999995E-2,5.8999999999999997E-2,4.7E-2,220034,214363,0,0.56717244038342607,0.58770588854592853,0.6372229790855547,2015,1,"MAR","2015-03-01"]
["Alpine",109,114,107,176,185,171,0.51200000000000001,0.51100000000000001,0.49399999999999999,149,167,157,0.83699999999999997,0.90300000000000002,0.91300000000000003,1,1,1,0.78900000000000003,0.77800000000000002,0.42899999999999999,7.1999999999999995E-2,1.9E-2,4.5999999999999999E-2,6.7000000000000004E-2,0.04,0.105,0.2,0.12,0.21099999999999999,3.3000000000000002E-2,0.08,0,3.3000000000000002E-2,0.12,0,91,114,101,171,194,171,11,16,21,62,59,66,0,0,1,0,0,0,0,0,0,1228,1243,1252,369,398,425,243,245,245,0,0,0,25,23,0,184,0,0,42,39,39,9.8000000000000004E-2,8.7999999999999995E-2,7.9000000000000001E-2,222,0,0,0.70134951054248518,0.80292964974253522,0.66597195415907617,2015,1,"MAR","2015-03-01"]
["Amador",1752,1727,1720,3428,3308,3278,0.47799999999999998,0.499,0.498,2868,3067,3120,0.83699999999999997,0.89600000000000002,0.91400000000000003,0.93700000000000006,0.95699999999999996,0.96299999999999997,0.97099999999999997,0.94,0.94199999999999995,7.1999999999999995E-2,1.9E-2,4.5999999999999999E-2,0.14199999999999999,0.17100000000000001,0.14000000000000001,0.20399999999999999,0.26300000000000001,0.22900000000000001,0.17,0.27600000000000002,0.25900000000000001,0.193,0.32,0.27200000000000002,1685,1770,1823,3280,3373,3445,194,250,329,1298,1222,1619,69,59,67,0,0,0,98,102,126,36945,37017,37178,11769,12078,12420,5919,5806,5741,0,0,0,484,559,0,4116,0,0,674,696,688,0.10299999999999999,8.3000000000000004E-2,6.6000000000000003E-2,4989,0,0,0.65704441950440784,0.66465992098604165,0.73183059517474591,2015,1,"MAR","2015-03-01"]
["Butte",14930,15879,16001,30348,31231,31299,0.43099999999999999,0.44500000000000001,0.46,27021,29798,30227,0.86299999999999999,0.93600000000000005,0.94,0.93200000000000005,0.94199999999999995,0.91300000000000003,0.89500000000000002,0.94,0.92700000000000005,7.1999999999999995E-2,1.9E-2,4.5999999999999999E-2,0.14499999999999999,0.13300000000000001,0.14599999999999999,0.218,0.214,0.215,0.26100000000000001,0.311,0.26700000000000002,0.28899999999999998,0.34499999999999997,0.28999999999999998,14733,15571,16729,30211,31036,32207,1116,1577,2080,13523,12850,15753,1063,878,925,0,0,0,2782,2667,3048,222035,224518,226656,51734,53940,55954,45459,45266,45150,0,0,0,4375,5637,0,47746,0,0,10914,10866,10733,0.10299999999999999,8.6999999999999994E-2,7.1999999999999995E-2,57536,54488,0,0.52065366997840645,0.56693046889491883,0.60002261475812002,2015,1,"MAR","2015-03-01"]
["Calaveras",2654,2867,2894,5060,5378,5421,0.47199999999999998,0.51300000000000001,0.51700000000000002,4145,4940,5026,0.81899999999999995,0.91800000000000004,0.91900000000000004,0.99299999999999999,1,0.99299999999999999,0.95199999999999996,0.95699999999999996,0.95599999999999996,7.1999999999999995E-2,1.9E-2,4.5999999999999999E-2,0.13100000000000001,0.13,0.128,0.189,0.20499999999999999,0.20699999999999999,0.17299999999999999,0.215,0.24299999999999999,0.193,0.26300000000000001,0.26600000000000001,2576,2768,2924,4969,5231,5498,322,437,625,1808,1778,2295,103,88,84,0,0,0,134,133,154,45214,45508,45923,15224,15719,16225,7993,7801,7638,0,0,0,410,598,0,6097,0,0,1043,1056,1057,0.1,8.1000000000000003E-2,6.5000000000000002E-2,6022,0,0,0.82427123354235265,0.80293519722539908,0.83412168219338856,2015,1,"MAR","2015-03-01"]
["California",2015005,2089037,2104220,4351103,4477428,4445534,0.4,0.42099999999999999,0.43,3520222,3977294,4073930,0.83299999999999996,0.91700000000000004,0.92600000000000005,0.96,0.96699999999999997,0.96799999999999997,0.90600000000000003,0.93300000000000005,0.93600000000000005,4.2999999999999997E-2,7.1999999999999995E-2,6.5000000000000002E-2,0.129,0.14199999999999999,0.13,0.20399999999999999,0.23400000000000001,0.215,0.10199999999999999,0.129,0.121,0.129,0.16200000000000001,0.153,1942841,2070803,2140950,4221057,4476031,4481900,176557,234156,304341,2272684,2226004,2720376,341378,320176,352831,0,0,0,1314549,1337933,1628446,38202206,38548204,38896969,6820715,7071818,7340539,9150549,9157600,9184302,0,0,0,3750293,3760183,0,7280074,0,0,1187606,1193089,1187073,8.8999999999999996E-2,7.4999999999999997E-2,6.2E-2,7166749,6980319,0,0.58399999999999996,0.63400000000000001,0.69733016424114824,2015,1,"MAR","2015-03-01"]
["Colusa",733,666,688,1749,1540,1627,0.248,0.23699999999999999,0.27,1623,1555,1756,0.88700000000000001,0.95299999999999996,0.95299999999999996,0.95699999999999996,0.60899999999999999,0.88700000000000001,0.95,0.89700000000000002,0.90300000000000002,7.1999999999999995E-2,1.9E-2,4.5999999999999999E-2,9.8000000000000004E-2,0.11,0.13300000000000001,0.17499999999999999,0.23100000000000001,0.218,0.215,0.28399999999999997,0.33300000000000002,0.24,0.32200000000000001,0.38700000000000001,713,725,661,1710,1722,1563,72,84,118,1032,1004,1267,164,142,170,0,0,0,553,570,773,21987,22254,22555,4033,4198,4385,6106,6114,6167,0,0,0,2986,3111,0,4193,0,0,564,563,561,0.19,0.17499999999999999,0.153,3771,0,0,0.46113151104422845,0.39141984295657661,0.39781260650221328,2015,1,"MAR","2015-03-01"]
["Contra Costa",34380,35825,35445,71039,77345,72012,0.32500000000000001,0.34200000000000003,0.34200000000000003,57601,65951,67560,0.79600000000000004,0.89700000000000002,0.91400000000000003,0.91,0.92500000000000004,0.93400000000000005,0.85499999999999998,0.94099999999999995,0.92500000000000004,0.04,4.2999999999999997E-2,3.1E-2,9.4E-2,9.1999999999999998E-2,9.0999999999999998E-2,0.16300000000000001,0.16800000000000001,0.16500000000000001,5.3999999999999999E-2,7.0999999999999994E-2,6.2E-2,8.5999999999999993E-2,0.114,0.105,32730,35280,36075,67763,76061,72362,3064,3876,5175,36829,36150,45190,5449,5317,6102,0,0,0,15787,16078,20122,1081862,1095476,1108963,215513,223639,232490,253746,251862,250390,0,0,0,66244,68215,0,131952,0,0,24041,24288,24238,7.4999999999999997E-2,6.2E-2,0.05,145293,129295,0,0.47067971198742864,0.57143348851746278,0.55604114791387682,2015,1,"MAR","2015-03-01"]
["Del Norte",2556,2516,2469,5205,5167,5136,0.48,0.49199999999999999,0.48799999999999999,4629,4957,4949,0.88900000000000001,0.95599999999999996,0.96199999999999997,1,1,0.98899999999999999,0.97699999999999998,0.99,0.96099999999999997,7.1999999999999995E-2,1.9E-2,4.5999999999999999E-2,0.188,0.19500000000000001,0.17299999999999999,0.246,0.27500000000000002,0.224,0.34200000000000003,0.35799999999999998,0.33200000000000002,0.36299999999999999,0.39500000000000002,0.36199999999999999,2525,2545,2514,5132,5227,5205,193,238,288,2218,2130,2603,167,139,144,0,0,0,262,223,288,28530,28477,28587,6153,6387,6622,5698,5655,5599,0,0,0,733,725,0,7460,0,0,1817,1816,1797,0.11799999999999999,0.10199999999999999,8.5999999999999993E-2,5923,0,0,0.86431084940613745,0.91507601883208589,0.90731769369194393,2015,1,"MAR","2015-03-01"]
["El Dorado",6484,6932,7197,11899,12578,13063,0.38200000000000001,0.42,0.439,10120,11698,12348,0.81599999999999995,0.89600000000000002,0.90400000000000003,0.98799999999999999,1,1,0.78800000000000003,0.94299999999999995,0.96099999999999997,7.1999999999999995E-2,1.9E-2,4.5999999999999999E-2,0.10100000000000001,0.112,0.121,0.16800000000000001,0.193,0.19400000000000001,0.159,0.2,0.22900000000000001,0.17899999999999999,0.23100000000000001,0.25800000000000001,6397,6871,7405,11765,12479,13278,732,972,1276,4716,4740,6328,417,396,442,0,0,0,882,886,1067,184054,184320,184833,46098,47929,49793,38276,37665,37280,0,0,0,3580,3522,0,17413,0,0,2850,2851,2871,8.5000000000000006E-2,7.0000000000000007E-2,5.7000000000000002E-2,26641,27235,0,0.44106704599832475,0.45696364279304263,0.65409556790410273,2015,1,"MAR","2015-03-01"]
["Fresno",94981,94483,96715,226573,223686,227846,0.52500000000000002,0.54,0.55400000000000005,185899,212720,221930,0.81,0.91700000000000004,0.92600000000000005,0.90500000000000003,0.95699999999999996,0.95799999999999996,0.92300000000000004,0.96399999999999997,0.92600000000000005,3.1E-2,8.9999999999999993E-3,2.5999999999999999E-2,0.129,0.152,0.13100000000000001,0.22700000000000001,0.27600000000000002,0.24399999999999999,7.0999999999999994E-2,0.109,8.5999999999999993E-2,0.11700000000000001,0.16500000000000001,0.14000000000000001,90783,94285,97947,217757,224430,228537,5364,7362,9438,123609,122849,144746,14216,13450,14341,0,0,0,59175,60875,71864,958260,969338,981681,147191,152725,158747,276923,279805,283783,0,0,0,108885,109792,0,299363,0,0,40774,41053,41165,0.13200000000000001,0.11600000000000001,0.10199999999999999,280018,281486,0,0.78293622520574913,0.80626906421255717,0.87322270167921334,2015,1,"MAR","2015-03-01"]
["Glenn",1472,1485,1520,3606,3565,3684,0.36,0.379,0.40200000000000002,3376,3514,3690,0.90600000000000003,0.95499999999999996,0.95899999999999996,1,1,1,0.94399999999999995,0.98499999999999999,0.98499999999999999,7.1999999999999995E-2,1.9E-2,4.5999999999999999E-2,0.152,0.152,0.13700000000000001,0.20799999999999999,0.246,0.224,0.125,0.19700000000000001,0.17,0.14299999999999999,0.23899999999999999,0.19600000000000001,1431,1514,1528,3549,3697,3645,113,148,183,1985,1960,2401,237,215,229,0,0,0,739,762,935,28599,28868,29132,5834,6039,6264,7588,7542,7518,0,0,0,2638,2410,0,6747,0,0,1136,1111,1106,0.121,0.107,8.6999999999999994E-2,6196,0,0,0.56850757302200194,0.55838355889207381,0.55587898296053628,2015,1,"MAR","2015-03-01"]
["Humboldt",9266,11119,11518,17196,19813,20309,0.41799999999999998,0.48399999999999999,0.497,14761,18319,18940,0.82599999999999996,0.90500000000000003,0.91600000000000004,0.95699999999999996,0.99399999999999999,0.997,0.748,0.90500000000000003,0.91900000000000004,7.1999999999999995E-2,1.9E-2,4.5999999999999999E-2,7.9000000000000001E-2,0.11,0.114,0.13200000000000001,0.17299999999999999,0.17299999999999999,0.16200000000000001,0.20899999999999999,0.21299999999999999,0.18,0.23300000000000001,0.22900000000000001,8812,10547,12084,16507,19098,21066,695,1117,1512,7000,7428,9450,684,644,686,0,0,0,886,900,1123,136480,136779,137159,30216,31381,32518,26025,25824,25609,0,0,0,2347,2266,0,24939,0,0,5607,5545,5488,8.2000000000000003E-2,6.8000000000000005E-2,5.6000000000000001E-2,34043,33222,0,0.474035923417713,0.56563435374326043,0.65877861627084822,2015,1,"MAR","2015-03-01"]
["Imperial",15263,16657,16703,38782,42202,42073,0.49399999999999999,0.54300000000000004,0.54300000000000004,34291,40337,40706,0.878,0.94,0.94799999999999995,0.95299999999999996,0.91500000000000004,0.94,0.89400000000000002,0.89500000000000002,0.88100000000000001,7.1999999999999995E-2,1.9E-2,4.5999999999999999E-2,0.16200000000000001,0.14799999999999999,0.159,0.24299999999999999,0.218,0.23799999999999999,0.22,0.20399999999999999,0.24099999999999999,0.25600000000000001,0.22900000000000001,0.27500000000000002,14518,15936,17367,37083,40394,43485,1738,2213,2905,19291,19838,24612,1028,990,905,0,0,0,19370,21381,27755,179326,183154,187689,28182,29668,31415,51426,52464,53799,0,0,0,32195,33803,0,55474,0,0,10276,10238,10128,0.249,0.23599999999999999,0.24,44790,44826,0,0.81464017162211388,0.89508144333471995,0.90733457568972442,2015,1,"MAR","2015-03-01"]
["Inyo",1052,1043,1042,2152,2093,2064,0.40400000000000003,0.42399999999999999,0.42699999999999999,1815,1937,1946,0.84899999999999998,0.92200000000000004,0.93400000000000005,0.99099999999999999,1,0.98599999999999999,0.95499999999999996,0.92900000000000005,0.94899999999999995,7.1999999999999995E-2,1.9E-2,4.5999999999999999E-2,0.10299999999999999,0.11899999999999999,0.151,0.19500000000000001,0.22,0.23400000000000001,0.218,0.31,0.27300000000000002,0.224,0.33800000000000002,0.309,1058,1068,1049,2132,2149,2076,137,154,201,964,928,1141,103,98,96,0,0,0,327,296,346,19241,19244,19304,5510,5699,5912,3660,3590,3538,0,0,0,532,510,0,3188,0,0,407,402,394,7.9000000000000001E-2,7.0000000000000007E-2,5.8000000000000003E-2,2766,0,0,0.73946492362442684,0.72042269416670368,0.80302969461806784,2015,1,"MAR","2015-03-01"]
["Kern",60740,62059,63893,147170,147285,149749,0.45700000000000002,0.46600000000000003,0.48499999999999999,126647,140138,145930,0.84,0.93,0.93799999999999994,0.97699999999999998,0.995,0.99299999999999999,0.88400000000000001,0.92,0.91500000000000004,2.5999999999999999E-2,7.0000000000000001E-3,6.0000000000000001E-3,0.20599999999999999,0.21099999999999999,0.17899999999999999,0.28399999999999997,0.31,0.26200000000000001,0.191,0.20899999999999999,0.159,0.222,0.25,0.185,59623,61918,68143,144653,148150,160741,3983,5081,7145,84978,82576,105010,10703,9808,10689,0,0,0,37191,37076,47266,869797,878356,894492,122971,128553,134065,252028,256535,262787,0,0,0,88100,79181,0,224473,0,0,31384,31592,31341,0.11700000000000001,0.104,0.10199999999999999,224185,225536,0,0.64036520264020891,0.6560986851203231,0.76605508020541824,2015,1,"MAR","2015-03-01"]
["Kings",10051,10066,10270,23815,23550,24051,0.49,0.50700000000000001,0.51900000000000002,21075,22455,23317,0.874,0.94099999999999995,0.95,0.96899999999999997,0.998,0.997,0.88700000000000001,0.93400000000000005,0.96399999999999997,7.1999999999999995E-2,1.9E-2,4.5999999999999999E-2,0.18099999999999999,0.217,0.22500000000000001,0.255,0.318,0.30099999999999999,0.34899999999999998,0.33700000000000002,0.28999999999999998,0.379,0.36699999999999999,0.32100000000000001,9956,10210,10785,23543,24002,24942,652,797,1081,12892,12521,15587,1396,1267,1418,0,0,0,5451,5713,7275,152456,153601,155122,19636,20420,21191,41136,41468,41947,0,0,0,14426,15306,0,33393,0,0,4659,4635,4579,0.13500000000000001,0.121,0.105,34891,38859,0,0.66930047437077489,0.61675060236025636,0.68600653300893477,2015,1,"MAR","2015-03-01"]
["Lake",5262,5693,5936,10622,11283,11629,0.41399999999999998,0.443,0.45400000000000001,9172,10843,11378,0.84499999999999997,0.94199999999999995,0.95099999999999996,0.86499999999999999,0.95099999999999996,0.97499999999999998,0.85499999999999998,0.92300000000000004,0.94599999999999995,7.1999999999999995E-2,1.9E-2,4.5999999999999999E-2,6.6000000000000003E-2,7.0000000000000007E-2,6.4000000000000001E-2,0.112,0.14799999999999999,0.13100000000000001,0.34899999999999998,0.312,0.27800000000000002,0.39300000000000002,0.36299999999999999,0.32100000000000001,5227,5525,6253,10453,11036,12127,586,736,1022,4436,4622,5927,385,344,393,0,0,0,814,817,1156,64782,65465,66219,18045,18728,19438,12882,12726,12642,0,0,0,1792,1951,0,16443,0,0,3710,3663,3675,0.108,8.8999999999999996E-2,7.6999999999999999E-2,17452,17435,0,0.58994489464318189,0.6317675039698486,0.83474883738835326,2015,1,"MAR","2015-03-01"]
["Lassen",1488,1574,1545,3149,3216,3182,0.47299999999999998,0.47599999999999998,0.46800000000000003,2819,3046,3023,0.88100000000000001,0.93500000000000005,0.93600000000000005,0.90200000000000002,0.83199999999999996,0.86699999999999999,0.82699999999999996,0.77600000000000002,0.78400000000000003,7.1999999999999995E-2,1.9E-2,4.5999999999999999E-2,0.10299999999999999,8.7999999999999995E-2,6.8000000000000005E-2,0.189,0.14000000000000001,0.154,0.247,0.20699999999999999,0.249,0.27600000000000002,0.23799999999999999,0.28499999999999998,1426,1536,1540,2971,3168,3205,99,150,199,1319,1345,1730,91,108,99,0,0,0,67,71,94,34966,35038,35190,6186,6479,6760,5574,5519,5457,0,0,0,769,712,0,4436,0,0,906,880,883,0.106,9.2999999999999999E-2,7.2999999999999995E-2,4398,0,0,0.67780447504446817,0.78611426364455528,0.85393368079206677,2015,1,"MAR","2015-03-01"]
["Los Angeles",573325,585664,585716,1177757,1190842,1185400,0.34399999999999997,0.36399999999999999,0.375,931107,1003749,1013768,0.77900000000000003,0.83899999999999997,0.84799999999999998,0.96899999999999997,0.96499999999999997,0.96699999999999997,0.93899999999999995,0.92900000000000005,0.94799999999999995,3.2000000000000001E-2,8.1000000000000003E-2,5.8000000000000003E-2,0.104,0.122,8.3000000000000004E-2,0.17499999999999999,0.21,0.156,8.9999999999999993E-3,8.0000000000000002E-3,0.01,1.4E-2,1.0999999999999999E-2,1.2E-2,557570,585696,588075,1148512,1193453,1183107,46590,59648,76022,629069,614546,726193,117585,109736,118786,0,0,0,444806,444589,520243,10010961,10082664,10147070,1701464,1760921,1826080,2329494,2322213,2320563,0,0,0,1402433,1394350,0,2250353,0,0,388148,389765,386663,9.8000000000000004E-2,8.3000000000000004E-2,6.7000000000000004E-2,2088070,2032450,0,0.54211494769640123,0.58334051625028915,0.66276061455130608,2015,1,"MAR","2015-03-01"]
["Madera",11221,11515,11878,28263,28701,29310,0.48199999999999998,0.49099999999999999,0.50600000000000001,25994,27711,28637,0.90300000000000002,0.95599999999999996,0.96299999999999997,0.97099999999999997,0.998,0.98699999999999999,0.88700000000000001,0.88400000000000001,0.876,7.1999999999999995E-2,1.9E-2,4.5999999999999999E-2,0.14099999999999999,0.17399999999999999,0.14599999999999999,0.20699999999999999,0.28100000000000003,0.224,0.214,0.23300000000000001,0.218,0.246,0.26700000000000002,0.246,10608,11507,12063,26856,28885,29699,619,799,1081,16652,16999,20470,2773,2654,3011,0,0,0,9640,10033,11990,153409,154829,157722,26873,27801,28993,42149,43015,43736,0,0,0,20706,20778,0,42230,0,0,4478,4505,4530,0.125,0.11,0.105,38832,38903,0,0.69096227737139893,0.74120990607815518,0.91808234301547598,2015,1,"MAR","2015-03-01"]
["Marin",5920,6311,6300,9998,10475,10403,0.30099999999999999,0.32700000000000001,0.33400000000000002,9105,10174,10257,0.89,0.94399999999999995,0.94599999999999995,0.94699999999999995,0.96899999999999997,0.98199999999999998,0.90100000000000002,0.94,0.93100000000000005,7.1999999999999995E-2,1.9E-2,4.5999999999999999E-2,0.14699999999999999,0.14599999999999999,0.17899999999999999,0.21199999999999999,0.22600000000000001,0.248,0.19800000000000001,0.22800000000000001,0.26700000000000002,0.22900000000000001,0.26400000000000001,0.30399999999999999,5762,6216,6511,9774,10397,10687,887,1119,1471,4734,4831,5967,1271,1282,1459,0,0,0,3455,3804,4835,256264,257792,258804,69445,70897,72375,51412,51122,50887,0,0,0,8867,11871,0,21230,0,0,3107,3034,2913,5.1999999999999998E-2,4.2999999999999997E-2,3.5000000000000003E-2,22421,22696,0,0.41976609833322831,0.45416962715835596,0.44650733867359088,2015,1,"MAR","2015-03-01"]
["Mariposa",1017,1016,1073,2034,1972,2033,0.49199999999999999,0.497,0.52700000000000002,1833,1919,2016,0.89,0.95599999999999996,0.95699999999999996,0.91200000000000003,0.80400000000000005,0.84799999999999998,0.91500000000000004,0.92600000000000005,0.97599999999999998,7.1999999999999995E-2,1.9E-2,4.5999999999999999E-2,9.2999999999999999E-2,0.182,0.14299999999999999,0.124,0.26400000000000001,0.19800000000000001,0.19900000000000001,0.19,0.26400000000000001,0.223,0.20799999999999999,0.28699999999999998,920,1005,1122,1855,1974,2152,119,172,233,714,711,952,37,31,30,0,0,0,30,52,49,18101,18091,18147,5971,6133,6328,2988,2966,2948,0,0,0,227,199,0,2652,0,0,462,454,451,0.105,8.7999999999999995E-2,7.1999999999999995E-2,3155,0,0,0.58782568148826908,0.63584459078564948,0.68894049645505728,2015,1,"MAR","2015-03-01"]
["Mendocino",7144,7329,7131,13415,13591,13178,0.38300000000000001,0.40200000000000002,0.39900000000000002,11483,12610,12626,0.82599999999999996,0.91200000000000003,0.92600000000000005,0.99399999999999999,0.98099999999999998,0.98699999999999999,0.95499999999999996,0.96499999999999997,0.97299999999999998,7.1999999999999995E-2,1.9E-2,4.5999999999999999E-2,0.107,0.17199999999999999,0.15,0.191,0.29199999999999998,0.26800000000000002,3.5999999999999997E-2,0.35499999999999998,0.34799999999999998,4.2000000000000003E-2,0.42599999999999999,0.436,6923,7569,7077,13202,14007,13204,699,941,1117,5665,5681,6905,688,618,637,0,0,0,1823,1931,2266,88931,88795,88884,23290,24007,24725,18865,18784,18737,0,0,0,4171,4690,0,21783,0,0,3218,3145,3087,8.2000000000000003E-2,6.9000000000000006E-2,5.8999999999999997E-2,22381,19834,0,0.58791930175161367,0.69491422244138812,0.68801460976166073,2015,1,"MAR","2015-03-01"]
["Merced",23364,24235,24649,55842,57128,57836,0.49099999999999999,0.50700000000000001,0.51900000000000002,48612,55436,57086,0.85199999999999998,0.95699999999999996,0.96499999999999997,0.96099999999999997,0.98899999999999999,0.97699999999999998,0.92300000000000004,0.95,0.94799999999999995,4.0000000000000001E-3,3.3000000000000002E-2,1.7000000000000001E-2,0.16500000000000001,0.17399999999999999,0.17,0.24099999999999999,0.28899999999999998,0.24199999999999999,0.253,0.35299999999999998,0.32400000000000001,0.28199999999999997,0.39600000000000002,0.35399999999999998,22956,24370,25373,55568,57733,58778,1338,1886,2467,31540,31258,37709,4036,3796,4262,0,0,0,15579,15688,19191,263441,266444,269572,37818,39238,40790,79353,79287,79728,0,0,0,35644,33521,0,80292,0,0,10849,10825,10774,0.14499999999999999,0.128,0.114,70247,74499,0,0.78565860623862072,0.76763611001397902,0.73586842548148068,2015,1,"MAR","2015-03-01"]
["Modoc",437,481,467,963,1033,1023,0.35399999999999998,0.38600000000000001,0.38600000000000001,840,984,994,0.88500000000000001,0.94499999999999995,0.95299999999999996,0.96699999999999997,1,1,0.94399999999999995,0.89100000000000001,0.81299999999999994,7.1999999999999995E-2,1.9E-2,4.5999999999999999E-2,0.128,0.17599999999999999,0.21199999999999999,0.17699999999999999,0.30299999999999999,0.26700000000000002,0.184,0.27500000000000002,0.33600000000000002,0.184,0.31,0.34899999999999998,415,467,455,935,1001,966,34,40,58,442,438,605,42,31,42,0,0,0,71,62,61,9457,9395,9410,2876,2896,2945,1952,1905,1894,0,0,0,335,353,0,1865,0,0,416,421,419,0.124,0.105,8.7999999999999995E-2,2622,0,0,0.36099657830335341,0.4472268901875262,0.49576448172215082,2015,1,"MAR","2015-03-01"]
["Mono",522,456,499,823,778,849,0.28199999999999997,0.29899999999999999,0.311,634,699,753,0.70599999999999996,0.85,0.874,0.93400000000000005,1,0.93899999999999995,0.90300000000000002,0.92400000000000004,0.95699999999999996,7.1999999999999995E-2,1.9E-2,4.5999999999999999E-2,2.3E-2,6.9000000000000006E-2,5.0999999999999997E-2,4.5999999999999999E-2,0.13400000000000001,0.13700000000000001,4.9000000000000002E-2,6.9000000000000006E-2,9.0999999999999998E-2,5.8999999999999997E-2,8.1000000000000003E-2,0.10199999999999999,400,522,520,656,855,856,43,49,72,283,334,463,74,70,78,0,0,0,163,218,290,14376,14440,14525,2711,2804,2939,3013,3046,3086,0,0,0,937,1069,0,1248,0,0,101,100,99,8.5000000000000006E-2,7.1999999999999995E-2,6.0999999999999999E-2,2021,0,0,0.31554896752066686,0.49939412291526875,0.69164149189032076,2015,1,"MAR","2015-03-01"]
["Monterey",22399,20520,23266,51281,45843,52560,0.376,0.35499999999999998,0.40799999999999997,46141,45149,52785,0.873,0.94699999999999995,0.96099999999999997,1,1,1,0.95599999999999996,0.95399999999999996,0.95,7.9000000000000001E-2,8.8999999999999996E-2,7.4999999999999997E-2,0.13200000000000001,0.22800000000000001,0.151,0.19800000000000001,0.35299999999999998,0.23499999999999999,0.115,0.193,0.127,0.13,0.219,0.14499999999999999,20213,21758,22745,46145,49132,50601,1572,2212,2984,29909,30054,40553,6960,6638,8572,0,0,0,21235,22043,31763,424119,426670,429584,71183,73258,75614,112481,113104,113636,0,0,0,64059,74856,0,88589,0,0,8458,8488,8376,0.10299999999999999,9.0999999999999998E-2,8.1000000000000003E-2,83052,76819,0,0.56469538837346811,0.65190822926998127,0.75962434950577884,2015,1,"MAR","2015-03-01"]
["Napa",3420,3444,3575,7164,7124,7421,0.28199999999999997,0.30099999999999999,0.32,6505,6858,7241,0.873,0.93300000000000005,0.93600000000000005,0.72,0.88200000000000001,0.94199999999999995,0.96199999999999997,0.95399999999999996,0.95499999999999996,7.1999999999999995E-2,1.9E-2,4.5999999999999999E-2,8.8999999999999996E-2,0.113,0.11,0.14699999999999999,0.183,0.183,0.14000000000000001,0.22900000000000001,0.14499999999999999,0.16,0.27500000000000002,0.16700000000000001,3193,3526,3632,6710,7325,7444,341,433,562,4081,4040,5159,909,798,924,0,0,0,2892,2923,3742,139831,141172,142301,32036,32913,33854,31002,30942,30799,0,0,0,12782,11600,0,15421,0,0,2156,2118,2093,6.8000000000000005E-2,5.6000000000000001E-2,4.5999999999999999E-2,16770,13997,0,0.40661393682295693,0.52160944627671246,0.38161673999826451,2015,1,"MAR","2015-03-01"]
["Nevada",4004,4202,4246,7593,7687,7705,0.38300000000000001,0.40500000000000003,0.40400000000000003,6502,7224,7240,0.82799999999999996,0.91200000000000003,0.91600000000000004,0.996,1,0.96499999999999997,0.81,0.85899999999999999,0.84599999999999997,7.1999999999999995E-2,1.9E-2,4.5999999999999999E-2,0.10100000000000001,0.104,0.105,0.17100000000000001,0.192,0.17699999999999999,0.13100000000000001,0.222,0.188,0.153,0.255,0.222,3898,4221,4272,7452,7804,7776,445,640,813,2951,2868,3576,186,165,182,0,0,0,255,284,364,98317,98453,98633,31210,32138,33027,17565,17237,17026,0,0,0,1576,1472,0,10758,0,0,1796,1796,1806,8.1000000000000003E-2,6.6000000000000003E-2,5.5E-2,16674,12649,0,0.44248242080254063,0.61057440393830054,0.42800062583066384,2015,1,"MAR","2015-03-01"]
["Orange",113508,118925,120652,245759,273208,253714,0.34100000000000003,0.36199999999999999,0.36599999999999999,203037,230344,236408,0.81699999999999995,0.90600000000000003,0.91900000000000004,0.98399999999999999,0.98499999999999999,0.98599999999999999,0.98799999999999999,0.996,0.995,3.4000000000000002E-2,3.2000000000000001E-2,3.3000000000000002E-2,9.4E-2,0.11,0.112,0.16600000000000001,0.19800000000000001,0.19800000000000001,5.2999999999999999E-2,8.5999999999999993E-2,7.5999999999999998E-2,8.6999999999999994E-2,0.13100000000000001,0.12,105823,117235,123718,232862,270245,257750,13145,17616,22825,139033,135615,165520,29922,28117,31211,0,0,0,111958,114889,137793,3097966,3125833,3150934,559090,579380,601086,721292,719772,718992,0,0,0,316852,325313,0,467937,0,0,67573,68202,68296,6.5000000000000002E-2,5.5E-2,4.4999999999999998E-2,444095,443857,0,0.51788536634810356,0.58262619430581397,0.61073927765205804,2015,1,"MAR","2015-03-01"]
["Placer",9024,9374,9726,18465,18731,18407,0.33100000000000002,0.35,0.35,13351,15675,15877,0.72199999999999998,0.84699999999999998,0.85899999999999999,0.997,0.99299999999999999,0.98199999999999998,0.97399999999999998,0.97,0.95,7.1999999999999995E-2,1.9E-2,4.5999999999999999E-2,0.1,0.114,0.11799999999999999,0.17199999999999999,0.19500000000000001,0.19900000000000001,5.8999999999999997E-2,0.10199999999999999,7.9000000000000001E-2,9.5000000000000001E-2,0.14899999999999999,0.127,8480,9206,9410,17673,18455,18190,1019,1416,1857,7868,7411,9829,677,658,766,0,0,0,2021,1954,2411,365125,369460,373503,85049,87902,90692,84419,83682,83185,0,0,0,8063,6222,0,28497,0,0,5056,5087,5127,7.6999999999999999E-2,6.3E-2,0.05,39484,41239,0,0.44976744876628461,0.44945277490867924,0.47371604310456833,2015,1,"MAR","2015-03-01"]
["Plumas",909,969,1060,1844,1888,2030,0.38300000000000001,0.41699999999999998,0.432,1535,1769,1845,0.81,0.89600000000000002,0.89800000000000002,0.98699999999999999,0.96399999999999997,1,0.55100000000000005,0.874,0.80700000000000005,7.1999999999999995E-2,1.9E-2,4.5999999999999999E-2,5.7000000000000002E-2,0.08,7.5999999999999998E-2,0.107,0.14499999999999999,0.11,0.14499999999999999,0.23799999999999999,0.18099999999999999,0.16400000000000001,0.25900000000000001,0.191,773,956,1061,1604,1793,1993,82,116,160,676,707,961,34,37,51,0,0,0,22,22,53,19466,19416,19384,6703,6907,7072,3263,3252,3249,0,0,0,217,202,0,3027,0,0,641,651,656,0.13900000000000001,0.11700000000000001,0.104,3816,0,0,0.43854437804865226,0.5261404932248257,0.59469382647241054,2015,1,"MAR","2015-03-01"]
["Riverside",121060,127594,126931,287272,296194,292785,0.40699999999999997,0.45100000000000001,0.44800000000000001,213646,261887,265001,0.74199999999999999,0.872,0.88700000000000001,0.997,0.99399999999999999,0.995,0.879,0.88600000000000001,0.90300000000000002,3.5000000000000003E-2,6.8000000000000005E-2,7.6999999999999999E-2,0.17399999999999999,0.17599999999999999,0.17,0.248,0.25600000000000001,0.25600000000000001,0.214,0.23799999999999999,0.224,0.24299999999999999,0.26900000000000002,0.255,115800,124316,129532,278117,289618,295239,10225,13821,18121,151042,148026,184930,17000,16149,17346,0,0,0,65355,66204,81846,2264173,2294333,2323527,396291,411572,428027,608238,609127,612757,0,0,0,173255,172588,0,409328,0,0,56654,57657,58059,9.9000000000000005E-2,8.2000000000000003E-2,6.7000000000000004E-2,469029,455320,0,0.59124914316236565,0.63751163857777993,0.69484033727327177,2015,1,"MAR","2015-03-01"]
["Sacramento",97098,103843,103939,213072,220147,219747,0.44,0.46400000000000002,0.46300000000000002,169082,200265,205164,0.79,0.90500000000000003,0.92,0.97599999999999998,0.98599999999999999,0.98899999999999999,0.97099999999999997,0.98399999999999999,0.97499999999999998,7.0000000000000001E-3,0,0,0.1,0.11799999999999999,0.123,0.17599999999999999,0.19700000000000001,0.21,5.7000000000000002E-2,9.0999999999999998E-2,8.5000000000000006E-2,9.1999999999999998E-2,0.13800000000000001,0.13100000000000001,94824,101502,105023,210033,217077,219932,6598,9056,11837,105467,101011,123044,9994,9400,10029,0,0,0,47601,47736,57891,1448268,1461174,1475381,254622,264452,275133,358519,358865,360213,0,0,0,101446,94516,0,308037,0,0,61371,62271,62730,8.8999999999999996E-2,7.2999999999999995E-2,0.06,306055,295178,0,0.68101648407910953,0.7368741653264238,0.83260287264778898,2015,1,"MAR","2015-03-01"]
["San Benito",2757,2658,2731,6378,5905,6193,0.40799999999999997,0.40300000000000002,0.42599999999999999,5515,5661,6095,0.85799999999999998,0.93600000000000005,0.94699999999999995,1,0.9,0.98099999999999998,0.95,0.95199999999999996,0.94599999999999995,7.1999999999999995E-2,1.9E-2,4.5999999999999999E-2,0.186,0.159,0.14000000000000001,0.23899999999999999,0.28000000000000003,0.23300000000000001,0.21,0.36,0.29899999999999999,0.23599999999999999,0.39900000000000002,0.34,2684,2710,2702,6232,6169,5988,246,292,367,3361,3209,4065,472,436,505,0,0,0,1856,1802,2281,57366,58222,59039,9394,9875,10342,15424,15274,15140,0,0,0,5777,5516,0,9287,0,0,882,899,900,0.111,9.2999999999999999E-2,7.5999999999999998E-2,8524,0,0,0.72675062462478957,0.70741531862364759,0.78347499663269027,2015,1,"MAR","2015-03-01"]
["San Bernardino",166127,176843,177354,382585,399898,398410,0.48899999999999999,0.53100000000000003,0.53700000000000003,296197,353580,358255,0.78100000000000003,0.88800000000000001,0.89700000000000002,0.997,1,1,0.86399999999999999,0.96299999999999997,0.95699999999999996,0.01,7.2999999999999995E-2,5.6000000000000001E-2,0.2,0.219,0.217,0.26500000000000001,0.29599999999999999,0.3,0.26800000000000002,0.32,0.27800000000000002,0.29099999999999998,0.35199999999999998,0.308,159737,172721,181362,373620,392265,403228,12685,17508,22887,194878,192219,234835,21323,19813,20761,0,0,0,70335,71384,85947,2075160,2096123,2116461,301721,316194,331502,576858,575598,576195,0,0,0,156056,164799,0,481334,0,0,66969,68029,68072,9.8000000000000004E-2,8.1000000000000003E-2,6.5000000000000002E-2,441319,458343,0,0.84152610654688464,0.85480513964161331,0.92665518793589696,2015,1,"MAR","2015-03-01"]
["San Diego",128475,138327,139096,272951,285499,287399,0.38100000000000001,0.41799999999999998,0.41699999999999998,215893,254027,262644,0.78100000000000003,0.872,0.88600000000000001,0.97399999999999998,0.93400000000000005,0.93600000000000005,0.96399999999999997,0.97599999999999998,0.97799999999999998,0.05,4.0000000000000001E-3,8.0000000000000002E-3,0.14599999999999999,0.152,0.13400000000000001,0.22900000000000001,0.24199999999999999,0.22500000000000001,0.06,8.7999999999999995E-2,6.6000000000000003E-2,0.1,0.13200000000000001,0.105,122561,134694,143440,260576,300896,291188,13842,19191,25885,131432,131324,168267,15919,15532,17078,0,0,0,93092,97970,123936,3184072,3214279,3244706,558419,579311,601375,723080,726020,730140,0,0,0,236315,228246,0,451842,0,0,75967,76554,76341,7.8E-2,6.4000000000000001E-2,5.1999999999999998E-2,553958,548766,0,0.4659832261291611,0.5173190533272255,0.57292109557354953,2015,1,"MAR","2015-03-01"]
["San Francisco",32282,33173,33153,50484,54246,50987,0.22800000000000001,0.26900000000000002,0.27400000000000002,35776,44525,45530,0.69799999999999995,0.85199999999999998,0.86499999999999999,0.96599999999999997,0.97299999999999998,0.97299999999999998,0.75600000000000001,0.86499999999999999,0.86199999999999999,4.2000000000000003E-2,9.4E-2,8.5000000000000006E-2,0.108,0.12,0.12,0.193,0.2,0.20100000000000001,0.09,0.11700000000000001,0.1,0.129,0.16900000000000001,0.14599999999999999,32096,32961,34244,50124,53900,52180,5459,6615,8552,19668,18721,23126,4243,3966,4486,0,0,0,19818,20630,26371,833827,840391,848564,171662,176508,181559,119793,123334,126617,0,0,0,96046,103652,0,134579,0,0,37708,37503,37327,5.5E-2,4.3999999999999997E-2,3.5999999999999997E-2,120297,100798,0,0.40594685641860467,0.51877955213904448,0.50698302103297233,2015,1,"MAR","2015-03-01"]
["San Joaquin",48102,51189,51784,114754,119161,120014,0.46400000000000002,0.5,0.51100000000000001,98502,113884,116473,0.84599999999999997,0.94099999999999995,0.94699999999999995,0.99099999999999999,0.97799999999999998,0.98699999999999999,0.88300000000000001,0.89200000000000002,0.88900000000000001,4.9000000000000002E-2,1.7999999999999999E-2,1.7999999999999999E-2,0.14099999999999999,0.155,0.16200000000000001,0.20499999999999999,0.23300000000000001,0.23799999999999999,0.217,0.27300000000000002,0.23100000000000001,0.24199999999999999,0.30499999999999999,0.25800000000000001,46964,50358,53401,113230,118029,122077,3502,4706,6110,63093,61837,74545,7295,6809,7330,0,0,0,23995,24307,28986,703790,713961,723506,113154,117867,122739,197012,196893,197478,0,0,0,64800,65961,0,170765,0,0,27071,27296,27357,0.124,0.106,8.8999999999999996E-2,156985,155948,0,0.71282208923144241,0.75448405858440615,0.92455081561557007,2015,1,"MAR","2015-03-01"]
["San Luis Obispo",9399,9447,9834,17988,17677,18402,0.35,0.375,0.38800000000000001,14538,16605,17420,0.78100000000000003,0.91200000000000003,0.92200000000000004,0.93400000000000005,0.98499999999999999,0.95299999999999996,0.90100000000000002,0.92900000000000005,0.93300000000000005,7.1999999999999995E-2,1.9E-2,4.5999999999999999E-2,7.3999999999999996E-2,7.1999999999999995E-2,8.4000000000000005E-2,0.13700000000000001,0.16400000000000001,0.16,3.4000000000000002E-2,6.3E-2,5.2999999999999999E-2,6.2E-2,0.108,9.7000000000000003E-2,8907,9573,10090,17319,17983,18642,1072,1399,1754,8228,8025,10311,1089,1102,1255,0,0,0,3239,3371,4211,271740,272941,274254,65066,67294,69554,50061,49890,49891,0,0,0,10073,10622,0,30635,0,0,4383,4290,4209,6.8000000000000005E-2,5.6000000000000001E-2,4.5999999999999999E-2,47791,45982,0,0.36625752524840383,0.39378556835265566,0.40872986695625607,2015,1,"MAR","2015-03-01"]
["San Mateo",15819,16053,15994,32181,32074,31880,0.26,0.27700000000000002,0.28199999999999997,26799,29194,29344,0.82499999999999996,0.9,0.9,0.98399999999999999,0.97,0.97499999999999998,0.875,0.88900000000000001,0.93300000000000005,7.1999999999999995E-2,1.9E-2,4.5999999999999999E-2,0.1,9.1999999999999998E-2,9.6000000000000002E-2,0.184,0.188,0.19400000000000001,0.05,7.4999999999999997E-2,6.9000000000000006E-2,8.3000000000000004E-2,0.122,0.114,14493,16060,16305,29339,32208,31752,2531,3450,4279,17242,16879,21195,4025,3907,4575,0,0,0,13534,14235,17806,741857,747334,752751,155845,160763,166303,163248,163900,164163,0,0,0,58256,55943,0,77027,0,0,10953,10783,10434,5.1999999999999998E-2,4.2000000000000003E-2,3.4000000000000002E-2,68114,63839,0,0.42299145074748989,0.5047687081036859,0.44253944353777569,2015,1,"MAR","2015-03-01"]
["Santa Barbara",15581,15956,16991,34841,34829,37090,0.309,0.32800000000000001,0.35499999999999998,30591,33577,36702,0.84499999999999997,0.93300000000000005,0.94299999999999995,0.626,0.88900000000000001,0.85499999999999998,0.81699999999999995,0.86399999999999999,0.90400000000000003,7.1999999999999995E-2,1.9E-2,4.5999999999999999E-2,9.8000000000000004E-2,0.09,8.5999999999999993E-2,0.17299999999999999,0.191,0.17299999999999999,0.04,6.6000000000000003E-2,5.7000000000000002E-2,6.9000000000000006E-2,0.114,9.9000000000000005E-2,14344,15674,17002,32221,34497,36443,1086,1559,2179,20051,20526,28148,4170,4029,5590,0,0,0,12614,13524,19398,433157,435999,439082,82325,84301,86574,97825,98027,98532,0,0,0,46332,43550,0,74176,0,0,8477,8393,8191,7.0999999999999994E-2,6.0999999999999999E-2,5.2999999999999999E-2,79414,83642,0,0.41419200848854154,0.42200119780622236,0.50750380291810415,2015,1,"MAR","2015-03-01"]
["Santa Clara",53489,55515,55320,112246,113741,112449,0.29699999999999999,0.32700000000000001,0.33,92680,103199,105602,0.82,0.9,0.92100000000000004,0.94499999999999995,0.97199999999999998,0.96,0.88400000000000001,0.94399999999999995,0.97199999999999998,3.4000000000000002E-2,1.7999999999999999E-2,1.9E-2,4.3999999999999997E-2,3.4000000000000002E-2,2.5000000000000001E-2,0.126,0.14199999999999999,0.12,8.0000000000000002E-3,1.2999999999999999E-2,1.2E-2,4.4999999999999998E-2,5.7000000000000002E-2,5.6000000000000001E-2,52296,55307,55399,110622,113439,110974,7200,9510,11866,59419,55723,67584,11654,10556,12117,0,0,0,48568,49052,59122,1850595,1871516,1890424,321578,334221,347783,439320,442256,444794,0,0,0,176036,174224,0,261699,0,0,44002,43472,42694,6.5000000000000002E-2,5.1999999999999998E-2,4.2000000000000003E-2,215577,173716,0,0.50311228218070525,0.65194601619115522,0.68854903421894531,2015,1,"MAR","2015-03-01"]
["Santa Cruz",12054,12360,13271,23647,23430,25385,0.36299999999999999,0.376,0.40500000000000003,19392,21751,23887,0.79100000000000004,0.91300000000000003,0.92500000000000004,0.72099999999999997,0.83099999999999996,0.92700000000000005,0.69299999999999995,0.97299999999999998,0.98499999999999999,7.1999999999999995E-2,1.9E-2,4.5999999999999999E-2,0.03,2.5999999999999999E-2,1.2999999999999999E-2,0.112,0.122,7.9000000000000001E-2,1.4E-2,0.01,6.0000000000000001E-3,4.2999999999999997E-2,5.1999999999999998E-2,4.2000000000000003E-2,11641,12402,13892,22732,23719,26010,1290,1797,2375,11843,11576,15311,2423,2244,2811,0,0,0,8317,8530,12072,271495,272210,273695,53904,56302,58703,55939,56013,56099,0,0,0,20137,23557,0,38508,0,0,5077,5038,4931,0.10299999999999999,8.6999999999999994E-2,7.4999999999999997E-2,42179,47670,0,0.54467417520778982,0.50502675093748539,0.57953642042354159,2015,1,"MAR","2015-03-01"]
["Shasta",11995,12892,12834,23916,24856,24775,0.41699999999999998,0.439,0.442,21012,23744,23914,0.85799999999999998,0.93400000000000005,0.93799999999999994,0.96399999999999997,0.93799999999999994,0.96599999999999997,0.93300000000000005,0.96199999999999997,0.96299999999999997,7.1999999999999995E-2,1.9E-2,4.5999999999999999E-2,0.13,0.16200000000000001,0.16,0.191,0.249,0.25,0.2,0.29199999999999998,0.28299999999999997,0.22,0.33100000000000002,0.316,11911,12720,13115,23709,24671,25293,990,1221,1685,10472,9992,12683,713,609,647,0,0,0,466,465,628,178591,179305,180021,45455,46860,48202,38745,38532,38475,0,0,0,3086,2491,0,37387,0,0,9306,9289,9252,0.11799999999999999,9.7000000000000003E-2,7.8E-2,40245,29544,0,0.58273132182190857,0.83034253379074596,0.69300660294121874,2015,1,"MAR","2015-03-01"]
["Sierra",166,160,178,299,298,320,0.39800000000000002,0.436,0.46500000000000002,267,287,312,0.873,0.92300000000000004,0.91800000000000004,1,1,1,0.91300000000000003,0.87,1,7.1999999999999995E-2,1.9E-2,4.5999999999999999E-2,0.14899999999999999,6.0999999999999999E-2,0.10299999999999999,0.21299999999999999,0.16300000000000001,0.128,0.191,8.2000000000000003E-2,0.128,0.21299999999999999,0.122,0.18,156,163,171,305,294,317,26,41,40,106,86,131,1,3,1,0,0,0,6,8,12,3270,3267,3257,1235,1274,1300,463,450,439,0,0,0,93,89,0,497,0,0,99,89,85,0.129,0.1,0.09,697,0,0,0.43626999716296844,0.56159427452170951,0.60385382870597404,2015,1,"MAR","2015-03-01"]
["Siskiyou",3140,3201,3223,6927,6911,6993,0.46500000000000002,0.46500000000000002,0.47399999999999998,6155,6703,6782,0.87,0.95299999999999996,0.95299999999999996,1,1,1,0.86899999999999999,0.92,0.88100000000000001,7.1999999999999995E-2,1.9E-2,4.5999999999999999E-2,9.9000000000000005E-2,0.14000000000000001,0.159,0.16,0.22700000000000001,0.23699999999999999,0.218,0.24199999999999999,0.23200000000000001,0.23899999999999999,0.26700000000000002,0.255,2900,3184,3250,6486,6907,6992,275,413,529,2872,2825,3571,154,141,150,0,0,0,192,181,270,45215,45290,45400,13967,14388,14816,8755,8639,8549,0,0,0,782,717,0,10036,0,0,2475,2431,2389,0.13200000000000001,0.113,9.4E-2,10390,0,0,0.62649903974722321,0.60582435845117577,0.61723183482887178,2015,1,"MAR","2015-03-01"]
["Solano",21494,22378,22313,42499,43554,43385,0.41899999999999998,0.42899999999999999,0.432,36921,40492,41350,0.84899999999999998,0.91400000000000003,0.92100000000000004,0.94,0.93200000000000005,0.93100000000000005,0.95899999999999996,0.97199999999999998,0.97199999999999998,6.0000000000000001E-3,5.1999999999999998E-2,2.4E-2,2.5999999999999999E-2,1.7999999999999999E-2,1.2999999999999999E-2,0.122,0.126,0.11899999999999999,8.9999999999999993E-3,8.0000000000000002E-3,6.0000000000000001E-3,5.3999999999999999E-2,7.1999999999999995E-2,0.06,20782,22292,23149,41287,43531,44119,1823,2457,3120,20249,19919,25381,2463,2272,2573,0,0,0,6854,6844,8830,424048,428705,432921,80768,84375,88221,97128,96723,96377,0,0,0,20853,18343,0,62999,0,0,11691,11752,11654,0.09,7.4999999999999997E-2,6.0999999999999999E-2,61760,56429,0,0.66764538469704438,0.76925949545071659,0.67496232970642456,2015,1,"MAR","2015-03-01"]
["Sonoma",18820,19632,19814,34735,35567,35677,0.33900000000000002,0.36,0.36899999999999999,30189,33275,34454,0.84,0.91200000000000003,0.92200000000000004,0.84099999999999997,0.95899999999999996,0.95799999999999996,0.45900000000000002,0.75900000000000001,0.70499999999999996,7.1999999999999995E-2,1.9E-2,4.5999999999999999E-2,0.108,0.11700000000000001,0.10299999999999999,0.19500000000000001,0.20599999999999999,0.188,4.9000000000000002E-2,7.6999999999999999E-2,5.5E-2,9.1999999999999998E-2,0.13400000000000001,9.4E-2,18686,19304,20183,34451,34951,36183,2351,2986,3870,17558,16974,21537,3484,3249,3738,0,0,0,10432,10517,13316,493070,497260,501350,112593,116344,120115,104608,104298,103885,0,0,0,24921,25983,0,60020,0,0,8547,8488,8388,7.0000000000000007E-2,5.6000000000000001E-2,4.4999999999999998E-2,71127,69971,0,0.49066532056361034,0.50345315035929272,0.61995535705282345,2015,1,"MAR","2015-03-01"]
["Stanislaus",42193,42524,42583,92065,91500,91585,0.46,0.47799999999999998,0.48699999999999999,74797,85464,87194,0.79700000000000004,0.92300000000000004,0.93400000000000005,0.95299999999999996,0.98499999999999999,0.96299999999999997,0.878,0.85599999999999998,0.89400000000000002,1.7999999999999999E-2,1.4E-2,1.2999999999999999E-2,0.17499999999999999,0.17899999999999999,0.17799999999999999,0.25600000000000001,0.28100000000000003,0.27200000000000002,0.26700000000000002,0.315,0.27,0.30199999999999999,0.36399999999999999,0.315,41539,42873,43553,91048,92778,92572,2893,3835,4942,46298,45160,54880,5663,5238,5611,0,0,0,17711,18095,21837,527232,532344,538689,86547,89829,93394,144260,144079,144427,0,0,0,48602,48829,0,128318,0,0,20057,20165,19884,0.129,0.112,9.5000000000000001E-2,125680,115985,0,0.72214889693563,0.79497781177320248,0.87422444234218655,2015,1,"MAR","2015-03-01"]
["Sutter",5424,5567,5642,12740,12903,13047,0.375,0.38900000000000001,0.39400000000000002,11517,12396,12506,0.88600000000000001,0.94899999999999995,0.95,0.94399999999999995,0.98799999999999999,1,0.90400000000000003,0.91600000000000004,0.88900000000000001,7.1999999999999995E-2,1.9E-2,4.5999999999999999E-2,0.16200000000000001,0.187,0.19,0.20899999999999999,0.28199999999999997,0.26300000000000001,0.19400000000000001,0.23599999999999999,0.219,0.21299999999999999,0.26500000000000001,0.24099999999999999,5215,5623,5712,12440,13083,13236,369,491,644,6642,6535,8067,689,648,726,0,0,0,2281,2388,2921,97386,97257,97887,18207,18667,19295,25333,25371,25512,0,0,0,8366,8544,0,21895,0,0,3778,3793,3793,0.14599999999999999,0.127,0.108,22883,16038,0,0.53769509167762497,0.8091986651521671,0.59198717459615158,2015,1,"MAR","2015-03-01"]
["Tehama",4645,4848,4714,10409,10646,10255,0.44400000000000001,0.44600000000000001,0.443,9562,10212,9965,0.88800000000000001,0.94399999999999995,0.95399999999999996,0.96699999999999997,0.97,0.97899999999999998,0.91,0.94799999999999995,0.95899999999999996,7.1999999999999995E-2,1.9E-2,4.5999999999999999E-2,0.11600000000000001,0.14599999999999999,0.14799999999999999,0.16300000000000001,0.23699999999999999,0.24099999999999999,9.6000000000000002E-2,0.34399999999999997,0.26,0.1,0.36899999999999999,0.28399999999999997,4320,5009,4816,9916,11155,10543,363,492,616,5013,5146,6292,441,422,480,0,0,0,1199,1283,1615,64498,64827,65193,15313,15700,16155,15280,15138,15064,0,0,0,2603,2345,0,16152,0,0,3062,3106,3068,0.11700000000000001,9.7000000000000003E-2,0.08,14220,0,0,0.69231531437680793,0.76327104213104657,0.69554949293710311,2015,1,"MAR","2015-03-01"]
["Trinity",850,1032,996,1609,1880,1829,0.4,0.45500000000000002,0.439,1394,1765,1741,0.82599999999999996,0.91400000000000003,0.92200000000000004,0.95799999999999996,0.96799999999999997,0.92500000000000004,0.72,0.69799999999999995,0.66900000000000004,7.1999999999999995E-2,1.9E-2,4.5999999999999999E-2,8.5000000000000006E-2,0.12,0.14299999999999999,0.14899999999999999,0.185,0.23300000000000001,0.214,0.25800000000000001,0.33700000000000002,0.23799999999999999,0.30499999999999999,0.38,762,1001,1035,1516,1838,1867,89,117,148,622,623,825,45,42,39,0,0,0,12,10,9,13776,13782,13821,4587,4753,4906,2276,2215,2175,0,0,0,36,49,0,2603,0,0,636,656,643,0.121,9.9000000000000005E-2,7.8E-2,3100,0,0,0.50150279286577459,0.5912422140107656,0.56469445800616525,2015,1,"MAR","2015-03-01"]
["Tulare",49187,51603,52436,120087,133499,123898,0.52800000000000002,0.53500000000000003,0.55000000000000004,103442,115478,119942,0.85099999999999998,0.94,0.94699999999999995,1,0.98299999999999998,0.97699999999999998,0.97399999999999998,0.98299999999999998,0.97799999999999998,3.4000000000000002E-2,3.3000000000000002E-2,4.5999999999999999E-2,0.182,0.215,0.20100000000000001,0.27600000000000002,0.34100000000000003,0.309,0.108,0.185,0.14099999999999999,0.154,0.249,0.19800000000000001,46471,50975,52900,114774,132774,123955,3459,4856,6133,67240,65842,78672,8233,7798,8381,0,0,0,37887,39618,48197,456075,461703,467170,66305,68896,71452,143372,144472,146093,0,0,0,60016,63244,0,160183,0,0,17554,17865,17848,0.14399999999999999,0.13200000000000001,0.11700000000000001,147863,139566,0,0.77504881539151371,0.90358518151528189,0.91335509939391257,2015,1,"MAR","2015-03-01"]
["Tuolumne",2943,2981,3000,5409,5465,5414,0.42299999999999999,0.45500000000000002,0.45700000000000002,4760,5252,5255,0.874,0.93600000000000005,0.93899999999999995,0.93400000000000005,0.96499999999999997,0.89300000000000002,0.91400000000000003,0.85799999999999998,0.753,7.1999999999999995E-2,1.9E-2,4.5999999999999999E-2,0.112,0.159,0.14899999999999999,0.20799999999999999,0.24,0.215,0.193,0.222,0.21099999999999999,0.22700000000000001,0.251,0.23899999999999999,2828,3009,3156,5153,5556,5603,299,409,556,1955,2013,2564,137,115,106,0,0,0,66,76,103,54811,54592,54628,17219,17563,17977,9088,8943,8831,0,0,0,696,628,0,7561,0,0,1635,1639,1615,0.108,8.6999999999999994E-2,7.0999999999999994E-2,9822,0,0,0.5308063709413704,0.55096208037690064,0.61887154616755258,2015,1,"MAR","2015-03-01"]
["Ventura",33751,35715,36486,69753,78777,74220,0.35599999999999998,0.39500000000000002,0.41,55207,65237,68798,0.76200000000000001,0.873,0.89,0.92500000000000004,0.97699999999999998,0.94399999999999995,0.92100000000000004,0.94,0.95699999999999996,2.3E-2,0.04,4.2999999999999997E-2,0.13200000000000001,0.13500000000000001,0.13500000000000001,0.23300000000000001,0.248,0.23599999999999999,7.3999999999999996E-2,0.113,0.1,0.11799999999999999,0.16900000000000001,0.15,32232,35024,37333,66971,77031,75003,3498,4822,6422,37769,37317,49069,6844,6549,7926,0,0,0,25095,26091,34694,839617,844833,850206,156524,162247,168417,205584,204901,204332,0,0,0,76495,75693,0,111492,0,0,14764,14875,14875,7.9000000000000001E-2,6.7000000000000004E-2,5.7000000000000002E-2,112132,114150,0,0.60105354961794943,0.64997993128460252,0.8310954940650721,2015,1,"MAR","2015-03-01"]
["Yolo",8490,9243,9810,17981,18981,20044,0.38200000000000001,0.40699999999999997,0.42799999999999999,15503,17669,18881,0.83899999999999997,0.90500000000000003,0.91400000000000003,0.85299999999999998,0.89900000000000002,0.91200000000000003,0.91100000000000003,0.872,0.86,7.1999999999999995E-2,1.9E-2,4.5999999999999999E-2,0.11899999999999999,0.114,0.112,0.188,0.19,0.17799999999999999,5.5E-2,7.9000000000000001E-2,7.0999999999999994E-2,9.8000000000000004E-2,0.11600000000000001,0.106,7850,8865,10254,16629,18273,20610,774,1075,1498,8108,8448,11457,874,867,1015,0,0,0,4707,5033,6991,206621,208069,209647,32873,34248,35625,43847,43396,43148,0,0,0,14762,11918,0,28422,0,0,5351,5314,5260,9.0999999999999998E-2,7.6999999999999999E-2,6.4000000000000001E-2,42449,50238,0,0.39257891056597655,0.3707119276196772,0.50741494929932407,2015,1,"MAR","2015-03-01"]
["Yuba",5883,6011,6023,13040,13409,13204,0.47699999999999998,0.498,0.48699999999999999,11343,12739,12741,0.84799999999999998,0.93899999999999995,0.94799999999999995,0.99399999999999999,1,1,0.94,0.96699999999999997,0.96399999999999997,7.1999999999999995E-2,1.9E-2,4.5999999999999999E-2,0.187,0.21,0.191,0.25700000000000001,0.29499999999999998,0.254,0.377,0.434,0.38300000000000001,0.40200000000000002,0.45900000000000002,0.40799999999999997,5749,6026,6306,12919,13449,13621,341,435,584,6541,6332,7563,571,501,524,0,0,0,1586,1526,1789,73600,74258,75093,11868,12397,12935,20521,20606,20736,0,0,0,3382,4010,0,18518,0,0,3733,3734,3710,0.13100000000000001,0.112,9.1999999999999998E-2,14308,17376,0,0.89600000000000002,0.76600000000000001,0.72442693271347103,2015,1,"MAR","2015-03-01"]
["Alameda",64208,61869,61121,127457,121684,119790,0.35899999999999999,0.34599999999999997,0.34399999999999997,111463,114442,112760,0.85799999999999998,0.89800000000000002,0.90200000000000002,0.85799999999999998,0.85199999999999998,0.83499999999999996,0.89900000000000002,0.85399999999999998,0.89600000000000002,3.1E-2,6.8000000000000005E-2,4.5999999999999999E-2,0.1,0.115,0.104,0.19600000000000001,0.224,0.19900000000000001,6.5000000000000002E-2,7.2999999999999995E-2,7.5999999999999998E-2,0.122,0.13300000000000001,0.13300000000000001,62875,64020,62663,125835,125434,121577,7267,9307,12022,63938,60223,71736,9990,9205,10229,0,0,0,39263,40011,48924,1563370,1582119,1599888,282890,294442,306991,346038,348428,350486,0,0,0,133681,139309,0,243275,0,0,48141,47823,47331,7.2999999999999995E-2,5.8999999999999997E-2,4.7E-2,220034,214363,0,0.56717244038342607,0.58770588854592853,0.6372229790855547,2015,2,"JUN","2015-06-01"]
["Alpine",111,107,102,180,171,163,0.52200000000000002,0.49399999999999999,0.51700000000000002,157,157,156,0.872,0.91300000000000003,0.92900000000000005,1,1,1,0.91700000000000004,0.42899999999999999,0.625,8.5999999999999993E-2,4.5999999999999999E-2,2.9000000000000001E-2,0,0.105,0,0.105,0.21099999999999999,6.3E-2,0,0,0.125,0,0,0.125,91,114,101,171,194,171,11,16,21,62,59,66,0,0,1,0,0,0,0,0,0,1228,1243,1252,369,398,425,243,245,245,0,0,0,25,23,0,184,0,0,42,39,39,9.8000000000000004E-2,8.7999999999999995E-2,7.9000000000000001E-2,222,0,0,0.70134951054248518,0.80292964974253522,0.66597195415907617,2015,2,"JUN","2015-06-01"]
["Amador",1771,1720,1814,3411,3278,3438,0.498,0.498,0.52,3057,3120,3215,0.88900000000000001,0.91400000000000003,0.91200000000000003,0.96599999999999997,0.96299999999999997,1,0.95699999999999996,0.94199999999999995,0.94,8.5999999999999993E-2,4.5999999999999999E-2,2.9000000000000001E-2,0.13600000000000001,0.14000000000000001,0.14399999999999999,0.216,0.22900000000000001,0.223,0.249,0.25900000000000001,0.27800000000000002,0.26700000000000002,0.27200000000000002,0.317,1685,1770,1823,3280,3373,3445,194,250,329,1298,1222,1619,69,59,67,0,0,0,98,102,126,36945,37017,37178,11769,12078,12420,5919,5806,5741,0,0,0,484,559,0,4116,0,0,674,696,688,0.10299999999999999,8.3000000000000004E-2,6.6000000000000003E-2,4989,0,0,0.65704441950440784,0.66465992098604165,0.73183059517474591,2015,2,"JUN","2015-06-01"]
["Butte",15212,16001,16430,30559,31299,31927,0.45100000000000001,0.46,0.46700000000000003,29126,30227,30887,0.92600000000000005,0.94,0.94299999999999995,0.88600000000000001,0.91300000000000003,0.94599999999999995,0.9,0.92700000000000005,0.93500000000000005,8.5999999999999993E-2,4.5999999999999999E-2,2.9000000000000001E-2,0.13700000000000001,0.14599999999999999,0.14399999999999999,0.21199999999999999,0.215,0.222,0.28499999999999998,0.26700000000000002,0.28599999999999998,0.315,0.28999999999999998,0.32200000000000001,14733,15571,16729,30211,31036,32207,1116,1577,2080,13523,12850,15753,1063,878,925,0,0,0,2782,2667,3048,222035,224518,226656,51734,53940,55954,45459,45266,45150,0,0,0,4375,5637,0,47746,0,0,10914,10866,10733,0.10299999999999999,8.6999999999999994E-2,7.1999999999999995E-2,57536,54488,0,0.52065366997840645,0.56693046889491883,0.60002261475812002,2015,2,"JUN","2015-06-01"]
["Calaveras",2685,2894,2928,5094,5421,5509,0.505,0.51700000000000002,0.53500000000000003,4620,5026,5120,0.90200000000000002,0.91900000000000004,0.92100000000000004,0.95799999999999996,0.99299999999999999,1,0.96399999999999997,0.95599999999999996,0.95199999999999996,8.5999999999999993E-2,4.5999999999999999E-2,2.9000000000000001E-2,0.108,0.128,0.11600000000000001,0.17199999999999999,0.20699999999999999,0.20200000000000001,0.20399999999999999,0.24299999999999999,0.21,0.22,0.26600000000000001,0.246,2576,2768,2924,4969,5231,5498,322,437,625,1808,1778,2295,103,88,84,0,0,0,134,133,154,45214,45508,45923,15224,15719,16225,7993,7801,7638,0,0,0,410,598,0,6097,0,0,1043,1056,1057,0.1,8.1000000000000003E-2,6.5000000000000002E-2,6022,0,0,0.82427123354235265,0.80293519722539908,0.83412168219338856,2015,2,"JUN","2015-06-01"]
["California",2046381,2104220,2119268,4393812,4445534,4462799,0.42599999999999999,0.43,0.439,3853453,4073930,4106210,0.90400000000000003,0.92600000000000005,0.92900000000000005,0.95899999999999996,0.96799999999999997,0.97199999999999998,0.92400000000000004,0.93600000000000005,0.94699999999999995,4.9000000000000002E-2,6.5000000000000002E-2,4.5999999999999999E-2,0.12,0.13,0.128,0.2,0.215,0.21199999999999999,0.113,0.121,0.129,0.14099999999999999,0.153,0.16300000000000001,1942841,2070803,2140950,4221057,4476031,4481900,176557,234156,304341,2272684,2226004,2720376,341378,320176,352831,0,0,0,1314549,1337933,1628446,38202206,38548204,38896969,6820715,7071818,7340539,9150549,9157600,9184302,0,0,0,3750293,3760183,0,7280074,0,0,1187606,1193089,1187073,8.8999999999999996E-2,7.4999999999999997E-2,6.2E-2,7166749,6980319,0,0.58399999999999996,0.63400000000000001,0.69733016424114824,2015,2,"JUN","2015-06-01"]
["Colusa",752,688,726,1810,1627,1725,0.27200000000000002,0.27,0.27,1761,1756,1722,0.95099999999999996,0.95299999999999996,0.95699999999999996,0.67600000000000005,0.88700000000000001,0.875,0.95899999999999996,0.90300000000000002,0.91800000000000004,8.5999999999999993E-2,4.5999999999999999E-2,2.9000000000000001E-2,5.6000000000000001E-2,0.13300000000000001,0.13600000000000001,0.121,0.218,0.215,0.29299999999999998,0.33300000000000002,0.40799999999999997,0.32900000000000001,0.38700000000000001,0.49199999999999999,713,725,661,1710,1722,1563,72,84,118,1032,1004,1267,164,142,170,0,0,0,553,570,773,21987,22254,22555,4033,4198,4385,6106,6114,6167,0,0,0,2986,3111,0,4193,0,0,564,563,561,0.19,0.17499999999999999,0.153,3771,0,0,0.46113151104422845,0.39141984295657661,0.39781260650221328,2015,2,"JUN","2015-06-01"]
["Contra Costa",34921,35445,35311,71884,72012,71323,0.34300000000000003,0.34200000000000003,0.34,63793,67560,66981,0.88,0.91400000000000003,0.91700000000000004,0.95199999999999996,0.93400000000000005,0.96799999999999997,0.85799999999999998,0.92500000000000004,0.97,4.1000000000000002E-2,3.1E-2,2.3E-2,0.08,9.0999999999999998E-2,8.7999999999999995E-2,0.14399999999999999,0.16500000000000001,0.17100000000000001,5.8999999999999997E-2,6.2E-2,6.7000000000000004E-2,9.2999999999999999E-2,0.105,0.113,32730,35280,36075,67763,76061,72362,3064,3876,5175,36829,36150,45190,5449,5317,6102,0,0,0,15787,16078,20122,1081862,1095476,1108963,215513,223639,232490,253746,251862,250390,0,0,0,66244,68215,0,131952,0,0,24041,24288,24238,7.4999999999999997E-2,6.2E-2,0.05,145293,129295,0,0.47067971198742864,0.57143348851746278,0.55604114791387682,2015,2,"JUN","2015-06-01"]
["Del Norte",2511,2469,2493,5175,5136,5146,0.49299999999999999,0.48799999999999999,0.499,4880,4949,4947,0.94599999999999995,0.96199999999999997,0.96099999999999997,1,0.98899999999999999,1,0.95199999999999996,0.96099999999999997,0.92900000000000005,8.5999999999999993E-2,4.5999999999999999E-2,2.9000000000000001E-2,0.16200000000000001,0.17299999999999999,0.215,0.23400000000000001,0.224,0.27100000000000002,0.39500000000000002,0.33200000000000002,0.38900000000000001,0.41099999999999998,0.36199999999999999,0.41099999999999998,2525,2545,2514,5132,5227,5205,193,238,288,2218,2130,2603,167,139,144,0,0,0,262,223,288,28530,28477,28587,6153,6387,6622,5698,5655,5599,0,0,0,733,725,0,7460,0,0,1817,1816,1797,0.11799999999999999,0.10199999999999999,8.5999999999999993E-2,5923,0,0,0.86431084940613745,0.91507601883208589,0.90731769369194393,2015,2,"JUN","2015-06-01"]
["El Dorado",6836,7197,7359,12431,13063,13261,0.41399999999999998,0.439,0.45600000000000002,11294,12348,12544,0.88500000000000001,0.90400000000000003,0.90900000000000003,0.98799999999999999,1,0.995,0.82499999999999996,0.96099999999999997,0.94899999999999995,8.5999999999999993E-2,4.5999999999999999E-2,2.9000000000000001E-2,0.11,0.121,0.13200000000000001,0.17699999999999999,0.19400000000000001,0.218,0.21099999999999999,0.22900000000000001,0.23100000000000001,0.23899999999999999,0.25800000000000001,0.25900000000000001,6397,6871,7405,11765,12479,13278,732,972,1276,4716,4740,6328,417,396,442,0,0,0,882,886,1067,184054,184320,184833,46098,47929,49793,38276,37665,37280,0,0,0,3580,3522,0,17413,0,0,2850,2851,2871,8.5000000000000006E-2,7.0000000000000007E-2,5.7000000000000002E-2,26641,27235,0,0.44106704599832475,0.45696364279304263,0.65409556790410273,2015,2,"JUN","2015-06-01"]
["Fresno",97184,96715,97856,230446,227846,229388,0.54800000000000004,0.55400000000000005,0.55600000000000005,207391,221930,222475,0.89800000000000002,0.92600000000000005,0.93100000000000005,0.91300000000000003,0.95799999999999996,0.94099999999999995,0.97,0.92600000000000005,0.97299999999999998,2.5999999999999999E-2,2.5999999999999999E-2,2.5000000000000001E-2,0.13200000000000001,0.13100000000000001,0.14099999999999999,0.22700000000000001,0.24399999999999999,0.251,7.4999999999999997E-2,8.5999999999999993E-2,0.105,0.124,0.14000000000000001,0.16400000000000001,90783,94285,97947,217757,224430,228537,5364,7362,9438,123609,122849,144746,14216,13450,14341,0,0,0,59175,60875,71864,958260,969338,981681,147191,152725,158747,276923,279805,283783,0,0,0,108885,109792,0,299363,0,0,40774,41053,41165,0.13200000000000001,0.11600000000000001,0.10199999999999999,280018,281486,0,0.78293622520574913,0.80626906421255717,0.87322270167921334,2015,2,"JUN","2015-06-01"]
["Glenn",1522,1520,1521,3735,3684,3682,0.38900000000000001,0.40200000000000002,0.41799999999999998,3567,3690,3687,0.94199999999999995,0.95899999999999996,0.96,0.98799999999999999,1,1,1,0.98499999999999999,0.98599999999999999,8.5999999999999993E-2,4.5999999999999999E-2,2.9000000000000001E-2,0.13900000000000001,0.13700000000000001,0.122,0.221,0.224,0.20599999999999999,0.152,0.17,0.14699999999999999,0.17100000000000001,0.19600000000000001,0.16,1431,1514,1528,3549,3697,3645,113,148,183,1985,1960,2401,237,215,229,0,0,0,739,762,935,28599,28868,29132,5834,6039,6264,7588,7542,7518,0,0,0,2638,2410,0,6747,0,0,1136,1111,1106,0.121,0.107,8.6999999999999994E-2,6196,0,0,0.56850757302200194,0.55838355889207381,0.55587898296053628,2015,2,"JUN","2015-06-01"]
["Humboldt",9987,11518,11942,18257,20309,20875,0.45900000000000002,0.497,0.51,16724,18940,19482,0.89800000000000002,0.91600000000000004,0.91500000000000004,0.98599999999999999,0.997,0.998,0.86299999999999999,0.91900000000000004,0.93600000000000005,8.5999999999999993E-2,4.5999999999999999E-2,2.9000000000000001E-2,8.5000000000000006E-2,0.114,0.11600000000000001,0.13800000000000001,0.17299999999999999,0.18,0.20399999999999999,0.21299999999999999,0.23799999999999999,0.223,0.22900000000000001,0.26400000000000001,8812,10547,12084,16507,19098,21066,695,1117,1512,7000,7428,9450,684,644,686,0,0,0,886,900,1123,136480,136779,137159,30216,31381,32518,26025,25824,25609,0,0,0,2347,2266,0,24939,0,0,5607,5545,5488,8.2000000000000003E-2,6.8000000000000005E-2,5.6000000000000001E-2,34043,33222,0,0.474035923417713,0.56563435374326043,0.65877861627084822,2015,2,"JUN","2015-06-01"]
["Imperial",15146,16703,16913,38209,42073,42432,0.502,0.54300000000000004,0.54900000000000004,36390,40706,41510,0.93300000000000005,0.94799999999999995,0.95499999999999996,0.94499999999999995,0.94,0.94899999999999995,0.88300000000000001,0.88100000000000001,0.83599999999999997,8.5999999999999993E-2,4.5999999999999999E-2,2.9000000000000001E-2,0.13300000000000001,0.159,0.152,0.222,0.23799999999999999,0.23499999999999999,0.22,0.24099999999999999,0.251,0.253,0.27500000000000002,0.28000000000000003,14518,15936,17367,37083,40394,43485,1738,2213,2905,19291,19838,24612,1028,990,905,0,0,0,19370,21381,27755,179326,183154,187689,28182,29668,31415,51426,52464,53799,0,0,0,32195,33803,0,55474,0,0,10276,10238,10128,0.249,0.23599999999999999,0.24,44790,44826,0,0.81464017162211388,0.89508144333471995,0.90733457568972442,2015,2,"JUN","2015-06-01"]
["Inyo",1091,1042,1042,2198,2064,2073,0.443,0.42699999999999999,0.45700000000000002,1982,1946,1982,0.90800000000000003,0.93400000000000005,0.93700000000000006,1,0.98599999999999999,1,0.96199999999999997,0.94899999999999995,0.90500000000000003,8.5999999999999993E-2,4.5999999999999999E-2,2.9000000000000001E-2,0.104,0.151,0.13,0.16300000000000001,0.23400000000000001,0.246,0.26300000000000001,0.27300000000000002,0.30399999999999999,0.313,0.309,0.34399999999999997,1058,1068,1049,2132,2149,2076,137,154,201,964,928,1141,103,98,96,0,0,0,327,296,346,19241,19244,19304,5510,5699,5912,3660,3590,3538,0,0,0,532,510,0,3188,0,0,407,402,394,7.9000000000000001E-2,7.0000000000000007E-2,5.8000000000000003E-2,2766,0,0,0.73946492362442684,0.72042269416670368,0.80302969461806784,2015,2,"JUN","2015-06-01"]
["Kern",61152,63893,66165,147731,149749,157116,0.47299999999999998,0.48499999999999999,0.497,136824,145930,151874,0.91300000000000003,0.93799999999999994,0.94499999999999995,0.98399999999999999,0.99299999999999999,0.99399999999999999,0.90800000000000003,0.91500000000000004,0.94699999999999995,2.1999999999999999E-2,6.0000000000000001E-3,8.0000000000000002E-3,0.19900000000000001,0.17899999999999999,0.17799999999999999,0.28899999999999998,0.26200000000000001,0.26100000000000001,0.20899999999999999,0.159,0.17499999999999999,0.24299999999999999,0.185,0.20399999999999999,59623,61918,68143,144653,148150,160741,3983,5081,7145,84978,82576,105010,10703,9808,10689,0,0,0,37191,37076,47266,869797,878356,894492,122971,128553,134065,252028,256535,262787,0,0,0,88100,79181,0,224473,0,0,31384,31592,31341,0.11700000000000001,0.104,0.10199999999999999,224185,225536,0,0.64036520264020891,0.6560986851203231,0.76605508020541824,2015,2,"JUN","2015-06-01"]
["Kings",10267,10270,10570,24396,24051,24693,0.52800000000000002,0.51900000000000002,0.52800000000000002,22688,23317,23964,0.92800000000000005,0.95,0.95299999999999996,0.99099999999999999,0.997,0.998,0.84499999999999997,0.96399999999999997,0.96799999999999997,8.5999999999999993E-2,4.5999999999999999E-2,2.9000000000000001E-2,0.187,0.22500000000000001,0.19400000000000001,0.27100000000000002,0.30099999999999999,0.27400000000000002,0.38,0.28999999999999998,0.28999999999999998,0.41399999999999998,0.32100000000000001,0.32,9956,10210,10785,23543,24002,24942,652,797,1081,12892,12521,15587,1396,1267,1418,0,0,0,5451,5713,7275,152456,153601,155122,19636,20420,21191,41136,41468,41947,0,0,0,14426,15306,0,33393,0,0,4659,4635,4579,0.13500000000000001,0.121,0.105,34891,38859,0,0.66930047437077489,0.61675060236025636,0.68600653300893477,2015,2,"JUN","2015-06-01"]
["Lake",5383,5936,6132,10896,11629,11957,0.44700000000000001,0.45400000000000001,0.45800000000000002,10374,11378,11594,0.92500000000000004,0.95099999999999996,0.95099999999999996,0.873,0.97499999999999998,0.98,0.81599999999999995,0.94599999999999995,0.95699999999999996,8.5999999999999993E-2,4.5999999999999999E-2,2.9000000000000001E-2,5.6000000000000001E-2,6.4000000000000001E-2,7.9000000000000001E-2,0.11700000000000001,0.13100000000000001,0.152,0.33900000000000002,0.27800000000000002,0.307,0.38,0.32100000000000001,0.35199999999999998,5227,5525,6253,10453,11036,12127,586,736,1022,4436,4622,5927,385,344,393,0,0,0,814,817,1156,64782,65465,66219,18045,18728,19438,12882,12726,12642,0,0,0,1792,1951,0,16443,0,0,3710,3663,3675,0.108,8.8999999999999996E-2,7.6999999999999999E-2,17452,17435,0,0.58994489464318189,0.6317675039698486,0.83474883738835326,2015,2,"JUN","2015-06-01"]
["Lassen",1570,1545,1544,3235,3182,3212,0.48499999999999999,0.46800000000000003,0.47899999999999998,3017,3023,3105,0.92900000000000005,0.93600000000000005,0.93600000000000005,0.96199999999999997,0.86699999999999999,0.94399999999999995,0.875,0.78400000000000003,0.73399999999999999,8.5999999999999993E-2,4.5999999999999999E-2,2.9000000000000001E-2,7.9000000000000001E-2,6.8000000000000005E-2,7.3999999999999996E-2,0.17199999999999999,0.154,0.14099999999999999,0.22600000000000001,0.249,0.27200000000000002,0.253,0.28499999999999998,0.30499999999999999,1426,1536,1540,2971,3168,3205,99,150,199,1319,1345,1730,91,108,99,0,0,0,67,71,94,34966,35038,35190,6186,6479,6760,5574,5519,5457,0,0,0,769,712,0,4436,0,0,906,880,883,0.106,9.2999999999999999E-2,7.2999999999999995E-2,4398,0,0,0.67780447504446817,0.78611426364455528,0.85393368079206677,2015,2,"JUN","2015-06-01"]
["Los Angeles",576682,585716,584978,1180079,1185400,1178282,0.36499999999999999,0.375,0.379,985179,1013768,1022970,0.82699999999999996,0.84799999999999998,0.85899999999999999,0.96299999999999997,0.96699999999999997,0.97099999999999997,0.94499999999999995,0.94799999999999995,0.94899999999999995,4.9000000000000002E-2,5.8000000000000003E-2,4.1000000000000002E-2,9.5000000000000001E-2,8.3000000000000004E-2,8.2000000000000003E-2,0.17499999999999999,0.156,0.152,6.0000000000000001E-3,0.01,0.01,8.9999999999999993E-3,1.2E-2,1.2999999999999999E-2,557570,585696,588075,1148512,1193453,1183107,46590,59648,76022,629069,614546,726193,117585,109736,118786,0,0,0,444806,444589,520243,10010961,10082664,10147070,1701464,1760921,1826080,2329494,2322213,2320563,0,0,0,1402433,1394350,0,2250353,0,0,388148,389765,386663,9.8000000000000004E-2,8.3000000000000004E-2,6.7000000000000004E-2,2088070,2032450,0,0.54211494769640123,0.58334051625028915,0.66276061455130608,2015,2,"JUN","2015-06-01"]
["Madera",11593,11878,12125,29027,29310,29932,0.504,0.50600000000000001,0.52400000000000002,27702,28637,29153,0.94699999999999995,0.96299999999999997,0.96599999999999997,0.97899999999999998,0.98699999999999999,1,0.91300000000000003,0.876,0.85,8.5999999999999993E-2,4.5999999999999999E-2,2.9000000000000001E-2,0.13900000000000001,0.14599999999999999,0.14499999999999999,0.22,0.224,0.22700000000000001,0.254,0.218,0.25,0.27500000000000002,0.246,0.28899999999999998,10608,11507,12063,26856,28885,29699,619,799,1081,16652,16999,20470,2773,2654,3011,0,0,0,9640,10033,11990,153409,154829,157722,26873,27801,28993,42149,43015,43736,0,0,0,20706,20778,0,42230,0,0,4478,4505,4530,0.125,0.11,0.105,38832,38903,0,0.69096227737139893,0.74120990607815518,0.91808234301547598,2015,2,"JUN","2015-06-01"]
["Marin",6107,6300,6426,10224,10403,10485,0.32100000000000001,0.33400000000000002,0.34300000000000003,9762,10257,10316,0.94,0.94599999999999995,0.94299999999999995,0.96,0.98199999999999998,0.96899999999999997,0.93,0.93100000000000005,0.92100000000000004,8.5999999999999993E-2,4.5999999999999999E-2,2.9000000000000001E-2,0.13400000000000001,0.17899999999999999,0.18099999999999999,0.20300000000000001,0.248,0.26,0.20799999999999999,0.26700000000000002,0.26500000000000001,0.252,0.30399999999999999,0.30499999999999999,5762,6216,6511,9774,10397,10687,887,1119,1471,4734,4831,5967,1271,1282,1459,0,0,0,3455,3804,4835,256264,257792,258804,69445,70897,72375,51412,51122,50887,0,0,0,8867,11871,0,21230,0,0,3107,3034,2913,5.1999999999999998E-2,4.2999999999999997E-2,3.5000000000000003E-2,22421,22696,0,0.41976609833322831,0.45416962715835596,0.44650733867359088,2015,2,"JUN","2015-06-01"]
["Mariposa",1032,1073,1113,2059,2033,2127,0.51400000000000001,0.52700000000000002,0.53800000000000003,1950,2016,2078,0.93899999999999995,0.95699999999999996,0.95799999999999996,0.872,0.84799999999999998,1,0.92500000000000004,0.97599999999999998,0.96399999999999997,8.5999999999999993E-2,4.5999999999999999E-2,2.9000000000000001E-2,8.2000000000000003E-2,0.14299999999999999,0.125,0.13800000000000001,0.19800000000000001,0.19900000000000001,0.19400000000000001,0.26400000000000001,0.28699999999999998,0.224,0.28699999999999998,0.30599999999999999,920,1005,1122,1855,1974,2152,119,172,233,714,711,952,37,31,30,0,0,0,30,52,49,18101,18091,18147,5971,6133,6328,2988,2966,2948,0,0,0,227,199,0,2652,0,0,462,454,451,0.105,8.7999999999999995E-2,7.1999999999999995E-2,3155,0,0,0.58782568148826908,0.63584459078564948,0.68894049645505728,2015,2,"JUN","2015-06-01"]
["Mendocino",7590,7131,6965,14074,13178,13008,0.42099999999999999,0.39900000000000002,0.40400000000000003,12815,12626,12645,0.89700000000000002,0.92600000000000005,0.93400000000000005,0.997,0.98699999999999999,1,0.98,0.97299999999999998,0.97199999999999998,8.5999999999999993E-2,4.5999999999999999E-2,2.9000000000000001E-2,0.108,0.15,0.157,0.157,0.26800000000000002,0.27300000000000002,0.19800000000000001,0.34799999999999998,0.252,0.249,0.436,0.314,6923,7569,7077,13202,14007,13204,699,941,1117,5665,5681,6905,688,618,637,0,0,0,1823,1931,2266,88931,88795,88884,23290,24007,24725,18865,18784,18737,0,0,0,4171,4690,0,21783,0,0,3218,3145,3087,8.2000000000000003E-2,6.9000000000000006E-2,5.8999999999999997E-2,22381,19834,0,0.58791930175161367,0.69491422244138812,0.68801460976166073,2015,2,"JUN","2015-06-01"]
["Merced",24009,24649,25216,57288,57836,58981,0.51900000000000002,0.51900000000000002,0.53500000000000003,54112,57086,58033,0.93400000000000005,0.96499999999999997,0.96699999999999997,0.97199999999999998,0.97699999999999998,0.997,0.94399999999999995,0.94799999999999995,0.96599999999999997,1.2E-2,1.7000000000000001E-2,1.2E-2,0.14499999999999999,0.17,0.159,0.218,0.24199999999999999,0.23799999999999999,0.32800000000000001,0.32400000000000001,0.32100000000000001,0.36299999999999999,0.35399999999999998,0.35599999999999998,22956,24370,25373,55568,57733,58778,1338,1886,2467,31540,31258,37709,4036,3796,4262,0,0,0,15579,15688,19191,263441,266444,269572,37818,39238,40790,79353,79287,79728,0,0,0,35644,33521,0,80292,0,0,10849,10825,10774,0.14499999999999999,0.128,0.114,70247,74499,0,0.78565860623862072,0.76763611001397902,0.73586842548148068,2015,2,"JUN","2015-06-01"]
["Modoc",455,467,465,997,1023,1012,0.38200000000000001,0.38600000000000001,0.39600000000000002,930,994,998,0.93400000000000005,0.95299999999999996,0.96399999999999997,1,1,0.89500000000000002,0.873,0.81299999999999994,0.94,8.5999999999999993E-2,4.5999999999999999E-2,2.9000000000000001E-2,0.16300000000000001,0.21199999999999999,0.12,0.21099999999999999,0.26700000000000002,0.17299999999999999,0.17699999999999999,0.33600000000000002,0.27100000000000002,0.191,0.34899999999999998,0.28599999999999998,415,467,455,935,1001,966,34,40,58,442,438,605,42,31,42,0,0,0,71,62,61,9457,9395,9410,2876,2896,2945,1952,1905,1894,0,0,0,335,353,0,1865,0,0,416,421,419,0.124,0.105,8.7999999999999995E-2,2622,0,0,0.36099657830335341,0.4472268901875262,0.49576448172215082,2015,2,"JUN","2015-06-01"]
["Mono",581,499,522,920,849,852,0.32600000000000001,0.311,0.318,756,753,766,0.8,0.874,0.86299999999999999,1,0.93899999999999995,0.96299999999999997,0.85599999999999998,0.95699999999999996,0.98099999999999998,8.5999999999999993E-2,4.5999999999999999E-2,2.9000000000000001E-2,9.1999999999999998E-2,5.0999999999999997E-2,2.4E-2,0.20399999999999999,0.13700000000000001,0.13700000000000001,7.9000000000000001E-2,9.0999999999999998E-2,3.7999999999999999E-2,0.1,0.10199999999999999,5.7000000000000002E-2,400,522,520,656,855,856,43,49,72,283,334,463,74,70,78,0,0,0,163,218,290,14376,14440,14525,2711,2804,2939,3013,3046,3086,0,0,0,937,1069,0,1248,0,0,101,100,99,8.5000000000000006E-2,7.1999999999999995E-2,6.0999999999999999E-2,2021,0,0,0.31554896752066686,0.49939412291526875,0.69164149189032076,2015,2,"JUN","2015-06-01"]
["Monterey",23498,23266,24412,53709,52560,54990,0.41,0.40799999999999997,0.42,50702,52785,54378,0.93700000000000006,0.96099999999999997,0.96299999999999997,1,1,1,0.97099999999999997,0.95,0.96,7.9000000000000001E-2,7.4999999999999997E-2,5.5E-2,0.126,0.151,0.14299999999999999,0.20100000000000001,0.23499999999999999,0.221,0.158,0.127,0.17599999999999999,0.185,0.14499999999999999,0.20499999999999999,20213,21758,22745,46145,49132,50601,1572,2212,2984,29909,30054,40553,6960,6638,8572,0,0,0,21235,22043,31763,424119,426670,429584,71183,73258,75614,112481,113104,113636,0,0,0,64059,74856,0,88589,0,0,8458,8488,8376,0.10299999999999999,9.0999999999999998E-2,8.1000000000000003E-2,83052,76819,0,0.56469538837346811,0.65190822926998127,0.75962434950577884,2015,2,"JUN","2015-06-01"]
["Napa",3561,3575,3705,7455,7421,7653,0.308,0.32,0.33600000000000002,7016,7241,7471,0.92800000000000005,0.93600000000000005,0.93799999999999994,0.97199999999999998,0.94199999999999995,0.98799999999999999,0.97899999999999998,0.95499999999999996,0.97399999999999998,8.5999999999999993E-2,4.5999999999999999E-2,2.9000000000000001E-2,0.1,0.11,0.11,0.161,0.183,0.16800000000000001,0.17799999999999999,0.14499999999999999,0.16600000000000001,0.19600000000000001,0.16700000000000001,0.19800000000000001,3193,3526,3632,6710,7325,7444,341,433,562,4081,4040,5159,909,798,924,0,0,0,2892,2923,3742,139831,141172,142301,32036,32913,33854,31002,30942,30799,0,0,0,12782,11600,0,15421,0,0,2156,2118,2093,6.8000000000000005E-2,5.6000000000000001E-2,4.5999999999999999E-2,16770,13997,0,0.40661393682295693,0.52160944627671246,0.38161673999826451,2015,2,"JUN","2015-06-01"]
["Nevada",4160,4246,4235,7813,7705,7675,0.41799999999999998,0.40400000000000003,0.41399999999999998,7251,7240,7355,0.9,0.91600000000000004,0.92600000000000005,0.97599999999999998,0.96499999999999997,0.98899999999999999,0.76600000000000001,0.84599999999999997,0.82499999999999996,8.5999999999999993E-2,4.5999999999999999E-2,2.9000000000000001E-2,8.7999999999999995E-2,0.105,0.111,0.16400000000000001,0.17699999999999999,0.20499999999999999,0.20399999999999999,0.188,0.25,0.23599999999999999,0.222,0.28799999999999998,3898,4221,4272,7452,7804,7776,445,640,813,2951,2868,3576,186,165,182,0,0,0,255,284,364,98317,98453,98633,31210,32138,33027,17565,17237,17026,0,0,0,1576,1472,0,10758,0,0,1796,1796,1806,8.1000000000000003E-2,6.6000000000000003E-2,5.5E-2,16674,12649,0,0.44248242080254063,0.61057440393830054,0.42800062583066384,2015,2,"JUN","2015-06-01"]
["Orange",115195,120652,121210,248563,253714,254662,0.36099999999999999,0.36599999999999999,0.372,223200,236408,236931,0.9,0.91900000000000004,0.91900000000000004,0.97699999999999998,0.98599999999999999,0.98799999999999999,0.995,0.995,0.997,3.2000000000000001E-2,3.3000000000000002E-2,0.04,9.2999999999999999E-2,0.112,0.108,0.17299999999999999,0.19800000000000001,0.19900000000000001,5.8999999999999997E-2,7.5999999999999998E-2,8.5999999999999993E-2,9.6000000000000002E-2,0.12,0.13400000000000001,105823,117235,123718,232862,270245,257750,13145,17616,22825,139033,135615,165520,29922,28117,31211,0,0,0,111958,114889,137793,3097966,3125833,3150934,559090,579380,601086,721292,719772,718992,0,0,0,316852,325313,0,467937,0,0,67573,68202,68296,6.5000000000000002E-2,5.5E-2,4.4999999999999998E-2,444095,443857,0,0.51788536634810356,0.58262619430581397,0.61073927765205804,2015,2,"JUN","2015-06-01"]
["Placer",9099,9726,9342,18437,18407,18325,0.35099999999999998,0.35,0.35599999999999998,14956,15877,15888,0.82299999999999995,0.85899999999999999,0.86899999999999999,0.98799999999999999,0.98199999999999998,0.98199999999999998,0.97499999999999998,0.95,0.93799999999999994,8.5999999999999993E-2,4.5999999999999999E-2,2.9000000000000001E-2,9.9000000000000005E-2,0.11799999999999999,0.111,0.184,0.19900000000000001,0.20100000000000001,6.2E-2,7.9000000000000001E-2,0.08,0.1,0.127,0.129,8480,9206,9410,17673,18455,18190,1019,1416,1857,7868,7411,9829,677,658,766,0,0,0,2021,1954,2411,365125,369460,373503,85049,87902,90692,84419,83682,83185,0,0,0,8063,6222,0,28497,0,0,5056,5087,5127,7.6999999999999999E-2,6.3E-2,0.05,39484,41239,0,0.44976744876628461,0.44945277490867924,0.47371604310456833,2015,2,"JUN","2015-06-01"]
["Plumas",991,1060,1126,1951,2030,2151,0.41699999999999998,0.432,0.46500000000000002,1727,1845,1964,0.88800000000000001,0.89800000000000002,0.89900000000000002,1,1,1,0.53300000000000003,0.80700000000000005,0.90300000000000002,8.5999999999999993E-2,4.5999999999999999E-2,2.9000000000000001E-2,7.3999999999999996E-2,7.5999999999999998E-2,0.11799999999999999,0.13500000000000001,0.11,0.16700000000000001,0.22900000000000001,0.18099999999999999,0.192,0.249,0.191,0.21199999999999999,773,956,1061,1604,1793,1993,82,116,160,676,707,961,34,37,51,0,0,0,22,22,53,19466,19416,19384,6703,6907,7072,3263,3252,3249,0,0,0,217,202,0,3027,0,0,641,651,656,0.13900000000000001,0.11700000000000001,0.104,3816,0,0,0.43854437804865226,0.5261404932248257,0.59469382647241054,2015,2,"JUN","2015-06-01"]
["Riverside",121622,126931,126536,285410,292785,290231,0.44,0.44800000000000001,0.44800000000000001,242560,265001,266111,0.84899999999999998,0.88700000000000001,0.89400000000000002,0.996,0.995,0.997,0.88400000000000001,0.90300000000000002,0.92100000000000004,3.5000000000000003E-2,7.6999999999999999E-2,5.6000000000000001E-2,0.16,0.17,0.17,0.24,0.25600000000000001,0.25700000000000001,0.23699999999999999,0.224,0.22900000000000001,0.26700000000000002,0.255,0.26300000000000001,115800,124316,129532,278117,289618,295239,10225,13821,18121,151042,148026,184930,17000,16149,17346,0,0,0,65355,66204,81846,2264173,2294333,2323527,396291,411572,428027,608238,609127,612757,0,0,0,173255,172588,0,409328,0,0,56654,57657,58059,9.9000000000000005E-2,8.2000000000000003E-2,6.7000000000000004E-2,469029,455320,0,0.59124914316236565,0.63751163857777993,0.69484033727327177,2015,2,"JUN","2015-06-01"]
["Sacramento",99448,103939,103785,215919,219747,219096,0.46100000000000002,0.46300000000000002,0.46400000000000002,190711,205164,204032,0.88700000000000001,0.92,0.92100000000000004,0.97499999999999998,0.98899999999999999,0.99199999999999999,0.98099999999999998,0.97499999999999998,0.98699999999999999,3.0000000000000001E-3,0,3.0000000000000001E-3,9.8000000000000004E-2,0.123,0.122,0.17199999999999999,0.21,0.20699999999999999,5.8000000000000003E-2,8.5000000000000006E-2,9.5000000000000001E-2,9.2999999999999999E-2,0.13100000000000001,0.14499999999999999,94824,101502,105023,210033,217077,219932,6598,9056,11837,105467,101011,123044,9994,9400,10029,0,0,0,47601,47736,57891,1448268,1461174,1475381,254622,264452,275133,358519,358865,360213,0,0,0,101446,94516,0,308037,0,0,61371,62271,62730,8.8999999999999996E-2,7.2999999999999995E-2,0.06,306055,295178,0,0.68101648407910953,0.7368741653264238,0.83260287264778898,2015,2,"JUN","2015-06-01"]
["San Benito",2752,2731,2781,6390,6193,6283,0.41499999999999998,0.42599999999999999,0.43099999999999999,5885,6095,6077,0.92500000000000004,0.94699999999999995,0.94699999999999995,1,0.98099999999999998,0.99199999999999999,0.94599999999999995,0.94599999999999995,0.93,8.5999999999999993E-2,4.5999999999999999E-2,2.9000000000000001E-2,0.13400000000000001,0.14000000000000001,0.12,0.245,0.23300000000000001,0.214,0.26200000000000001,0.29899999999999999,0.248,0.29399999999999998,0.34,0.28899999999999998,2684,2710,2702,6232,6169,5988,246,292,367,3361,3209,4065,472,436,505,0,0,0,1856,1802,2281,57366,58222,59039,9394,9875,10342,15424,15274,15140,0,0,0,5777,5516,0,9287,0,0,882,899,900,0.111,9.2999999999999999E-2,7.5999999999999998E-2,8524,0,0,0.72675062462478957,0.70741531862364759,0.78347499663269027,2015,2,"JUN","2015-06-01"]
["San Bernardino",168897,177354,178228,385964,398410,398523,0.52,0.53700000000000003,0.53900000000000003,332250,358255,362773,0.87,0.89700000000000002,0.90500000000000003,0.999,1,1,0.90600000000000003,0.95699999999999996,0.96199999999999997,1.7000000000000001E-2,5.6000000000000001E-2,3.6999999999999998E-2,0.19800000000000001,0.217,0.214,0.27200000000000002,0.3,0.29599999999999999,0.30599999999999999,0.27800000000000002,0.29099999999999998,0.33400000000000002,0.308,0.32300000000000001,159737,172721,181362,373620,392265,403228,12685,17508,22887,194878,192219,234835,21323,19813,20761,0,0,0,70335,71384,85947,2075160,2096123,2116461,301721,316194,331502,576858,575598,576195,0,0,0,156056,164799,0,481334,0,0,66969,68029,68072,9.8000000000000004E-2,8.1000000000000003E-2,6.5000000000000002E-2,441319,458343,0,0.84152610654688464,0.85480513964161331,0.92665518793589696,2015,2,"JUN","2015-06-01"]
["San Diego",131667,139096,141303,276963,287399,289089,0.40699999999999997,0.41699999999999998,0.41499999999999998,237836,262644,262894,0.85799999999999998,0.88600000000000001,0.88900000000000001,0.90200000000000002,0.93600000000000005,0.93799999999999994,0.96799999999999997,0.97799999999999998,0.98299999999999998,4.3999999999999997E-2,8.0000000000000002E-3,0.01,0.122,0.13400000000000001,0.128,0.20499999999999999,0.22500000000000001,0.217,6.2E-2,6.6000000000000003E-2,7.4999999999999997E-2,0.10299999999999999,0.105,0.11799999999999999,122561,134694,143440,260576,300896,291188,13842,19191,25885,131432,131324,168267,15919,15532,17078,0,0,0,93092,97970,123936,3184072,3214279,3244706,558419,579311,601375,723080,726020,730140,0,0,0,236315,228246,0,451842,0,0,75967,76554,76341,7.8E-2,6.4000000000000001E-2,5.1999999999999998E-2,553958,548766,0,0.4659832261291611,0.5173190533272255,0.57292109557354953,2015,2,"JUN","2015-06-01"]
["San Francisco",32863,33153,33614,51155,50987,51449,0.26,0.27400000000000002,0.27800000000000002,42391,45530,45989,0.81799999999999995,0.86499999999999999,0.873,0.97099999999999997,0.97299999999999998,0.97,0.9,0.86199999999999999,0.89400000000000002,4.9000000000000002E-2,8.5000000000000006E-2,6.3E-2,0.11700000000000001,0.12,0.10299999999999999,0.19600000000000001,0.20100000000000001,0.19400000000000001,0.10100000000000001,0.1,9.0999999999999998E-2,0.14499999999999999,0.14599999999999999,0.13500000000000001,32096,32961,34244,50124,53900,52180,5459,6615,8552,19668,18721,23126,4243,3966,4486,0,0,0,19818,20630,26371,833827,840391,848564,171662,176508,181559,119793,123334,126617,0,0,0,96046,103652,0,134579,0,0,37708,37503,37327,5.5E-2,4.3999999999999997E-2,3.5999999999999997E-2,120297,100798,0,0.40594685641860467,0.51877955213904448,0.50698302103297233,2015,2,"JUN","2015-06-01"]
["San Joaquin",49324,51784,53153,116685,120014,122470,0.49099999999999999,0.51100000000000001,0.52500000000000002,109343,116473,118387,0.92300000000000004,0.94699999999999995,0.95,0.98299999999999998,0.98699999999999999,0.99399999999999999,0.88600000000000001,0.88900000000000001,0.90300000000000002,5.3999999999999999E-2,1.7999999999999999E-2,2.1999999999999999E-2,0.13300000000000001,0.16200000000000001,0.152,0.20599999999999999,0.23799999999999999,0.22900000000000001,0.26700000000000002,0.23100000000000001,0.24099999999999999,0.29899999999999999,0.25800000000000001,0.27500000000000002,46964,50358,53401,113230,118029,122077,3502,4706,6110,63093,61837,74545,7295,6809,7330,0,0,0,23995,24307,28986,703790,713961,723506,113154,117867,122739,197012,196893,197478,0,0,0,64800,65961,0,170765,0,0,27071,27296,27357,0.124,0.106,8.8999999999999996E-2,156985,155948,0,0.71282208923144241,0.75448405858440615,0.92455081561557007,2015,2,"JUN","2015-06-01"]
["San Luis Obispo",9675,9834,9993,18502,18402,18578,0.38900000000000001,0.38800000000000001,0.4,16858,17420,17756,0.89400000000000002,0.92200000000000004,0.92700000000000005,0.97199999999999998,0.95299999999999996,0.98,0.90500000000000003,0.93300000000000005,0.93200000000000005,8.5999999999999993E-2,4.5999999999999999E-2,2.9000000000000001E-2,6.7000000000000004E-2,8.4000000000000005E-2,7.5999999999999998E-2,0.13100000000000001,0.16,0.16,0.04,5.2999999999999999E-2,5.7000000000000002E-2,7.2999999999999995E-2,9.7000000000000003E-2,9.9000000000000005E-2,8907,9573,10090,17319,17983,18642,1072,1399,1754,8228,8025,10311,1089,1102,1255,0,0,0,3239,3371,4211,271740,272941,274254,65066,67294,69554,50061,49890,49891,0,0,0,10073,10622,0,30635,0,0,4383,4290,4209,6.8000000000000005E-2,5.6000000000000001E-2,4.5999999999999999E-2,47791,45982,0,0.36625752524840383,0.39378556835265566,0.40872986695625607,2015,2,"JUN","2015-06-01"]
["San Mateo",15963,15994,16200,32354,31880,31947,0.27900000000000003,0.28199999999999997,0.28699999999999998,28934,29344,28969,0.89300000000000002,0.9,0.9,0.97699999999999998,0.97499999999999998,0.97299999999999998,0.88900000000000001,0.93300000000000005,0.92,8.5999999999999993E-2,4.5999999999999999E-2,2.9000000000000001E-2,8.6999999999999994E-2,9.6000000000000002E-2,9.2999999999999999E-2,0.17100000000000001,0.19400000000000001,0.187,5.6000000000000001E-2,6.9000000000000006E-2,6.4000000000000001E-2,9.4E-2,0.114,0.113,14493,16060,16305,29339,32208,31752,2531,3450,4279,17242,16879,21195,4025,3907,4575,0,0,0,13534,14235,17806,741857,747334,752751,155845,160763,166303,163248,163900,164163,0,0,0,58256,55943,0,77027,0,0,10953,10783,10434,5.1999999999999998E-2,4.2000000000000003E-2,3.4000000000000002E-2,68114,63839,0,0.42299145074748989,0.5047687081036859,0.44253944353777569,2015,2,"JUN","2015-06-01"]
["Santa Barbara",16217,16991,17403,36132,37090,37966,0.33900000000000002,0.35499999999999998,0.35899999999999999,34345,36702,37006,0.93200000000000005,0.94299999999999995,0.94599999999999995,0.79600000000000004,0.85499999999999998,0.95299999999999996,0.88600000000000001,0.90400000000000003,0.92100000000000004,8.5999999999999993E-2,4.5999999999999999E-2,2.9000000000000001E-2,7.6999999999999999E-2,8.5999999999999993E-2,8.5999999999999993E-2,0.14199999999999999,0.17299999999999999,0.16900000000000001,4.9000000000000002E-2,5.7000000000000002E-2,5.7000000000000002E-2,8.4000000000000005E-2,9.9000000000000005E-2,0.104,14344,15674,17002,32221,34497,36443,1086,1559,2179,20051,20526,28148,4170,4029,5590,0,0,0,12614,13524,19398,433157,435999,439082,82325,84301,86574,97825,98027,98532,0,0,0,46332,43550,0,74176,0,0,8477,8393,8191,7.0999999999999994E-2,6.0999999999999999E-2,5.2999999999999999E-2,79414,83642,0,0.41419200848854154,0.42200119780622236,0.50750380291810415,2015,2,"JUN","2015-06-01"]
["Santa Clara",54498,55320,55523,113186,112449,111985,0.317,0.33,0.32900000000000001,100661,105602,105051,0.89,0.92100000000000004,0.93100000000000005,0.96799999999999997,0.96,0.96699999999999997,0.93400000000000005,0.97199999999999998,0.97299999999999998,2.7E-2,1.9E-2,0.02,3.4000000000000002E-2,2.5000000000000001E-2,2.5000000000000001E-2,0.11700000000000001,0.12,0.115,8.0000000000000002E-3,1.2E-2,0.01,4.7E-2,5.6000000000000001E-2,5.6000000000000001E-2,52296,55307,55399,110622,113439,110974,7200,9510,11866,59419,55723,67584,11654,10556,12117,0,0,0,48568,49052,59122,1850595,1871516,1890424,321578,334221,347783,439320,442256,444794,0,0,0,176036,174224,0,261699,0,0,44002,43472,42694,6.5000000000000002E-2,5.1999999999999998E-2,4.2000000000000003E-2,215577,173716,0,0.50311228218070525,0.65194601619115522,0.68854903421894531,2015,2,"JUN","2015-06-01"]
["Santa Cruz",12796,13271,13787,24910,25385,26274,0.40100000000000002,0.40500000000000003,0.42299999999999999,22566,23887,24440,0.89400000000000002,0.92500000000000004,0.92600000000000005,0.80700000000000005,0.92700000000000005,0.97,0.93799999999999994,0.98499999999999999,0.97099999999999997,8.5999999999999993E-2,4.5999999999999999E-2,2.9000000000000001E-2,0.03,1.2999999999999999E-2,1.4E-2,9.1999999999999998E-2,7.9000000000000001E-2,7.8E-2,1.7999999999999999E-2,6.0000000000000001E-3,6.0000000000000001E-3,5.2999999999999999E-2,4.2000000000000003E-2,3.9E-2,11641,12402,13892,22732,23719,26010,1290,1797,2375,11843,11576,15311,2423,2244,2811,0,0,0,8317,8530,12072,271495,272210,273695,53904,56302,58703,55939,56013,56099,0,0,0,20137,23557,0,38508,0,0,5077,5038,4931,0.10299999999999999,8.6999999999999994E-2,7.4999999999999997E-2,42179,47670,0,0.54467417520778982,0.50502675093748539,0.57953642042354159,2015,2,"JUN","2015-06-01"]
["Shasta",12324,12834,13084,24283,24775,25180,0.438,0.442,0.45100000000000001,22632,23914,24405,0.91300000000000003,0.93799999999999994,0.94299999999999995,0.95499999999999996,0.96599999999999997,0.96699999999999997,0.95499999999999996,0.96299999999999997,0.97899999999999998,8.5999999999999993E-2,4.5999999999999999E-2,2.9000000000000001E-2,0.126,0.16,0.14499999999999999,0.19700000000000001,0.25,0.223,0.23499999999999999,0.28299999999999997,0.30599999999999999,0.26500000000000001,0.316,0.33900000000000002,11911,12720,13115,23709,24671,25293,990,1221,1685,10472,9992,12683,713,609,647,0,0,0,466,465,628,178591,179305,180021,45455,46860,48202,38745,38532,38475,0,0,0,3086,2491,0,37387,0,0,9306,9289,9252,0.11799999999999999,9.7000000000000003E-2,7.8E-2,40245,29544,0,0.58273132182190857,0.83034253379074596,0.69300660294121874,2015,2,"JUN","2015-06-01"]
["Sierra",172,178,178,306,320,324,0.436,0.46500000000000002,0.442,285,312,296,0.92800000000000005,0.91800000000000004,0.89200000000000002,0.9,1,1,1,1,0.9,8.5999999999999993E-2,4.5999999999999999E-2,2.9000000000000001E-2,6.7000000000000004E-2,0.10299999999999999,7.6999999999999999E-2,0.1,0.128,0.26900000000000002,0.13300000000000001,0.128,0.23100000000000001,0.16700000000000001,0.18,0.23100000000000001,156,163,171,305,294,317,26,41,40,106,86,131,1,3,1,0,0,0,6,8,12,3270,3267,3257,1235,1274,1300,463,450,439,0,0,0,93,89,0,497,0,0,99,89,85,0.129,0.1,0.09,697,0,0,0.43626999716296844,0.56159427452170951,0.60385382870597404,2015,2,"JUN","2015-06-01"]
["Siskiyou",3206,3223,3279,7024,6993,7132,0.48,0.47399999999999998,0.48399999999999999,6641,6782,6866,0.93799999999999994,0.95299999999999996,0.95699999999999996,1,1,0.98499999999999999,0.85399999999999998,0.88100000000000001,0.86,8.5999999999999993E-2,4.5999999999999999E-2,2.9000000000000001E-2,0.12,0.159,0.122,0.18099999999999999,0.23699999999999999,0.184,0.23699999999999999,0.23200000000000001,0.23799999999999999,0.253,0.255,0.25600000000000001,2900,3184,3250,6486,6907,6992,275,413,529,2872,2825,3571,154,141,150,0,0,0,192,181,270,45215,45290,45400,13967,14388,14816,8755,8639,8549,0,0,0,782,717,0,10036,0,0,2475,2431,2389,0.13200000000000001,0.113,9.4E-2,10390,0,0,0.62649903974722321,0.60582435845117577,0.61723183482887178,2015,2,"JUN","2015-06-01"]
["Solano",21995,22313,22650,43407,43385,43830,0.442,0.432,0.433,39913,41350,41084,0.90400000000000003,0.92100000000000004,0.92,0.94499999999999995,0.93100000000000005,0.94499999999999995,0.97199999999999998,0.97199999999999998,0.98499999999999999,0.01,2.4E-2,0.02,1.7999999999999999E-2,1.2999999999999999E-2,1.2999999999999999E-2,0.114,0.11899999999999999,0.11600000000000001,8.9999999999999993E-3,6.0000000000000001E-3,4.0000000000000001E-3,5.8999999999999997E-2,0.06,0.04,20782,22292,23149,41287,43531,44119,1823,2457,3120,20249,19919,25381,2463,2272,2573,0,0,0,6854,6844,8830,424048,428705,432921,80768,84375,88221,97128,96723,96377,0,0,0,20853,18343,0,62999,0,0,11691,11752,11654,0.09,7.4999999999999997E-2,6.0999999999999999E-2,61760,56429,0,0.66764538469704438,0.76925949545071659,0.67496232970642456,2015,2,"JUN","2015-06-01"]
["Sonoma",19162,19814,20098,35221,35677,36090,0.36899999999999999,0.36899999999999999,0.376,33198,34454,34435,0.91,0.92200000000000004,0.92300000000000004,0.83799999999999997,0.95799999999999996,0.91800000000000004,0.71699999999999997,0.70499999999999996,0.75600000000000001,8.5999999999999993E-2,4.5999999999999999E-2,2.9000000000000001E-2,0.105,0.10299999999999999,0.10199999999999999,0.189,0.188,0.189,5.3999999999999999E-2,5.5E-2,7.0000000000000007E-2,0.10100000000000001,9.4E-2,0.121,18686,19304,20183,34451,34951,36183,2351,2986,3870,17558,16974,21537,3484,3249,3738,0,0,0,10432,10517,13316,493070,497260,501350,112593,116344,120115,104608,104298,103885,0,0,0,24921,25983,0,60020,0,0,8547,8488,8388,7.0000000000000007E-2,5.6000000000000001E-2,4.4999999999999998E-2,71127,69971,0,0.49066532056361034,0.50345315035929272,0.61995535705282345,2015,2,"JUN","2015-06-01"]
["Stanislaus",42355,42583,43265,92163,91585,92704,0.49,0.48699999999999999,0.496,83281,87194,88772,0.89300000000000002,0.93400000000000005,0.94099999999999995,0.91500000000000004,0.96299999999999997,0.98599999999999999,0.85299999999999998,0.89400000000000002,0.91800000000000004,1.7000000000000001E-2,1.2999999999999999E-2,1.4999999999999999E-2,0.16,0.17799999999999999,0.185,0.251,0.27200000000000002,0.28000000000000003,0.32100000000000001,0.27,0.29699999999999999,0.36,0.315,0.34399999999999997,41539,42873,43553,91048,92778,92572,2893,3835,4942,46298,45160,54880,5663,5238,5611,0,0,0,17711,18095,21837,527232,532344,538689,86547,89829,93394,144260,144079,144427,0,0,0,48602,48829,0,128318,0,0,20057,20165,19884,0.129,0.112,9.5000000000000001E-2,125680,115985,0,0.72214889693563,0.79497781177320248,0.87422444234218655,2015,2,"JUN","2015-06-01"]
["Sutter",5565,5642,5646,12986,13047,13160,0.39600000000000002,0.39400000000000002,0.40100000000000002,12142,12506,12630,0.92900000000000005,0.95,0.95499999999999996,0.97199999999999998,1,0.96799999999999997,0.90600000000000003,0.88900000000000001,0.91500000000000004,8.5999999999999993E-2,4.5999999999999999E-2,2.9000000000000001E-2,0.15,0.19,0.18,0.21199999999999999,0.26300000000000001,0.24299999999999999,0.20799999999999999,0.219,0.26,0.22900000000000001,0.24099999999999999,0.28499999999999998,5215,5623,5712,12440,13083,13236,369,491,644,6642,6535,8067,689,648,726,0,0,0,2281,2388,2921,97386,97257,97887,18207,18667,19295,25333,25371,25512,0,0,0,8366,8544,0,21895,0,0,3778,3793,3793,0.14599999999999999,0.127,0.108,22883,16038,0,0.53769509167762497,0.8091986651521671,0.59198717459615158,2015,2,"JUN","2015-06-01"]
["Tehama",4917,4714,4754,10963,10255,10371,0.46700000000000003,0.443,0.45500000000000002,10343,9965,10276,0.92900000000000005,0.95399999999999996,0.96299999999999997,0.94399999999999995,0.97899999999999998,0.96499999999999997,0.92200000000000004,0.95899999999999996,0.97399999999999998,8.5999999999999993E-2,4.5999999999999999E-2,2.9000000000000001E-2,0.113,0.14799999999999999,0.13800000000000001,0.17100000000000001,0.24099999999999999,0.21099999999999999,0.10299999999999999,0.26,0.26900000000000002,0.11,0.28399999999999997,0.29399999999999998,4320,5009,4816,9916,11155,10543,363,492,616,5013,5146,6292,441,422,480,0,0,0,1199,1283,1615,64498,64827,65193,15313,15700,16155,15280,15138,15064,0,0,0,2603,2345,0,16152,0,0,3062,3106,3068,0.11700000000000001,9.7000000000000003E-2,0.08,14220,0,0,0.69231531437680793,0.76327104213104657,0.69554949293710311,2015,2,"JUN","2015-06-01"]
["Trinity",939,996,1004,1775,1829,1808,0.44400000000000001,0.439,0.433,1650,1741,1735,0.91200000000000003,0.92200000000000004,0.93200000000000005,1,0.92500000000000004,0.93899999999999995,0.89400000000000002,0.66900000000000004,0.83599999999999997,8.5999999999999993E-2,4.5999999999999999E-2,2.9000000000000001E-2,4.3999999999999997E-2,0.14299999999999999,0.10199999999999999,9.1999999999999998E-2,0.23300000000000001,0.17100000000000001,4.8000000000000001E-2,0.33700000000000002,0.30199999999999999,5.1999999999999998E-2,0.38,0.34300000000000003,762,1001,1035,1516,1838,1867,89,117,148,622,623,825,45,42,39,0,0,0,12,10,9,13776,13782,13821,4587,4753,4906,2276,2215,2175,0,0,0,36,49,0,2603,0,0,636,656,643,0.121,9.9000000000000005E-2,7.8E-2,3100,0,0,0.50150279286577459,0.5912422140107656,0.56469445800616525,2015,2,"JUN","2015-06-01"]
["Tulare",50688,52436,52745,123505,123898,125269,0.54900000000000004,0.55000000000000004,0.54600000000000004,114249,119942,119867,0.92600000000000005,0.94699999999999995,0.94899999999999995,1,0.97699999999999998,0.98499999999999999,0.98199999999999998,0.97799999999999998,0.98599999999999999,4.7E-2,4.5999999999999999E-2,3.4000000000000002E-2,0.16800000000000001,0.20100000000000001,0.20599999999999999,0.27200000000000002,0.309,0.32100000000000001,0.13100000000000001,0.14099999999999999,0.17499999999999999,0.186,0.19800000000000001,0.24,46471,50975,52900,114774,132774,123955,3459,4856,6133,67240,65842,78672,8233,7798,8381,0,0,0,37887,39618,48197,456075,461703,467170,66305,68896,71452,143372,144472,146093,0,0,0,60016,63244,0,160183,0,0,17554,17865,17848,0.14399999999999999,0.13200000000000001,0.11700000000000001,147863,139566,0,0.77504881539151371,0.90358518151528189,0.91335509939391257,2015,2,"JUN","2015-06-01"]
["Tuolumne",3035,3000,3126,5567,5414,5559,0.45500000000000002,0.45700000000000002,0.47699999999999998,5231,5255,5448,0.93400000000000005,0.93899999999999995,0.94,0.93899999999999995,0.89300000000000002,0.95099999999999996,0.88800000000000001,0.753,0.78700000000000003,8.5999999999999993E-2,4.5999999999999999E-2,2.9000000000000001E-2,0.123,0.14899999999999999,0.14099999999999999,0.20399999999999999,0.215,0.23200000000000001,0.24099999999999999,0.21099999999999999,0.22,0.25800000000000001,0.23899999999999999,0.253,2828,3009,3156,5153,5556,5603,299,409,556,1955,2013,2564,137,115,106,0,0,0,66,76,103,54811,54592,54628,17219,17563,17977,9088,8943,8831,0,0,0,696,628,0,7561,0,0,1635,1639,1615,0.108,8.6999999999999994E-2,7.0999999999999994E-2,9822,0,0,0.5308063709413704,0.55096208037690064,0.61887154616755258,2015,2,"JUN","2015-06-01"]
["Ventura",34857,36486,37080,71740,74220,75528,0.38400000000000001,0.41,0.41499999999999998,63209,68798,69708,0.871,0.89,0.90100000000000002,0.96499999999999997,0.94399999999999995,0.98399999999999999,0.94699999999999995,0.95699999999999996,0.95499999999999996,3.2000000000000001E-2,4.2999999999999997E-2,6.7000000000000004E-2,0.11799999999999999,0.13500000000000001,0.13600000000000001,0.218,0.23599999999999999,0.23599999999999999,8.3000000000000004E-2,0.1,0.126,0.13200000000000001,0.15,0.191,32232,35024,37333,66971,77031,75003,3498,4822,6422,37769,37317,49069,6844,6549,7926,0,0,0,25095,26091,34694,839617,844833,850206,156524,162247,168417,205584,204901,204332,0,0,0,76495,75693,0,111492,0,0,14764,14875,14875,7.9000000000000001E-2,6.7000000000000004E-2,5.7000000000000002E-2,112132,114150,0,0.60105354961794943,0.64997993128460252,0.8310954940650721,2015,2,"JUN","2015-06-01"]
["Yolo",8647,9810,10077,18353,20044,20591,0.40400000000000003,0.42799999999999999,0.434,16833,18881,19200,0.90300000000000002,0.91400000000000003,0.91800000000000004,0.84199999999999997,0.91200000000000003,0.95399999999999996,0.89500000000000002,0.86,0.85,8.5999999999999993E-2,4.5999999999999999E-2,2.9000000000000001E-2,0.12,0.112,0.111,0.20200000000000001,0.17799999999999999,0.191,6.0999999999999999E-2,7.0999999999999994E-2,7.8E-2,0.109,0.106,0.128,7850,8865,10254,16629,18273,20610,774,1075,1498,8108,8448,11457,874,867,1015,0,0,0,4707,5033,6991,206621,208069,209647,32873,34248,35625,43847,43396,43148,0,0,0,14762,11918,0,28422,0,0,5351,5314,5260,9.0999999999999998E-2,7.6999999999999999E-2,6.4000000000000001E-2,42449,50238,0,0.39257891056597655,0.3707119276196772,0.50741494929932407,2015,2,"JUN","2015-06-01"]
["Yuba",5935,6023,6167,13249,13204,13517,0.496,0.48699999999999999,0.5,12340,12741,13052,0.91800000000000004,0.94799999999999995,0.94899999999999995,1,1,1,0.96199999999999997,0.96399999999999997,0.96599999999999997,8.5999999999999993E-2,4.5999999999999999E-2,2.9000000000000001E-2,0.16700000000000001,0.191,0.17399999999999999,0.23599999999999999,0.254,0.24299999999999999,0.40600000000000003,0.38300000000000001,0.33100000000000002,0.42899999999999999,0.40799999999999997,0.36099999999999999,5749,6026,6306,12919,13449,13621,341,435,584,6541,6332,7563,571,501,524,0,0,0,1586,1526,1789,73600,74258,75093,11868,12397,12935,20521,20606,20736,0,0,0,3382,4010,0,18518,0,0,3733,3734,3710,0.13100000000000001,0.112,9.1999999999999998E-2,14308,17376,0,0.89600000000000002,0.76600000000000001,0.72442693271347103,2015,2,"JUN","2015-06-01"]
["Alameda",64020,61121,62663,125434,119790,121577,0.35299999999999998,0.34399999999999997,0.35799999999999998,111396,112760,114888,0.85899999999999999,0.90200000000000002,0.90100000000000002,0.88400000000000001,0.83499999999999996,0.78500000000000003,0.86899999999999999,0.89600000000000002,0.88400000000000001,0.04,4.5999999999999999E-2,3.3000000000000002E-2,0.123,0.104,0.104,0.21199999999999999,0.19900000000000001,0.19700000000000001,6.9000000000000006E-2,7.5999999999999998E-2,6.7000000000000004E-2,0.129,0.13300000000000001,0.114,62875,64020,62663,125835,125434,121577,7267,9307,12022,63938,60223,71736,9990,9205,10229,0,0,0,39263,40011,48924,1563370,1582119,1599888,282890,294442,306991,346038,348428,350486,0,0,0,133681,139309,0,243275,0,0,48141,47823,47331,7.2999999999999995E-2,5.8999999999999997E-2,4.7E-2,220034,214363,0,0.56717244038342607,0.58770588854592853,0.6372229790855547,2015,3,"SEP","2015-09-01"]
["Alpine",114,102,101,194,163,171,0.51400000000000001,0.51700000000000002,0.54300000000000004,178,156,170,0.90800000000000003,0.92900000000000005,0.94399999999999995,1,1,1,0.78900000000000003,0.625,0.75,7.9000000000000001E-2,2.9000000000000001E-2,2.4E-2,0.08,0,0,0.16,6.3E-2,5.8999999999999997E-2,0.04,0.125,0,0.04,0.125,0,91,114,101,171,194,171,11,16,21,62,59,66,0,0,1,0,0,0,0,0,0,1228,1243,1252,369,398,425,243,245,245,0,0,0,25,23,0,184,0,0,42,39,39,9.8000000000000004E-2,8.7999999999999995E-2,7.9000000000000001E-2,222,0,0,0.70134951054248518,0.80292964974253522,0.66597195415907617,2015,3,"SEP","2015-09-01"]
["Amador",1770,1814,1823,3373,3438,3445,0.47199999999999998,0.52,0.53200000000000003,3032,3215,3216,0.89300000000000002,0.91200000000000003,0.90700000000000003,1,1,1,0.95299999999999996,0.94,0.96199999999999997,7.9000000000000001E-2,2.9000000000000001E-2,2.4E-2,0.16200000000000001,0.14399999999999999,0.158,0.23,0.223,0.23599999999999999,0.253,0.27800000000000002,0.28899999999999998,0.28499999999999998,0.317,0.33,1685,1770,1823,3280,3373,3445,194,250,329,1298,1222,1619,69,59,67,0,0,0,98,102,126,36945,37017,37178,11769,12078,12420,5919,5806,5741,0,0,0,484,559,0,4116,0,0,674,696,688,0.10299999999999999,8.3000000000000004E-2,6.6000000000000003E-2,4989,0,0,0.65704441950440784,0.66465992098604165,0.73183059517474591,2015,3,"SEP","2015-09-01"]
["Butte",15571,16430,16729,31036,31927,32207,0.435,0.46700000000000003,0.47399999999999998,29670,30887,31266,0.93300000000000005,0.94299999999999995,0.94099999999999995,0.93700000000000006,0.94599999999999995,0.92,0.94199999999999995,0.93500000000000005,0.92600000000000005,7.9000000000000001E-2,2.9000000000000001E-2,2.4E-2,0.13600000000000001,0.14399999999999999,0.14799999999999999,0.20899999999999999,0.222,0.22600000000000001,0.28100000000000003,0.28599999999999998,0.22600000000000001,0.30399999999999999,0.32200000000000001,0.255,14733,15571,16729,30211,31036,32207,1116,1577,2080,13523,12850,15753,1063,878,925,0,0,0,2782,2667,3048,222035,224518,226656,51734,53940,55954,45459,45266,45150,0,0,0,4375,5637,0,47746,0,0,10914,10866,10733,0.10299999999999999,8.6999999999999994E-2,7.1999999999999995E-2,57536,54488,0,0.52065366997840645,0.56693046889491883,0.60002261475812002,2015,3,"SEP","2015-09-01"]
["Calaveras",2768,2928,2924,5231,5509,5498,0.495,0.53500000000000003,0.56200000000000006,4826,5120,5137,0.91600000000000004,0.92100000000000004,0.92300000000000004,1,1,1,0.96899999999999997,0.95199999999999996,0.94099999999999995,7.9000000000000001E-2,2.9000000000000001E-2,2.4E-2,9.8000000000000004E-2,0.11600000000000001,0.112,0.182,0.20200000000000001,0.19,0.16,0.21,0.23499999999999999,0.188,0.246,0.26900000000000002,2576,2768,2924,4969,5231,5498,322,437,625,1808,1778,2295,103,88,84,0,0,0,134,133,154,45214,45508,45923,15224,15719,16225,7993,7801,7638,0,0,0,410,598,0,6097,0,0,1043,1056,1057,0.1,8.1000000000000003E-2,6.5000000000000002E-2,6022,0,0,0.82427123354235265,0.80293519722539908,0.83412168219338856,2015,3,"SEP","2015-09-01"]
["California",2070802,2119268,2140611,4476030,4462799,4480570,0.41199999999999998,0.439,0.45200000000000001,3911196,4106210,4155673,0.91,0.92900000000000005,0.92900000000000005,0.97,0.97199999999999998,0.97099999999999997,0.92800000000000005,0.94699999999999995,0.94199999999999995,5.0999999999999997E-2,4.5999999999999999E-2,4.5999999999999999E-2,0.126,0.128,0.128,0.20200000000000001,0.21199999999999999,0.21,0.114,0.129,0.123,0.14499999999999999,0.16300000000000001,0.155,1942841,2070803,2140950,4221057,4476031,4481900,176557,234156,304341,2272684,2226004,2720376,341378,320176,352831,0,0,0,1314549,1337933,1628446,38202206,38548204,38896969,6820715,7071818,7340539,9150549,9157600,9184302,0,0,0,3750293,3760183,0,7280074,0,0,1187606,1193089,1187073,8.8999999999999996E-2,7.4999999999999997E-2,6.2E-2,7166749,6980319,0,0.58399999999999996,0.63400000000000001,0.69733016424114824,2015,3,"SEP","2015-09-01"]
["Colusa",725,726,661,1722,1725,1563,0.245,0.27,0.25,1671,1722,1543,0.93700000000000006,0.95699999999999996,0.96199999999999997,0.81799999999999995,0.875,1,0.93799999999999994,0.91800000000000004,0.94699999999999995,7.9000000000000001E-2,2.9000000000000001E-2,2.4E-2,7.8E-2,0.13600000000000001,0.14799999999999999,0.152,0.215,0.23,0.36899999999999999,0.40799999999999997,0.33,0.41,0.49199999999999999,0.36799999999999999,713,725,661,1710,1722,1563,72,84,118,1032,1004,1267,164,142,170,0,0,0,553,570,773,21987,22254,22555,4033,4198,4385,6106,6114,6167,0,0,0,2986,3111,0,4193,0,0,564,563,561,0.19,0.17499999999999999,0.153,3771,0,0,0.46113151104422845,0.39141984295657661,0.39781260650221328,2015,3,"SEP","2015-09-01"]
["Contra Costa",35280,35311,36075,76061,71323,72362,0.34,0.34,0.35299999999999998,64658,66981,68114,0.88400000000000001,0.91700000000000004,0.91600000000000004,0.93500000000000005,0.96799999999999997,0.96599999999999997,0.82699999999999996,0.97,0.96799999999999997,3.7999999999999999E-2,2.3E-2,2.1000000000000001E-2,8.6999999999999994E-2,8.7999999999999995E-2,8.5000000000000006E-2,0.157,0.17100000000000001,0.157,6.3E-2,6.7000000000000004E-2,6.5000000000000002E-2,0.104,0.113,0.105,32730,35280,36075,67763,76061,72362,3064,3876,5175,36829,36150,45190,5449,5317,6102,0,0,0,15787,16078,20122,1081862,1095476,1108963,215513,223639,232490,253746,251862,250390,0,0,0,66244,68215,0,131952,0,0,24041,24288,24238,7.4999999999999997E-2,6.2E-2,0.05,145293,129295,0,0.47067971198742864,0.57143348851746278,0.55604114791387682,2015,3,"SEP","2015-09-01"]
["Del Norte",2545,2493,2514,5227,5146,5205,0.48099999999999998,0.499,0.52,4969,4947,5016,0.95399999999999996,0.96099999999999997,0.96099999999999997,0.99099999999999999,1,1,0.95699999999999996,0.92900000000000005,0.94499999999999995,7.9000000000000001E-2,2.9000000000000001E-2,2.4E-2,0.193,0.215,0.13,0.254,0.27100000000000002,0.19600000000000001,0.307,0.38900000000000001,0.317,0.33300000000000002,0.41099999999999998,0.33900000000000002,2525,2545,2514,5132,5227,5205,193,238,288,2218,2130,2603,167,139,144,0,0,0,262,223,288,28530,28477,28587,6153,6387,6622,5698,5655,5599,0,0,0,733,725,0,7460,0,0,1817,1816,1797,0.11799999999999999,0.10199999999999999,8.5999999999999993E-2,5923,0,0,0.86431084940613745,0.91507601883208589,0.90731769369194393,2015,3,"SEP","2015-09-01"]
["El Dorado",6871,7359,7405,12479,13261,13278,0.39900000000000002,0.45600000000000002,0.47,11574,12544,12532,0.89800000000000002,0.90900000000000003,0.91,0.995,0.995,1,0.95399999999999996,0.94899999999999995,0.94599999999999995,7.9000000000000001E-2,2.9000000000000001E-2,2.4E-2,0.112,0.13200000000000001,0.127,0.19,0.218,0.20699999999999999,0.20799999999999999,0.23100000000000001,0.23300000000000001,0.24399999999999999,0.25900000000000001,0.26600000000000001,6397,6871,7405,11765,12479,13278,732,972,1276,4716,4740,6328,417,396,442,0,0,0,882,886,1067,184054,184320,184833,46098,47929,49793,38276,37665,37280,0,0,0,3580,3522,0,17413,0,0,2850,2851,2871,8.5000000000000006E-2,7.0000000000000007E-2,5.7000000000000002E-2,26641,27235,0,0.44106704599832475,0.45696364279304263,0.65409556790410273,2015,3,"SEP","2015-09-01"]
["Fresno",94285,97856,97852,224430,229388,227770,0.54200000000000004,0.55600000000000005,0.56699999999999995,211244,222475,223998,0.90700000000000003,0.93100000000000005,0.93400000000000005,0.94799999999999995,0.94099999999999995,0.94399999999999995,0.97699999999999998,0.97299999999999998,0.92300000000000004,2.1000000000000001E-2,2.5000000000000001E-2,2.7E-2,0.14899999999999999,0.14099999999999999,0.13900000000000001,0.245,0.251,0.251,9.7000000000000003E-2,0.105,0.106,0.16300000000000001,0.16400000000000001,0.16400000000000001,90783,94285,97947,217757,224430,228537,5364,7362,9438,123609,122849,144746,14216,13450,14341,0,0,0,59175,60875,71864,958260,969338,981681,147191,152725,158747,276923,279805,283783,0,0,0,108885,109792,0,299363,0,0,40774,41053,41165,0.13200000000000001,0.11600000000000001,0.10199999999999999,280018,281486,0,0.78293622520574913,0.80626906421255717,0.87322270167921334,2015,3,"SEP","2015-09-01"]
["Glenn",1514,1521,1528,3697,3682,3645,0.36499999999999999,0.41799999999999998,0.44900000000000001,3537,3687,3663,0.94299999999999995,0.96,0.96299999999999997,1,1,1,0.97499999999999998,0.98599999999999999,0.99,7.9000000000000001E-2,2.9000000000000001E-2,2.4E-2,0.10100000000000001,0.122,9.5000000000000001E-2,0.17599999999999999,0.20599999999999999,0.16400000000000001,0.16200000000000001,0.14699999999999999,0.19500000000000001,0.17799999999999999,0.16,0.20799999999999999,1431,1514,1528,3549,3697,3645,113,148,183,1985,1960,2401,237,215,229,0,0,0,739,762,935,28599,28868,29132,5834,6039,6264,7588,7542,7518,0,0,0,2638,2410,0,6747,0,0,1136,1111,1106,0.121,0.107,8.6999999999999994E-2,6196,0,0,0.56850757302200194,0.55838355889207381,0.55587898296053628,2015,3,"SEP","2015-09-01"]
["Humboldt",10547,11942,12084,19098,20875,21066,0.45300000000000001,0.51,0.53,17534,19482,19674,0.9,0.91500000000000004,0.91400000000000003,0.99299999999999999,0.998,1,0.86599999999999999,0.93600000000000005,0.91700000000000004,7.9000000000000001E-2,2.9000000000000001E-2,2.4E-2,9.9000000000000005E-2,0.11600000000000001,0.11700000000000001,0.151,0.18,0.19,0.20200000000000001,0.23799999999999999,0.25900000000000001,0.22,0.26400000000000001,0.28399999999999997,8812,10547,12084,16507,19098,21066,695,1117,1512,7000,7428,9450,684,644,686,0,0,0,886,900,1123,136480,136779,137159,30216,31381,32518,26025,25824,25609,0,0,0,2347,2266,0,24939,0,0,5607,5545,5488,8.2000000000000003E-2,6.8000000000000005E-2,5.6000000000000001E-2,34043,33222,0,0.474035923417713,0.56563435374326043,0.65877861627084822,2015,3,"SEP","2015-09-01"]
["Imperial",15936,16913,17367,40394,42432,43485,0.51300000000000001,0.54900000000000004,0.58399999999999996,38693,41510,42864,0.93799999999999994,0.95499999999999996,0.95799999999999996,0.91500000000000004,0.94899999999999995,0.97599999999999998,0.82599999999999996,0.83599999999999997,0.90100000000000002,7.9000000000000001E-2,2.9000000000000001E-2,2.4E-2,0.13100000000000001,0.152,0.13700000000000001,0.20300000000000001,0.23499999999999999,0.214,0.23599999999999999,0.251,0.21299999999999999,0.26300000000000001,0.28000000000000003,0.23899999999999999,14518,15936,17367,37083,40394,43485,1738,2213,2905,19291,19838,24612,1028,990,905,0,0,0,19370,21381,27755,179326,183154,187689,28182,29668,31415,51426,52464,53799,0,0,0,32195,33803,0,55474,0,0,10276,10238,10128,0.249,0.23599999999999999,0.24,44790,44826,0,0.81464017162211388,0.89508144333471995,0.90733457568972442,2015,3,"SEP","2015-09-01"]
["Inyo",1068,1042,1049,2149,2073,2076,0.40899999999999997,0.45700000000000002,0.47599999999999998,1947,1982,1997,0.90900000000000003,0.93700000000000006,0.94299999999999995,0.98399999999999999,1,1,0.96,0.90500000000000003,0.93200000000000005,7.9000000000000001E-2,2.9000000000000001E-2,2.4E-2,0.10100000000000001,0.13,0.128,0.189,0.246,0.23799999999999999,0.23899999999999999,0.30399999999999999,0.32100000000000001,0.249,0.34399999999999997,0.35099999999999998,1058,1068,1049,2132,2149,2076,137,154,201,964,928,1141,103,98,96,0,0,0,327,296,346,19241,19244,19304,5510,5699,5912,3660,3590,3538,0,0,0,532,510,0,3188,0,0,407,402,394,7.9000000000000001E-2,7.0000000000000007E-2,5.8000000000000003E-2,2766,0,0,0.73946492362442684,0.72042269416670368,0.80302969461806784,2015,3,"SEP","2015-09-01"]
["Kern",61918,66165,67912,148150,157116,160254,0.46300000000000002,0.497,0.51400000000000001,138969,151874,155203,0.92200000000000004,0.94499999999999995,0.94299999999999995,0.99399999999999999,0.99399999999999999,0.99199999999999999,0.92,0.94699999999999995,0.93799999999999994,1.6E-2,8.0000000000000002E-3,8.0000000000000002E-3,0.17699999999999999,0.17799999999999999,0.19,0.26500000000000001,0.26100000000000001,0.27,0.20200000000000001,0.17499999999999999,0.17599999999999999,0.23499999999999999,0.20399999999999999,0.20599999999999999,59623,61918,68143,144653,148150,160741,3983,5081,7145,84978,82576,105010,10703,9808,10689,0,0,0,37191,37076,47266,869797,878356,894492,122971,128553,134065,252028,256535,262787,0,0,0,88100,79181,0,224473,0,0,31384,31592,31341,0.11700000000000001,0.104,0.10199999999999999,224185,225536,0,0.64036520264020891,0.6560986851203231,0.76605508020541824,2015,3,"SEP","2015-09-01"]
["Kings",10210,10570,10785,24002,24693,24942,0.505,0.52800000000000002,0.55300000000000005,22644,23964,24204,0.93600000000000005,0.95299999999999996,0.95199999999999996,0.99399999999999999,0.998,0.998,0.80500000000000005,0.96799999999999997,0.97299999999999998,7.9000000000000001E-2,2.9000000000000001E-2,2.4E-2,0.184,0.19400000000000001,0.215,0.26600000000000001,0.27400000000000002,0.28999999999999998,0.32700000000000001,0.28999999999999998,0.25800000000000001,0.36799999999999999,0.32,0.28599999999999998,9956,10210,10785,23543,24002,24942,652,797,1081,12892,12521,15587,1396,1267,1418,0,0,0,5451,5713,7275,152456,153601,155122,19636,20420,21191,41136,41468,41947,0,0,0,14426,15306,0,33393,0,0,4659,4635,4579,0.13500000000000001,0.121,0.105,34891,38859,0,0.66930047437077489,0.61675060236025636,0.68600653300893477,2015,3,"SEP","2015-09-01"]
["Lake",5525,6132,6253,11036,11957,12127,0.43,0.45800000000000002,0.47099999999999997,10561,11594,11814,0.93500000000000005,0.95099999999999996,0.95499999999999996,0.88300000000000001,0.98,0.99,0.89,0.95699999999999996,0.94499999999999995,7.9000000000000001E-2,2.9000000000000001E-2,2.4E-2,6.6000000000000003E-2,7.9000000000000001E-2,5.7000000000000002E-2,0.13700000000000001,0.152,0.11799999999999999,0.308,0.307,0.254,0.34399999999999997,0.35199999999999998,0.29499999999999998,5227,5525,6253,10453,11036,12127,586,736,1022,4436,4622,5927,385,344,393,0,0,0,814,817,1156,64782,65465,66219,18045,18728,19438,12882,12726,12642,0,0,0,1792,1951,0,16443,0,0,3710,3663,3675,0.108,8.8999999999999996E-2,7.6999999999999999E-2,17452,17435,0,0.58994489464318189,0.6317675039698486,0.83474883738835326,2015,3,"SEP","2015-09-01"]
["Lassen",1536,1544,1540,3168,3212,3205,0.46200000000000002,0.47899999999999998,0.48299999999999998,2962,3105,3088,0.92900000000000005,0.93600000000000005,0.93500000000000005,0.93799999999999994,0.94399999999999995,0.88500000000000001,0.84899999999999998,0.73399999999999999,0.747,7.9000000000000001E-2,2.9000000000000001E-2,2.4E-2,0.12,7.3999999999999996E-2,8.5000000000000006E-2,0.20200000000000001,0.14099999999999999,0.16,0.20200000000000001,0.27200000000000002,0.29099999999999998,0.223,0.30499999999999999,0.32500000000000001,1426,1536,1540,2971,3168,3205,99,150,199,1319,1345,1730,91,108,99,0,0,0,67,71,94,34966,35038,35190,6186,6479,6760,5574,5519,5457,0,0,0,769,712,0,4436,0,0,906,880,883,0.106,9.2999999999999999E-2,7.2999999999999995E-2,4398,0,0,0.67780447504446817,0.78611426364455528,0.85393368079206677,2015,3,"SEP","2015-09-01"]
["Los Angeles",585696,584978,588075,1193453,1178282,1183107,0.35499999999999998,0.379,0.38500000000000001,989063,1022970,1038925,0.82399999999999995,0.85899999999999999,0.86899999999999999,0.97199999999999998,0.97099999999999997,0.96,0.93500000000000005,0.94899999999999995,0.94199999999999995,4.7E-2,4.1000000000000002E-2,3.6999999999999998E-2,9.0999999999999998E-2,8.2000000000000003E-2,0.08,0.157,0.152,0.14599999999999999,6.0000000000000001E-3,0.01,8.9999999999999993E-3,8.0000000000000002E-3,1.2999999999999999E-2,1.0999999999999999E-2,557570,585696,588075,1148512,1193453,1183107,46590,59648,76022,629069,614546,726193,117585,109736,118786,0,0,0,444806,444589,520243,10010961,10082664,10147070,1701464,1760921,1826080,2329494,2322213,2320563,0,0,0,1402433,1394350,0,2250353,0,0,388148,389765,386663,9.8000000000000004E-2,8.3000000000000004E-2,6.7000000000000004E-2,2088070,2032450,0,0.54211494769640123,0.58334051625028915,0.66276061455130608,2015,3,"SEP","2015-09-01"]
["Madera",11507,12125,12063,28885,29932,29699,0.48299999999999998,0.52400000000000002,0.55300000000000005,27734,29153,29048,0.95299999999999996,0.96599999999999997,0.96199999999999997,0.996,1,0.98799999999999999,0.92500000000000004,0.85,0.93400000000000005,7.9000000000000001E-2,2.9000000000000001E-2,2.4E-2,0.125,0.14499999999999999,0.155,0.218,0.22700000000000001,0.25900000000000001,0.23899999999999999,0.25,0.23799999999999999,0.28699999999999998,0.28899999999999998,0.29299999999999998,10608,11507,12063,26856,28885,29699,619,799,1081,16652,16999,20470,2773,2654,3011,0,0,0,9640,10033,11990,153409,154829,157722,26873,27801,28993,42149,43015,43736,0,0,0,20706,20778,0,42230,0,0,4478,4505,4530,0.125,0.11,0.105,38832,38903,0,0.69096227737139893,0.74120990607815518,0.91808234301547598,2015,3,"SEP","2015-09-01"]
["Marin",6216,6426,6511,10397,10485,10687,0.314,0.34300000000000003,0.36,9986,10316,10462,0.93899999999999995,0.94299999999999995,0.94199999999999995,0.97799999999999998,0.96899999999999997,0.99399999999999999,0.92600000000000005,0.92100000000000004,0.93200000000000005,7.9000000000000001E-2,2.9000000000000001E-2,2.4E-2,0.13900000000000001,0.18099999999999999,0.16600000000000001,0.20799999999999999,0.26,0.246,0.21099999999999999,0.26500000000000001,0.26500000000000001,0.24399999999999999,0.30499999999999999,0.29799999999999999,5762,6216,6511,9774,10397,10687,887,1119,1471,4734,4831,5967,1271,1282,1459,0,0,0,3455,3804,4835,256264,257792,258804,69445,70897,72375,51412,51122,50887,0,0,0,8867,11871,0,21230,0,0,3107,3034,2913,5.1999999999999998E-2,4.2999999999999997E-2,3.5000000000000003E-2,22421,22696,0,0.41976609833322831,0.45416962715835596,0.44650733867359088,2015,3,"SEP","2015-09-01"]
["Mariposa",1005,1113,1122,1974,2127,2152,0.47299999999999998,0.53800000000000003,0.55800000000000005,1868,2078,2079,0.94199999999999995,0.95799999999999996,0.95399999999999996,0.86499999999999999,1,1,0.97699999999999998,0.96399999999999997,0.96499999999999997,7.9000000000000001E-2,2.9000000000000001E-2,2.4E-2,0.14299999999999999,0.125,0.13300000000000001,0.20499999999999999,0.19900000000000001,0.188,0.189,0.28699999999999998,0.32500000000000001,0.23200000000000001,0.30599999999999999,0.35,920,1005,1122,1855,1974,2152,119,172,233,714,711,952,37,31,30,0,0,0,30,52,49,18101,18091,18147,5971,6133,6328,2988,2966,2948,0,0,0,227,199,0,2652,0,0,462,454,451,0.105,8.7999999999999995E-2,7.1999999999999995E-2,3155,0,0,0.58782568148826908,0.63584459078564948,0.68894049645505728,2015,3,"SEP","2015-09-01"]
["Mendocino",7569,6965,7077,14007,13008,13204,0.39800000000000002,0.40400000000000003,0.41699999999999998,12740,12645,12802,0.89600000000000002,0.93400000000000005,0.93400000000000005,0.995,1,0.995,0.96499999999999997,0.97199999999999998,0.97699999999999998,7.9000000000000001E-2,2.9000000000000001E-2,2.4E-2,0.13700000000000001,0.157,0.17599999999999999,0.23200000000000001,0.27300000000000002,0.28699999999999998,0.218,0.252,0.22,0.27600000000000002,0.314,0.26700000000000002,6923,7569,7077,13202,14007,13204,699,941,1117,5665,5681,6905,688,618,637,0,0,0,1823,1931,2266,88931,88795,88884,23290,24007,24725,18865,18784,18737,0,0,0,4171,4690,0,21783,0,0,3218,3145,3087,8.2000000000000003E-2,6.9000000000000006E-2,5.8999999999999997E-2,22381,19834,0,0.58791930175161367,0.69491422244138812,0.68801460976166073,2015,3,"SEP","2015-09-01"]
["Merced",24370,25216,25373,57733,58981,58778,0.50900000000000001,0.53500000000000003,0.55500000000000005,55236,58033,58107,0.94699999999999995,0.96699999999999997,0.96499999999999997,0.98299999999999998,0.997,0.998,0.95,0.96599999999999997,0.95299999999999996,1.0999999999999999E-2,1.2E-2,1.2999999999999999E-2,0.14299999999999999,0.159,0.188,0.219,0.23799999999999999,0.27100000000000002,0.30099999999999999,0.32100000000000001,0.309,0.34200000000000003,0.35599999999999998,0.33900000000000002,22956,24370,25373,55568,57733,58778,1338,1886,2467,31540,31258,37709,4036,3796,4262,0,0,0,15579,15688,19191,263441,266444,269572,37818,39238,40790,79353,79287,79728,0,0,0,35644,33521,0,80292,0,0,10849,10825,10774,0.14499999999999999,0.128,0.114,70247,74499,0,0.78565860623862072,0.76763611001397902,0.73586842548148068,2015,3,"SEP","2015-09-01"]
["Modoc",467,465,455,1001,1012,966,0.36299999999999999,0.39600000000000002,0.39900000000000002,931,998,936,0.91700000000000004,0.96399999999999997,0.95,1,0.89500000000000002,1,0.84399999999999997,0.94,0.92,7.9000000000000001E-2,2.9000000000000001E-2,2.4E-2,0.128,0.12,0.22700000000000001,0.16800000000000001,0.17299999999999999,0.28399999999999997,0.22800000000000001,0.27100000000000002,0.30499999999999999,0.24199999999999999,0.28599999999999998,0.31900000000000001,415,467,455,935,1001,966,34,40,58,442,438,605,42,31,42,0,0,0,71,62,61,9457,9395,9410,2876,2896,2945,1952,1905,1894,0,0,0,335,353,0,1865,0,0,416,421,419,0.124,0.105,8.7999999999999995E-2,2622,0,0,0.36099657830335341,0.4472268901875262,0.49576448172215082,2015,3,"SEP","2015-09-01"]
["Mono",522,522,520,855,852,856,0.29699999999999999,0.318,0.32900000000000001,735,766,746,0.84,0.86299999999999999,0.85599999999999998,0.90600000000000003,0.96299999999999997,0.96199999999999997,0.89300000000000002,0.98099999999999998,1,7.9000000000000001E-2,2.9000000000000001E-2,2.4E-2,5.8999999999999997E-2,2.4E-2,9.8000000000000004E-2,0.157,0.13700000000000001,0.187,0.157,3.7999999999999999E-2,0.187,0.17699999999999999,5.7000000000000002E-2,0.21099999999999999,400,522,520,656,855,856,43,49,72,283,334,463,74,70,78,0,0,0,163,218,290,14376,14440,14525,2711,2804,2939,3013,3046,3086,0,0,0,937,1069,0,1248,0,0,101,100,99,8.5000000000000006E-2,7.1999999999999995E-2,6.0999999999999999E-2,2021,0,0,0.31554896752066686,0.49939412291526875,0.69164149189032076,2015,3,"SEP","2015-09-01"]
["Monterey",21758,24412,22745,49132,54990,50601,0.36,0.42,0.39500000000000002,46383,54378,50143,0.93799999999999994,0.96299999999999997,0.95899999999999996,1,1,1,0.95799999999999996,0.96,0.97199999999999998,7.4999999999999997E-2,5.5E-2,6.2E-2,0.20799999999999999,0.14299999999999999,0.248,0.29899999999999999,0.221,0.35,0.21299999999999999,0.17599999999999999,0.222,0.253,0.20499999999999999,0.26400000000000001,20213,21758,22745,46145,49132,50601,1572,2212,2984,29909,30054,40553,6960,6638,8572,0,0,0,21235,22043,31763,424119,426670,429584,71183,73258,75614,112481,113104,113636,0,0,0,64059,74856,0,88589,0,0,8458,8488,8376,0.10299999999999999,9.0999999999999998E-2,8.1000000000000003E-2,83052,76819,0,0.56469538837346811,0.65190822926998127,0.75962434950577884,2015,3,"SEP","2015-09-01"]
["Napa",3525,3705,3632,7324,7653,7444,0.29199999999999998,0.33600000000000002,0.34,6993,7471,7205,0.93400000000000005,0.93799999999999994,0.93500000000000005,0.98299999999999998,0.98799999999999999,0.97,0.96399999999999997,0.97399999999999998,0.96799999999999997,7.9000000000000001E-2,2.9000000000000001E-2,2.4E-2,9.2999999999999999E-2,0.11,0.11,0.16600000000000001,0.16800000000000001,0.19500000000000001,0.22500000000000001,0.16600000000000001,0.17,0.25800000000000001,0.19800000000000001,0.19500000000000001,3193,3526,3632,6710,7325,7444,341,433,562,4081,4040,5159,909,798,924,0,0,0,2892,2923,3742,139831,141172,142301,32036,32913,33854,31002,30942,30799,0,0,0,12782,11600,0,15421,0,0,2156,2118,2093,6.8000000000000005E-2,5.6000000000000001E-2,4.5999999999999999E-2,16770,13997,0,0.40661393682295693,0.52160944627671246,0.38161673999826451,2015,3,"SEP","2015-09-01"]
["Nevada",4221,4235,4272,7804,7675,7776,0.39500000000000002,0.41399999999999998,0.42,7226,7355,7397,0.90600000000000003,0.92600000000000005,0.92400000000000004,0.99,0.98899999999999999,1,0.79400000000000004,0.82499999999999996,0.90300000000000002,7.9000000000000001E-2,2.9000000000000001E-2,2.4E-2,0.108,0.111,7.2999999999999995E-2,0.189,0.20499999999999999,0.155,0.223,0.25,0.22800000000000001,0.255,0.28799999999999998,0.254,3898,4221,4272,7452,7804,7776,445,640,813,2951,2868,3576,186,165,182,0,0,0,255,284,364,98317,98453,98633,31210,32138,33027,17565,17237,17026,0,0,0,1576,1472,0,10758,0,0,1796,1796,1806,8.1000000000000003E-2,6.6000000000000003E-2,5.5E-2,16674,12649,0,0.44248242080254063,0.61057440393830054,0.42800062583066384,2015,3,"SEP","2015-09-01"]
["Orange",117235,121210,123718,270245,254662,257750,0.35699999999999998,0.372,0.38600000000000001,227559,236931,239955,0.90400000000000003,0.91900000000000004,0.91400000000000003,0.98199999999999998,0.98799999999999999,0.98699999999999999,0.995,0.997,0.99399999999999999,3.5000000000000003E-2,0.04,3.6999999999999998E-2,0.111,0.108,0.107,0.19,0.19900000000000001,0.19,7.1999999999999995E-2,8.5999999999999993E-2,7.9000000000000001E-2,0.12,0.13400000000000001,0.123,105823,117235,123718,232862,270245,257750,13145,17616,22825,139033,135615,165520,29922,28117,31211,0,0,0,111958,114889,137793,3097966,3125833,3150934,559090,579380,601086,721292,719772,718992,0,0,0,316852,325313,0,467937,0,0,67573,68202,68296,6.5000000000000002E-2,5.5E-2,4.4999999999999998E-2,444095,443857,0,0.51788536634810356,0.58262619430581397,0.61073927765205804,2015,3,"SEP","2015-09-01"]
["Placer",9206,9342,9410,18455,18325,18190,0.34399999999999997,0.35599999999999998,0.36499999999999999,15365,15888,15999,0.83899999999999997,0.86899999999999999,0.874,0.98099999999999998,0.98199999999999998,0.94699999999999995,0.97099999999999997,0.93799999999999994,0,7.9000000000000001E-2,2.9000000000000001E-2,2.4E-2,9.8000000000000004E-2,0.111,0.107,0.16500000000000001,0.20100000000000001,0.192,7.0000000000000007E-2,0.08,7.4999999999999997E-2,0.111,0.129,0.11799999999999999,8480,9206,9410,17673,18455,18190,1019,1416,1857,7868,7411,9829,677,658,766,0,0,0,2021,1954,2411,365125,369460,373503,85049,87902,90692,84419,83682,83185,0,0,0,8063,6222,0,28497,0,0,5056,5087,5127,7.6999999999999999E-2,6.3E-2,0.05,39484,41239,0,0.44976744876628461,0.44945277490867924,0.47371604310456833,2015,3,"SEP","2015-09-01"]
["Plumas",956,1126,1061,1793,2151,1993,0.39200000000000002,0.46500000000000002,0.45,1691,1964,1878,0.89900000000000002,0.89900000000000002,0.91300000000000003,1,1,1,0.874,0.90300000000000002,0.90300000000000002,7.9000000000000001E-2,2.9000000000000001E-2,2.4E-2,9.1999999999999998E-2,0.11799999999999999,0.11700000000000001,0.14699999999999999,0.16700000000000001,0.19700000000000001,0.24099999999999999,0.192,0.19700000000000001,0.251,0.21199999999999999,0.22500000000000001,773,956,1061,1604,1793,1993,82,116,160,676,707,961,34,37,51,0,0,0,22,22,53,19466,19416,19384,6703,6907,7072,3263,3252,3249,0,0,0,217,202,0,3027,0,0,641,651,656,0.13900000000000001,0.11700000000000001,0.104,3816,0,0,0.43854437804865226,0.5261404932248257,0.59469382647241054,2015,3,"SEP","2015-09-01"]
["Riverside",124316,126536,129532,289618,290231,295239,0.437,0.44800000000000001,0.46600000000000003,250549,266111,271232,0.85499999999999998,0.89400000000000002,0.89100000000000001,0.997,0.997,0.999,0.874,0.92100000000000004,0.92,3.6999999999999998E-2,5.6000000000000001E-2,5.6000000000000001E-2,0.156,0.17,0.154,0.23,0.25700000000000001,0.23200000000000001,0.224,0.22900000000000001,0.215,0.25,0.26300000000000001,0.24199999999999999,115800,124316,129532,278117,289618,295239,10225,13821,18121,151042,148026,184930,17000,16149,17346,0,0,0,65355,66204,81846,2264173,2294333,2323527,396291,411572,428027,608238,609127,612757,0,0,0,173255,172588,0,409328,0,0,56654,57657,58059,9.9000000000000005E-2,8.2000000000000003E-2,6.7000000000000004E-2,469029,455320,0,0.59124914316236565,0.63751163857777993,0.69484033727327177,2015,3,"SEP","2015-09-01"]
["Sacramento",101502,103785,105023,217077,219096,219932,0.46100000000000002,0.46400000000000002,0.47799999999999998,196162,204032,206812,0.89400000000000002,0.92100000000000004,0.91900000000000004,0.98899999999999999,0.99199999999999999,0.98899999999999999,0.98199999999999998,0.98699999999999999,0.98699999999999999,2E-3,3.0000000000000001E-3,4.0000000000000001E-3,0.105,0.122,0.11799999999999999,0.17499999999999999,0.20699999999999999,0.20399999999999999,6.3E-2,9.5000000000000001E-2,8.1000000000000003E-2,0.10100000000000001,0.14499999999999999,0.124,94824,101502,105023,210033,217077,219932,6598,9056,11837,105467,101011,123044,9994,9400,10029,0,0,0,47601,47736,57891,1448268,1461174,1475381,254622,264452,275133,358519,358865,360213,0,0,0,101446,94516,0,308037,0,0,61371,62271,62730,8.8999999999999996E-2,7.2999999999999995E-2,0.06,306055,295178,0,0.68101648407910953,0.7368741653264238,0.83260287264778898,2015,3,"SEP","2015-09-01"]
["San Benito",2710,2781,2702,6169,6283,5988,0.4,0.43099999999999999,0.436,5770,6077,5873,0.93200000000000005,0.94699999999999995,0.94399999999999995,1,0.99199999999999999,0.99099999999999999,0.96399999999999997,0.93,0.98499999999999999,7.9000000000000001E-2,2.9000000000000001E-2,2.4E-2,0.125,0.12,0.156,0.187,0.214,0.252,0.318,0.248,0.34399999999999997,0.35799999999999998,0.28899999999999998,0.39900000000000002,2684,2710,2702,6232,6169,5988,246,292,367,3361,3209,4065,472,436,505,0,0,0,1856,1802,2281,57366,58222,59039,9394,9875,10342,15424,15274,15140,0,0,0,5777,5516,0,9287,0,0,882,899,900,0.111,9.2999999999999999E-2,7.5999999999999998E-2,8524,0,0,0.72675062462478957,0.70741531862364759,0.78347499663269027,2015,3,"SEP","2015-09-01"]
["San Bernardino",172721,178228,181362,392265,398523,403228,0.52,0.53900000000000003,0.55300000000000005,344506,362773,368051,0.879,0.90500000000000003,0.90300000000000002,1,1,1,0.94799999999999995,0.96199999999999997,0.95699999999999996,2.8000000000000001E-2,3.6999999999999998E-2,3.1E-2,0.19400000000000001,0.214,0.20799999999999999,0.26600000000000001,0.29599999999999999,0.28799999999999998,0.28399999999999997,0.29099999999999998,0.27800000000000002,0.31,0.32300000000000001,0.307,159737,172721,181362,373620,392265,403228,12685,17508,22887,194878,192219,234835,21323,19813,20761,0,0,0,70335,71384,85947,2075160,2096123,2116461,301721,316194,331502,576858,575598,576195,0,0,0,156056,164799,0,481334,0,0,66969,68029,68072,9.8000000000000004E-2,8.1000000000000003E-2,6.5000000000000002E-2,441319,458343,0,0.84152610654688464,0.85480513964161331,0.92665518793589696,2015,3,"SEP","2015-09-01"]
["San Diego",134694,141303,143440,300896,289089,291188,0.40500000000000003,0.41499999999999998,0.43099999999999999,244639,262894,267703,0.86099999999999999,0.88900000000000001,0.88700000000000001,0.93500000000000005,0.93799999999999994,0.98699999999999999,0.97399999999999998,0.98299999999999998,0.97899999999999998,3.9E-2,0.01,1.2999999999999999E-2,0.14000000000000001,0.128,0.13200000000000001,0.224,0.217,0.22,7.1999999999999995E-2,7.4999999999999997E-2,7.1999999999999995E-2,0.11600000000000001,0.11799999999999999,0.114,122561,134694,143440,260576,300896,291188,13842,19191,25885,131432,131324,168267,15919,15532,17078,0,0,0,93092,97970,123936,3184072,3214279,3244706,558419,579311,601375,723080,726020,730140,0,0,0,236315,228246,0,451842,0,0,75967,76554,76341,7.8E-2,6.4000000000000001E-2,5.1999999999999998E-2,553958,548766,0,0.4659832261291611,0.5173190533272255,0.57292109557354953,2015,3,"SEP","2015-09-01"]
["San Francisco",32961,33614,34244,53900,51449,52180,0.26200000000000001,0.27800000000000002,0.29099999999999998,43583,45989,47292,0.83499999999999996,0.873,0.873,0.97699999999999998,0.97,0.96699999999999997,0.83399999999999996,0.89400000000000002,0.86399999999999999,7.1999999999999995E-2,6.3E-2,6.8000000000000005E-2,0.13800000000000001,0.10299999999999999,0.115,0.221,0.19400000000000001,0.19400000000000001,9.8000000000000004E-2,9.0999999999999998E-2,8.4000000000000005E-2,0.13800000000000001,0.13500000000000001,0.12,32096,32961,34244,50124,53900,52180,5459,6615,8552,19668,18721,23126,4243,3966,4486,0,0,0,19818,20630,26371,833827,840391,848564,171662,176508,181559,119793,123334,126617,0,0,0,96046,103652,0,134579,0,0,37708,37503,37327,5.5E-2,4.3999999999999997E-2,3.5999999999999997E-2,120297,100798,0,0.40594685641860467,0.51877955213904448,0.50698302103297233,2015,3,"SEP","2015-09-01"]
["San Joaquin",50358,53153,53401,118029,122470,122077,0.48699999999999999,0.52500000000000002,0.55800000000000005,112203,118387,118556,0.93400000000000005,0.95,0.95,0.98,0.99399999999999999,0.99199999999999999,0.89,0.90300000000000002,0.91400000000000003,4.5999999999999999E-2,2.1999999999999999E-2,3.1E-2,0.13400000000000001,0.152,0.161,0.20100000000000001,0.22900000000000001,0.24099999999999999,0.25600000000000001,0.24099999999999999,0.25800000000000001,0.28699999999999998,0.27500000000000002,0.28999999999999998,46964,50358,53401,113230,118029,122077,3502,4706,6110,63093,61837,74545,7295,6809,7330,0,0,0,23995,24307,28986,703790,713961,723506,113154,117867,122739,197012,196893,197478,0,0,0,64800,65961,0,170765,0,0,27071,27296,27357,0.124,0.106,8.8999999999999996E-2,156985,155948,0,0.71282208923144241,0.75448405858440615,0.92455081561557007,2015,3,"SEP","2015-09-01"]
["San Luis Obispo",9573,9993,10090,17983,18578,18642,0.376,0.4,0.41399999999999998,16826,17756,17892,0.90700000000000003,0.92700000000000005,0.92800000000000005,0.97399999999999998,0.98,0.96499999999999997,0.90400000000000003,0.93200000000000005,0.95899999999999996,7.9000000000000001E-2,2.9000000000000001E-2,2.4E-2,7.2999999999999995E-2,7.5999999999999998E-2,7.2999999999999995E-2,0.158,0.16,0.14699999999999999,4.9000000000000002E-2,5.7000000000000002E-2,5.5E-2,9.4E-2,9.9000000000000005E-2,9.2999999999999999E-2,8907,9573,10090,17319,17983,18642,1072,1399,1754,8228,8025,10311,1089,1102,1255,0,0,0,3239,3371,4211,271740,272941,274254,65066,67294,69554,50061,49890,49891,0,0,0,10073,10622,0,30635,0,0,4383,4290,4209,6.8000000000000005E-2,5.6000000000000001E-2,4.5999999999999999E-2,47791,45982,0,0.36625752524840383,0.39378556835265566,0.40872986695625607,2015,3,"SEP","2015-09-01"]
["San Mateo",16060,16200,16305,32208,31947,31752,0.27400000000000002,0.28699999999999998,0.29699999999999999,29057,28969,29628,0.89700000000000002,0.9,0.90700000000000003,0.97299999999999998,0.97299999999999998,0.98799999999999999,0.91100000000000003,0.92,0.92400000000000004,7.9000000000000001E-2,2.9000000000000001E-2,2.4E-2,0.113,9.2999999999999999E-2,9.4E-2,0.19900000000000001,0.187,0.185,7.4999999999999997E-2,6.4000000000000001E-2,6.6000000000000003E-2,0.11700000000000001,0.113,0.107,14493,16060,16305,29339,32208,31752,2531,3450,4279,17242,16879,21195,4025,3907,4575,0,0,0,13534,14235,17806,741857,747334,752751,155845,160763,166303,163248,163900,164163,0,0,0,58256,55943,0,77027,0,0,10953,10783,10434,5.1999999999999998E-2,4.2000000000000003E-2,3.4000000000000002E-2,68114,63839,0,0.42299145074748989,0.5047687081036859,0.44253944353777569,2015,3,"SEP","2015-09-01"]
["Santa Barbara",15674,17403,17002,34497,37966,36443,0.317,0.35899999999999999,0.35399999999999998,32868,37006,35904,0.92600000000000005,0.94599999999999995,0.94699999999999995,0.875,0.95299999999999996,0.96499999999999997,0.91300000000000003,0.92100000000000004,0.92,7.9000000000000001E-2,2.9000000000000001E-2,2.4E-2,8.6999999999999994E-2,8.5999999999999993E-2,7.0000000000000007E-2,0.16200000000000001,0.16900000000000001,0.156,5.8000000000000003E-2,5.7000000000000002E-2,5.3999999999999999E-2,0.11700000000000001,0.104,9.9000000000000005E-2,14344,15674,17002,32221,34497,36443,1086,1559,2179,20051,20526,28148,4170,4029,5590,0,0,0,12614,13524,19398,433157,435999,439082,82325,84301,86574,97825,98027,98532,0,0,0,46332,43550,0,74176,0,0,8477,8393,8191,7.0999999999999994E-2,6.0999999999999999E-2,5.2999999999999999E-2,79414,83642,0,0.41419200848854154,0.42200119780622236,0.50750380291810415,2015,3,"SEP","2015-09-01"]
["Santa Clara",55307,55523,55399,113439,111985,110974,0.316,0.32900000000000001,0.33700000000000002,102886,105051,105168,0.89800000000000002,0.93100000000000005,0.93600000000000005,0.97199999999999998,0.96699999999999997,0.98,0.96499999999999997,0.97299999999999998,0.98399999999999999,2.8000000000000001E-2,0.02,2.7E-2,3.6999999999999998E-2,2.5000000000000001E-2,2.3E-2,0.11600000000000001,0.115,0.12,1.6E-2,0.01,1.0999999999999999E-2,6.2E-2,5.6000000000000001E-2,4.9000000000000002E-2,52296,55307,55399,110622,113439,110974,7200,9510,11866,59419,55723,67584,11654,10556,12117,0,0,0,48568,49052,59122,1850595,1871516,1890424,321578,334221,347783,439320,442256,444794,0,0,0,176036,174224,0,261699,0,0,44002,43472,42694,6.5000000000000002E-2,5.1999999999999998E-2,4.2000000000000003E-2,215577,173716,0,0.50311228218070525,0.65194601619115522,0.68854903421894531,2015,3,"SEP","2015-09-01"]
["Santa Cruz",12402,13787,13879,23719,26274,25934,0.37,0.42299999999999999,0.42599999999999999,21265,24440,24192,0.90200000000000002,0.92600000000000005,0.92500000000000004,0.872,0.97,0.97299999999999998,0.97299999999999998,0.97099999999999997,0.98599999999999999,7.9000000000000001E-2,2.9000000000000001E-2,2.4E-2,4.3999999999999997E-2,1.4E-2,1.7999999999999999E-2,0.11700000000000001,7.8E-2,0.09,1.7999999999999999E-2,6.0000000000000001E-3,7.0000000000000001E-3,7.3999999999999996E-2,3.9E-2,5.2999999999999999E-2,11641,12402,13892,22732,23719,26010,1290,1797,2375,11843,11576,15311,2423,2244,2811,0,0,0,8317,8530,12072,271495,272210,273695,53904,56302,58703,55939,56013,56099,0,0,0,20137,23557,0,38508,0,0,5077,5038,4931,0.10299999999999999,8.6999999999999994E-2,7.4999999999999997E-2,42179,47670,0,0.54467417520778982,0.50502675093748539,0.57953642042354159,2015,3,"SEP","2015-09-01"]
["Shasta",12720,13084,13115,24671,25180,25293,0.42699999999999999,0.45100000000000001,0.46,23236,24405,24613,0.92200000000000004,0.94299999999999995,0.94099999999999995,0.97199999999999998,0.96699999999999997,0.96699999999999997,0.95799999999999996,0.97899999999999998,0.96499999999999997,7.9000000000000001E-2,2.9000000000000001E-2,2.4E-2,0.13600000000000001,0.14499999999999999,0.13900000000000001,0.214,0.223,0.224,0.22,0.30599999999999999,0.27400000000000002,0.245,0.33900000000000002,0.30399999999999999,11911,12720,13115,23709,24671,25293,990,1221,1685,10472,9992,12683,713,609,647,0,0,0,466,465,628,178591,179305,180021,45455,46860,48202,38745,38532,38475,0,0,0,3086,2491,0,37387,0,0,9306,9289,9252,0.11799999999999999,9.7000000000000003E-2,7.8E-2,40245,29544,0,0.58273132182190857,0.83034253379074596,0.69300660294121874,2015,3,"SEP","2015-09-01"]
["Sierra",163,178,171,294,324,317,0.40400000000000003,0.442,0.48399999999999999,275,296,298,0.92600000000000005,0.89200000000000002,0.89800000000000002,1,1,1,1,0.9,1,7.9000000000000001E-2,2.9000000000000001E-2,2.4E-2,5.2999999999999999E-2,7.6999999999999999E-2,0,0.184,0.26900000000000002,0.11799999999999999,0.13200000000000001,0.23100000000000001,0.11799999999999999,0.158,0.23100000000000001,0.14699999999999999,156,163,171,305,294,317,26,41,40,106,86,131,1,3,1,0,0,0,6,8,12,3270,3267,3257,1235,1274,1300,463,450,439,0,0,0,93,89,0,497,0,0,99,89,85,0.129,0.1,0.09,697,0,0,0.43626999716296844,0.56159427452170951,0.60385382870597404,2015,3,"SEP","2015-09-01"]
["Siskiyou",3184,3279,3250,6907,7132,6992,0.45600000000000002,0.48399999999999999,0.49099999999999999,6547,6866,6826,0.94,0.95699999999999996,0.95299999999999996,1,0.98499999999999999,0.98499999999999999,0.89600000000000002,0.86,0.90900000000000003,7.9000000000000001E-2,2.9000000000000001E-2,2.4E-2,0.14299999999999999,0.122,0.11600000000000001,0.216,0.184,0.159,0.26700000000000002,0.23799999999999999,0.314,0.29599999999999999,0.25600000000000001,0.33200000000000002,2900,3184,3250,6486,6907,6992,275,413,529,2872,2825,3571,154,141,150,0,0,0,192,181,270,45215,45290,45400,13967,14388,14816,8755,8639,8549,0,0,0,782,717,0,10036,0,0,2475,2431,2389,0.13200000000000001,0.113,9.4E-2,10390,0,0,0.62649903974722321,0.60582435845117577,0.61723183482887178,2015,3,"SEP","2015-09-01"]
["Solano",22292,22650,23149,43531,43830,44119,0.42499999999999999,0.433,0.44900000000000001,40409,41084,41840,0.91,0.92,0.91200000000000003,0.94,0.94499999999999995,0.97499999999999998,0.97399999999999998,0.98499999999999999,0.97699999999999998,1.2E-2,0.02,2.1000000000000001E-2,2.4E-2,1.2999999999999999E-2,1.4E-2,0.109,0.11600000000000001,0.10100000000000001,7.0000000000000001E-3,4.0000000000000001E-3,4.0000000000000001E-3,6.3E-2,0.04,0.04,20782,22292,23149,41287,43531,44119,1823,2457,3120,20249,19919,25381,2463,2272,2573,0,0,0,6854,6844,8830,424048,428705,432921,80768,84375,88221,97128,96723,96377,0,0,0,20853,18343,0,62999,0,0,11691,11752,11654,0.09,7.4999999999999997E-2,6.0999999999999999E-2,61760,56429,0,0.66764538469704438,0.76925949545071659,0.67496232970642456,2015,3,"SEP","2015-09-01"]
["Sonoma",19304,20098,20183,34951,36090,36183,0.34699999999999998,0.376,0.39,32982,34435,34762,0.91200000000000003,0.92300000000000004,0.91900000000000004,0.89700000000000002,0.91800000000000004,0.92500000000000004,0.73399999999999999,0.75600000000000001,0.61,7.9000000000000001E-2,2.9000000000000001E-2,2.4E-2,9.9000000000000005E-2,0.10199999999999999,9.5000000000000001E-2,0.18099999999999999,0.189,0.17399999999999999,6.0999999999999999E-2,7.0000000000000007E-2,5.8000000000000003E-2,0.11,0.121,0.10299999999999999,18686,19304,20183,34451,34951,36183,2351,2986,3870,17558,16974,21537,3484,3249,3738,0,0,0,10432,10517,13316,493070,497260,501350,112593,116344,120115,104608,104298,103885,0,0,0,24921,25983,0,60020,0,0,8547,8488,8388,7.0000000000000007E-2,5.6000000000000001E-2,4.4999999999999998E-2,71127,69971,0,0.49066532056361034,0.50345315035929272,0.61995535705282345,2015,3,"SEP","2015-09-01"]
["Stanislaus",42873,43265,43553,92778,92704,92572,0.48299999999999998,0.496,0.51100000000000001,85292,88772,89804,0.90800000000000003,0.94099999999999995,0.94099999999999995,0.96499999999999997,0.98599999999999999,0.99199999999999999,0.84599999999999997,0.91800000000000004,0.90100000000000002,1.4E-2,1.4999999999999999E-2,1.7000000000000001E-2,0.17599999999999999,0.185,0.18099999999999999,0.26300000000000001,0.28000000000000003,0.27700000000000002,0.28199999999999997,0.29699999999999999,0.27200000000000002,0.32800000000000001,0.34399999999999997,0.32,41539,42873,43553,91048,92778,92572,2893,3835,4942,46298,45160,54880,5663,5238,5611,0,0,0,17711,18095,21837,527232,532344,538689,86547,89829,93394,144260,144079,144427,0,0,0,48602,48829,0,128318,0,0,20057,20165,19884,0.129,0.112,9.5000000000000001E-2,125680,115985,0,0.72214889693563,0.79497781177320248,0.87422444234218655,2015,3,"SEP","2015-09-01"]
["Sutter",5623,5646,5712,13083,13160,13236,0.378,0.40100000000000002,0.41199999999999998,12348,12630,12770,0.93200000000000005,0.95499999999999996,0.95399999999999996,0.98899999999999999,0.96799999999999997,0.97899999999999998,0.90800000000000003,0.91500000000000004,0.89,7.9000000000000001E-2,2.9000000000000001E-2,2.4E-2,0.184,0.18,0.19800000000000001,0.24399999999999999,0.24299999999999999,0.26600000000000001,0.26,0.26,0.246,0.28299999999999997,0.28499999999999998,0.26400000000000001,5215,5623,5712,12440,13083,13236,369,491,644,6642,6535,8067,689,648,726,0,0,0,2281,2388,2921,97386,97257,97887,18207,18667,19295,25333,25371,25512,0,0,0,8366,8544,0,21895,0,0,3778,3793,3793,0.14599999999999999,0.127,0.108,22883,16038,0,0.53769509167762497,0.8091986651521671,0.59198717459615158,2015,3,"SEP","2015-09-01"]
["Tehama",5009,4754,4816,11155,10371,10543,0.44900000000000001,0.45500000000000002,0.48499999999999999,10518,10276,10561,0.93400000000000005,0.96299999999999997,0.96399999999999997,0.93600000000000005,0.96499999999999997,0.95499999999999996,0.93200000000000005,0.97399999999999998,0.97699999999999998,7.9000000000000001E-2,2.9000000000000001E-2,2.4E-2,0.113,0.13800000000000001,0.151,0.17,0.21099999999999999,0.23599999999999999,0.24399999999999999,0.26900000000000002,0.185,0.27200000000000002,0.29399999999999998,0.20399999999999999,4320,5009,4816,9916,11155,10543,363,492,616,5013,5146,6292,441,422,480,0,0,0,1199,1283,1615,64498,64827,65193,15313,15700,16155,15280,15138,15064,0,0,0,2603,2345,0,16152,0,0,3062,3106,3068,0.11700000000000001,9.7000000000000003E-2,0.08,14220,0,0,0.69231531437680793,0.76327104213104657,0.69554949293710311,2015,3,"SEP","2015-09-01"]
["Trinity",1001,1004,1035,1838,1808,1867,0.44600000000000001,0.433,0.44700000000000001,1732,1735,1786,0.91400000000000003,0.93200000000000005,0.93400000000000005,1,0.93899999999999995,0.98399999999999999,0.874,0.83599999999999997,0.90200000000000002,7.9000000000000001E-2,2.9000000000000001E-2,2.4E-2,0.12,0.10199999999999999,0.11,0.17499999999999999,0.17100000000000001,0.17499999999999999,0.14199999999999999,0.30199999999999999,0.23699999999999999,0.17499999999999999,0.34300000000000003,0.26100000000000001,762,1001,1035,1516,1838,1867,89,117,148,622,623,825,45,42,39,0,0,0,12,10,9,13776,13782,13821,4587,4753,4906,2276,2215,2175,0,0,0,36,49,0,2603,0,0,636,656,643,0.121,9.9000000000000005E-2,7.8E-2,3100,0,0,0.50150279286577459,0.5912422140107656,0.56469445800616525,2015,3,"SEP","2015-09-01"]
["Tulare",50975,52745,52900,132774,125269,123955,0.53700000000000003,0.54600000000000004,0.55200000000000005,115400,119867,121247,0.93700000000000006,0.94899999999999995,0.95,0.99099999999999999,0.98499999999999999,0.99099999999999999,0.96699999999999997,0.98599999999999999,0.98199999999999998,4.1000000000000002E-2,3.4000000000000002E-2,3.4000000000000002E-2,0.21099999999999999,0.20599999999999999,0.19900000000000001,0.32600000000000001,0.32100000000000001,0.313,0.13900000000000001,0.17499999999999999,0.14699999999999999,0.20100000000000001,0.24,0.2,46471,50975,52900,114774,132774,123955,3459,4856,6133,67240,65842,78672,8233,7798,8381,0,0,0,37887,39618,48197,456075,461703,467170,66305,68896,71452,143372,144472,146093,0,0,0,60016,63244,0,160183,0,0,17554,17865,17848,0.14399999999999999,0.13200000000000001,0.11700000000000001,147863,139566,0,0.77504881539151371,0.90358518151528189,0.91335509939391257,2015,3,"SEP","2015-09-01"]
["Tuolumne",3009,3126,3156,5556,5559,5603,0.434,0.47699999999999998,0.48499999999999999,5274,5448,5520,0.93400000000000005,0.94,0.94099999999999995,0.95399999999999996,0.95099999999999996,0.877,0.91200000000000003,0.78700000000000003,0.96199999999999997,7.9000000000000001E-2,2.9000000000000001E-2,2.4E-2,0.13500000000000001,0.14099999999999999,0.11600000000000001,0.214,0.23200000000000001,0.20499999999999999,0.248,0.22,0.24399999999999999,0.27800000000000002,0.253,0.27100000000000002,2828,3009,3156,5153,5556,5603,299,409,556,1955,2013,2564,137,115,106,0,0,0,66,76,103,54811,54592,54628,17219,17563,17977,9088,8943,8831,0,0,0,696,628,0,7561,0,0,1635,1639,1615,0.108,8.6999999999999994E-2,7.0999999999999994E-2,9822,0,0,0.5308063709413704,0.55096208037690064,0.61887154616755258,2015,3,"SEP","2015-09-01"]
["Ventura",35024,37080,37333,77031,75528,75003,0.38,0.41499999999999998,0.43,63846,69708,70711,0.871,0.90100000000000002,0.90500000000000003,0.97699999999999998,0.98399999999999999,0.97799999999999998,0.93500000000000005,0.95499999999999996,0.96399999999999997,3.6999999999999998E-2,6.7000000000000004E-2,5.8999999999999997E-2,0.13800000000000001,0.13600000000000001,0.14599999999999999,0.247,0.23599999999999999,0.25800000000000001,9.5000000000000001E-2,0.126,0.113,0.156,0.191,0.16300000000000001,32232,35024,37333,66971,77031,75003,3498,4822,6422,37769,37317,49069,6844,6549,7926,0,0,0,25095,26091,34694,839617,844833,850206,156524,162247,168417,205584,204901,204332,0,0,0,76495,75693,0,111492,0,0,14764,14875,14875,7.9000000000000001E-2,6.7000000000000004E-2,5.7000000000000002E-2,112132,114150,0,0.60105354961794943,0.64997993128460252,0.8310954940650721,2015,3,"SEP","2015-09-01"]
["Yolo",8865,10077,10254,18273,20591,20610,0.38900000000000001,0.434,0.442,16886,19200,19380,0.89800000000000002,0.91800000000000004,0.91500000000000004,0.81599999999999995,0.95399999999999996,0.94799999999999995,0.89400000000000002,0.85,0.85,7.9000000000000001E-2,2.9000000000000001E-2,2.4E-2,0.107,0.111,9.1999999999999998E-2,0.18,0.191,0.17,6.2E-2,7.8E-2,5.5E-2,0.10199999999999999,0.128,9.6000000000000002E-2,7850,8865,10254,16629,18273,20610,774,1075,1498,8108,8448,11457,874,867,1015,0,0,0,4707,5033,6991,206621,208069,209647,32873,34248,35625,43847,43396,43148,0,0,0,14762,11918,0,28422,0,0,5351,5314,5260,9.0999999999999998E-2,7.6999999999999999E-2,6.4000000000000001E-2,42449,50238,0,0.39257891056597655,0.3707119276196772,0.50741494929932407,2015,3,"SEP","2015-09-01"]
["Yuba",6026,6167,6306,13449,13517,13621,0.48399999999999999,0.5,0.51600000000000001,12562,13052,13183,0.92400000000000004,0.94899999999999995,0.94499999999999995,1,1,1,0.95099999999999996,0.96599999999999997,0.96099999999999997,7.9000000000000001E-2,2.9000000000000001E-2,2.4E-2,0.17299999999999999,0.17399999999999999,0.17499999999999999,0.23300000000000001,0.24299999999999999,0.23699999999999999,0.35399999999999998,0.33100000000000002,0.32900000000000001,0.38,0.36099999999999999,0.36199999999999999,5749,6026,6306,12919,13449,13621,341,435,584,6541,6332,7563,571,501,524,0,0,0,1586,1526,1789,73600,74258,75093,11868,12397,12935,20521,20606,20736,0,0,0,3382,4010,0,18518,0,0,3733,3734,3710,0.13100000000000001,0.112,9.1999999999999998E-2,14308,17376,0,0.89600000000000002,0.76600000000000001,0.72442693271347103,2015,3,"SEP","2015-09-01"]
["Alameda",63146,62663,62653,123955,121577,121539,0.35199999999999998,0.35799999999999998,0.35799999999999998,112683,114888,114595,0.879,0.90100000000000002,0.91100000000000003,0.86399999999999999,0.78500000000000003,0.85599999999999998,0.86799999999999999,0.88400000000000001,0.83,0.112,3.3000000000000002E-2,6.8000000000000005E-2,0.11700000000000001,0.104,0.111,0.22800000000000001,0.19700000000000001,0.20899999999999999,8.7999999999999995E-2,6.7000000000000004E-2,8.5999999999999993E-2,0.157,0.114,0.154,62875,64020,62663,125835,125434,121577,7267,9307,12022,63938,60223,71736,9990,9205,10229,0,0,0,39263,40011,48924,1563370,1582119,1599888,282890,294442,306991,346038,348428,350486,0,0,0,133681,139309,0,243275,0,0,48141,47823,47331,7.2999999999999995E-2,5.8999999999999997E-2,4.7E-2,220034,214363,0,0.56717244038342607,0.58770588854592853,0.6372229790855547,2015,4,"DEC","2015-12-01"]
["Alpine",114,101,98,185,171,164,0.51100000000000001,0.54300000000000004,0.52900000000000003,167,170,156,0.90300000000000002,0.94399999999999995,0.96299999999999997,1,1,1,0.77800000000000002,0.75,0.66700000000000004,1.9E-2,2.4E-2,4.8000000000000001E-2,0.04,0,0,0.12,5.8999999999999997E-2,7.0999999999999994E-2,0.08,0,7.0999999999999994E-2,0.12,0,7.0999999999999994E-2,91,114,101,171,194,171,11,16,21,62,59,66,0,0,1,0,0,0,0,0,0,1228,1243,1252,369,398,425,243,245,245,0,0,0,25,23,0,184,0,0,42,39,39,9.8000000000000004E-2,8.7999999999999995E-2,7.9000000000000001E-2,222,0,0,0.70134951054248518,0.80292964974253522,0.66597195415907617,2015,4,"DEC","2015-12-01"]
["Amador",1727,1823,1780,3308,3445,3440,0.499,0.53200000000000003,0.54400000000000004,3067,3216,3189,0.89600000000000002,0.90700000000000003,0.90800000000000003,0.95699999999999996,1,0.97599999999999998,0.94,0.96199999999999997,0.95899999999999996,1.9E-2,2.4E-2,4.8000000000000001E-2,0.17100000000000001,0.158,0.105,0.26300000000000001,0.23599999999999999,0.223,0.27600000000000002,0.28899999999999998,0.36499999999999999,0.32,0.33,0.41299999999999998,1685,1770,1823,3280,3373,3445,194,250,329,1298,1222,1619,69,59,67,0,0,0,98,102,126,36945,37017,37178,11769,12078,12420,5919,5806,5741,0,0,0,484,559,0,4116,0,0,674,696,688,0.10299999999999999,8.3000000000000004E-2,6.6000000000000003E-2,4989,0,0,0.65704441950440784,0.66465992098604165,0.73183059517474591,2015,4,"DEC","2015-12-01"]
["Butte",15879,16729,16800,31231,32207,32287,0.44500000000000001,0.47399999999999998,0.48,29798,31266,31385,0.93600000000000005,0.94099999999999995,0.94099999999999995,0.94199999999999995,0.92,0.82,0.94,0.92600000000000005,0.91900000000000004,1.9E-2,2.4E-2,4.8000000000000001E-2,0.13300000000000001,0.14799999999999999,0.152,0.214,0.22600000000000001,0.24199999999999999,0.311,0.22600000000000001,0.23599999999999999,0.34499999999999997,0.255,0.26500000000000001,14733,15571,16729,30211,31036,32207,1116,1577,2080,13523,12850,15753,1063,878,925,0,0,0,2782,2667,3048,222035,224518,226656,51734,53940,55954,45459,45266,45150,0,0,0,4375,5637,0,47746,0,0,10914,10866,10733,0.10299999999999999,8.6999999999999994E-2,7.1999999999999995E-2,57536,54488,0,0.52065366997840645,0.56693046889491883,0.60002261475812002,2015,4,"DEC","2015-12-01"]
["Calaveras",2867,2924,2909,5378,5498,5406,0.51300000000000001,0.56200000000000006,0.56200000000000006,4940,5137,5058,0.91800000000000004,0.92300000000000004,0.92,1,1,1,0.95699999999999996,0.94099999999999995,0.94,1.9E-2,2.4E-2,4.8000000000000001E-2,0.13,0.112,0.121,0.20499999999999999,0.19,0.20599999999999999,0.215,0.23499999999999999,0.26900000000000002,0.26300000000000001,0.26900000000000002,0.31900000000000001,2576,2768,2924,4969,5231,5498,322,437,625,1808,1778,2295,103,88,84,0,0,0,134,133,154,45214,45508,45923,15224,15719,16225,7993,7801,7638,0,0,0,410,598,0,6097,0,0,1043,1056,1057,0.1,8.1000000000000003E-2,6.5000000000000002E-2,6022,0,0,0.82427123354235265,0.80293519722539908,0.83412168219338856,2015,4,"DEC","2015-12-01"]
["California",2089037,2140611,2148210,4477428,4480570,4483272,0.42099999999999999,0.45200000000000001,0.45900000000000002,3977294,4155673,4165942,0.91700000000000004,0.92900000000000005,0.93100000000000005,0.96699999999999997,0.97099999999999997,0.97199999999999998,0.93300000000000005,0.94199999999999995,0.93700000000000006,7.1999999999999995E-2,4.5999999999999999E-2,4.9000000000000002E-2,0.14199999999999999,0.128,0.152,0.23400000000000001,0.21,0.249,0.129,0.123,0.17,0.16200000000000001,0.155,0.217,1942841,2070803,2140950,4221057,4476031,4481900,176557,234156,304341,2272684,2226004,2720376,341378,320176,352831,0,0,0,1314549,1337933,1628446,38202206,38548204,38896969,6820715,7071818,7340539,9150549,9157600,9184302,0,0,0,3750293,3760183,0,7280074,0,0,1187606,1193089,1187073,8.8999999999999996E-2,7.4999999999999997E-2,6.2E-2,7166749,6980319,0,0.58399999999999996,0.63400000000000001,0.69733016424114824,2015,4,"DEC","2015-12-01"]
["Colusa",666,661,589,1540,1563,1319,0.23699999999999999,0.25,0.22900000000000001,1555,1543,1350,0.95299999999999996,0.96199999999999997,0.97199999999999998,0.60899999999999999,1,1,0.89700000000000002,0.94699999999999995,0.95399999999999996,1.9E-2,2.4E-2,4.8000000000000001E-2,0.11,0.14799999999999999,0.127,0.23100000000000001,0.23,0.183,0.28399999999999997,0.33,0.314,0.32200000000000001,0.36799999999999999,0.36699999999999999,713,725,661,1710,1722,1563,72,84,118,1032,1004,1267,164,142,170,0,0,0,553,570,773,21987,22254,22555,4033,4198,4385,6106,6114,6167,0,0,0,2986,3111,0,4193,0,0,564,563,561,0.19,0.17499999999999999,0.153,3771,0,0,0.46113151104422845,0.39141984295657661,0.39781260650221328,2015,4,"DEC","2015-12-01"]
["Contra Costa",35825,36075,35848,77345,72362,71977,0.34200000000000003,0.35299999999999998,0.35199999999999998,65951,68114,68237,0.89700000000000002,0.91600000000000004,0.92500000000000004,0.92500000000000004,0.96599999999999997,0.95399999999999996,0.94099999999999995,0.96799999999999997,0.96899999999999997,4.2999999999999997E-2,2.1000000000000001E-2,4.5999999999999999E-2,9.1999999999999998E-2,8.5000000000000006E-2,0.106,0.16800000000000001,0.157,0.185,7.0999999999999994E-2,6.5000000000000002E-2,0.08,0.114,0.105,0.13100000000000001,32730,35280,36075,67763,76061,72362,3064,3876,5175,36829,36150,45190,5449,5317,6102,0,0,0,15787,16078,20122,1081862,1095476,1108963,215513,223639,232490,253746,251862,250390,0,0,0,66244,68215,0,131952,0,0,24041,24288,24238,7.4999999999999997E-2,6.2E-2,0.05,145293,129295,0,0.47067971198742864,0.57143348851746278,0.55604114791387682,2015,4,"DEC","2015-12-01"]
["Del Norte",2516,2514,2573,5167,5205,5281,0.49199999999999999,0.52,0.52500000000000002,4957,5016,5128,0.95599999999999996,0.96099999999999997,0.96399999999999997,1,1,1,0.99,0.94499999999999995,0.93600000000000005,1.9E-2,2.4E-2,4.8000000000000001E-2,0.19500000000000001,0.13,0.159,0.27500000000000002,0.19600000000000001,0.24,0.35799999999999998,0.317,0.33700000000000002,0.39500000000000002,0.33900000000000002,0.36199999999999999,2525,2545,2514,5132,5227,5205,193,238,288,2218,2130,2603,167,139,144,0,0,0,262,223,288,28530,28477,28587,6153,6387,6622,5698,5655,5599,0,0,0,733,725,0,7460,0,0,1817,1816,1797,0.11799999999999999,0.10199999999999999,8.5999999999999993E-2,5923,0,0,0.86431084940613745,0.91507601883208589,0.90731769369194393,2015,4,"DEC","2015-12-01"]
["El Dorado",6932,7405,7287,12578,13278,13063,0.42,0.47,0.47699999999999998,11698,12532,12512,0.89600000000000002,0.91,0.91600000000000004,1,1,0.997,0.94299999999999995,0.94599999999999995,0.96199999999999997,1.9E-2,2.4E-2,4.8000000000000001E-2,0.112,0.127,0.13400000000000001,0.193,0.20699999999999999,0.23,0.2,0.23300000000000001,0.23599999999999999,0.23100000000000001,0.26600000000000001,0.26600000000000001,6397,6871,7405,11765,12479,13278,732,972,1276,4716,4740,6328,417,396,442,0,0,0,882,886,1067,184054,184320,184833,46098,47929,49793,38276,37665,37280,0,0,0,3580,3522,0,17413,0,0,2850,2851,2871,8.5000000000000006E-2,7.0000000000000007E-2,5.7000000000000002E-2,26641,27235,0,0.44106704599832475,0.45696364279304263,0.65409556790410273,2015,4,"DEC","2015-12-01"]
["Fresno",94483,97852,97981,223686,227770,227643,0.54,0.56699999999999995,0.57199999999999995,212720,223998,223765,0.91700000000000004,0.93400000000000005,0.93600000000000005,0.95699999999999996,0.94399999999999995,0.93500000000000005,0.96399999999999997,0.92300000000000004,0.95,8.9999999999999993E-3,2.7E-2,3.5000000000000003E-2,0.152,0.13900000000000001,0.16500000000000001,0.27600000000000002,0.251,0.28899999999999998,0.109,0.106,0.13100000000000001,0.16500000000000001,0.16400000000000001,0.19800000000000001,90783,94285,97947,217757,224430,228537,5364,7362,9438,123609,122849,144746,14216,13450,14341,0,0,0,59175,60875,71864,958260,969338,981681,147191,152725,158747,276923,279805,283783,0,0,0,108885,109792,0,299363,0,0,40774,41053,41165,0.13200000000000001,0.11600000000000001,0.10199999999999999,280018,281486,0,0.78293622520574913,0.80626906421255717,0.87322270167921334,2015,4,"DEC","2015-12-01"]
["Glenn",1485,1528,1504,3565,3645,3551,0.379,0.44900000000000001,0.47399999999999998,3514,3663,3569,0.95499999999999996,0.96299999999999997,0.96399999999999997,1,1,1,0.98499999999999999,0.99,0.99099999999999999,1.9E-2,2.4E-2,4.8000000000000001E-2,0.152,9.5000000000000001E-2,0.151,0.246,0.16400000000000001,0.24,0.19700000000000001,0.19500000000000001,0.17699999999999999,0.23899999999999999,0.20799999999999999,0.214,1431,1514,1528,3549,3697,3645,113,148,183,1985,1960,2401,237,215,229,0,0,0,739,762,935,28599,28868,29132,5834,6039,6264,7588,7542,7518,0,0,0,2638,2410,0,6747,0,0,1136,1111,1106,0.121,0.107,8.6999999999999994E-2,6196,0,0,0.56850757302200194,0.55838355889207381,0.55587898296053628,2015,4,"DEC","2015-12-01"]
["Humboldt",11119,12084,12380,19813,21066,21435,0.48399999999999999,0.53,0.53900000000000003,18319,19674,19911,0.90500000000000003,0.91400000000000003,0.91100000000000003,0.99399999999999999,1,0.999,0.90500000000000003,0.91700000000000004,0.95799999999999996,1.9E-2,2.4E-2,4.8000000000000001E-2,0.11,0.11700000000000001,0.123,0.17299999999999999,0.19,0.19700000000000001,0.20899999999999999,0.25900000000000001,0.26900000000000002,0.23300000000000001,0.28399999999999997,0.30199999999999999,8812,10547,12084,16507,19098,21066,695,1117,1512,7000,7428,9450,684,644,686,0,0,0,886,900,1123,136480,136779,137159,30216,31381,32518,26025,25824,25609,0,0,0,2347,2266,0,24939,0,0,5607,5545,5488,8.2000000000000003E-2,6.8000000000000005E-2,5.6000000000000001E-2,34043,33222,0,0.474035923417713,0.56563435374326043,0.65877861627084822,2015,4,"DEC","2015-12-01"]
["Imperial",16657,17367,17814,42202,43485,44547,0.54300000000000004,0.58399999999999996,0.60499999999999998,40337,42864,43674,0.94,0.95799999999999996,0.95699999999999996,0.91500000000000004,0.97599999999999998,0.97599999999999998,0.89500000000000002,0.90100000000000002,0.94299999999999995,1.9E-2,2.4E-2,4.8000000000000001E-2,0.14799999999999999,0.13700000000000001,0.16500000000000001,0.218,0.214,0.23799999999999999,0.20399999999999999,0.21299999999999999,0.22800000000000001,0.22900000000000001,0.23899999999999999,0.254,14518,15936,17367,37083,40394,43485,1738,2213,2905,19291,19838,24612,1028,990,905,0,0,0,19370,21381,27755,179326,183154,187689,28182,29668,31415,51426,52464,53799,0,0,0,32195,33803,0,55474,0,0,10276,10238,10128,0.249,0.23599999999999999,0.24,44790,44826,0,0.81464017162211388,0.89508144333471995,0.90733457568972442,2015,4,"DEC","2015-12-01"]
["Inyo",1043,1049,1080,2093,2076,2138,0.42399999999999999,0.47599999999999998,0.5,1937,1997,2059,0.92200000000000004,0.94299999999999995,0.94799999999999995,1,1,1,0.92900000000000005,0.93200000000000005,0.94799999999999995,1.9E-2,2.4E-2,4.8000000000000001E-2,0.11899999999999999,0.128,0.13400000000000001,0.22,0.23799999999999999,0.23400000000000001,0.31,0.32100000000000001,0.32600000000000001,0.33800000000000002,0.35099999999999998,0.33700000000000002,1058,1068,1049,2132,2149,2076,137,154,201,964,928,1141,103,98,96,0,0,0,327,296,346,19241,19244,19304,5510,5699,5912,3660,3590,3538,0,0,0,532,510,0,3188,0,0,407,402,394,7.9000000000000001E-2,7.0000000000000007E-2,5.8000000000000003E-2,2766,0,0,0.73946492362442684,0.72042269416670368,0.80302969461806784,2015,4,"DEC","2015-12-01"]
["Kern",62059,67912,69411,147285,160254,161315,0.46600000000000003,0.51400000000000001,0.52400000000000002,140138,155203,157332,0.93,0.94299999999999995,0.94499999999999995,0.995,0.99199999999999999,0.996,0.92,0.93799999999999994,0.94699999999999995,7.0000000000000001E-3,8.0000000000000002E-3,0,0.21099999999999999,0.19,0.20499999999999999,0.31,0.27,0.307,0.20899999999999999,0.17599999999999999,0.21299999999999999,0.25,0.20599999999999999,0.247,59623,61918,68143,144653,148150,160741,3983,5081,7145,84978,82576,105010,10703,9808,10689,0,0,0,37191,37076,47266,869797,878356,894492,122971,128553,134065,252028,256535,262787,0,0,0,88100,79181,0,224473,0,0,31384,31592,31341,0.11700000000000001,0.104,0.10199999999999999,224185,225536,0,0.64036520264020891,0.6560986851203231,0.76605508020541824,2015,4,"DEC","2015-12-01"]
["Kings",10066,10785,10733,23550,24942,24665,0.50700000000000001,0.55300000000000005,0.55800000000000005,22455,24204,24025,0.94099999999999995,0.95199999999999996,0.95499999999999996,0.998,0.998,1,0.93400000000000005,0.97299999999999998,0.96,1.9E-2,2.4E-2,4.8000000000000001E-2,0.217,0.215,0.23899999999999999,0.318,0.28999999999999998,0.34499999999999997,0.33700000000000002,0.25800000000000001,0.27200000000000002,0.36699999999999999,0.28599999999999998,0.30599999999999999,9956,10210,10785,23543,24002,24942,652,797,1081,12892,12521,15587,1396,1267,1418,0,0,0,5451,5713,7275,152456,153601,155122,19636,20420,21191,41136,41468,41947,0,0,0,14426,15306,0,33393,0,0,4659,4635,4579,0.13500000000000001,0.121,0.105,34891,38859,0,0.66930047437077489,0.61675060236025636,0.68600653300893477,2015,4,"DEC","2015-12-01"]
["Lake",5693,6253,7319,11283,12127,14694,0.443,0.47099999999999997,0.51300000000000001,10843,11814,13151,0.94199999999999995,0.95499999999999996,0.86499999999999999,0.95099999999999996,0.99,0.98899999999999999,0.92300000000000004,0.94499999999999995,0.92100000000000004,1.9E-2,2.4E-2,4.8000000000000001E-2,7.0000000000000007E-2,5.7000000000000002E-2,6.8000000000000005E-2,0.14799999999999999,0.11799999999999999,0.13700000000000001,0.312,0.254,0.216,0.36299999999999999,0.29499999999999998,0.247,5227,5525,6253,10453,11036,12127,586,736,1022,4436,4622,5927,385,344,393,0,0,0,814,817,1156,64782,65465,66219,18045,18728,19438,12882,12726,12642,0,0,0,1792,1951,0,16443,0,0,3710,3663,3675,0.108,8.8999999999999996E-2,7.6999999999999999E-2,17452,17435,0,0.58994489464318189,0.6317675039698486,0.83474883738835326,2015,4,"DEC","2015-12-01"]
["Lassen",1574,1540,1520,3216,3205,3144,0.47599999999999998,0.48299999999999998,0.48299999999999998,3046,3088,3102,0.93500000000000005,0.93500000000000005,0.93400000000000005,0.83199999999999996,0.88500000000000001,0.77,0.77600000000000002,0.747,0.80500000000000005,1.9E-2,2.4E-2,4.8000000000000001E-2,8.7999999999999995E-2,8.5000000000000006E-2,6.3E-2,0.14000000000000001,0.16,0.161,0.20699999999999999,0.29099999999999998,0.27,0.23799999999999999,0.32500000000000001,0.32200000000000001,1426,1536,1540,2971,3168,3205,99,150,199,1319,1345,1730,91,108,99,0,0,0,67,71,94,34966,35038,35190,6186,6479,6760,5574,5519,5457,0,0,0,769,712,0,4436,0,0,906,880,883,0.106,9.2999999999999999E-2,7.2999999999999995E-2,4398,0,0,0.67780447504446817,0.78611426364455528,0.85393368079206677,2015,4,"DEC","2015-12-01"]
["Los Angeles",585664,588075,584840,1190842,1183107,1171844,0.36399999999999999,0.38500000000000001,0.38500000000000001,1003749,1038925,1031403,0.83899999999999997,0.86899999999999999,0.874,0.96499999999999997,0.96,0.96499999999999997,0.92900000000000005,0.94199999999999995,0.92200000000000004,8.1000000000000003E-2,3.6999999999999998E-2,2.5000000000000001E-2,0.122,0.08,0,0.21,0.14599999999999999,0,8.0000000000000002E-3,8.9999999999999993E-3,0,1.0999999999999999E-2,1.0999999999999999E-2,0,557570,585696,588075,1148512,1193453,1183107,46590,59648,76022,629069,614546,726193,117585,109736,118786,0,0,0,444806,444589,520243,10010961,10082664,10147070,1701464,1760921,1826080,2329494,2322213,2320563,0,0,0,1402433,1394350,0,2250353,0,0,388148,389765,386663,9.8000000000000004E-2,8.3000000000000004E-2,6.7000000000000004E-2,2088070,2032450,0,0.54211494769640123,0.58334051625028915,0.66276061455130608,2015,4,"DEC","2015-12-01"]
["Madera",11515,12063,12081,28701,29699,29653,0.49099999999999999,0.55300000000000005,0.57599999999999996,27711,29048,28989,0.95599999999999996,0.96199999999999997,0.96099999999999997,0.998,0.98799999999999999,1,0.88400000000000001,0.93400000000000005,0.96699999999999997,1.9E-2,2.4E-2,4.8000000000000001E-2,0.17399999999999999,0.155,0.17199999999999999,0.28100000000000003,0.25900000000000001,0.28899999999999998,0.23300000000000001,0.23799999999999999,0.183,0.26700000000000002,0.29299999999999998,0.224,10608,11507,12063,26856,28885,29699,619,799,1081,16652,16999,20470,2773,2654,3011,0,0,0,9640,10033,11990,153409,154829,157722,26873,27801,28993,42149,43015,43736,0,0,0,20706,20778,0,42230,0,0,4478,4505,4530,0.125,0.11,0.105,38832,38903,0,0.69096227737139893,0.74120990607815518,0.91808234301547598,2015,4,"DEC","2015-12-01"]
["Marin",6311,6511,6508,10475,10687,10717,0.32700000000000001,0.36,0.37,10174,10462,10405,0.94399999999999995,0.94199999999999995,0.93799999999999994,0.96899999999999997,0.99399999999999999,1,0.94,0.93200000000000005,0.96,1.9E-2,2.4E-2,4.8000000000000001E-2,0.14599999999999999,0.16600000000000001,0.16500000000000001,0.22600000000000001,0.246,0.25700000000000001,0.22800000000000001,0.26500000000000001,0.29299999999999998,0.26400000000000001,0.29799999999999999,0.33100000000000002,5762,6216,6511,9774,10397,10687,887,1119,1471,4734,4831,5967,1271,1282,1459,0,0,0,3455,3804,4835,256264,257792,258804,69445,70897,72375,51412,51122,50887,0,0,0,8867,11871,0,21230,0,0,3107,3034,2913,5.1999999999999998E-2,4.2999999999999997E-2,3.5000000000000003E-2,22421,22696,0,0.41976609833322831,0.45416962715835596,0.44650733867359088,2015,4,"DEC","2015-12-01"]
["Mariposa",1016,1122,1103,1972,2152,2075,0.497,0.55800000000000005,0.54800000000000004,1919,2079,2011,0.95599999999999996,0.95399999999999996,0.94799999999999995,0.80400000000000005,1,0.97599999999999998,0.92600000000000005,0.96499999999999997,0.97799999999999998,1.9E-2,2.4E-2,4.8000000000000001E-2,0.182,0.13300000000000001,0.113,0.26400000000000001,0.188,0.186,0.19,0.32500000000000001,0.26,0.20799999999999999,0.35,0.28999999999999998,920,1005,1122,1855,1974,2152,119,172,233,714,711,952,37,31,30,0,0,0,30,52,49,18101,18091,18147,5971,6133,6328,2988,2966,2948,0,0,0,227,199,0,2652,0,0,462,454,451,0.105,8.7999999999999995E-2,7.1999999999999995E-2,3155,0,0,0.58782568148826908,0.63584459078564948,0.68894049645505728,2015,4,"DEC","2015-12-01"]
["Mendocino",7329,7077,7127,13591,13204,13395,0.40200000000000002,0.41699999999999998,0.42499999999999999,12610,12802,12941,0.91200000000000003,0.93400000000000005,0.93400000000000005,0.98099999999999998,0.995,0.99099999999999999,0.96499999999999997,0.97699999999999998,0.96199999999999997,1.9E-2,2.4E-2,4.8000000000000001E-2,0.17199999999999999,0.17599999999999999,0.184,0.29199999999999998,0.28699999999999998,0.29399999999999998,0.35499999999999998,0.22,0.33400000000000002,0.42599999999999999,0.26700000000000002,0.40500000000000003,6923,7569,7077,13202,14007,13204,699,941,1117,5665,5681,6905,688,618,637,0,0,0,1823,1931,2266,88931,88795,88884,23290,24007,24725,18865,18784,18737,0,0,0,4171,4690,0,21783,0,0,3218,3145,3087,8.2000000000000003E-2,6.9000000000000006E-2,5.8999999999999997E-2,22381,19834,0,0.58791930175161367,0.69491422244138812,0.68801460976166073,2015,4,"DEC","2015-12-01"]
["Merced",24235,25373,25121,57128,58778,57934,0.50700000000000001,0.55500000000000005,0.56699999999999995,55436,58107,57532,0.95699999999999996,0.96499999999999997,0.96599999999999997,0.98899999999999999,0.998,0.996,0.95,0.95299999999999996,0.95399999999999996,3.3000000000000002E-2,1.2999999999999999E-2,0.9,0.17399999999999999,0.188,0.2,0.28899999999999998,0.27100000000000002,0.315,0.35299999999999998,0.309,0.33200000000000002,0.39600000000000002,0.33900000000000002,0.371,22956,24370,25373,55568,57733,58778,1338,1886,2467,31540,31258,37709,4036,3796,4262,0,0,0,15579,15688,19191,263441,266444,269572,37818,39238,40790,79353,79287,79728,0,0,0,35644,33521,0,80292,0,0,10849,10825,10774,0.14499999999999999,0.128,0.114,70247,74499,0,0.78565860623862072,0.76763611001397902,0.73586842548148068,2015,4,"DEC","2015-12-01"]
["Modoc",481,455,445,1033,966,972,0.38600000000000001,0.39900000000000002,0.42399999999999999,984,936,967,0.94499999999999995,0.95,0.95399999999999996,1,1,0.92300000000000004,0.89100000000000001,0.92,1,1.9E-2,2.4E-2,4.8000000000000001E-2,0.17599999999999999,0.22700000000000001,0.122,0.30299999999999999,0.28399999999999997,0.245,0.27500000000000002,0.30499999999999999,0.32700000000000001,0.31,0.31900000000000001,0.33300000000000002,415,467,455,935,1001,966,34,40,58,442,438,605,42,31,42,0,0,0,71,62,61,9457,9395,9410,2876,2896,2945,1952,1905,1894,0,0,0,335,353,0,1865,0,0,416,421,419,0.124,0.105,8.7999999999999995E-2,2622,0,0,0.36099657830335341,0.4472268901875262,0.49576448172215082,2015,4,"DEC","2015-12-01"]
["Mono",456,520,456,778,856,768,0.29899999999999999,0.32900000000000001,0.32,699,746,697,0.85,0.85599999999999998,0.875,1,0.96199999999999997,1,0.92400000000000004,1,0.98699999999999999,1.9E-2,2.4E-2,4.8000000000000001E-2,6.9000000000000006E-2,9.8000000000000004E-2,0.05,0.13400000000000001,0.187,0.14000000000000001,6.9000000000000006E-2,0.187,0.123,8.1000000000000003E-2,0.21099999999999999,0.156,400,522,520,656,855,856,43,49,72,283,334,463,74,70,78,0,0,0,163,218,290,14376,14440,14525,2711,2804,2939,3013,3046,3086,0,0,0,937,1069,0,1248,0,0,101,100,99,8.5000000000000006E-2,7.1999999999999995E-2,6.0999999999999999E-2,2021,0,0,0.31554896752066686,0.49939412291526875,0.69164149189032076,2015,4,"DEC","2015-12-01"]
["Monterey",20520,22745,21738,45843,50601,48021,0.35499999999999998,0.39500000000000002,0.40300000000000002,45149,50143,48888,0.94699999999999995,0.95899999999999996,0.96099999999999997,1,1,1,0.95399999999999996,0.97199999999999998,0.96199999999999997,8.8999999999999996E-2,6.2E-2,6.9000000000000006E-2,0.22800000000000001,0.248,0.20599999999999999,0.35299999999999998,0.35,0.33500000000000002,0.193,0.222,0.25,0.219,0.26400000000000001,0.28999999999999998,20213,21758,22745,46145,49132,50601,1572,2212,2984,29909,30054,40553,6960,6638,8572,0,0,0,21235,22043,31763,424119,426670,429584,71183,73258,75614,112481,113104,113636,0,0,0,64059,74856,0,88589,0,0,8458,8488,8376,0.10299999999999999,9.0999999999999998E-2,8.1000000000000003E-2,83052,76819,0,0.56469538837346811,0.65190822926998127,0.75962434950577884,2015,4,"DEC","2015-12-01"]
["Napa",3444,3632,3600,7124,7444,7414,0.30099999999999999,0.34,0.35799999999999998,6858,7205,7212,0.93300000000000005,0.93500000000000005,0.94099999999999995,0.88200000000000001,0.97,0.97199999999999998,0.95399999999999996,0.96799999999999997,0.96899999999999997,1.9E-2,2.4E-2,4.8000000000000001E-2,0.113,0.11,0.108,0.183,0.19500000000000001,0.193,0.22900000000000001,0.17,0.24299999999999999,0.27500000000000002,0.19500000000000001,0.28299999999999997,3193,3526,3632,6710,7325,7444,341,433,562,4081,4040,5159,909,798,924,0,0,0,2892,2923,3742,139831,141172,142301,32036,32913,33854,31002,30942,30799,0,0,0,12782,11600,0,15421,0,0,2156,2118,2093,6.8000000000000005E-2,5.6000000000000001E-2,4.5999999999999999E-2,16770,13997,0,0.40661393682295693,0.52160944627671246,0.38161673999826451,2015,4,"DEC","2015-12-01"]
["Nevada",4202,4272,4334,7687,7776,7833,0.40500000000000003,0.42,0.432,7224,7397,7453,0.91200000000000003,0.92400000000000004,0.92800000000000005,1,1,1,0.85899999999999999,0.90300000000000002,0.92,1.9E-2,2.4E-2,4.8000000000000001E-2,0.104,7.2999999999999995E-2,9.1999999999999998E-2,0.192,0.155,0.16900000000000001,0.222,0.22800000000000001,0.24299999999999999,0.255,0.254,0.27600000000000002,3898,4221,4272,7452,7804,7776,445,640,813,2951,2868,3576,186,165,182,0,0,0,255,284,364,98317,98453,98633,31210,32138,33027,17565,17237,17026,0,0,0,1576,1472,0,10758,0,0,1796,1796,1806,8.1000000000000003E-2,6.6000000000000003E-2,5.5E-2,16674,12649,0,0.44248242080254063,0.61057440393830054,0.42800062583066384,2015,4,"DEC","2015-12-01"]
["Orange",118925,123718,125010,273208,257750,260178,0.36199999999999999,0.38600000000000001,0.39100000000000001,230344,239955,243349,0.90600000000000003,0.91400000000000003,0.92200000000000004,0.98499999999999999,0.98699999999999999,0.98699999999999999,0.996,0.99399999999999999,0.98799999999999999,3.2000000000000001E-2,3.6999999999999998E-2,2.1999999999999999E-2,0.11,0.107,0.11,0.19800000000000001,0.19,0.20300000000000001,8.5999999999999993E-2,7.9000000000000001E-2,8.8999999999999996E-2,0.13100000000000001,0.123,0.13800000000000001,105823,117235,123718,232862,270245,257750,13145,17616,22825,139033,135615,165520,29922,28117,31211,0,0,0,111958,114889,137793,3097966,3125833,3150934,559090,579380,601086,721292,719772,718992,0,0,0,316852,325313,0,467937,0,0,67573,68202,68296,6.5000000000000002E-2,5.5E-2,4.4999999999999998E-2,444095,443857,0,0.51788536634810356,0.58262619430581397,0.61073927765205804,2015,4,"DEC","2015-12-01"]
["Placer",9374,9410,9366,18731,18190,18090,0.35,0.36499999999999999,0.36399999999999999,15675,15999,15930,0.84699999999999998,0.874,0.88100000000000001,0.99299999999999999,0.94699999999999995,0.96699999999999997,0.97,0,7.0000000000000007E-2,1.9E-2,2.4E-2,4.8000000000000001E-2,0.114,0.107,9.6000000000000002E-2,0.19500000000000001,0.192,0.185,0.10199999999999999,7.4999999999999997E-2,8.1000000000000003E-2,0.14899999999999999,0.11799999999999999,0.13400000000000001,8480,9206,9410,17673,18455,18190,1019,1416,1857,7868,7411,9829,677,658,766,0,0,0,2021,1954,2411,365125,369460,373503,85049,87902,90692,84419,83682,83185,0,0,0,8063,6222,0,28497,0,0,5056,5087,5127,7.6999999999999999E-2,6.3E-2,0.05,39484,41239,0,0.44976744876628461,0.44945277490867924,0.47371604310456833,2015,4,"DEC","2015-12-01"]
["Plumas",969,1061,1078,1888,1993,2010,0.41699999999999998,0.45,0.44700000000000001,1769,1878,1865,0.89600000000000002,0.91300000000000003,0.89400000000000002,0.96399999999999997,1,0.97699999999999998,0.874,0.90300000000000002,0.82899999999999996,1.9E-2,2.4E-2,4.8000000000000001E-2,0.08,0.11700000000000001,7.5999999999999998E-2,0.14499999999999999,0.19700000000000001,0.16400000000000001,0.23799999999999999,0.19700000000000001,0.19800000000000001,0.25900000000000001,0.22500000000000001,0.22600000000000001,773,956,1061,1604,1793,1993,82,116,160,676,707,961,34,37,51,0,0,0,22,22,53,19466,19416,19384,6703,6907,7072,3263,3252,3249,0,0,0,217,202,0,3027,0,0,641,651,656,0.13900000000000001,0.11700000000000001,0.104,3816,0,0,0.43854437804865226,0.5261404932248257,0.59469382647241054,2015,4,"DEC","2015-12-01"]
["Riverside",127594,129532,132172,296194,295239,299730,0.45100000000000001,0.46600000000000003,0.47699999999999998,261887,271232,275736,0.872,0.89100000000000001,0.89200000000000002,0.99399999999999999,0.999,0.995,0.88600000000000001,0.92,0.93200000000000005,6.8000000000000005E-2,5.6000000000000001E-2,4.3999999999999997E-2,0.17599999999999999,0.154,0.17299999999999999,0.25600000000000001,0.23200000000000001,0.25700000000000001,0.23799999999999999,0.215,0.23100000000000001,0.26900000000000002,0.24199999999999999,0.26800000000000002,115800,124316,129532,278117,289618,295239,10225,13821,18121,151042,148026,184930,17000,16149,17346,0,0,0,65355,66204,81846,2264173,2294333,2323527,396291,411572,428027,608238,609127,612757,0,0,0,173255,172588,0,409328,0,0,56654,57657,58059,9.9000000000000005E-2,8.2000000000000003E-2,6.7000000000000004E-2,469029,455320,0,0.59124914316236565,0.63751163857777993,0.69484033727327177,2015,4,"DEC","2015-12-01"]
["Sacramento",103843,105023,105259,220147,219932,220373,0.46400000000000002,0.47799999999999998,0.47799999999999998,200265,206812,206803,0.90500000000000003,0.91900000000000004,0.92500000000000004,0.98599999999999999,0.98899999999999999,0.98199999999999998,0.98399999999999999,0.98699999999999999,0.98799999999999999,0,4.0000000000000001E-3,4.4999999999999998E-2,0.11799999999999999,0.11799999999999999,0.126,0.19700000000000001,0.20399999999999999,0.221,9.0999999999999998E-2,8.1000000000000003E-2,0.1,0.13800000000000001,0.124,0.153,94824,101502,105023,210033,217077,219932,6598,9056,11837,105467,101011,123044,9994,9400,10029,0,0,0,47601,47736,57891,1448268,1461174,1475381,254622,264452,275133,358519,358865,360213,0,0,0,101446,94516,0,308037,0,0,61371,62271,62730,8.8999999999999996E-2,7.2999999999999995E-2,0.06,306055,295178,0,0.68101648407910953,0.7368741653264238,0.83260287264778898,2015,4,"DEC","2015-12-01"]
["San Benito",2658,2702,2681,5905,5988,5936,0.40300000000000002,0.436,0.441,5661,5873,5823,0.93600000000000005,0.94399999999999995,0.94599999999999995,0.9,0.99099999999999999,1,0.95199999999999996,0.98499999999999999,0.95299999999999996,1.9E-2,2.4E-2,4.8000000000000001E-2,0.159,0.156,0.183,0.28000000000000003,0.252,0.27800000000000002,0.36,0.34399999999999997,0.36399999999999999,0.39900000000000002,0.39900000000000002,0.42399999999999999,2684,2710,2702,6232,6169,5988,246,292,367,3361,3209,4065,472,436,505,0,0,0,1856,1802,2281,57366,58222,59039,9394,9875,10342,15424,15274,15140,0,0,0,5777,5516,0,9287,0,0,882,899,900,0.111,9.2999999999999999E-2,7.5999999999999998E-2,8524,0,0,0.72675062462478957,0.70741531862364759,0.78347499663269027,2015,4,"DEC","2015-12-01"]
["San Bernardino",176843,181362,183260,399898,403228,405834,0.53100000000000003,0.55300000000000005,0.55800000000000005,353580,368051,371336,0.88800000000000001,0.90300000000000002,0.90500000000000003,1,1,0.999,0.96299999999999997,0.95699999999999996,0.95199999999999996,7.2999999999999995E-2,3.1E-2,1.7000000000000001E-2,0.219,0.20799999999999999,0.23699999999999999,0.29599999999999999,0.28799999999999998,0.32700000000000001,0.32,0.27800000000000002,0.307,0.35199999999999998,0.307,0.34599999999999997,159737,172721,181362,373620,392265,403228,12685,17508,22887,194878,192219,234835,21323,19813,20761,0,0,0,70335,71384,85947,2075160,2096123,2116461,301721,316194,331502,576858,575598,576195,0,0,0,156056,164799,0,481334,0,0,66969,68029,68072,9.8000000000000004E-2,8.1000000000000003E-2,6.5000000000000002E-2,441319,458343,0,0.84152610654688464,0.85480513964161331,0.92665518793589696,2015,4,"DEC","2015-12-01"]
["San Diego",138327,143440,144574,285499,291188,293435,0.41799999999999998,0.43099999999999999,0.434,254027,267703,270624,0.872,0.88700000000000001,0.89800000000000002,0.93400000000000005,0.98699999999999999,0.98799999999999999,0.97599999999999998,0.97899999999999998,0.98199999999999998,4.0000000000000001E-3,1.2999999999999999E-2,0.85,0.152,0.13200000000000001,0.14099999999999999,0.24199999999999999,0.22,0.24,8.7999999999999995E-2,7.1999999999999995E-2,8.5000000000000006E-2,0.13200000000000001,0.114,0.13400000000000001,122561,134694,143440,260576,300896,291188,13842,19191,25885,131432,131324,168267,15919,15532,17078,0,0,0,93092,97970,123936,3184072,3214279,3244706,558419,579311,601375,723080,726020,730140,0,0,0,236315,228246,0,451842,0,0,75967,76554,76341,7.8E-2,6.4000000000000001E-2,5.1999999999999998E-2,553958,548766,0,0.4659832261291611,0.5173190533272255,0.57292109557354953,2015,4,"DEC","2015-12-01"]
["San Francisco",33173,34244,34461,54246,52180,52684,0.26900000000000002,0.29099999999999998,0.29899999999999999,44525,47292,48580,0.85199999999999998,0.873,0.89100000000000001,0.97299999999999998,0.96699999999999997,0.95399999999999996,0.86499999999999999,0.86399999999999999,0.83899999999999997,9.4E-2,6.8000000000000005E-2,2.7E-2,0.12,0.115,0.10199999999999999,0.2,0.19400000000000001,0.19500000000000001,0.11700000000000001,8.4000000000000005E-2,9.1999999999999998E-2,0.16900000000000001,0.12,0.13100000000000001,32096,32961,34244,50124,53900,52180,5459,6615,8552,19668,18721,23126,4243,3966,4486,0,0,0,19818,20630,26371,833827,840391,848564,171662,176508,181559,119793,123334,126617,0,0,0,96046,103652,0,134579,0,0,37708,37503,37327,5.5E-2,4.3999999999999997E-2,3.5999999999999997E-2,120297,100798,0,0.40594685641860467,0.51877955213904448,0.50698302103297233,2015,4,"DEC","2015-12-01"]
["San Joaquin",51189,53401,53309,119161,122077,121228,0.5,0.55800000000000005,0.57499999999999996,113884,118556,118078,0.94099999999999995,0.95,0.95099999999999996,0.97799999999999998,0.99199999999999999,0.99399999999999999,0.89200000000000002,0.91400000000000003,0.91100000000000003,1.7999999999999999E-2,3.1E-2,2.7E-2,0.155,0.161,0.18,0.23300000000000001,0.24099999999999999,0.27,0.27300000000000002,0.25800000000000001,0.27,0.30499999999999999,0.28999999999999998,0.31,46964,50358,53401,113230,118029,122077,3502,4706,6110,63093,61837,74545,7295,6809,7330,0,0,0,23995,24307,28986,703790,713961,723506,113154,117867,122739,197012,196893,197478,0,0,0,64800,65961,0,170765,0,0,27071,27296,27357,0.124,0.106,8.8999999999999996E-2,156985,155948,0,0.71282208923144241,0.75448405858440615,0.92455081561557007,2015,4,"DEC","2015-12-01"]
["San Luis Obispo",9447,10090,10103,17677,18642,18677,0.375,0.41399999999999998,0.42699999999999999,16605,17892,18040,0.91200000000000003,0.92800000000000005,0.93400000000000005,0.98499999999999999,0.96499999999999997,0.95699999999999996,0.92900000000000005,0.95899999999999996,0.94499999999999995,1.9E-2,2.4E-2,4.8000000000000001E-2,7.1999999999999995E-2,7.2999999999999995E-2,8.6999999999999994E-2,0.16400000000000001,0.14699999999999999,0.17599999999999999,6.3E-2,5.5E-2,6.3E-2,0.108,9.2999999999999999E-2,0.108,8907,9573,10090,17319,17983,18642,1072,1399,1754,8228,8025,10311,1089,1102,1255,0,0,0,3239,3371,4211,271740,272941,274254,65066,67294,69554,50061,49890,49891,0,0,0,10073,10622,0,30635,0,0,4383,4290,4209,6.8000000000000005E-2,5.6000000000000001E-2,4.5999999999999999E-2,47791,45982,0,0.36625752524840383,0.39378556835265566,0.40872986695625607,2015,4,"DEC","2015-12-01"]
["San Mateo",16053,16305,16116,32074,31752,31527,0.27700000000000002,0.29699999999999999,0.30099999999999999,29194,29628,29538,0.9,0.90700000000000003,0.91700000000000004,0.97,0.98799999999999999,0.96499999999999997,0.88900000000000001,0.92400000000000004,0.9,1.9E-2,2.4E-2,4.8000000000000001E-2,9.1999999999999998E-2,9.4E-2,9.6000000000000002E-2,0.188,0.185,0.20100000000000001,7.4999999999999997E-2,6.6000000000000003E-2,6.9000000000000006E-2,0.122,0.107,0.115,14493,16060,16305,29339,32208,31752,2531,3450,4279,17242,16879,21195,4025,3907,4575,0,0,0,13534,14235,17806,741857,747334,752751,155845,160763,166303,163248,163900,164163,0,0,0,58256,55943,0,77027,0,0,10953,10783,10434,5.1999999999999998E-2,4.2000000000000003E-2,3.4000000000000002E-2,68114,63839,0,0.42299145074748989,0.5047687081036859,0.44253944353777569,2015,4,"DEC","2015-12-01"]
["Santa Barbara",15956,17002,17512,34829,36443,36809,0.32800000000000001,0.35399999999999998,0.36799999999999999,33577,35904,36859,0.93300000000000005,0.94699999999999995,0.95299999999999996,0.88900000000000001,0.96499999999999997,0.95799999999999996,0.86399999999999999,0.92,0.92400000000000004,1.9E-2,2.4E-2,4.8000000000000001E-2,0.09,7.0000000000000007E-2,7.2999999999999995E-2,0.191,0.156,0.16300000000000001,6.6000000000000003E-2,5.3999999999999999E-2,6.3E-2,0.114,9.9000000000000005E-2,0.106,14344,15674,17002,32221,34497,36443,1086,1559,2179,20051,20526,28148,4170,4029,5590,0,0,0,12614,13524,19398,433157,435999,439082,82325,84301,86574,97825,98027,98532,0,0,0,46332,43550,0,74176,0,0,8477,8393,8191,7.0999999999999994E-2,6.0999999999999999E-2,5.2999999999999999E-2,79414,83642,0,0.41419200848854154,0.42200119780622236,0.50750380291810415,2015,4,"DEC","2015-12-01"]
["Santa Clara",55515,55399,55144,113741,110974,109453,0.32700000000000001,0.33700000000000002,0.35,103199,105168,104430,0.9,0.93600000000000005,0.94099999999999995,0.97199999999999998,0.98,0.98199999999999998,0.94399999999999995,0.98399999999999999,0.98399999999999999,1.7999999999999999E-2,2.7E-2,4.5999999999999999E-2,3.4000000000000002E-2,2.3E-2,2.5000000000000001E-2,0.14199999999999999,0.12,0.125,1.2999999999999999E-2,1.0999999999999999E-2,1.2E-2,5.7000000000000002E-2,4.9000000000000002E-2,6.9000000000000006E-2,52296,55307,55399,110622,113439,110974,7200,9510,11866,59419,55723,67584,11654,10556,12117,0,0,0,48568,49052,59122,1850595,1871516,1890424,321578,334221,347783,439320,442256,444794,0,0,0,176036,174224,0,261699,0,0,44002,43472,42694,6.5000000000000002E-2,5.1999999999999998E-2,4.2000000000000003E-2,215577,173716,0,0.50311228218070525,0.65194601619115522,0.68854903421894531,2015,4,"DEC","2015-12-01"]
["Santa Cruz",12360,13879,14031,23430,25934,25930,0.376,0.42599999999999999,0.43099999999999999,21751,24192,24141,0.91300000000000003,0.92500000000000004,0.92600000000000005,0.83099999999999996,0.97299999999999998,0.95899999999999996,0.97299999999999998,0.98599999999999999,0.96499999999999997,1.9E-2,2.4E-2,4.8000000000000001E-2,2.5999999999999999E-2,1.7999999999999999E-2,2.1000000000000001E-2,0.122,0.09,0.114,0.01,7.0000000000000001E-3,0.01,5.1999999999999998E-2,5.2999999999999999E-2,5.0999999999999997E-2,11641,12402,13892,22732,23719,26010,1290,1797,2375,11843,11576,15311,2423,2244,2811,0,0,0,8317,8530,12072,271495,272210,273695,53904,56302,58703,55939,56013,56099,0,0,0,20137,23557,0,38508,0,0,5077,5038,4931,0.10299999999999999,8.6999999999999994E-2,7.4999999999999997E-2,42179,47670,0,0.54467417520778982,0.50502675093748539,0.57953642042354159,2015,4,"DEC","2015-12-01"]
["Shasta",12892,13115,13124,24856,25293,25247,0.439,0.46,0.46300000000000002,23744,24613,24481,0.93400000000000005,0.94099999999999995,0.94199999999999995,0.93799999999999994,0.96699999999999997,0.98,0.96199999999999997,0.96499999999999997,0.97699999999999998,1.9E-2,2.4E-2,4.8000000000000001E-2,0.16200000000000001,0.13900000000000001,0.153,0.249,0.224,0.247,0.29199999999999998,0.27400000000000002,0.29799999999999999,0.33100000000000002,0.30399999999999999,0.34300000000000003,11911,12720,13115,23709,24671,25293,990,1221,1685,10472,9992,12683,713,609,647,0,0,0,466,465,628,178591,179305,180021,45455,46860,48202,38745,38532,38475,0,0,0,3086,2491,0,37387,0,0,9306,9289,9252,0.11799999999999999,9.7000000000000003E-2,7.8E-2,40245,29544,0,0.58273132182190857,0.83034253379074596,0.69300660294121874,2015,4,"DEC","2015-12-01"]
["Sierra",160,171,168,298,317,307,0.436,0.48399999999999999,0.47299999999999998,287,298,284,0.92300000000000004,0.89800000000000002,0.88800000000000001,1,1,1,0.87,1,0.92300000000000004,1.9E-2,2.4E-2,4.8000000000000001E-2,6.0999999999999999E-2,0,9.7000000000000003E-2,0.16300000000000001,0.11799999999999999,0.19400000000000001,8.2000000000000003E-2,0.11799999999999999,9.7000000000000003E-2,0.122,0.14699999999999999,9.7000000000000003E-2,156,163,171,305,294,317,26,41,40,106,86,131,1,3,1,0,0,0,6,8,12,3270,3267,3257,1235,1274,1300,463,450,439,0,0,0,93,89,0,497,0,0,99,89,85,0.129,0.1,0.09,697,0,0,0.43626999716296844,0.56159427452170951,0.60385382870597404,2015,4,"DEC","2015-12-01"]
["Siskiyou",3201,3250,3304,6911,6992,7026,0.46500000000000002,0.49099999999999999,0.49,6703,6826,6878,0.95299999999999996,0.95299999999999996,0.94799999999999995,1,0.98499999999999999,1,0.92,0.90900000000000003,0.90900000000000003,1.9E-2,2.4E-2,4.8000000000000001E-2,0.14000000000000001,0.11600000000000001,0.13600000000000001,0.22700000000000001,0.159,0.20799999999999999,0.24199999999999999,0.314,0.27800000000000002,0.26700000000000002,0.33200000000000002,0.311,2900,3184,3250,6486,6907,6992,275,413,529,2872,2825,3571,154,141,150,0,0,0,192,181,270,45215,45290,45400,13967,14388,14816,8755,8639,8549,0,0,0,782,717,0,10036,0,0,2475,2431,2389,0.13200000000000001,0.113,9.4E-2,10390,0,0,0.62649903974722321,0.60582435845117577,0.61723183482887178,2015,4,"DEC","2015-12-01"]
["Solano",22378,23149,23249,43554,44119,44388,0.42899999999999999,0.44900000000000001,0.45,40492,41840,41823,0.91400000000000003,0.91200000000000003,0.91800000000000004,0.93200000000000005,0.97499999999999998,0.95699999999999996,0.97199999999999998,0.97699999999999998,0.96699999999999997,5.1999999999999998E-2,2.1000000000000001E-2,2.3E-2,1.7999999999999999E-2,1.4E-2,1.4E-2,0.126,0.10100000000000001,0.126,8.0000000000000002E-3,4.0000000000000001E-3,6.0000000000000001E-3,7.1999999999999995E-2,0.04,7.4999999999999997E-2,20782,22292,23149,41287,43531,44119,1823,2457,3120,20249,19919,25381,2463,2272,2573,0,0,0,6854,6844,8830,424048,428705,432921,80768,84375,88221,97128,96723,96377,0,0,0,20853,18343,0,62999,0,0,11691,11752,11654,0.09,7.4999999999999997E-2,6.0999999999999999E-2,61760,56429,0,0.66764538469704438,0.76925949545071659,0.67496232970642456,2015,4,"DEC","2015-12-01"]
["Sonoma",19632,20183,20022,35567,36183,35691,0.36,0.39,0.38700000000000001,33275,34762,34086,0.91200000000000003,0.91900000000000004,0.92100000000000004,0.95899999999999996,0.92500000000000004,0.89,0.75900000000000001,0.61,0.51500000000000001,1.9E-2,2.4E-2,4.8000000000000001E-2,0.11700000000000001,9.5000000000000001E-2,0.126,0.20599999999999999,0.17399999999999999,0.217,7.6999999999999999E-2,5.8000000000000003E-2,0.08,0.13400000000000001,0.10299999999999999,0.14799999999999999,18686,19304,20183,34451,34951,36183,2351,2986,3870,17558,16974,21537,3484,3249,3738,0,0,0,10432,10517,13316,493070,497260,501350,112593,116344,120115,104608,104298,103885,0,0,0,24921,25983,0,60020,0,0,8547,8488,8388,7.0000000000000007E-2,5.6000000000000001E-2,4.4999999999999998E-2,71127,69971,0,0.49066532056361034,0.50345315035929272,0.61995535705282345,2015,4,"DEC","2015-12-01"]
["Stanislaus",42524,43553,43474,91500,92572,92379,0.47799999999999998,0.51100000000000001,0.50700000000000001,85464,89804,88926,0.92300000000000004,0.94099999999999995,0.94299999999999995,0.98499999999999999,0.99199999999999999,0.99099999999999999,0.85599999999999998,0.90100000000000002,0.90500000000000003,1.4E-2,1.7000000000000001E-2,1.0999999999999999E-2,0.17899999999999999,0.18099999999999999,0.17199999999999999,0.28100000000000003,0.27700000000000002,0.28699999999999998,0.315,0.27200000000000002,0.27700000000000002,0.36399999999999999,0.32,0.33200000000000002,41539,42873,43553,91048,92778,92572,2893,3835,4942,46298,45160,54880,5663,5238,5611,0,0,0,17711,18095,21837,527232,532344,538689,86547,89829,93394,144260,144079,144427,0,0,0,48602,48829,0,128318,0,0,20057,20165,19884,0.129,0.112,9.5000000000000001E-2,125680,115985,0,0.72214889693563,0.79497781177320248,0.87422444234218655,2015,4,"DEC","2015-12-01"]
["Sutter",5567,5712,5739,12903,13236,13230,0.38900000000000001,0.41199999999999998,0.42099999999999999,12396,12770,12736,0.94899999999999995,0.95399999999999996,0.95399999999999996,0.98799999999999999,0.97899999999999998,0.99099999999999999,0.91600000000000004,0.89,0.878,1.9E-2,2.4E-2,4.8000000000000001E-2,0.187,0.19800000000000001,0.19400000000000001,0.28199999999999997,0.26600000000000001,0.27900000000000003,0.23599999999999999,0.246,0.26200000000000001,0.26500000000000001,0.26400000000000001,0.28899999999999998,5215,5623,5712,12440,13083,13236,369,491,644,6642,6535,8067,689,648,726,0,0,0,2281,2388,2921,97386,97257,97887,18207,18667,19295,25333,25371,25512,0,0,0,8366,8544,0,21895,0,0,3778,3793,3793,0.14599999999999999,0.127,0.108,22883,16038,0,0.53769509167762497,0.8091986651521671,0.59198717459615158,2015,4,"DEC","2015-12-01"]
["Tehama",4848,4816,4815,10646,10543,10600,0.44600000000000001,0.48499999999999999,0.48899999999999999,10212,10561,10362,0.94399999999999995,0.96399999999999997,0.96799999999999997,0.97,0.95499999999999996,0.97499999999999998,0.94799999999999995,0.97699999999999998,0.95899999999999996,1.9E-2,2.4E-2,4.8000000000000001E-2,0.14599999999999999,0.151,0.16700000000000001,0.23699999999999999,0.23599999999999999,0.26,0.34399999999999997,0.185,0.28999999999999998,0.36899999999999999,0.20399999999999999,0.32900000000000001,4320,5009,4816,9916,11155,10543,363,492,616,5013,5146,6292,441,422,480,0,0,0,1199,1283,1615,64498,64827,65193,15313,15700,16155,15280,15138,15064,0,0,0,2603,2345,0,16152,0,0,3062,3106,3068,0.11700000000000001,9.7000000000000003E-2,0.08,14220,0,0,0.69231531437680793,0.76327104213104657,0.69554949293710311,2015,4,"DEC","2015-12-01"]
["Trinity",1032,1035,1052,1880,1867,1862,0.45500000000000002,0.44700000000000001,0.46400000000000002,1765,1786,1816,0.91400000000000003,0.93400000000000005,0.94499999999999995,0.96799999999999997,0.98399999999999999,0.92500000000000004,0.69799999999999995,0.90200000000000002,0.91900000000000004,1.9E-2,2.4E-2,4.8000000000000001E-2,0.12,0.11,7.8E-2,0.185,0.17499999999999999,0.14699999999999999,0.25800000000000001,0.23699999999999999,0.23899999999999999,0.30499999999999999,0.26100000000000001,0.26600000000000001,762,1001,1035,1516,1838,1867,89,117,148,622,623,825,45,42,39,0,0,0,12,10,9,13776,13782,13821,4587,4753,4906,2276,2215,2175,0,0,0,36,49,0,2603,0,0,636,656,643,0.121,9.9000000000000005E-2,7.8E-2,3100,0,0,0.50150279286577459,0.5912422140107656,0.56469445800616525,2015,4,"DEC","2015-12-01"]
["Tulare",51603,52900,53356,133499,123955,125031,0.53500000000000003,0.55200000000000005,0.55600000000000005,115478,121247,122140,0.94,0.95,0.95699999999999996,0.98299999999999998,0.99099999999999999,0.98199999999999998,0.98299999999999998,0.98199999999999998,0.97899999999999998,3.3000000000000002E-2,3.4000000000000002E-2,1.4999999999999999E-2,0.215,0.19900000000000001,0.23200000000000001,0.34100000000000003,0.313,0.35199999999999998,0.185,0.14699999999999999,0.193,0.249,0.2,0.25800000000000001,46471,50975,52900,114774,132774,123955,3459,4856,6133,67240,65842,78672,8233,7798,8381,0,0,0,37887,39618,48197,456075,461703,467170,66305,68896,71452,143372,144472,146093,0,0,0,60016,63244,0,160183,0,0,17554,17865,17848,0.14399999999999999,0.13200000000000001,0.11700000000000001,147863,139566,0,0.77504881539151371,0.90358518151528189,0.91335509939391257,2015,4,"DEC","2015-12-01"]
["Tuolumne",2981,3156,3179,5465,5603,5707,0.45500000000000002,0.48499999999999999,0.496,5252,5520,5602,0.93600000000000005,0.94099999999999995,0.93899999999999995,0.96499999999999997,0.877,0.97099999999999997,0.85799999999999998,0.96199999999999997,0.98299999999999998,1.9E-2,2.4E-2,4.8000000000000001E-2,0.159,0.11600000000000001,0.16300000000000001,0.24,0.20499999999999999,0.25700000000000001,0.222,0.24399999999999999,0.29199999999999998,0.251,0.27100000000000002,0.32300000000000001,2828,3009,3156,5153,5556,5603,299,409,556,1955,2013,2564,137,115,106,0,0,0,66,76,103,54811,54592,54628,17219,17563,17977,9088,8943,8831,0,0,0,696,628,0,7561,0,0,1635,1639,1615,0.108,8.6999999999999994E-2,7.0999999999999994E-2,9822,0,0,0.5308063709413704,0.55096208037690064,0.61887154616755258,2015,4,"DEC","2015-12-01"]
["Ventura",35715,37333,37981,78777,75003,76720,0.39500000000000002,0.43,0.45100000000000001,65237,70711,71987,0.873,0.90500000000000003,0.91200000000000003,0.97699999999999998,0.97799999999999998,0.98599999999999999,0.94,0.96399999999999997,0.96099999999999997,0.04,5.8999999999999997E-2,5.5E-2,0.13500000000000001,0.14599999999999999,0.14699999999999999,0.248,0.25800000000000001,0.255,0.113,0.113,0.129,0.16900000000000001,0.16300000000000001,0.191,32232,35024,37333,66971,77031,75003,3498,4822,6422,37769,37317,49069,6844,6549,7926,0,0,0,25095,26091,34694,839617,844833,850206,156524,162247,168417,205584,204901,204332,0,0,0,76495,75693,0,111492,0,0,14764,14875,14875,7.9000000000000001E-2,6.7000000000000004E-2,5.7000000000000002E-2,112132,114150,0,0.60105354961794943,0.64997993128460252,0.8310954940650721,2015,4,"DEC","2015-12-01"]
["Yolo",9243,10254,10634,18981,20610,21088,0.40699999999999997,0.442,0.45400000000000001,17669,19380,19580,0.90500000000000003,0.91500000000000004,0.91300000000000003,0.89900000000000002,0.94799999999999995,0.94899999999999995,0.872,0.85,0.90300000000000002,1.9E-2,2.4E-2,4.8000000000000001E-2,0.114,9.1999999999999998E-2,8.4000000000000005E-2,0.19,0.17,0.17699999999999999,7.9000000000000001E-2,5.5E-2,6.8000000000000005E-2,0.11600000000000001,9.6000000000000002E-2,0.109,7850,8865,10254,16629,18273,20610,774,1075,1498,8108,8448,11457,874,867,1015,0,0,0,4707,5033,6991,206621,208069,209647,32873,34248,35625,43847,43396,43148,0,0,0,14762,11918,0,28422,0,0,5351,5314,5260,9.0999999999999998E-2,7.6999999999999999E-2,6.4000000000000001E-2,42449,50238,0,0.39257891056597655,0.3707119276196772,0.50741494929932407,2015,4,"DEC","2015-12-01"]
["Yuba",6011,6306,6405,13409,13621,13868,0.498,0.51600000000000001,0.52500000000000002,12739,13183,13413,0.93899999999999995,0.94499999999999995,0.94799999999999995,1,1,1,0.96699999999999997,0.96099999999999997,0.96599999999999997,1.9E-2,2.4E-2,4.8000000000000001E-2,0.21,0.17499999999999999,0.22700000000000001,0.29499999999999998,0.23699999999999999,0.308,0.434,0.32900000000000001,0.41199999999999998,0.45900000000000002,0.36199999999999999,0.44700000000000001,5749,6026,6306,12919,13449,13621,341,435,584,6541,6332,7563,571,501,524,0,0,0,1586,1526,1789,73600,74258,75093,11868,12397,12935,20521,20606,20736,0,0,0,3382,4010,0,18518,0,0,3733,3734,3710,0.13100000000000001,0.112,9.1999999999999998E-2,14308,17376,0,0.89600000000000002,0.76600000000000001,0.72442693271347103,2015,4,"DEC","2015-12-01"]
["Alameda",61869,62653,61221,121684,121539,118228,0.34599999999999997,0.35799999999999998,0.35599999999999998,114442,114595,111785,0.89800000000000002,0.91100000000000003,0.92,0.85199999999999998,0.85599999999999998,0.92100000000000004,0.85399999999999998,0.83,0.89800000000000002,6.8000000000000005E-2,6.8000000000000005E-2,5.8999999999999997E-2,0.115,0.111,0.11,0.224,0.20899999999999999,0.20899999999999999,7.2999999999999995E-2,8.5999999999999993E-2,7.3999999999999996E-2,0.13300000000000001,0.154,0.13,64020,62663,60323,125434,121577,115631,9307,12022,0,60223,71736,0,9205,10229,0,0,0,0,40011,48924,0,1582119,1599888,0,294442,306991,0,348428,350486,0,0,0,0,139309,0,0,0,0,0,47823,47331,0,5.8999999999999997E-2,4.7E-2,0,214363,0,0,0.58770588854592853,0.6372229790855547,0,2016,1,"MAR","2016-03-01"]
["Alpine",107,98,99,171,164,158,0.49399999999999999,0.52900000000000003,0.53,157,156,149,0.91300000000000003,0.96299999999999997,0.95499999999999996,1,1,1,0.42899999999999999,0.66700000000000004,0.44400000000000001,4.5999999999999999E-2,4.8000000000000001E-2,5.7000000000000002E-2,0.105,0,0,0.21099999999999999,7.0999999999999994E-2,0,0,7.0999999999999994E-2,0,0,7.0999999999999994E-2,6.7000000000000004E-2,114,101,93,194,171,154,16,21,0,59,66,0,0,1,0,0,0,0,0,0,0,1243,1252,0,398,425,0,245,245,0,0,0,0,23,0,0,0,0,0,39,39,0,8.7999999999999995E-2,7.9000000000000001E-2,0,0,0,0,0.80292964974253522,0.66597195415907617,0,2016,1,"MAR","2016-03-01"]
["Amador",1720,1780,1782,3278,3440,3384,0.498,0.54400000000000004,0.55000000000000004,3120,3189,3198,0.91400000000000003,0.90800000000000003,0.92500000000000004,0.96299999999999997,0.97599999999999998,0.95799999999999996,0.94199999999999995,0.95899999999999996,0.97399999999999998,4.5999999999999999E-2,4.8000000000000001E-2,5.7000000000000002E-2,0.14000000000000001,0.105,0.13100000000000001,0.22900000000000001,0.223,0.24199999999999999,0.25900000000000001,0.36499999999999999,0.29199999999999998,0.27200000000000002,0.41299999999999998,0.33600000000000002,1770,1823,1765,3373,3445,3324,250,329,0,1222,1619,0,59,67,0,0,0,0,102,126,0,37017,37178,0,12078,12420,0,5806,5741,0,0,0,0,559,0,0,0,0,0,696,688,0,8.3000000000000004E-2,6.6000000000000003E-2,0,0,0,0,0.66465992098604165,0.73183059517474591,0,2016,1,"MAR","2016-03-01"]
["Butte",16001,16800,16890,31299,32287,32167,0.46,0.48,0.48399999999999999,30227,31385,31206,0.94,0.94099999999999995,0.94499999999999995,0.91300000000000003,0.82,0.91300000000000003,0.92700000000000005,0.91900000000000004,0.94799999999999995,4.5999999999999999E-2,4.8000000000000001E-2,5.7000000000000002E-2,0.14599999999999999,0.152,0.14499999999999999,0.215,0.24199999999999999,0.223,0.26700000000000002,0.23599999999999999,0.24099999999999999,0.28999999999999998,0.26500000000000001,0.26700000000000002,15571,16729,16974,31036,32207,32165,1577,2080,0,12850,15753,0,878,925,0,0,0,0,2667,3048,0,224518,226656,0,53940,55954,0,45266,45150,0,0,0,0,5637,0,0,0,0,0,10866,10733,0,8.6999999999999994E-2,7.1999999999999995E-2,0,54488,0,0,0.56693046889491883,0.60002261475812002,0,2016,1,"MAR","2016-03-01"]
["Calaveras",2894,2909,2822,5421,5406,5246,0.51700000000000002,0.56200000000000006,0.56200000000000006,5026,5058,4993,0.91900000000000004,0.92,0.93400000000000005,0.99299999999999999,1,0.99099999999999999,0.95599999999999996,0.94,0.92700000000000005,4.5999999999999999E-2,4.8000000000000001E-2,5.7000000000000002E-2,0.128,0.121,9.8000000000000004E-2,0.20699999999999999,0.20599999999999999,0.219,0.24299999999999999,0.26900000000000002,0.33,0.26600000000000001,0.31900000000000001,0.38400000000000001,2768,2924,2784,5231,5498,5147,437,625,0,1778,2295,0,88,84,0,0,0,0,133,154,0,45508,45923,0,15719,16225,0,7801,7638,0,0,0,0,598,0,0,0,0,0,1056,1057,0,8.1000000000000003E-2,6.5000000000000002E-2,0,0,0,0,0.80293519722539908,0.83412168219338856,0,2016,1,"MAR","2016-03-01"]
["California",2104220,2148210,2128364,4445534,4483272,4431790,0.43,0.45900000000000002,0.47199999999999998,4073930,4165942,4184081,0.92600000000000005,0.93100000000000005,0.94,0.96799999999999997,0.97199999999999998,0.97599999999999998,0.93600000000000005,0.93700000000000006,0.93400000000000005,6.5000000000000002E-2,3.1E-2,5.2999999999999999E-2,0.13,0.152,0.11700000000000001,0.215,0.249,0.19800000000000001,0.121,0.17,0.113,0.153,0.217,0.151,2070803,2140950,2082147,4476031,4481900,4305354,234156,304341,0,2226004,2720376,0,320176,352831,0,0,0,0,1337933,1628446,0,38548204,38896969,0,7071818,7340539,0,9157600,9184302,0,0,0,0,3760183,0,0,0,0,0,1193089,1187073,0,7.4999999999999997E-2,6.2E-2,0,6980319,0,0,0.63400000000000001,0.69733016424114824,0,2016,1,"MAR","2016-03-01"]
["Colusa",688,589,590,1627,1319,1325,0.27,0.22900000000000001,0.26100000000000001,1756,1350,1459,0.95299999999999996,0.97199999999999998,0.97799999999999998,0.88700000000000001,1,0.91400000000000003,0.90300000000000002,0.95399999999999996,0.97099999999999997,4.5999999999999999E-2,4.8000000000000001E-2,5.7000000000000002E-2,0.13300000000000001,0.127,0.105,0.218,0.183,0.186,0.33300000000000002,0.314,0.25,0.38700000000000001,0.36699999999999999,0.28199999999999997,725,661,629,1722,1563,1410,84,118,0,1004,1267,0,142,170,0,0,0,0,570,773,0,22254,22555,0,4198,4385,0,6114,6167,0,0,0,0,3111,0,0,0,0,0,563,561,0,0.17499999999999999,0.153,0,0,0,0,0.39141984295657661,0.39781260650221328,0,2016,1,"MAR","2016-03-01"]
["Contra Costa",35445,35848,35187,72012,71977,70493,0.34200000000000003,0.35199999999999998,0.35499999999999998,67560,68237,67928,0.91400000000000003,0.92500000000000004,0.93100000000000005,0.93400000000000005,0.95399999999999996,0.95799999999999996,0.92500000000000004,0.96899999999999997,0.97899999999999998,3.1E-2,4.5999999999999999E-2,3.6999999999999998E-2,9.0999999999999998E-2,0.106,9.7000000000000003E-2,0.16500000000000001,0.185,0.17899999999999999,6.2E-2,0.08,6.2E-2,0.105,0.13100000000000001,0.1,35280,36075,33984,76061,72362,67647,3876,5175,0,36150,45190,0,5317,6102,0,0,0,0,16078,20122,0,1095476,1108963,0,223639,232490,0,251862,250390,0,0,0,0,68215,0,0,0,0,0,24288,24238,0,6.2E-2,0.05,0,129295,0,0,0.57143348851746278,0.55604114791387682,0,2016,1,"MAR","2016-03-01"]
["Del Norte",2469,2573,2623,5136,5281,5361,0.48799999999999999,0.52500000000000002,0.53800000000000003,4949,5128,5251,0.96199999999999997,0.96399999999999997,0.97299999999999998,0.98899999999999999,1,0.99099999999999999,0.96099999999999997,0.93600000000000005,0.94399999999999995,4.5999999999999999E-2,4.8000000000000001E-2,5.7000000000000002E-2,0.17299999999999999,0.159,0.16900000000000001,0.224,0.24,0.22900000000000001,0.33200000000000002,0.33700000000000002,0.38,0.36199999999999999,0.36199999999999999,0.40699999999999997,2545,2514,2608,5227,5205,5300,238,288,0,2130,2603,0,139,144,0,0,0,0,223,288,0,28477,28587,0,6387,6622,0,5655,5599,0,0,0,0,725,0,0,0,0,0,1816,1797,0,0.10199999999999999,8.5999999999999993E-2,0,0,0,0,0.91507601883208589,0.90731769369194393,0,2016,1,"MAR","2016-03-01"]
["El Dorado",7197,7287,7223,13063,13063,12975,0.439,0.47699999999999998,0.48799999999999999,12348,12512,12316,0.90400000000000003,0.91600000000000004,0.93,1,0.997,1,0.96099999999999997,0.96199999999999997,0.95599999999999996,4.5999999999999999E-2,4.8000000000000001E-2,5.7000000000000002E-2,0.121,0.13400000000000001,0.11799999999999999,0.19400000000000001,0.23,0.19900000000000001,0.22900000000000001,0.23599999999999999,0.224,0.25800000000000001,0.26600000000000001,0.254,6871,7405,7255,12479,13278,12890,972,1276,0,4740,6328,0,396,442,0,0,0,0,886,1067,0,184320,184833,0,47929,49793,0,37665,37280,0,0,0,0,3522,0,0,0,0,0,2851,2871,0,7.0000000000000007E-2,5.7000000000000002E-2,0,27235,0,0,0.45696364279304263,0.65409556790410273,0,2016,1,"MAR","2016-03-01"]
["Fresno",96715,97981,97621,227846,227643,226870,0.55400000000000005,0.57199999999999995,0.59499999999999997,221930,223765,228086,0.92600000000000005,0.93600000000000005,0.94399999999999995,0.95799999999999996,0.93500000000000005,0.95899999999999996,0.92600000000000005,0.95,0.91,2.5999999999999999E-2,3.5000000000000003E-2,2.7E-2,0.13100000000000001,0.16500000000000001,0.153,0.24399999999999999,0.28899999999999998,0.27200000000000002,8.5999999999999993E-2,0.13100000000000001,9.9000000000000005E-2,0.14000000000000001,0.19800000000000001,0.14899999999999999,94285,97947,94500,224430,228537,218671,7362,9438,0,122849,144746,0,13450,14341,0,0,0,0,60875,71864,0,969338,981681,0,152725,158747,0,279805,283783,0,0,0,0,109792,0,0,0,0,0,41053,41165,0,0.11600000000000001,0.10199999999999999,0,281486,0,0,0.80626906421255717,0.87322270167921334,0,2016,1,"MAR","2016-03-01"]
["Glenn",1520,1504,1528,3684,3551,3581,0.40200000000000002,0.47399999999999998,0.49,3690,3569,3627,0.95899999999999996,0.96399999999999997,0.97499999999999998,1,1,0.98899999999999999,0.98499999999999999,0.99099999999999999,0.97799999999999998,4.5999999999999999E-2,4.8000000000000001E-2,5.7000000000000002E-2,0.13700000000000001,0.151,0.14899999999999999,0.224,0.24,0.23699999999999999,0.17,0.17699999999999999,0.21299999999999999,0.19600000000000001,0.214,0.218,1514,1528,1585,3697,3645,3699,148,183,0,1960,2401,0,215,229,0,0,0,0,762,935,0,28868,29132,0,6039,6264,0,7542,7518,0,0,0,0,2410,0,0,0,0,0,1111,1106,0,0.107,8.6999999999999994E-2,0,0,0,0,0.55838355889207381,0.55587898296053628,0,2016,1,"MAR","2016-03-01"]
["Humboldt",11518,12380,12438,20309,21435,21226,0.497,0.53900000000000003,0.53800000000000003,18940,19911,19861,0.91600000000000004,0.91100000000000003,0.91400000000000003,0.997,0.999,0.996,0.91900000000000004,0.95799999999999996,0.96599999999999997,4.5999999999999999E-2,4.8000000000000001E-2,5.7000000000000002E-2,0.114,0.123,0.14000000000000001,0.17299999999999999,0.19700000000000001,0.22500000000000001,0.21299999999999999,0.26900000000000002,0.29099999999999998,0.22900000000000001,0.30199999999999999,0.31900000000000001,10547,12084,12456,19098,21066,21148,1117,1512,0,7428,9450,0,644,686,0,0,0,0,900,1123,0,136779,137159,0,31381,32518,0,25824,25609,0,0,0,0,2266,0,0,0,0,0,5545,5488,0,6.8000000000000005E-2,5.6000000000000001E-2,0,33222,0,0,0.56563435374326043,0.65877861627084822,0,2016,1,"MAR","2016-03-01"]
["Imperial",16703,17814,17551,42073,44547,43457,0.54300000000000004,0.60499999999999998,0.59699999999999998,40706,43674,42469,0.94799999999999995,0.95699999999999996,0.96499999999999997,0.94,0.97599999999999998,0.97899999999999998,0.88100000000000001,0.94299999999999995,0.93700000000000006,4.5999999999999999E-2,4.8000000000000001E-2,5.7000000000000002E-2,0.159,0.16500000000000001,0.17399999999999999,0.23799999999999999,0.23799999999999999,0.26300000000000001,0.24099999999999999,0.22800000000000001,0.25700000000000001,0.27500000000000002,0.254,0.29599999999999999,15936,17367,17431,40394,43485,42490,2213,2905,0,19838,24612,0,990,905,0,0,0,0,21381,27755,0,183154,187689,0,29668,31415,0,52464,53799,0,0,0,0,33803,0,0,0,0,0,10238,10128,0,0.23599999999999999,0.24,0,44826,0,0,0.89508144333471995,0.90733457568972442,0,2016,1,"MAR","2016-03-01"]
["Inyo",1042,1080,1083,2064,2138,2104,0.42699999999999999,0.5,0.52500000000000002,1946,2059,2015,0.93400000000000005,0.94799999999999995,0.95499999999999996,0.98599999999999999,1,1,0.94899999999999995,0.94799999999999995,0.9,4.5999999999999999E-2,4.8000000000000001E-2,5.7000000000000002E-2,0.151,0.13400000000000001,0.14000000000000001,0.23400000000000001,0.23400000000000001,0.218,0.27300000000000002,0.32600000000000001,0.33600000000000002,0.309,0.33700000000000002,0.36199999999999999,1068,1049,1069,2149,2076,2072,154,201,0,928,1141,0,98,96,0,0,0,0,296,346,0,19244,19304,0,5699,5912,0,3590,3538,0,0,0,0,510,0,0,0,0,0,402,394,0,7.0000000000000007E-2,5.8000000000000003E-2,0,0,0,0,0.72042269416670368,0.80302969461806784,0,2016,1,"MAR","2016-03-01"]
["Kern",63893,69411,70072,149749,161315,163371,0.48499999999999999,0.52400000000000002,0.54800000000000004,145930,157332,161830,0.93799999999999994,0.94499999999999995,0.95399999999999996,0.99299999999999999,0.996,0.995,0.91500000000000004,0.94699999999999995,0.94,6.0000000000000001E-3,0,0.87,0.17899999999999999,0.20499999999999999,0.19600000000000001,0.26200000000000001,0.307,0.29199999999999998,0.159,0.21299999999999999,0.186,0.185,0.247,0.217,61918,68143,70466,148150,160741,163720,5081,7145,0,82576,105010,0,9808,10689,0,0,0,0,37076,47266,0,878356,894492,0,128553,134065,0,256535,262787,0,0,0,0,79181,0,0,0,0,0,31592,31341,0,0.104,0.10199999999999999,0,225536,0,0,0.6560986851203231,0.76605508020541824,0,2016,1,"MAR","2016-03-01"]
["Kings",10270,10733,10950,24051,24665,25133,0.51900000000000002,0.55800000000000005,0.58799999999999997,23317,24025,24751,0.95,0.95499999999999996,0.96199999999999997,0.997,1,0.997,0.96399999999999997,0.96,0.97099999999999997,4.5999999999999999E-2,4.8000000000000001E-2,5.7000000000000002E-2,0.22500000000000001,0.23899999999999999,0.214,0.30099999999999999,0.34499999999999997,0.3,0.28999999999999998,0.27200000000000002,0.216,0.32100000000000001,0.30599999999999999,0.247,10210,10785,10726,24002,24942,24414,797,1081,0,12521,15587,0,1267,1418,0,0,0,0,5713,7275,0,153601,155122,0,20420,21191,0,41468,41947,0,0,0,0,15306,0,0,0,0,0,4635,4579,0,0.121,0.105,0,38859,0,0,0.61675060236025636,0.68600653300893477,0,2016,1,"MAR","2016-03-01"]
["Lake",5936,7319,6604,11629,14694,12618,0.45400000000000001,0.51300000000000001,0.48499999999999999,11378,13151,12334,0.95099999999999996,0.86499999999999999,0.96099999999999997,0.97499999999999998,0.98899999999999999,0.97099999999999997,0.94599999999999995,0.92100000000000004,0.93100000000000005,4.5999999999999999E-2,4.8000000000000001E-2,5.7000000000000002E-2,6.4000000000000001E-2,6.8000000000000005E-2,0.08,0.13100000000000001,0.13700000000000001,0.17399999999999999,0.27800000000000002,0.216,0.32400000000000001,0.32100000000000001,0.247,0.36499999999999999,5525,6253,6618,11036,12127,12378,736,1022,0,4622,5927,0,344,393,0,0,0,0,817,1156,0,65465,66219,0,18728,19438,0,12726,12642,0,0,0,0,1951,0,0,0,0,0,3663,3675,0,8.8999999999999996E-2,7.6999999999999999E-2,0,17435,0,0,0.6317675039698486,0.83474883738835326,0,2016,1,"MAR","2016-03-01"]
["Lassen",1545,1520,1538,3182,3144,3164,0.46800000000000003,0.48299999999999998,0.47799999999999998,3023,3102,3034,0.93600000000000005,0.93400000000000005,0.93799999999999994,0.86699999999999999,0.77,0.83099999999999996,0.78400000000000003,0.80500000000000005,0.90300000000000002,4.5999999999999999E-2,4.8000000000000001E-2,5.7000000000000002E-2,6.8000000000000005E-2,6.3E-2,5.2999999999999999E-2,0.154,0.161,0.158,0.249,0.27,0.224,0.28499999999999998,0.32200000000000001,0.24,1536,1540,1569,3168,3205,3147,150,199,0,1345,1730,0,108,99,0,0,0,0,71,94,0,35038,35190,0,6479,6760,0,5519,5457,0,0,0,0,712,0,0,0,0,0,880,883,0,9.2999999999999999E-2,7.2999999999999995E-2,0,0,0,0,0.78611426364455528,0.85393368079206677,0,2016,1,"MAR","2016-03-01"]
["Los Angeles",585716,584840,574799,1185400,1171844,1148399,0.375,0.38500000000000001,0.39100000000000001,1013768,1031403,1041288,0.84799999999999998,0.874,0.89900000000000002,0.96699999999999997,0.96499999999999997,0.96799999999999997,0.94799999999999995,0.92200000000000004,0.89500000000000002,5.8000000000000003E-2,2.5000000000000001E-2,4.7E-2,8.3000000000000004E-2,0,8.0000000000000002E-3,0.156,0,3.4000000000000002E-2,0.01,0,2E-3,1.2E-2,0,2.8000000000000001E-2,585696,588075,551541,1193453,1183107,1100589,59648,76022,0,614546,726193,0,109736,118786,0,0,0,0,444589,520243,0,10082664,10147070,0,1760921,1826080,0,2322213,2320563,0,0,0,0,1394350,0,0,0,0,0,389765,386663,0,8.3000000000000004E-2,6.7000000000000004E-2,0,2032450,0,0,0.58334051625028915,0.66276061455130608,0,2016,1,"MAR","2016-03-01"]
["Madera",11878,12081,12348,29310,29653,30164,0.50600000000000001,0.57599999999999996,0.61899999999999999,28637,28989,29536,0.96299999999999997,0.96099999999999997,0.97,0.98699999999999999,1,0.998,0.876,0.96699999999999997,0.96799999999999997,4.5999999999999999E-2,4.8000000000000001E-2,5.7000000000000002E-2,0.14599999999999999,0.17199999999999999,0.154,0.224,0.28899999999999998,0.249,0.218,0.183,0.16800000000000001,0.246,0.224,0.19500000000000001,11507,12063,11896,28885,29699,28999,799,1081,0,16999,20470,0,2654,3011,0,0,0,0,10033,11990,0,154829,157722,0,27801,28993,0,43015,43736,0,0,0,0,20778,0,0,0,0,0,4505,4530,0,0.11,0.105,0,38903,0,0,0.74120990607815518,0.91808234301547598,0,2016,1,"MAR","2016-03-01"]
["Marin",6300,6508,6309,10403,10717,10420,0.33400000000000002,0.37,0.375,10257,10405,10039,0.94599999999999995,0.93799999999999994,0.94799999999999995,0.98199999999999998,1,0.99299999999999999,0.93100000000000005,0.96,0.92400000000000004,4.5999999999999999E-2,4.8000000000000001E-2,5.7000000000000002E-2,0.17899999999999999,0.16500000000000001,0.186,0.248,0.25700000000000001,0.27800000000000002,0.26700000000000002,0.29299999999999998,0.34200000000000003,0.30399999999999999,0.33100000000000002,0.39200000000000002,6216,6511,6227,10397,10687,10235,1119,1471,0,4831,5967,0,1282,1459,0,0,0,0,3804,4835,0,257792,258804,0,70897,72375,0,51122,50887,0,0,0,0,11871,0,0,0,0,0,3034,2913,0,4.2999999999999997E-2,3.5000000000000003E-2,0,22696,0,0,0.45416962715835596,0.44650733867359088,0,2016,1,"MAR","2016-03-01"]
["Mariposa",1073,1103,1127,2033,2075,2098,0.52700000000000002,0.54800000000000004,0.56100000000000005,2016,2011,2047,0.95699999999999996,0.94799999999999995,0.95599999999999996,0.84799999999999998,0.97599999999999998,0.97899999999999998,0.97599999999999998,0.97799999999999998,0.93100000000000005,4.5999999999999999E-2,4.8000000000000001E-2,5.7000000000000002E-2,0.14299999999999999,0.113,8.7999999999999995E-2,0.19800000000000001,0.186,0.151,0.26400000000000001,0.26,0.19700000000000001,0.28699999999999998,0.28999999999999998,0.21099999999999999,1005,1122,1084,1974,2152,1997,172,233,0,711,952,0,31,30,0,0,0,0,52,49,0,18091,18147,0,6133,6328,0,2966,2948,0,0,0,0,199,0,0,0,0,0,454,451,0,8.7999999999999995E-2,7.1999999999999995E-2,0,0,0,0,0.63584459078564948,0.68894049645505728,0,2016,1,"MAR","2016-03-01"]
["Mendocino",7131,7127,6949,13178,13395,13099,0.39900000000000002,0.42499999999999999,0.42499999999999999,12626,12941,12732,0.92600000000000005,0.93400000000000005,0.94599999999999995,0.98699999999999999,0.99099999999999999,0.997,0.97299999999999998,0.96199999999999997,0.95699999999999996,4.5999999999999999E-2,4.8000000000000001E-2,5.7000000000000002E-2,0.15,0.184,0.214,0.26800000000000002,0.29399999999999998,0.32800000000000001,0.34799999999999998,0.33400000000000002,0.28799999999999998,0.436,0.40500000000000003,0.35,7569,7077,6663,14007,13204,12443,941,1117,0,5681,6905,0,618,637,0,0,0,0,1931,2266,0,88795,88884,0,24007,24725,0,18784,18737,0,0,0,0,4690,0,0,0,0,0,3145,3087,0,6.9000000000000006E-2,5.8999999999999997E-2,0,19834,0,0,0.69491422244138812,0.68801460976166073,0,2016,1,"MAR","2016-03-01"]
["Merced",24649,25121,25089,57836,57934,58122,0.51900000000000002,0.56699999999999995,0.58199999999999996,57086,57532,57702,0.96499999999999997,0.96599999999999997,0.97299999999999998,0.97699999999999998,0.996,0.995,0.94799999999999995,0.95399999999999996,0.96299999999999997,1.7000000000000001E-2,0.9,3.5000000000000003E-2,0.17,0.2,0.187,0.24199999999999999,0.315,0.28999999999999998,0.32400000000000001,0.33200000000000002,0.307,0.35399999999999998,0.371,0.34200000000000003,24370,25373,24440,57733,58778,56347,1886,2467,0,31258,37709,0,3796,4262,0,0,0,0,15688,19191,0,266444,269572,0,39238,40790,0,79287,79728,0,0,0,0,33521,0,0,0,0,0,10825,10774,0,0.128,0.114,0,74499,0,0,0.76763611001397902,0.73586842548148068,0,2016,1,"MAR","2016-03-01"]
["Modoc",467,445,492,1023,972,1061,0.38600000000000001,0.42399999999999999,0.47,994,967,1043,0.95299999999999996,0.95399999999999996,0.95799999999999996,1,0.92300000000000004,0.94599999999999995,0.81299999999999994,1,0.92700000000000005,4.5999999999999999E-2,4.8000000000000001E-2,5.7000000000000002E-2,0.21199999999999999,0.122,0.14599999999999999,0.26700000000000002,0.245,0.20899999999999999,0.33600000000000002,0.32700000000000001,0.19,0.34899999999999998,0.33300000000000002,0.20300000000000001,467,455,520,1001,966,1088,40,58,0,438,605,0,31,42,0,0,0,0,62,61,0,9395,9410,0,2896,2945,0,1905,1894,0,0,0,0,353,0,0,0,0,0,421,419,0,0.105,8.7999999999999995E-2,0,0,0,0,0.4472268901875262,0.49576448172215082,0,2016,1,"MAR","2016-03-01"]
["Mono",499,456,448,849,768,797,0.311,0.32,0.36,753,697,728,0.874,0.875,0.90700000000000003,0.93899999999999995,1,1,0.95699999999999996,0.98699999999999999,0.91900000000000004,4.5999999999999999E-2,4.8000000000000001E-2,5.7000000000000002E-2,5.0999999999999997E-2,0.05,5.8999999999999997E-2,0.13700000000000001,0.14000000000000001,0.11899999999999999,9.0999999999999998E-2,0.123,9.2999999999999999E-2,0.10199999999999999,0.156,0.127,522,520,448,855,856,784,49,72,0,334,463,0,70,78,0,0,0,0,218,290,0,14440,14525,0,2804,2939,0,3046,3086,0,0,0,0,1069,0,0,0,0,0,100,99,0,7.1999999999999995E-2,6.0999999999999999E-2,0,0,0,0,0.49939412291526875,0.69164149189032076,0,2016,1,"MAR","2016-03-01"]
["Monterey",23266,21738,24305,52560,48021,54487,0.40799999999999997,0.40300000000000002,0.47099999999999997,52785,48888,55175,0.96099999999999997,0.96099999999999997,0.96699999999999997,1,1,0.998,0.95,0.96199999999999997,0.96,7.4999999999999997E-2,6.9000000000000006E-2,4.3999999999999997E-2,0.151,0.20599999999999999,0.153,0.23499999999999999,0.33500000000000002,0.24099999999999999,0.127,0.25,0.161,0.14499999999999999,0.28999999999999998,0.187,21758,22745,21783,49132,50601,47811,2212,2984,0,30054,40553,0,6638,8572,0,0,0,0,22043,31763,0,426670,429584,0,73258,75614,0,113104,113636,0,0,0,0,74856,0,0,0,0,0,8488,8376,0,9.0999999999999998E-2,8.1000000000000003E-2,0,76819,0,0,0.65190822926998127,0.75962434950577884,0,2016,1,"MAR","2016-03-01"]
["Napa",3575,3600,3633,7421,7414,7533,0.32,0.35799999999999998,0.38600000000000001,7241,7212,7326,0.93600000000000005,0.94099999999999995,0.94599999999999995,0.94199999999999995,0.97199999999999998,0.97,0.95499999999999996,0.96899999999999997,0.93899999999999995,4.5999999999999999E-2,4.8000000000000001E-2,5.7000000000000002E-2,0.11,0.108,0.104,0.183,0.193,0.182,0.14499999999999999,0.24299999999999999,0.17399999999999999,0.16700000000000001,0.28299999999999997,0.20699999999999999,3526,3632,3532,7325,7444,7246,433,562,0,4040,5159,0,798,924,0,0,0,0,2923,3742,0,141172,142301,0,32913,33854,0,30942,30799,0,0,0,0,11600,0,0,0,0,0,2118,2093,0,5.6000000000000001E-2,4.5999999999999999E-2,0,13997,0,0,0.52160944627671246,0.38161673999826451,0,2016,1,"MAR","2016-03-01"]
["Nevada",4246,4334,4308,7705,7833,7694,0.40400000000000003,0.432,0.434,7240,7453,7427,0.91600000000000004,0.92800000000000005,0.93400000000000005,0.96499999999999997,1,1,0.84599999999999997,0.92,0.85899999999999999,4.5999999999999999E-2,4.8000000000000001E-2,5.7000000000000002E-2,0.105,9.1999999999999998E-2,0.11,0.17699999999999999,0.16900000000000001,0.18099999999999999,0.188,0.24299999999999999,0.27200000000000002,0.222,0.27600000000000002,0.29699999999999999,4221,4272,4373,7804,7776,7684,640,813,0,2868,3576,0,165,182,0,0,0,0,284,364,0,98453,98633,0,32138,33027,0,17237,17026,0,0,0,0,1472,0,0,0,0,0,1796,1806,0,6.6000000000000003E-2,5.5E-2,0,12649,0,0,0.61057440393830054,0.42800062583066384,0,2016,1,"MAR","2016-03-01"]
["Orange",120652,125010,124047,253714,260178,257551,0.36599999999999999,0.39100000000000001,0.40200000000000002,236408,243349,242467,0.91900000000000004,0.92200000000000004,0.92600000000000005,0.98599999999999999,0.98699999999999999,0.97899999999999998,0.995,0.98799999999999999,0.99399999999999999,3.3000000000000002E-2,2.1999999999999999E-2,4.9000000000000002E-2,0.112,0.11,0.107,0.19800000000000001,0.20300000000000001,0.20799999999999999,7.5999999999999998E-2,8.8999999999999996E-2,7.1999999999999995E-2,0.12,0.13800000000000001,0.11700000000000001,117235,123718,123573,270245,257750,252962,17616,22825,0,135615,165520,0,28117,31211,0,0,0,0,114889,137793,0,3125833,3150934,0,579380,601086,0,719772,718992,0,0,0,0,325313,0,0,0,0,0,68202,68296,0,5.5E-2,4.4999999999999998E-2,0,443857,0,0,0.58262619430581397,0.61073927765205804,0,2016,1,"MAR","2016-03-01"]
["Placer",9726,9366,9365,18407,18090,17969,0.35,0.36399999999999999,0.374,15877,15930,16044,0.85899999999999999,0.88100000000000001,0.88800000000000001,0.98199999999999998,0.96699999999999997,0.98099999999999998,0.95,0,0,4.5999999999999999E-2,4.8000000000000001E-2,5.7000000000000002E-2,0.11799999999999999,9.6000000000000002E-2,0.10299999999999999,0.19900000000000001,0.185,0.19,7.9000000000000001E-2,8.1000000000000003E-2,6.7000000000000004E-2,0.127,0.13400000000000001,0.106,9206,9410,9397,18455,18190,17692,1416,1857,0,7411,9829,0,658,766,0,0,0,0,1954,2411,0,369460,373503,0,87902,90692,0,83682,83185,0,0,0,0,6222,0,0,0,0,0,5087,5127,0,6.3E-2,0.05,0,41239,0,0,0.44945277490867924,0.47371604310456833,0,2016,1,"MAR","2016-03-01"]
["Plumas",1060,1078,1186,2030,2010,2208,0.432,0.44700000000000001,0.48,1845,1865,2053,0.89800000000000002,0.89400000000000002,0.90400000000000003,1,0.97699999999999998,1,0.80700000000000005,0.82899999999999996,0.82199999999999995,4.5999999999999999E-2,4.8000000000000001E-2,5.7000000000000002E-2,7.5999999999999998E-2,7.5999999999999998E-2,0.114,0.11,0.16400000000000001,0.189,0.18099999999999999,0.19800000000000001,0.183,0.191,0.22600000000000001,0.189,956,1061,1101,1793,1993,2025,116,160,0,707,961,0,37,51,0,0,0,0,22,53,0,19416,19384,0,6907,7072,0,3252,3249,0,0,0,0,202,0,0,0,0,0,651,656,0,0.11700000000000001,0.104,0,0,0,0,0.5261404932248257,0.59469382647241054,0,2016,1,"MAR","2016-03-01"]
["Riverside",126931,132172,130276,292785,299730,293265,0.44800000000000001,0.47699999999999998,0.47899999999999998,265001,275736,271505,0.88700000000000001,0.89200000000000002,0.90100000000000002,0.995,0.995,0.997,0.90300000000000002,0.93200000000000005,0.94199999999999995,7.6999999999999999E-2,4.3999999999999997E-2,3.9E-2,0.17,0.17299999999999999,0.17699999999999999,0.25600000000000001,0.25700000000000001,0.27300000000000002,0.224,0.23100000000000001,0.20300000000000001,0.255,0.26800000000000002,0.23599999999999999,124316,129532,128747,289618,295239,286427,13821,18121,0,148026,184930,0,16149,17346,0,0,0,0,66204,81846,0,2294333,2323527,0,411572,428027,0,609127,612757,0,0,0,0,172588,0,0,0,0,0,57657,58059,0,8.2000000000000003E-2,6.7000000000000004E-2,0,455320,0,0,0.63751163857777993,0.69484033727327177,0,2016,1,"MAR","2016-03-01"]
["Sacramento",103939,105259,104430,219747,220373,218604,0.46300000000000002,0.47799999999999998,0.48599999999999999,205164,206803,207342,0.92,0.92500000000000004,0.93400000000000005,0.98899999999999999,0.98199999999999998,0.99199999999999999,0.97499999999999998,0.98799999999999999,0.99,0,4.4999999999999998E-2,2.5999999999999999E-2,0.123,0.126,0.128,0.21,0.221,0.222,8.5000000000000006E-2,0.1,0.1,0.13100000000000001,0.153,0.151,101502,105023,102234,217077,219932,213173,9056,11837,0,101011,123044,0,9400,10029,0,0,0,0,47736,57891,0,1461174,1475381,0,264452,275133,0,358865,360213,0,0,0,0,94516,0,0,0,0,0,62271,62730,0,7.2999999999999995E-2,0.06,0,295178,0,0,0.7368741653264238,0.83260287264778898,0,2016,1,"MAR","2016-03-01"]
["San Benito",2731,2681,2679,6193,5936,5967,0.42599999999999999,0.441,0.45600000000000002,6095,5823,5882,0.94699999999999995,0.94599999999999995,0.95299999999999996,0.98099999999999998,1,1,0.94599999999999995,0.95299999999999996,0.95299999999999996,4.5999999999999999E-2,4.8000000000000001E-2,5.7000000000000002E-2,0.14000000000000001,0.183,0.16,0.23300000000000001,0.27800000000000002,0.25900000000000001,0.29899999999999999,0.36399999999999999,0.27700000000000002,0.34,0.42399999999999999,0.32500000000000001,2710,2702,2514,6169,5988,5527,292,367,0,3209,4065,0,436,505,0,0,0,0,1802,2281,0,58222,59039,0,9875,10342,0,15274,15140,0,0,0,0,5516,0,0,0,0,0,899,900,0,9.2999999999999999E-2,7.5999999999999998E-2,0,0,0,0,0.70741531862364759,0.78347499663269027,0,2016,1,"MAR","2016-03-01"]
["San Bernardino",177354,183260,180293,398410,405834,396730,0.53700000000000003,0.55800000000000005,0.56999999999999995,358255,371336,371676,0.89700000000000002,0.90500000000000003,0.91400000000000003,1,0.999,0.999,0.95699999999999996,0.95199999999999996,0.95,5.6000000000000001E-2,1.7000000000000001E-2,1.9E-2,0.217,0.23699999999999999,0.23,0.3,0.32700000000000001,0.32700000000000001,0.27800000000000002,0.307,0.248,0.308,0.34599999999999997,0.28100000000000003,172721,181362,179421,392265,403228,391714,17508,22887,0,192219,234835,0,19813,20761,0,0,0,0,71384,85947,0,2096123,2116461,0,316194,331502,0,575598,576195,0,0,0,0,164799,0,0,0,0,0,68029,68072,0,8.1000000000000003E-2,6.5000000000000002E-2,0,458343,0,0,0.85480513964161331,0.92665518793589696,0,2016,1,"MAR","2016-03-01"]
["San Diego",139096,144574,143026,287399,293435,291088,0.41699999999999998,0.434,0.442,262644,270624,269903,0.88600000000000001,0.89800000000000002,0.90700000000000003,0.93600000000000005,0.98799999999999999,0.98299999999999998,0.97799999999999998,0.98199999999999998,0.98199999999999998,8.0000000000000002E-3,0.85,1.7999999999999999E-2,0.13400000000000001,0.14099999999999999,0.13400000000000001,0.22500000000000001,0.24,0.23300000000000001,6.6000000000000003E-2,8.5000000000000006E-2,6.8000000000000005E-2,0.105,0.13400000000000001,0.114,134694,143440,142524,300896,291188,286685,19191,25885,0,131324,168267,0,15532,17078,0,0,0,0,97970,123936,0,3214279,3244706,0,579311,601375,0,726020,730140,0,0,0,0,228246,0,0,0,0,0,76554,76341,0,6.4000000000000001E-2,5.1999999999999998E-2,0,548766,0,0,0.5173190533272255,0.57292109557354953,0,2016,1,"MAR","2016-03-01"]
["San Francisco",33153,34461,34521,50987,52684,52672,0.27400000000000002,0.29899999999999999,0.307,45530,48580,48731,0.86499999999999999,0.89100000000000001,0.89600000000000002,0.97299999999999998,0.95399999999999996,0.97299999999999998,0.86199999999999999,0.83899999999999997,0.876,8.5000000000000006E-2,2.7E-2,5.6000000000000001E-2,0.12,0.10199999999999999,0.1,0.20100000000000001,0.19500000000000001,0.185,0.1,9.1999999999999998E-2,8.5000000000000006E-2,0.14599999999999999,0.13100000000000001,0.124,32961,34244,35193,53900,52180,53215,6615,8552,0,18721,23126,0,3966,4486,0,0,0,0,20630,26371,0,840391,848564,0,176508,181559,0,123334,126617,0,0,0,0,103652,0,0,0,0,0,37503,37327,0,4.3999999999999997E-2,3.5999999999999997E-2,0,100798,0,0,0.51877955213904448,0.50698302103297233,0,2016,1,"MAR","2016-03-01"]
["San Joaquin",51784,53309,52666,120014,121228,119261,0.51100000000000001,0.57499999999999996,0.57699999999999996,116473,118078,115981,0.94699999999999995,0.95099999999999996,0.95899999999999996,0.98699999999999999,0.99399999999999999,0.997,0.88900000000000001,0.91100000000000003,0.90600000000000003,1.7999999999999999E-2,2.7E-2,2.8000000000000001E-2,0.16200000000000001,0.18,0.182,0.23799999999999999,0.27,0.27100000000000002,0.23100000000000001,0.27,0.25700000000000001,0.25800000000000001,0.31,0.29099999999999998,50358,53401,51610,118029,122077,115760,4706,6110,0,61837,74545,0,6809,7330,0,0,0,0,24307,28986,0,713961,723506,0,117867,122739,0,196893,197478,0,0,0,0,65961,0,0,0,0,0,27296,27357,0,0.106,8.8999999999999996E-2,0,155948,0,0,0.75448405858440615,0.92455081561557007,0,2016,1,"MAR","2016-03-01"]
["San Luis Obispo",9834,10103,10120,18402,18677,18697,0.38800000000000001,0.42699999999999999,0.443,17420,18040,18056,0.92200000000000004,0.93400000000000005,0.93500000000000005,0.95299999999999996,0.95699999999999996,0.95499999999999996,0.93300000000000005,0.94499999999999995,0.96199999999999997,4.5999999999999999E-2,4.8000000000000001E-2,5.7000000000000002E-2,8.4000000000000005E-2,8.6999999999999994E-2,7.8E-2,0.16,0.17599999999999999,0.16800000000000001,5.2999999999999999E-2,6.3E-2,4.4999999999999998E-2,9.7000000000000003E-2,0.108,8.2000000000000003E-2,9573,10090,9962,17983,18642,18104,1399,1754,0,8025,10311,0,1102,1255,0,0,0,0,3371,4211,0,272941,274254,0,67294,69554,0,49890,49891,0,0,0,0,10622,0,0,0,0,0,4290,4209,0,5.6000000000000001E-2,4.5999999999999999E-2,0,45982,0,0,0.39378556835265566,0.40872986695625607,0,2016,1,"MAR","2016-03-01"]
["San Mateo",15994,16116,15825,31880,31527,30873,0.28199999999999997,0.30099999999999999,0.31,29344,29538,28922,0.9,0.91700000000000004,0.92200000000000004,0.97499999999999998,0.96499999999999997,0.97099999999999997,0.93300000000000005,0.9,0.90200000000000002,4.5999999999999999E-2,4.8000000000000001E-2,5.7000000000000002E-2,9.6000000000000002E-2,9.6000000000000002E-2,0.114,0.19400000000000001,0.20100000000000001,0.216,6.9000000000000006E-2,6.9000000000000006E-2,6.7000000000000004E-2,0.114,0.115,0.115,16060,16305,15096,32208,31752,29256,3450,4279,0,16879,21195,0,3907,4575,0,0,0,0,14235,17806,0,747334,752751,0,160763,166303,0,163900,164163,0,0,0,0,55943,0,0,0,0,0,10783,10434,0,4.2000000000000003E-2,3.4000000000000002E-2,0,63839,0,0,0.5047687081036859,0.44253944353777569,0,2016,1,"MAR","2016-03-01"]
["Santa Barbara",16991,17512,18844,37090,36809,39696,0.35499999999999998,0.36799999999999999,0.40600000000000003,36702,36859,39793,0.94299999999999995,0.95299999999999996,0.95599999999999996,0.85499999999999998,0.95799999999999996,0.89500000000000002,0.90400000000000003,0.92400000000000004,0.92800000000000005,4.5999999999999999E-2,4.8000000000000001E-2,5.7000000000000002E-2,8.5999999999999993E-2,7.2999999999999995E-2,0.09,0.17299999999999999,0.16300000000000001,0.17,5.7000000000000002E-2,6.3E-2,6.5000000000000002E-2,9.9000000000000005E-2,0.106,9.9000000000000005E-2,15674,17002,18325,34497,36443,37874,1559,2179,0,20526,28148,0,4029,5590,0,0,0,0,13524,19398,0,435999,439082,0,84301,86574,0,98027,98532,0,0,0,0,43550,0,0,0,0,0,8393,8191,0,6.0999999999999999E-2,5.2999999999999999E-2,0,83642,0,0,0.42200119780622236,0.50750380291810415,0,2016,1,"MAR","2016-03-01"]
["Santa Clara",55320,55144,54101,112449,109453,106496,0.33,0.35,0.36499999999999999,105602,104430,102220,0.92100000000000004,0.94099999999999995,0.94699999999999995,0.96,0.98199999999999998,0.98299999999999998,0.97199999999999998,0.98399999999999999,0.97399999999999998,1.9E-2,5.5E-2,4.2000000000000003E-2,2.5000000000000001E-2,2.5000000000000001E-2,2.3E-2,0.12,0.125,0.128,1.2E-2,1.2E-2,5.0000000000000001E-3,5.6000000000000001E-2,6.9000000000000006E-2,4.4999999999999998E-2,55307,55399,52747,113439,110974,103430,9510,11866,0,55723,67584,0,10556,12117,0,0,0,0,49052,59122,0,1871516,1890424,0,334221,347783,0,442256,444794,0,0,0,0,174224,0,0,0,0,0,43472,42694,0,5.1999999999999998E-2,4.2000000000000003E-2,0,173716,0,0,0.65194601619115522,0.68854903421894531,0,2016,1,"MAR","2016-03-01"]
["Santa Cruz",13271,14031,14771,25385,25930,27374,0.40500000000000003,0.43099999999999999,0.48,23887,24141,26051,0.92500000000000004,0.92600000000000005,0.93500000000000005,0.92700000000000005,0.95899999999999996,0.96199999999999997,0.98499999999999999,0.96499999999999997,0.94699999999999995,4.5999999999999999E-2,4.8000000000000001E-2,5.7000000000000002E-2,1.2999999999999999E-2,2.1000000000000001E-2,1.4E-2,7.9000000000000001E-2,0.114,8.5000000000000006E-2,6.0000000000000001E-3,0.01,7.0000000000000001E-3,4.2000000000000003E-2,5.0999999999999997E-2,3.6999999999999998E-2,12402,13892,14500,23719,26010,26340,1797,2375,0,11576,15311,0,2244,2811,0,0,0,0,8530,12072,0,272210,273695,0,56302,58703,0,56013,56099,0,0,0,0,23557,0,0,0,0,0,5038,4931,0,8.6999999999999994E-2,7.4999999999999997E-2,0,47670,0,0,0.50502675093748539,0.57953642042354159,0,2016,1,"MAR","2016-03-01"]
["Shasta",12834,13124,12916,24775,25247,24753,0.442,0.46300000000000002,0.46100000000000002,23914,24481,24039,0.93799999999999994,0.94199999999999995,0.94899999999999995,0.96599999999999997,0.98,0.98099999999999998,0.96299999999999997,0.97699999999999998,0.98299999999999998,4.5999999999999999E-2,4.8000000000000001E-2,5.7000000000000002E-2,0.16,0.153,0.158,0.25,0.247,0.25800000000000001,0.28299999999999997,0.29799999999999999,0.26800000000000002,0.316,0.34300000000000003,0.311,12720,13115,12960,24671,25293,24222,1221,1685,0,9992,12683,0,609,647,0,0,0,0,465,628,0,179305,180021,0,46860,48202,0,38532,38475,0,0,0,0,2491,0,0,0,0,0,9289,9252,0,9.7000000000000003E-2,7.8E-2,0,29544,0,0,0.83034253379074596,0.69300660294121874,0,2016,1,"MAR","2016-03-01"]
["Sierra",178,168,164,320,307,297,0.46500000000000002,0.47299999999999998,0.47099999999999997,312,284,273,0.91800000000000004,0.88800000000000001,0.91,1,1,1,1,0.92300000000000004,0.88200000000000001,4.5999999999999999E-2,4.8000000000000001E-2,5.7000000000000002E-2,0.10299999999999999,9.7000000000000003E-2,6.5000000000000002E-2,0.128,0.19400000000000001,0.161,0.128,9.7000000000000003E-2,3.2000000000000001E-2,0.18,9.7000000000000003E-2,9.7000000000000003E-2,163,171,157,294,317,265,41,40,0,86,131,0,3,1,0,0,0,0,8,12,0,3267,3257,0,1274,1300,0,450,439,0,0,0,0,89,0,0,0,0,0,89,85,0,0.1,0.09,0,0,0,0,0.56159427452170951,0.60385382870597404,0,2016,1,"MAR","2016-03-01"]
["Siskiyou",3223,3304,3332,6993,7026,7116,0.47399999999999998,0.49,0.496,6782,6878,6907,0.95299999999999996,0.94799999999999995,0.95799999999999996,1,1,0.99199999999999999,0.88100000000000001,0.90900000000000003,0.88900000000000001,4.5999999999999999E-2,4.8000000000000001E-2,5.7000000000000002E-2,0.159,0.13600000000000001,0.14399999999999999,0.23699999999999999,0.20799999999999999,0.22500000000000001,0.23200000000000001,0.27800000000000002,0.255,0.255,0.311,0.28499999999999998,3184,3250,3172,6907,6992,6702,413,529,0,2825,3571,0,141,150,0,0,0,0,181,270,0,45290,45400,0,14388,14816,0,8639,8549,0,0,0,0,717,0,0,0,0,0,2431,2389,0,0.113,9.4E-2,0,0,0,0,0.60582435845117577,0.61723183482887178,0,2016,1,"MAR","2016-03-01"]
["Solano",22313,23249,22861,43385,44388,43644,0.432,0.45,0.45500000000000002,41350,41823,41673,0.92100000000000004,0.91800000000000004,0.93,0.93100000000000005,0.95699999999999996,0.94899999999999995,0.97199999999999998,0.96699999999999997,0.97199999999999998,2.4E-2,2.3E-2,2.1000000000000001E-2,1.2999999999999999E-2,1.4E-2,1.2999999999999999E-2,0.11899999999999999,0.126,0.121,6.0000000000000001E-3,6.0000000000000001E-3,4.0000000000000001E-3,0.06,7.4999999999999997E-2,5.5E-2,22292,23149,22415,43531,44119,42303,2457,3120,0,19919,25381,0,2272,2573,0,0,0,0,6844,8830,0,428705,432921,0,84375,88221,0,96723,96377,0,0,0,0,18343,0,0,0,0,0,11752,11654,0,7.4999999999999997E-2,6.0999999999999999E-2,0,56429,0,0,0.76925949545071659,0.67496232970642456,0,2016,1,"MAR","2016-03-01"]
["Sonoma",19814,20022,19602,35677,35691,35037,0.36899999999999999,0.38700000000000001,0.39500000000000002,34454,34086,33604,0.92200000000000004,0.92100000000000004,0.92300000000000004,0.95799999999999996,0.89,0.89300000000000002,0.70499999999999996,0.51500000000000001,0.50900000000000001,4.5999999999999999E-2,4.8000000000000001E-2,5.7000000000000002E-2,0.10299999999999999,0.126,0.128,0.188,0.217,0.22800000000000001,5.5E-2,0.08,7.1999999999999995E-2,9.4E-2,0.14799999999999999,0.12,19304,20183,19088,34951,36183,33804,2986,3870,0,16974,21537,0,3249,3738,0,0,0,0,10517,13316,0,497260,501350,0,116344,120115,0,104298,103885,0,0,0,0,25983,0,0,0,0,0,8488,8388,0,5.6000000000000001E-2,4.4999999999999998E-2,0,69971,0,0,0.50345315035929272,0.61995535705282345,0,2016,1,"MAR","2016-03-01"]
["Stanislaus",42583,43474,42639,91585,92379,90153,0.48699999999999999,0.50700000000000001,0.51600000000000001,87194,88926,88780,0.93400000000000005,0.94299999999999995,0.95099999999999996,0.96299999999999997,0.99099999999999999,0.998,0.89400000000000002,0.90500000000000003,0.91500000000000004,1.2999999999999999E-2,1.0999999999999999E-2,2.8000000000000001E-2,0.17799999999999999,0.17199999999999999,0.186,0.27200000000000002,0.28699999999999998,0.28999999999999998,0.27,0.27700000000000002,0.224,0.315,0.33200000000000002,0.26700000000000002,42873,43553,41897,92778,92572,87686,3835,4942,0,45160,54880,0,5238,5611,0,0,0,0,18095,21837,0,532344,538689,0,89829,93394,0,144079,144427,0,0,0,0,48829,0,0,0,0,0,20165,19884,0,0.112,9.5000000000000001E-2,0,115985,0,0,0.79497781177320248,0.87422444234218655,0,2016,1,"MAR","2016-03-01"]
["Sutter",5642,5739,5742,13047,13230,13253,0.39400000000000002,0.42099999999999999,0.44400000000000001,12506,12736,12927,0.95,0.95399999999999996,0.95799999999999996,1,0.99099999999999999,0.97599999999999998,0.88900000000000001,0.878,0.88100000000000001,4.5999999999999999E-2,4.8000000000000001E-2,5.7000000000000002E-2,0.19,0.19400000000000001,0.17100000000000001,0.26300000000000001,0.27900000000000003,0.248,0.219,0.26200000000000001,0.25800000000000001,0.24099999999999999,0.28899999999999998,0.28000000000000003,5623,5712,5725,13083,13236,13127,491,644,0,6535,8067,0,648,726,0,0,0,0,2388,2921,0,97257,97887,0,18667,19295,0,25371,25512,0,0,0,0,8544,0,0,0,0,0,3793,3793,0,0.127,0.108,0,16038,0,0,0.8091986651521671,0.59198717459615158,0,2016,1,"MAR","2016-03-01"]
["Tehama",4714,4815,4664,10255,10600,10136,0.443,0.48899999999999999,0.49,9965,10362,10059,0.95399999999999996,0.96799999999999997,0.96899999999999997,0.97899999999999998,0.97499999999999998,0.95199999999999996,0.95899999999999996,0.95899999999999996,0.96899999999999997,4.5999999999999999E-2,4.8000000000000001E-2,5.7000000000000002E-2,0.14799999999999999,0.16700000000000001,0.15,0.24099999999999999,0.26,0.249,0.26,0.28999999999999998,0.29399999999999998,0.28399999999999997,0.32900000000000001,0.32400000000000001,5009,4816,4572,11155,10543,9981,492,616,0,5146,6292,0,422,480,0,0,0,0,1283,1615,0,64827,65193,0,15700,16155,0,15138,15064,0,0,0,0,2345,0,0,0,0,0,3106,3068,0,9.7000000000000003E-2,0.08,0,0,0,0,0.76327104213104657,0.69554949293710311,0,2016,1,"MAR","2016-03-01"]
["Trinity",996,1052,1025,1829,1862,1796,0.439,0.46400000000000002,0.46899999999999997,1741,1816,1759,0.92200000000000004,0.94499999999999995,0.93899999999999995,0.92500000000000004,0.92500000000000004,0.93600000000000005,0.66900000000000004,0.91900000000000004,0.81200000000000006,4.5999999999999999E-2,4.8000000000000001E-2,5.7000000000000002E-2,0.14299999999999999,7.8E-2,0.129,0.23300000000000001,0.14699999999999999,0.22800000000000001,0.33700000000000002,0.23899999999999999,0.307,0.38,0.26600000000000001,0.34899999999999998,1001,1035,974,1838,1867,1708,117,148,0,623,825,0,42,39,0,0,0,0,10,9,0,13782,13821,0,4753,4906,0,2215,2175,0,0,0,0,49,0,0,0,0,0,656,643,0,9.9000000000000005E-2,7.8E-2,0,0,0,0,0.5912422140107656,0.56469445800616525,0,2016,1,"MAR","2016-03-01"]
["Tulare",52436,53356,53587,123898,125031,125618,0.55000000000000004,0.55600000000000005,0.57599999999999996,119942,122140,124104,0.94699999999999995,0.95699999999999996,0.96099999999999997,0.97699999999999998,0.98199999999999998,0.96599999999999997,0.97799999999999998,0.97899999999999998,0.98,4.5999999999999999E-2,1.4999999999999999E-2,2.3E-2,0.20100000000000001,0.23200000000000001,0.214,0.309,0.35199999999999998,0.33,0.14099999999999999,0.193,0.13800000000000001,0.19800000000000001,0.25800000000000001,0.192,50975,52900,51880,132774,123955,120959,4856,6133,0,65842,78672,0,7798,8381,0,0,0,0,39618,48197,0,461703,467170,0,68896,71452,0,144472,146093,0,0,0,0,63244,0,0,0,0,0,17865,17848,0,0.13200000000000001,0.11700000000000001,0,139566,0,0,0.90358518151528189,0.91335509939391257,0,2016,1,"MAR","2016-03-01"]
["Tuolumne",3000,3179,3196,5414,5707,5609,0.45700000000000002,0.496,0.495,5255,5602,5425,0.93899999999999995,0.93899999999999995,0.94599999999999995,0.89300000000000002,0.97099999999999997,0.99299999999999999,0.753,0.98299999999999998,0.96899999999999997,4.5999999999999999E-2,4.8000000000000001E-2,5.7000000000000002E-2,0.14899999999999999,0.16300000000000001,0.13300000000000001,0.215,0.25700000000000001,0.223,0.21099999999999999,0.29199999999999998,0.17799999999999999,0.23899999999999999,0.32300000000000001,0.20899999999999999,3009,3156,3128,5556,5603,5414,409,556,0,2013,2564,0,115,106,0,0,0,0,76,103,0,54592,54628,0,17563,17977,0,8943,8831,0,0,0,0,628,0,0,0,0,0,1639,1615,0,8.6999999999999994E-2,7.0999999999999994E-2,0,0,0,0,0.55096208037690064,0.61887154616755258,0,2016,1,"MAR","2016-03-01"]
["Ventura",36486,37981,37735,74220,76720,76144,0.41,0.45100000000000001,0.47499999999999998,68798,71987,73107,0.89,0.91200000000000003,0.92100000000000004,0.94399999999999995,0.98599999999999999,0.97599999999999998,0.95699999999999996,0.96099999999999997,0.96699999999999997,4.2999999999999997E-2,5.5E-2,4.8000000000000001E-2,0.13500000000000001,0.14699999999999999,0.161,0.23599999999999999,0.255,0.27500000000000002,0.1,0.129,0.115,0.15,0.191,0.16600000000000001,35024,37333,37090,77031,75003,74297,4822,6422,0,37317,49069,0,6549,7926,0,0,0,0,26091,34694,0,844833,850206,0,162247,168417,0,204901,204332,0,0,0,0,75693,0,0,0,0,0,14875,14875,0,6.7000000000000004E-2,5.7000000000000002E-2,0,114150,0,0,0.64997993128460252,0.8310954940650721,0,2016,1,"MAR","2016-03-01"]
["Yolo",9810,10634,10795,20044,21088,21479,0.42799999999999999,0.45400000000000001,0.48299999999999998,18881,19580,20342,0.91400000000000003,0.91300000000000003,0.92200000000000004,0.91200000000000003,0.94899999999999995,0.93700000000000006,0.86,0.90300000000000002,0.95599999999999996,4.5999999999999999E-2,4.8000000000000001E-2,5.7000000000000002E-2,0.112,8.4000000000000005E-2,9.5000000000000001E-2,0.17799999999999999,0.17699999999999999,0.17899999999999999,7.0999999999999994E-2,6.8000000000000005E-2,7.1999999999999995E-2,0.106,0.109,0.123,8865,10254,10662,18273,20610,20820,1075,1498,0,8448,11457,0,867,1015,0,0,0,0,5033,6991,0,208069,209647,0,34248,35625,0,43396,43148,0,0,0,0,11918,0,0,0,0,0,5314,5260,0,7.6999999999999999E-2,6.4000000000000001E-2,0,50238,0,0,0.3707119276196772,0.50741494929932407,0,2016,1,"MAR","2016-03-01"]
["Yuba",6023,6405,6327,13204,13868,13569,0.48699999999999999,0.52500000000000002,0.52500000000000002,12741,13413,13121,0.94799999999999995,0.94799999999999995,0.95299999999999996,1,1,1,0.96399999999999997,0.96599999999999997,0.96799999999999997,4.5999999999999999E-2,4.8000000000000001E-2,5.7000000000000002E-2,0.191,0.22700000000000001,0.20100000000000001,0.254,0.308,0.28799999999999998,0.38300000000000001,0.41199999999999998,0.34200000000000003,0.40799999999999997,0.44700000000000001,0.371,6026,6306,6141,13449,13621,13252,435,584,0,6332,7563,0,501,524,0,0,0,0,1526,1789,0,74258,75093,0,12397,12935,0,20606,20736,0,0,0,0,4010,0,0,0,0,0,3734,3710,0,0.112,9.1999999999999998E-2,0,17376,0,0,0.76600000000000001,0.72442693271347103,0,2016,1,"MAR","2016-03-01"]
["Alameda",61121,61221,61011,119790,118228,117298,0.34399999999999997,0.35599999999999998,0.36099999999999999,112760,111785,110988,0.90200000000000002,0.92,0.92200000000000004,0.83499999999999996,0.92100000000000004,0.96,0.89600000000000002,0.89800000000000002,0.93200000000000005,4.5999999999999999E-2,5.8999999999999997E-2,0,0.104,0.11,0,0.19900000000000001,0.20899999999999999,0,7.5999999999999998E-2,7.3999999999999996E-2,0,0.13300000000000001,0.13,0,64020,62663,60323,125434,121577,115631,9307,12022,0,60223,71736,0,9205,10229,0,0,0,0,40011,48924,0,1582119,1599888,0,294442,306991,0,348428,350486,0,0,0,0,139309,0,0,0,0,0,47823,47331,0,5.8999999999999997E-2,4.7E-2,0,214363,0,0,0.58770588854592853,0.6372229790855547,0,2016,2,"JUN","2016-06-01"]
["Alpine",102,99,92,163,158,155,0.51700000000000002,0.53,0.52200000000000002,156,149,144,0.92900000000000005,0.95499999999999996,0.95399999999999996,1,1,1,0.625,0.44400000000000001,0.63600000000000001,2.9000000000000001E-2,5.7000000000000002E-2,0,0,0,0,6.3E-2,0,0,0.125,0,0,0.125,6.7000000000000004E-2,0,114,101,93,194,171,154,16,21,0,59,66,0,0,1,0,0,0,0,0,0,0,1243,1252,0,398,425,0,245,245,0,0,0,0,23,0,0,0,0,0,39,39,0,8.7999999999999995E-2,7.9000000000000001E-2,0,0,0,0,0.80292964974253522,0.66597195415907617,0,2016,2,"JUN","2016-06-01"]
["Amador",1814,1782,1808,3438,3384,3415,0.52,0.55000000000000004,0.55300000000000005,3215,3198,3186,0.91200000000000003,0.92500000000000004,0.91800000000000004,1,0.95799999999999996,0.98899999999999999,0.94,0.97399999999999998,0.95899999999999996,2.9000000000000001E-2,5.7000000000000002E-2,0,0.14399999999999999,0.13100000000000001,0,0.223,0.24199999999999999,0,0.27800000000000002,0.29199999999999998,0,0.317,0.33600000000000002,0,1770,1823,1765,3373,3445,3324,250,329,0,1222,1619,0,59,67,0,0,0,0,102,126,0,37017,37178,0,12078,12420,0,5806,5741,0,0,0,0,559,0,0,0,0,0,696,688,0,8.3000000000000004E-2,6.6000000000000003E-2,0,0,0,0,0.66465992098604165,0.73183059517474591,0,2016,2,"JUN","2016-06-01"]
["Butte",16430,16890,17087,31927,32167,32218,0.46700000000000003,0.48399999999999999,0.501,30887,31206,31117,0.94299999999999995,0.94499999999999995,0.94299999999999995,0.94599999999999995,0.91300000000000003,0.91200000000000003,0.93500000000000005,0.94799999999999995,0.93899999999999995,2.9000000000000001E-2,5.7000000000000002E-2,0,0.14399999999999999,0.14499999999999999,0,0.222,0.223,0,0.28599999999999998,0.24099999999999999,0,0.32200000000000001,0.26700000000000002,0,15571,16729,16974,31036,32207,32165,1577,2080,0,12850,15753,0,878,925,0,0,0,0,2667,3048,0,224518,226656,0,53940,55954,0,45266,45150,0,0,0,0,5637,0,0,0,0,0,10866,10733,0,8.6999999999999994E-2,7.1999999999999995E-2,0,54488,0,0,0.56693046889491883,0.60002261475812002,0,2016,2,"JUN","2016-06-01"]
["Calaveras",2928,2822,2780,5509,5246,5156,0.53500000000000003,0.56200000000000006,0.56100000000000005,5120,4993,4852,0.92100000000000004,0.93400000000000005,0.93,1,0.99099999999999999,0.99099999999999999,0.95199999999999996,0.92700000000000005,0.96399999999999997,2.9000000000000001E-2,5.7000000000000002E-2,0,0.11600000000000001,9.8000000000000004E-2,0,0.20200000000000001,0.219,0,0.21,0.33,0,0.246,0.38400000000000001,0,2768,2924,2784,5231,5498,5147,437,625,0,1778,2295,0,88,84,0,0,0,0,133,154,0,45508,45923,0,15719,16225,0,7801,7638,0,0,0,0,598,0,0,0,0,0,1056,1057,0,8.1000000000000003E-2,6.5000000000000002E-2,0,0,0,0,0.80293519722539908,0.83412168219338856,0,2016,2,"JUN","2016-06-01"]
["California",2119268,2128364,2109006,4462799,4431790,4369738,0.439,0.47199999999999998,0.48,4106210,4184081,4028363,0.92900000000000005,0.94,0.94099999999999995,0.97199999999999998,0.97599999999999998,0.97699999999999998,0.94699999999999995,0.93400000000000005,0.92500000000000004,4.5999999999999999E-2,5.2999999999999999E-2,0,0.128,0.11700000000000001,0,0.21199999999999999,0.19800000000000001,0,0.129,0.113,0,0.16300000000000001,0.151,0,2070803,2140950,2082147,4476031,4481900,4305354,234156,304341,0,2226004,2720376,0,320176,352831,0,0,0,0,1337933,1628446,0,38548204,38896969,0,7071818,7340539,0,9157600,9184302,0,0,0,0,3760183,0,0,0,0,0,1193089,1187073,0,7.4999999999999997E-2,6.2E-2,0,6980319,0,0,0.63400000000000001,0.69733016424114824,0,2016,2,"JUN","2016-06-01"]
["Colusa",726,590,633,1725,1325,1434,0.27,0.26100000000000001,0.27500000000000002,1722,1459,1451,0.95699999999999996,0.97799999999999998,0.97399999999999998,0.875,0.91400000000000003,0.83299999999999996,0.91800000000000004,0.97099999999999997,0.98699999999999999,2.9000000000000001E-2,5.7000000000000002E-2,0,0.13600000000000001,0.105,0,0.215,0.186,0,0.40799999999999997,0.25,0,0.49199999999999999,0.28199999999999997,0,725,661,629,1722,1563,1410,84,118,0,1004,1267,0,142,170,0,0,0,0,570,773,0,22254,22555,0,4198,4385,0,6114,6167,0,0,0,0,3111,0,0,0,0,0,563,561,0,0.17499999999999999,0.153,0,0,0,0,0.39141984295657661,0.39781260650221328,0,2016,2,"JUN","2016-06-01"]
["Contra Costa",35311,35187,34941,71323,70493,69736,0.34,0.35499999999999998,0.35899999999999999,66981,67928,66845,0.91700000000000004,0.93100000000000005,0.93300000000000005,0.96799999999999997,0.95799999999999996,0.96499999999999997,0.97,0.97899999999999998,0.98399999999999999,2.3E-2,3.6999999999999998E-2,0,8.7999999999999995E-2,9.7000000000000003E-2,0,0.17100000000000001,0.17899999999999999,0,6.7000000000000004E-2,6.2E-2,0,0.113,0.1,0,35280,36075,33984,76061,72362,67647,3876,5175,0,36150,45190,0,5317,6102,0,0,0,0,16078,20122,0,1095476,1108963,0,223639,232490,0,251862,250390,0,0,0,0,68215,0,0,0,0,0,24288,24238,0,6.2E-2,0.05,0,129295,0,0,0.57143348851746278,0.55604114791387682,0,2016,2,"JUN","2016-06-01"]
["Del Norte",2493,2623,2640,5146,5361,5369,0.499,0.53800000000000003,0.54100000000000004,4947,5251,5257,0.96099999999999997,0.97299999999999998,0.97299999999999998,1,0.99099999999999999,0.98899999999999999,0.92900000000000005,0.94399999999999995,0.93500000000000005,2.9000000000000001E-2,5.7000000000000002E-2,0,0.215,0.16900000000000001,0,0.27100000000000002,0.22900000000000001,0,0.38900000000000001,0.38,0,0.41099999999999998,0.40699999999999997,0,2545,2514,2608,5227,5205,5300,238,288,0,2130,2603,0,139,144,0,0,0,0,223,288,0,28477,28587,0,6387,6622,0,5655,5599,0,0,0,0,725,0,0,0,0,0,1816,1797,0,0.10199999999999999,8.5999999999999993E-2,0,0,0,0,0.91507601883208589,0.90731769369194393,0,2016,2,"JUN","2016-06-01"]
["El Dorado",7359,7223,7232,13261,12975,12850,0.45600000000000002,0.48799999999999999,0.503,12544,12316,12205,0.90900000000000003,0.93,0.92800000000000005,0.995,1,0.98499999999999999,0.94899999999999995,0.95599999999999996,0.98599999999999999,2.9000000000000001E-2,5.7000000000000002E-2,0,0.13200000000000001,0.11799999999999999,0,0.218,0.19900000000000001,0,0.23100000000000001,0.224,0,0.25900000000000001,0.254,0,6871,7405,7255,12479,13278,12890,972,1276,0,4740,6328,0,396,442,0,0,0,0,886,1067,0,184320,184833,0,47929,49793,0,37665,37280,0,0,0,0,3522,0,0,0,0,0,2851,2871,0,7.0000000000000007E-2,5.7000000000000002E-2,0,27235,0,0,0.45696364279304263,0.65409556790410273,0,2016,2,"JUN","2016-06-01"]
["Fresno",97856,97621,97068,229388,226870,224870,0.55600000000000005,0.59499999999999997,0.61499999999999999,222475,228086,227042,0.93100000000000005,0.94399999999999995,0.94699999999999995,0.94099999999999995,0.95899999999999996,0.94899999999999995,0.97199999999999998,0.91,0.96899999999999997,2.5000000000000001E-2,2.7E-2,0,0.14099999999999999,0.153,0,0.251,0.27200000000000002,0,0.105,9.9000000000000005E-2,0,0.16400000000000001,0.14899999999999999,0,94285,97947,94500,224430,228537,218671,7362,9438,0,122849,144746,0,13450,14341,0,0,0,0,60875,71864,0,969338,981681,0,152725,158747,0,279805,283783,0,0,0,0,109792,0,0,0,0,0,41053,41165,0,0.11600000000000001,0.10199999999999999,0,281486,0,0,0.80626906421255717,0.87322270167921334,0,2016,2,"JUN","2016-06-01"]
["Glenn",1521,1528,1568,3682,3581,3655,0.41799999999999998,0.49,0.499,3687,3627,3669,0.96,0.97499999999999998,0.97299999999999998,1,0.98899999999999999,1,0.98599999999999999,0.97799999999999998,0.98599999999999999,2.9000000000000001E-2,5.7000000000000002E-2,0,0.122,0.14899999999999999,0,0.20599999999999999,0.23699999999999999,0,0.14699999999999999,0.21299999999999999,0,0.16,0.218,0,1514,1528,1585,3697,3645,3699,148,183,0,1960,2401,0,215,229,0,0,0,0,762,935,0,28868,29132,0,6039,6264,0,7542,7518,0,0,0,0,2410,0,0,0,0,0,1111,1106,0,0.107,8.6999999999999994E-2,0,0,0,0,0.55838355889207381,0.55587898296053628,0,2016,2,"JUN","2016-06-01"]
["Humboldt",11942,12438,12582,20875,21226,21361,0.51,0.53800000000000003,0.54800000000000004,19482,19861,20050,0.91500000000000004,0.91400000000000003,0.91500000000000004,0.998,0.996,0.98799999999999999,0.93600000000000005,0.96599999999999997,0.98499999999999999,2.9000000000000001E-2,5.7000000000000002E-2,0,0.11600000000000001,0.14000000000000001,0,0.18,0.22500000000000001,0,0.23799999999999999,0.29099999999999998,0,0.26400000000000001,0.31900000000000001,0,10547,12084,12456,19098,21066,21148,1117,1512,0,7428,9450,0,644,686,0,0,0,0,900,1123,0,136779,137159,0,31381,32518,0,25824,25609,0,0,0,0,2266,0,0,0,0,0,5545,5488,0,6.8000000000000005E-2,5.6000000000000001E-2,0,33222,0,0,0.56563435374326043,0.65877861627084822,0,2016,2,"JUN","2016-06-01"]
["Imperial",16913,17551,17297,42432,43457,42432,0.54900000000000004,0.59699999999999998,0.59,41510,42469,41467,0.95499999999999996,0.96499999999999997,0.96599999999999997,0.94899999999999995,0.97899999999999998,0.97,0.83599999999999997,0.93700000000000006,0.93600000000000005,2.9000000000000001E-2,5.7000000000000002E-2,0,0.152,0.17399999999999999,0,0.23499999999999999,0.26300000000000001,0,0.251,0.25700000000000001,0,0.28000000000000003,0.29599999999999999,0,15936,17367,17431,40394,43485,42490,2213,2905,0,19838,24612,0,990,905,0,0,0,0,21381,27755,0,183154,187689,0,29668,31415,0,52464,53799,0,0,0,0,33803,0,0,0,0,0,10238,10128,0,0.23599999999999999,0.24,0,44826,0,0,0.89508144333471995,0.90733457568972442,0,2016,2,"JUN","2016-06-01"]
["Inyo",1042,1083,1063,2073,2104,2089,0.45700000000000002,0.52500000000000002,0.53,1982,2015,1987,0.93700000000000006,0.95499999999999996,0.94699999999999995,1,1,0.98099999999999998,0.90500000000000003,0.9,0.89200000000000002,2.9000000000000001E-2,5.7000000000000002E-2,0,0.13,0.14000000000000001,0,0.246,0.218,0,0.30399999999999999,0.33600000000000002,0,0.34399999999999997,0.36199999999999999,0,1068,1049,1069,2149,2076,2072,154,201,0,928,1141,0,98,96,0,0,0,0,296,346,0,19244,19304,0,5699,5912,0,3590,3538,0,0,0,0,510,0,0,0,0,0,402,394,0,7.0000000000000007E-2,5.8000000000000003E-2,0,0,0,0,0.72042269416670368,0.80302969461806784,0,2016,2,"JUN","2016-06-01"]
["Kern",66165,70072,71050,157116,163371,165582,0.497,0.54800000000000004,0.55700000000000005,151874,161830,161090,0.94499999999999995,0.95399999999999996,0.95799999999999996,0.99399999999999999,0.995,0.98599999999999999,0.94699999999999995,0.94,0.94499999999999995,8.0000000000000002E-3,0.87,0,0.17799999999999999,0.19600000000000001,0,0.26100000000000001,0.29199999999999998,0,0.17499999999999999,0.186,0,0.20399999999999999,0.217,0,61918,68143,70466,148150,160741,163720,5081,7145,0,82576,105010,0,9808,10689,0,0,0,0,37076,47266,0,878356,894492,0,128553,134065,0,256535,262787,0,0,0,0,79181,0,0,0,0,0,31592,31341,0,0.104,0.10199999999999999,0,225536,0,0,0.6560986851203231,0.76605508020541824,0,2016,2,"JUN","2016-06-01"]
["Kings",10570,10950,10868,24693,25133,24891,0.52800000000000002,0.58799999999999997,0.59099999999999997,23964,24751,24170,0.95299999999999996,0.96199999999999997,0.96399999999999997,0.998,0.997,0.98899999999999999,0.96799999999999997,0.97099999999999997,0.96699999999999997,2.9000000000000001E-2,5.7000000000000002E-2,0,0.19400000000000001,0.214,0,0.27400000000000002,0.3,0,0.28999999999999998,0.216,0,0.32,0.247,0,10210,10785,10726,24002,24942,24414,797,1081,0,12521,15587,0,1267,1418,0,0,0,0,5713,7275,0,153601,155122,0,20420,21191,0,41468,41947,0,0,0,0,15306,0,0,0,0,0,4635,4579,0,0.121,0.105,0,38859,0,0,0.61675060236025636,0.68600653300893477,0,2016,2,"JUN","2016-06-01"]
["Lake",6132,6604,6694,11957,12618,12649,0.45800000000000002,0.48499999999999999,0.495,11594,12334,12328,0.95099999999999996,0.96099999999999997,0.96199999999999997,0.98,0.97099999999999997,0.95299999999999996,0.95699999999999996,0.93100000000000005,0.93400000000000005,2.9000000000000001E-2,5.7000000000000002E-2,0,7.9000000000000001E-2,0.08,0,0.152,0.17399999999999999,0,0.307,0.32400000000000001,0,0.35199999999999998,0.36499999999999999,0,5525,6253,6618,11036,12127,12378,736,1022,0,4622,5927,0,344,393,0,0,0,0,817,1156,0,65465,66219,0,18728,19438,0,12726,12642,0,0,0,0,1951,0,0,0,0,0,3663,3675,0,8.8999999999999996E-2,7.6999999999999999E-2,0,17435,0,0,0.6317675039698486,0.83474883738835326,0,2016,2,"JUN","2016-06-01"]
["Lassen",1544,1538,1553,3212,3164,3154,0.47899999999999998,0.47799999999999998,0.48699999999999999,3105,3034,3028,0.93600000000000005,0.93799999999999994,0.93500000000000005,0.94399999999999995,0.83099999999999996,0.93799999999999994,0.73399999999999999,0.90300000000000002,0.753,2.9000000000000001E-2,5.7000000000000002E-2,0,7.3999999999999996E-2,5.2999999999999999E-2,0,0.14099999999999999,0.158,0,0.27200000000000002,0.224,0,0.30499999999999999,0.24,0,1536,1540,1569,3168,3205,3147,150,199,0,1345,1730,0,108,99,0,0,0,0,71,94,0,35038,35190,0,6479,6760,0,5519,5457,0,0,0,0,712,0,0,0,0,0,880,883,0,9.2999999999999999E-2,7.2999999999999995E-2,0,0,0,0,0.78611426364455528,0.85393368079206677,0,2016,2,"JUN","2016-06-01"]
["Los Angeles",584978,574799,561319,1178282,1148399,1115699,0.379,0.39100000000000001,0.35799999999999998,1022970,1041288,932049,0.85899999999999999,0.89900000000000002,0.89400000000000002,0.97099999999999997,0.96799999999999997,0.96399999999999997,0.94899999999999995,0.89400000000000002,0.82899999999999996,4.1000000000000002E-2,4.7E-2,0,8.2000000000000003E-2,8.0000000000000002E-3,0,0.152,3.4000000000000002E-2,0,0.01,2E-3,0,1.2999999999999999E-2,2.8000000000000001E-2,0,585696,588075,551541,1193453,1183107,1100589,59648,76022,0,614546,726193,0,109736,118786,0,0,0,0,444589,520243,0,10082664,10147070,0,1760921,1826080,0,2322213,2320563,0,0,0,0,1394350,0,0,0,0,0,389765,386663,0,8.3000000000000004E-2,6.7000000000000004E-2,0,2032450,0,0,0.58334051625028915,0.66276061455130608,0,2016,2,"JUN","2016-06-01"]
["Madera",12125,12348,12187,29932,30164,29647,0.52400000000000002,0.61899999999999999,0.63900000000000001,29153,29536,29033,0.96599999999999997,0.97,0.97,1,0.998,0.98599999999999999,0.85,0.96799999999999997,0.96799999999999997,2.9000000000000001E-2,5.7000000000000002E-2,0,0.14499999999999999,0.154,0,0.22700000000000001,0.249,0,0.25,0.16800000000000001,0,0.28899999999999998,0.19500000000000001,0,11507,12063,11896,28885,29699,28999,799,1081,0,16999,20470,0,2654,3011,0,0,0,0,10033,11990,0,154829,157722,0,27801,28993,0,43015,43736,0,0,0,0,20778,0,0,0,0,0,4505,4530,0,0.11,0.105,0,38903,0,0,0.74120990607815518,0.91808234301547598,0,2016,2,"JUN","2016-06-01"]
["Marin",6426,6309,6252,10485,10420,10351,0.34300000000000003,0.375,0.39800000000000002,10316,10039,9986,0.94299999999999995,0.94799999999999995,0.94799999999999995,0.96899999999999997,0.99299999999999999,0.98599999999999999,0.92100000000000004,0.92400000000000004,0.93200000000000005,2.9000000000000001E-2,5.7000000000000002E-2,0,0.18099999999999999,0.186,0,0.26,0.27800000000000002,0,0.26500000000000001,0.34200000000000003,0,0.30499999999999999,0.39200000000000002,0,6216,6511,6227,10397,10687,10235,1119,1471,0,4831,5967,0,1282,1459,0,0,0,0,3804,4835,0,257792,258804,0,70897,72375,0,51122,50887,0,0,0,0,11871,0,0,0,0,0,3034,2913,0,4.2999999999999997E-2,3.5000000000000003E-2,0,22696,0,0,0.45416962715835596,0.44650733867359088,0,2016,2,"JUN","2016-06-01"]
["Mariposa",1113,1127,1141,2127,2098,2101,0.53800000000000003,0.56100000000000005,0.57399999999999995,2078,2047,2033,0.95799999999999996,0.95599999999999996,0.95899999999999996,1,0.97899999999999998,0.97499999999999998,0.96399999999999997,0.93100000000000005,0.96499999999999997,2.9000000000000001E-2,5.7000000000000002E-2,0,0.125,8.7999999999999995E-2,0,0.19900000000000001,0.151,0,0.28699999999999998,0.19700000000000001,0,0.30599999999999999,0.21099999999999999,0,1005,1122,1084,1974,2152,1997,172,233,0,711,952,0,31,30,0,0,0,0,52,49,0,18091,18147,0,6133,6328,0,2966,2948,0,0,0,0,199,0,0,0,0,0,454,451,0,8.7999999999999995E-2,7.1999999999999995E-2,0,0,0,0,0.63584459078564948,0.68894049645505728,0,2016,2,"JUN","2016-06-01"]
["Mendocino",6965,6949,6816,13008,13099,12720,0.40400000000000003,0.42499999999999999,0.42299999999999999,12645,12732,12241,0.93400000000000005,0.94599999999999995,0.94599999999999995,1,0.997,0.93,0.97199999999999998,0.95699999999999996,0.97399999999999998,2.9000000000000001E-2,5.7000000000000002E-2,0,0.157,0.214,0,0.27300000000000002,0.32800000000000001,0,0.252,0.28799999999999998,0,0.314,0.35,0,7569,7077,6663,14007,13204,12443,941,1117,0,5681,6905,0,618,637,0,0,0,0,1931,2266,0,88795,88884,0,24007,24725,0,18784,18737,0,0,0,0,4690,0,0,0,0,0,3145,3087,0,6.9000000000000006E-2,5.8999999999999997E-2,0,19834,0,0,0.69491422244138812,0.68801460976166073,0,2016,2,"JUN","2016-06-01"]
["Merced",25216,25089,24988,58981,58122,57715,0.53500000000000003,0.58199999999999996,0.59199999999999997,58033,57702,56580,0.96699999999999997,0.97299999999999998,0.97199999999999998,0.997,0.995,0.98599999999999999,0.96599999999999997,0.96299999999999997,0.95799999999999996,1.2E-2,3.5000000000000003E-2,0,0.159,0.187,0,0.23799999999999999,0.28999999999999998,0,0.32100000000000001,0.307,0,0.35599999999999998,0.34200000000000003,0,24370,25373,24440,57733,58778,56347,1886,2467,0,31258,37709,0,3796,4262,0,0,0,0,15688,19191,0,266444,269572,0,39238,40790,0,79287,79728,0,0,0,0,33521,0,0,0,0,0,10825,10774,0,0.128,0.114,0,74499,0,0,0.76763611001397902,0.73586842548148068,0,2016,2,"JUN","2016-06-01"]
["Modoc",465,492,494,1012,1061,1050,0.39600000000000002,0.47,0.47399999999999998,998,1043,1039,0.96399999999999997,0.95799999999999996,0.95,0.89500000000000002,0.94599999999999995,1,0.94,0.92700000000000005,0.86699999999999999,2.9000000000000001E-2,5.7000000000000002E-2,0,0.12,0.14599999999999999,0,0.17299999999999999,0.20899999999999999,0,0.27100000000000002,0.19,0,0.28599999999999998,0.20300000000000001,0,467,455,520,1001,966,1088,40,58,0,438,605,0,31,42,0,0,0,0,62,61,0,9395,9410,0,2896,2945,0,1905,1894,0,0,0,0,353,0,0,0,0,0,421,419,0,0.105,8.7999999999999995E-2,0,0,0,0,0.4472268901875262,0.49576448172215082,0,2016,2,"JUN","2016-06-01"]
["Mono",522,448,439,852,797,790,0.318,0.36,0.38600000000000001,766,728,741,0.86299999999999999,0.90700000000000003,0.91100000000000003,0.96299999999999997,1,0.96699999999999997,0.98099999999999998,0.91900000000000004,0.98699999999999999,2.9000000000000001E-2,5.7000000000000002E-2,0,2.4E-2,5.8999999999999997E-2,0,0.13700000000000001,0.11899999999999999,0,3.7999999999999999E-2,9.2999999999999999E-2,0,5.7000000000000002E-2,0.127,0,522,520,448,855,856,784,49,72,0,334,463,0,70,78,0,0,0,0,218,290,0,14440,14525,0,2804,2939,0,3046,3086,0,0,0,0,1069,0,0,0,0,0,100,99,0,7.1999999999999995E-2,6.0999999999999999E-2,0,0,0,0,0.49939412291526875,0.69164149189032076,0,2016,2,"JUN","2016-06-01"]
["Monterey",24412,24305,24809,54990,54487,55488,0.42,0.47099999999999997,0.47599999999999998,54378,55175,54304,0.96299999999999997,0.96699999999999997,0.96899999999999997,1,0.998,0.998,0.96,0.96,0.97099999999999997,5.5E-2,4.3999999999999997E-2,0,0.14299999999999999,0.153,0,0.221,0.24099999999999999,0,0.17599999999999999,0.161,0,0.20499999999999999,0.187,0,21758,22745,21783,49132,50601,47811,2212,2984,0,30054,40553,0,6638,8572,0,0,0,0,22043,31763,0,426670,429584,0,73258,75614,0,113104,113636,0,0,0,0,74856,0,0,0,0,0,8488,8376,0,9.0999999999999998E-2,8.1000000000000003E-2,0,76819,0,0,0.65190822926998127,0.75962434950577884,0,2016,2,"JUN","2016-06-01"]
["Napa",3705,3633,3665,7653,7533,7533,0.33600000000000002,0.38600000000000001,0.41499999999999998,7471,7326,7332,0.93799999999999994,0.94599999999999995,0.94799999999999995,0.98799999999999999,0.97,0.98699999999999999,0.97399999999999998,0.93899999999999995,0.96099999999999997,2.9000000000000001E-2,5.7000000000000002E-2,0,0.11,0.104,0,0.16800000000000001,0.182,0,0.16600000000000001,0.17399999999999999,0,0.19800000000000001,0.20699999999999999,0,3526,3632,3532,7325,7444,7246,433,562,0,4040,5159,0,798,924,0,0,0,0,2923,3742,0,141172,142301,0,32913,33854,0,30942,30799,0,0,0,0,11600,0,0,0,0,0,2118,2093,0,5.6000000000000001E-2,4.5999999999999999E-2,0,13997,0,0,0.52160944627671246,0.38161673999826451,0,2016,2,"JUN","2016-06-01"]
["Nevada",4235,4308,4354,7675,7694,7768,0.41399999999999998,0.434,0.44800000000000001,7355,7427,7444,0.92600000000000005,0.93400000000000005,0.93400000000000005,0.98899999999999999,1,0.93799999999999994,0.82499999999999996,0.85899999999999999,0.871,2.9000000000000001E-2,5.7000000000000002E-2,0,0.111,0.11,0,0.20499999999999999,0.18099999999999999,0,0.25,0.27200000000000002,0,0.28799999999999998,0.29699999999999999,0,4221,4272,4373,7804,7776,7684,640,813,0,2868,3576,0,165,182,0,0,0,0,284,364,0,98453,98633,0,32138,33027,0,17237,17026,0,0,0,0,1472,0,0,0,0,0,1796,1806,0,6.6000000000000003E-2,5.5E-2,0,12649,0,0,0.61057440393830054,0.42800062583066384,0,2016,2,"JUN","2016-06-01"]
["Orange",121210,124047,123438,254662,257551,254598,0.372,0.40200000000000002,0.42,236931,242467,241224,0.91900000000000004,0.92600000000000005,0.92700000000000005,0.98799999999999999,0.97899999999999998,0.98699999999999999,0.997,0.99299999999999999,0.995,0.04,4.9000000000000002E-2,0,0.108,0.107,0,0.19900000000000001,0.20799999999999999,0,8.5999999999999993E-2,7.1999999999999995E-2,0,0.13400000000000001,0.11700000000000001,0,117235,123718,123573,270245,257750,252962,17616,22825,0,135615,165520,0,28117,31211,0,0,0,0,114889,137793,0,3125833,3150934,0,579380,601086,0,719772,718992,0,0,0,0,325313,0,0,0,0,0,68202,68296,0,5.5E-2,4.4999999999999998E-2,0,443857,0,0,0.58262619430581397,0.61073927765205804,0,2016,2,"JUN","2016-06-01"]
["Placer",9342,9365,9281,18325,17969,17795,0.35599999999999998,0.374,0.38200000000000001,15888,16044,15714,0.86899999999999999,0.88800000000000001,0.88700000000000001,0.98199999999999998,0.98099999999999998,0.97599999999999998,0.93799999999999994,0.91500000000000004,0.91500000000000004,2.9000000000000001E-2,5.7000000000000002E-2,0,0.111,0.10299999999999999,0,0.20100000000000001,0.19,0,0.08,6.7000000000000004E-2,0,0.129,0.106,0,9206,9410,9397,18455,18190,17692,1416,1857,0,7411,9829,0,658,766,0,0,0,0,1954,2411,0,369460,373503,0,87902,90692,0,83682,83185,0,0,0,0,6222,0,0,0,0,0,5087,5127,0,6.3E-2,0.05,0,41239,0,0,0.44945277490867924,0.47371604310456833,0,2016,2,"JUN","2016-06-01"]
["Plumas",1126,1186,1205,2151,2208,2239,0.46500000000000002,0.48,0.48399999999999999,1964,2053,2049,0.89900000000000002,0.90400000000000003,0.90900000000000003,1,1,1,0.90300000000000002,0.82199999999999995,0.88500000000000001,2.9000000000000001E-2,5.7000000000000002E-2,0,0.11799999999999999,0.114,0,0.16700000000000001,0.189,0,0.192,0.183,0,0.21199999999999999,0.189,0,956,1061,1101,1793,1993,2025,116,160,0,707,961,0,37,51,0,0,0,0,22,53,0,19416,19384,0,6907,7072,0,3252,3249,0,0,0,0,202,0,0,0,0,0,651,656,0,0.11700000000000001,0.104,0,0,0,0,0.5261404932248257,0.59469382647241054,0,2016,2,"JUN","2016-06-01"]
["Riverside",126536,130276,128893,290231,293265,287669,0.44800000000000001,0.47899999999999998,0.47599999999999998,266111,271505,262161,0.89400000000000002,0.90100000000000002,0.90300000000000002,0.997,0.997,0.99399999999999999,0.92100000000000004,0.94199999999999995,0.94599999999999995,5.6000000000000001E-2,3.9E-2,0,0.17,0.17699999999999999,0,0.25700000000000001,0.27300000000000002,0,0.22900000000000001,0.20300000000000001,0,0.26300000000000001,0.23599999999999999,0,124316,129532,128747,289618,295239,286427,13821,18121,0,148026,184930,0,16149,17346,0,0,0,0,66204,81846,0,2294333,2323527,0,411572,428027,0,609127,612757,0,0,0,0,172588,0,0,0,0,0,57657,58059,0,8.2000000000000003E-2,6.7000000000000004E-2,0,455320,0,0,0.63751163857777993,0.69484033727327177,0,2016,2,"JUN","2016-06-01"]
["Sacramento",103785,104430,103428,219096,218604,215894,0.46400000000000002,0.48599999999999999,0.49199999999999999,204032,207342,204928,0.92100000000000004,0.93400000000000005,0.93600000000000005,0.99199999999999999,0.99199999999999999,0.99299999999999999,0.98699999999999999,0.99,0.99199999999999999,3.0000000000000001E-3,2.5999999999999999E-2,0,0.122,0.128,0,0.20699999999999999,0.222,0,9.5000000000000001E-2,0.1,0,0.14499999999999999,0.151,0,101502,105023,102234,217077,219932,213173,9056,11837,0,101011,123044,0,9400,10029,0,0,0,0,47736,57891,0,1461174,1475381,0,264452,275133,0,358865,360213,0,0,0,0,94516,0,0,0,0,0,62271,62730,0,7.2999999999999995E-2,0.06,0,295178,0,0,0.7368741653264238,0.83260287264778898,0,2016,2,"JUN","2016-06-01"]
["San Benito",2781,2679,2650,6283,5967,5850,0.43099999999999999,0.45600000000000002,0.46300000000000002,6077,5882,5668,0.94699999999999995,0.95299999999999996,0.95399999999999996,0.99199999999999999,1,0.96699999999999997,0.93,0.95299999999999996,0.93300000000000005,2.9000000000000001E-2,5.7000000000000002E-2,0,0.12,0.16,0,0.214,0.25900000000000001,0,0.248,0.27700000000000002,0,0.28899999999999998,0.32500000000000001,0,2710,2702,2514,6169,5988,5527,292,367,0,3209,4065,0,436,505,0,0,0,0,1802,2281,0,58222,59039,0,9875,10342,0,15274,15140,0,0,0,0,5516,0,0,0,0,0,899,900,0,9.2999999999999999E-2,7.5999999999999998E-2,0,0,0,0,0.70741531862364759,0.78347499663269027,0,2016,2,"JUN","2016-06-01"]
["San Bernardino",178228,180293,179119,398523,396730,392070,0.53900000000000003,0.56999999999999995,0.57499999999999996,362773,371676,361110,0.90500000000000003,0.91400000000000003,0.91500000000000004,1,0.999,0.995,0.96199999999999997,0.95,0.96099999999999997,3.6999999999999998E-2,1.9E-2,0,0.214,0.23,0,0.29599999999999999,0.32700000000000001,0,0.29099999999999998,0.248,0,0.32300000000000001,0.28100000000000003,0,172721,181362,179421,392265,403228,391714,17508,22887,0,192219,234835,0,19813,20761,0,0,0,0,71384,85947,0,2096123,2116461,0,316194,331502,0,575598,576195,0,0,0,0,164799,0,0,0,0,0,68029,68072,0,8.1000000000000003E-2,6.5000000000000002E-2,0,458343,0,0,0.85480513964161331,0.92665518793589696,0,2016,2,"JUN","2016-06-01"]
["San Diego",141303,143026,142577,289089,291088,287392,0.41499999999999998,0.442,0.45200000000000001,262894,269903,266342,0.88900000000000001,0.90700000000000003,0.90600000000000003,0.93799999999999994,0.98299999999999998,0.99099999999999999,0.98299999999999998,0.98199999999999998,0.98,0.01,1.7999999999999999E-2,0,0.128,0.13400000000000001,0,0.217,0.23300000000000001,0,7.4999999999999997E-2,6.8000000000000005E-2,0,0.11799999999999999,0.114,0,134694,143440,142524,300896,291188,286685,19191,25885,0,131324,168267,0,15532,17078,0,0,0,0,97970,123936,0,3214279,3244706,0,579311,601375,0,726020,730140,0,0,0,0,228246,0,0,0,0,0,76554,76341,0,6.4000000000000001E-2,5.1999999999999998E-2,0,548766,0,0,0.5173190533272255,0.57292109557354953,0,2016,2,"JUN","2016-06-01"]
["San Francisco",33614,34521,34825,51449,52672,52749,0.27800000000000002,0.307,0.32400000000000001,45989,48731,49019,0.873,0.89600000000000002,0.89900000000000002,0.97,0.97299999999999998,0.98199999999999998,0.88800000000000001,0.876,0.9,6.3E-2,5.6000000000000001E-2,0,0.10299999999999999,0.1,0,0.19400000000000001,0.185,0,9.0999999999999998E-2,8.5000000000000006E-2,0,0.13500000000000001,0.124,0,32961,34244,35193,53900,52180,53215,6615,8552,0,18721,23126,0,3966,4486,0,0,0,0,20630,26371,0,840391,848564,0,176508,181559,0,123334,126617,0,0,0,0,103652,0,0,0,0,0,37503,37327,0,4.3999999999999997E-2,3.5999999999999997E-2,0,100798,0,0,0.51877955213904448,0.50698302103297233,0,2016,2,"JUN","2016-06-01"]
["San Joaquin",53153,52666,52332,122470,119261,118036,0.52500000000000002,0.57699999999999996,0.58599999999999997,118387,115981,114670,0.95,0.95899999999999996,0.95899999999999996,0.99399999999999999,0.997,0.98399999999999999,0.90300000000000002,0.90600000000000003,0.90700000000000003,2.1999999999999999E-2,2.8000000000000001E-2,0,0.152,0.182,0,0.22900000000000001,0.27100000000000002,0,0.24099999999999999,0.25700000000000001,0,0.27500000000000002,0.29099999999999998,0,50358,53401,51610,118029,122077,115760,4706,6110,0,61837,74545,0,6809,7330,0,0,0,0,24307,28986,0,713961,723506,0,117867,122739,0,196893,197478,0,0,0,0,65961,0,0,0,0,0,27296,27357,0,0.106,8.8999999999999996E-2,0,155948,0,0,0.75448405858440615,0.92455081561557007,0,2016,2,"JUN","2016-06-01"]
["San Luis Obispo",9993,10120,10120,18578,18697,18513,0.4,0.443,0.45800000000000002,17756,18056,17822,0.92700000000000005,0.93500000000000005,0.93799999999999994,0.98,0.95499999999999996,0.97499999999999998,0.93200000000000005,0.96199999999999997,0.97799999999999998,2.9000000000000001E-2,5.7000000000000002E-2,0,7.5999999999999998E-2,7.8E-2,0,0.16,0.16800000000000001,0,5.7000000000000002E-2,4.4999999999999998E-2,0,9.9000000000000005E-2,8.2000000000000003E-2,0,9573,10090,9962,17983,18642,18104,1399,1754,0,8025,10311,0,1102,1255,0,0,0,0,3371,4211,0,272941,274254,0,67294,69554,0,49890,49891,0,0,0,0,10622,0,0,0,0,0,4290,4209,0,5.6000000000000001E-2,4.5999999999999999E-2,0,45982,0,0,0.39378556835265566,0.40872986695625607,0,2016,2,"JUN","2016-06-01"]
["San Mateo",16200,15825,15493,31947,30873,30014,0.28699999999999998,0.31,0.316,28969,28922,28057,0.9,0.92200000000000004,0.92300000000000004,0.97299999999999998,0.97099999999999997,0.98099999999999998,0.92,0.90200000000000002,0.88500000000000001,2.9000000000000001E-2,5.7000000000000002E-2,0,9.2999999999999999E-2,0.114,0,0.187,0.216,0,6.4000000000000001E-2,6.7000000000000004E-2,0,0.113,0.115,0,16060,16305,15096,32208,31752,29256,3450,4279,0,16879,21195,0,3907,4575,0,0,0,0,14235,17806,0,747334,752751,0,160763,166303,0,163900,164163,0,0,0,0,55943,0,0,0,0,0,10783,10434,0,4.2000000000000003E-2,3.4000000000000002E-2,0,63839,0,0,0.5047687081036859,0.44253944353777569,0,2016,2,"JUN","2016-06-01"]
["Santa Barbara",17403,18844,19139,37966,39696,40218,0.35899999999999999,0.40600000000000003,0.41799999999999998,37006,39793,39634,0.94599999999999995,0.95599999999999996,0.95799999999999996,0.95299999999999996,0.89500000000000002,0.98799999999999999,0.92100000000000004,0.92800000000000005,0.93100000000000005,2.9000000000000001E-2,5.7000000000000002E-2,0,8.5999999999999993E-2,0.09,0,0.16900000000000001,0.17,0,5.7000000000000002E-2,6.5000000000000002E-2,0,0.104,9.9000000000000005E-2,0,15674,17002,18325,34497,36443,37874,1559,2179,0,20526,28148,0,4029,5590,0,0,0,0,13524,19398,0,435999,439082,0,84301,86574,0,98027,98532,0,0,0,0,43550,0,0,0,0,0,8393,8191,0,6.0999999999999999E-2,5.2999999999999999E-2,0,83642,0,0,0.42200119780622236,0.50750380291810415,0,2016,2,"JUN","2016-06-01"]
["Santa Clara",55523,54101,53574,111985,106496,105301,0.32900000000000001,0.36499999999999999,0.39,105051,102220,100388,0.93100000000000005,0.94699999999999995,0.94899999999999995,0.96699999999999997,0.98299999999999998,0.98599999999999999,0.97299999999999998,0.97399999999999998,0.98799999999999999,0.02,4.2000000000000003E-2,0,2.5000000000000001E-2,2.3E-2,0,0.115,0.128,0,0.01,5.0000000000000001E-3,0,5.6000000000000001E-2,4.4999999999999998E-2,0,55307,55399,52747,113439,110974,103430,9510,11866,0,55723,67584,0,10556,12117,0,0,0,0,49052,59122,0,1871516,1890424,0,334221,347783,0,442256,444794,0,0,0,0,174224,0,0,0,0,0,43472,42694,0,5.1999999999999998E-2,4.2000000000000003E-2,0,173716,0,0,0.65194601619115522,0.68854903421894531,0,2016,2,"JUN","2016-06-01"]
["Santa Cruz",13787,14771,15034,26274,27374,27613,0.42299999999999999,0.48,0.497,24440,26051,26013,0.92600000000000005,0.93500000000000005,0.93500000000000005,0.97,0.96199999999999997,0.95699999999999996,0.97099999999999997,0.94699999999999995,0.97199999999999998,2.9000000000000001E-2,5.7000000000000002E-2,0,1.4E-2,1.4E-2,0,7.8E-2,8.5000000000000006E-2,0,6.0000000000000001E-3,7.0000000000000001E-3,0,3.9E-2,3.6999999999999998E-2,0,12402,13892,14500,23719,26010,26340,1797,2375,0,11576,15311,0,2244,2811,0,0,0,0,8530,12072,0,272210,273695,0,56302,58703,0,56013,56099,0,0,0,0,23557,0,0,0,0,0,5038,4931,0,8.6999999999999994E-2,7.4999999999999997E-2,0,47670,0,0,0.50502675093748539,0.57953642042354159,0,2016,2,"JUN","2016-06-01"]
["Shasta",13084,12916,12982,25180,24753,24569,0.45100000000000001,0.46100000000000002,0.47099999999999997,24405,24039,23939,0.94299999999999995,0.94899999999999995,0.95,0.96699999999999997,0.98099999999999998,0.97,0.97899999999999998,0.98299999999999998,0.98,2.9000000000000001E-2,5.7000000000000002E-2,0,0.14499999999999999,0.158,0,0.223,0.25800000000000001,0,0.30599999999999999,0.26800000000000002,0,0.33900000000000002,0.311,0,12720,13115,12960,24671,25293,24222,1221,1685,0,9992,12683,0,609,647,0,0,0,0,465,628,0,179305,180021,0,46860,48202,0,38532,38475,0,0,0,0,2491,0,0,0,0,0,9289,9252,0,9.7000000000000003E-2,7.8E-2,0,29544,0,0,0.83034253379074596,0.69300660294121874,0,2016,2,"JUN","2016-06-01"]
["Sierra",178,164,158,324,297,271,0.442,0.47099999999999997,0.46400000000000002,296,273,249,0.89200000000000002,0.91,0.92200000000000004,1,1,1,0.9,0.88200000000000001,1,2.9000000000000001E-2,5.7000000000000002E-2,0,7.6999999999999999E-2,6.5000000000000002E-2,0,0.26900000000000002,0.161,0,0.23100000000000001,3.2000000000000001E-2,0,0.23100000000000001,9.7000000000000003E-2,0,163,171,157,294,317,265,41,40,0,86,131,0,3,1,0,0,0,0,8,12,0,3267,3257,0,1274,1300,0,450,439,0,0,0,0,89,0,0,0,0,0,89,85,0,0.1,0.09,0,0,0,0,0.56159427452170951,0.60385382870597404,0,2016,2,"JUN","2016-06-01"]
["Siskiyou",3279,3332,3290,7132,7116,6942,0.48399999999999999,0.496,0.49299999999999999,6866,6907,6778,0.95699999999999996,0.95799999999999996,0.96099999999999997,0.98499999999999999,0.99199999999999999,0.92700000000000005,0.86,0.88900000000000001,0.88100000000000001,2.9000000000000001E-2,5.7000000000000002E-2,0,0.122,0.14399999999999999,0,0.184,0.22500000000000001,0,0.23799999999999999,0.255,0,0.25600000000000001,0.28499999999999998,0,3184,3250,3172,6907,6992,6702,413,529,0,2825,3571,0,141,150,0,0,0,0,181,270,0,45290,45400,0,14388,14816,0,8639,8549,0,0,0,0,717,0,0,0,0,0,2431,2389,0,0.113,9.4E-2,0,0,0,0,0.60582435845117577,0.61723183482887178,0,2016,2,"JUN","2016-06-01"]
["Solano",22650,22861,22656,43830,43644,42828,0.433,0.45500000000000002,0.46100000000000002,41084,41673,41012,0.92,0.93,0.93200000000000005,0.94499999999999995,0.94899999999999995,0.98799999999999999,0.98499999999999999,0.97199999999999998,null,0.02,2.1000000000000001E-2,0,1.2999999999999999E-2,1.2999999999999999E-2,0,0.11600000000000001,0.121,0,4.0000000000000001E-3,4.0000000000000001E-3,0,0.04,5.5E-2,0,22292,23149,22415,43531,44119,42303,2457,3120,0,19919,25381,0,2272,2573,0,0,0,0,6844,8830,0,428705,432921,0,84375,88221,0,96723,96377,0,0,0,0,18343,0,0,0,0,0,11752,11654,0,7.4999999999999997E-2,6.0999999999999999E-2,0,56429,0,0,0.76925949545071659,0.67496232970642456,0,2016,2,"JUN","2016-06-01"]
["Sonoma",20098,19602,19386,36090,35037,34425,0.376,0.39500000000000002,0.40200000000000002,34435,33604,32921,0.92300000000000004,0.92300000000000004,0.92300000000000004,0.91800000000000004,0.89300000000000002,0.86199999999999999,0.75600000000000001,0.50900000000000001,0.58699999999999997,2.9000000000000001E-2,5.7000000000000002E-2,0,0.10199999999999999,0.128,0,0.189,0.22800000000000001,0,7.0000000000000007E-2,7.1999999999999995E-2,0,0.121,0.12,0,19304,20183,19088,34951,36183,33804,2986,3870,0,16974,21537,0,3249,3738,0,0,0,0,10517,13316,0,497260,501350,0,116344,120115,0,104298,103885,0,0,0,0,25983,0,0,0,0,0,8488,8388,0,5.6000000000000001E-2,4.4999999999999998E-2,0,69971,0,0,0.50345315035929272,0.61995535705282345,0,2016,2,"JUN","2016-06-01"]
["Stanislaus",43265,42639,42367,92704,90153,89096,0.496,0.51600000000000001,0.51800000000000002,88772,88780,86197,0.94099999999999995,0.95099999999999996,0.95599999999999996,0.98599999999999999,0.998,0.99,0.91800000000000004,0.91500000000000004,0.92500000000000004,1.4999999999999999E-2,2.8000000000000001E-2,0,0.185,0.186,0,0.28000000000000003,0.28999999999999998,0,0.29699999999999999,0.224,0,0.34399999999999997,0.26700000000000002,0,42873,43553,41897,92778,92572,87686,3835,4942,0,45160,54880,0,5238,5611,0,0,0,0,18095,21837,0,532344,538689,0,89829,93394,0,144079,144427,0,0,0,0,48829,0,0,0,0,0,20165,19884,0,0.112,9.5000000000000001E-2,0,115985,0,0,0.79497781177320248,0.87422444234218655,0,2016,2,"JUN","2016-06-01"]
["Sutter",5646,5742,5876,13160,13253,13467,0.40100000000000002,0.44400000000000001,0.47099999999999997,12630,12927,13165,0.95499999999999996,0.95799999999999996,0.96499999999999997,0.96799999999999997,0.97599999999999998,0.95799999999999996,0.91500000000000004,0.88100000000000001,0.9,2.9000000000000001E-2,5.7000000000000002E-2,0,0.18,0.17100000000000001,0,0.24299999999999999,0.248,0,0.26,0.25800000000000001,0,0.28499999999999998,0.28000000000000003,0,5623,5712,5725,13083,13236,13127,491,644,0,6535,8067,0,648,726,0,0,0,0,2388,2921,0,97257,97887,0,18667,19295,0,25371,25512,0,0,0,0,8544,0,0,0,0,0,3793,3793,0,0.127,0.108,0,16038,0,0,0.8091986651521671,0.59198717459615158,0,2016,2,"JUN","2016-06-01"]
["Tehama",4754,4664,4683,10371,10136,10196,0.45500000000000002,0.49,0.51200000000000001,10276,10059,10129,0.96299999999999997,0.96899999999999997,0.96799999999999997,0.96499999999999997,0.95199999999999996,0.97699999999999998,0.97399999999999998,0.96899999999999997,0.95399999999999996,2.9000000000000001E-2,5.7000000000000002E-2,0,0.13800000000000001,0.15,0,0.21099999999999999,0.249,0,0.26900000000000002,0.29399999999999998,0,0.29399999999999998,0.32400000000000001,0,5009,4816,4572,11155,10543,9981,492,616,0,5146,6292,0,422,480,0,0,0,0,1283,1615,0,64827,65193,0,15700,16155,0,15138,15064,0,0,0,0,2345,0,0,0,0,0,3106,3068,0,9.7000000000000003E-2,0.08,0,0,0,0,0.76327104213104657,0.69554949293710311,0,2016,2,"JUN","2016-06-01"]
["Trinity",1004,1025,1007,1808,1796,1757,0.433,0.46899999999999997,0.47199999999999998,1735,1759,1725,0.93200000000000005,0.93899999999999995,0.94399999999999995,0.93899999999999995,0.93600000000000005,0.98299999999999998,0.83599999999999997,0.81200000000000006,0.72199999999999998,2.9000000000000001E-2,5.7000000000000002E-2,0,0.10199999999999999,0.129,0,0.17100000000000001,0.22800000000000001,0,0.30199999999999999,0.307,0,0.34300000000000003,0.34899999999999998,0,1001,1035,974,1838,1867,1708,117,148,0,623,825,0,42,39,0,0,0,0,10,9,0,13782,13821,0,4753,4906,0,2215,2175,0,0,0,0,49,0,0,0,0,0,656,643,0,9.9000000000000005E-2,7.8E-2,0,0,0,0,0.5912422140107656,0.56469445800616525,0,2016,2,"JUN","2016-06-01"]
["Tulare",52745,53587,53192,125269,125618,125132,0.54600000000000004,0.57599999999999996,0.58299999999999996,119867,124104,123046,0.94899999999999995,0.96099999999999997,0.96499999999999997,0.98499999999999999,0.96599999999999997,0.99099999999999999,0.98599999999999999,0.98,0.98699999999999999,3.4000000000000002E-2,2.3E-2,0,0.20599999999999999,0.214,0,0.32100000000000001,0.33,0,0.17499999999999999,0.13800000000000001,0,0.24,0.192,0,50975,52900,51880,132774,123955,120959,4856,6133,0,65842,78672,0,7798,8381,0,0,0,0,39618,48197,0,461703,467170,0,68896,71452,0,144472,146093,0,0,0,0,63244,0,0,0,0,0,17865,17848,0,0.13200000000000001,0.11700000000000001,0,139566,0,0,0.90358518151528189,0.91335509939391257,0,2016,2,"JUN","2016-06-01"]
["Tuolumne",3126,3196,3159,5559,5609,5493,0.47699999999999998,0.495,0.49099999999999999,5448,5425,5263,0.94,0.94599999999999995,0.93500000000000005,0.95099999999999996,0.99299999999999999,0.98399999999999999,0.78700000000000003,0.96899999999999997,0.98499999999999999,2.9000000000000001E-2,5.7000000000000002E-2,0,0.14099999999999999,0.13300000000000001,0,0.23200000000000001,0.223,0,0.22,0.17799999999999999,0,0.253,0.20899999999999999,0,3009,3156,3128,5556,5603,5414,409,556,0,2013,2564,0,115,106,0,0,0,0,76,103,0,54592,54628,0,17563,17977,0,8943,8831,0,0,0,0,628,0,0,0,0,0,1639,1615,0,8.6999999999999994E-2,7.0999999999999994E-2,0,0,0,0,0.55096208037690064,0.61887154616755258,0,2016,2,"JUN","2016-06-01"]
["Ventura",37080,37735,37607,75528,76144,75635,0.41499999999999998,0.47499999999999998,0.48899999999999999,69708,73107,72215,0.90100000000000002,0.92100000000000004,0.92600000000000005,0.98399999999999999,0.97599999999999998,0.98699999999999999,0.95499999999999996,0.96699999999999997,0.96799999999999997,6.7000000000000004E-2,4.8000000000000001E-2,0,0.13600000000000001,0.161,0,0.23599999999999999,0.27500000000000002,0,0.126,0.115,0,0.191,0.16600000000000001,0,35024,37333,37090,77031,75003,74297,4822,6422,0,37317,49069,0,6549,7926,0,0,0,0,26091,34694,0,844833,850206,0,162247,168417,0,204901,204332,0,0,0,0,75693,0,0,0,0,0,14875,14875,0,6.7000000000000004E-2,5.7000000000000002E-2,0,114150,0,0,0.64997993128460252,0.8310954940650721,0,2016,2,"JUN","2016-06-01"]
["Yolo",10077,10795,10832,20591,21479,21293,0.434,0.48299999999999998,0.499,19200,20342,20142,0.91800000000000004,0.92200000000000004,0.92,0.95399999999999996,0.93700000000000006,0.97,0.85,0.95599999999999996,0.93300000000000005,2.9000000000000001E-2,5.7000000000000002E-2,0,0.111,9.5000000000000001E-2,0,0.191,0.17899999999999999,0,7.8E-2,7.1999999999999995E-2,0,0.128,0.123,0,8865,10254,10662,18273,20610,20820,1075,1498,0,8448,11457,0,867,1015,0,0,0,0,5033,6991,0,208069,209647,0,34248,35625,0,43396,43148,0,0,0,0,11918,0,0,0,0,0,5314,5260,0,7.6999999999999999E-2,6.4000000000000001E-2,0,50238,0,0,0.3707119276196772,0.50741494929932407,0,2016,2,"JUN","2016-06-01"]
["Yuba",6167,6327,6272,13517,13569,13507,0.5,0.52500000000000002,0.53800000000000003,13052,13121,13125,0.94899999999999995,0.95299999999999996,0.95599999999999996,1,1,0.996,0.96599999999999997,0.96799999999999997,0.98,2.9000000000000001E-2,5.7000000000000002E-2,0,0.17399999999999999,0.20100000000000001,0,0.24299999999999999,0.28799999999999998,0,0.33100000000000002,0.34200000000000003,0,0.36099999999999999,0.371,0,6026,6306,6141,13449,13621,13252,435,584,0,6332,7563,0,501,524,0,0,0,0,1526,1789,0,74258,75093,0,12397,12935,0,20606,20736,0,0,0,0,4010,0,0,0,0,0,3734,3710,0,0.112,9.1999999999999998E-2,0,17376,0,0,0.76600000000000001,0.72442693271347103,0,2016,2,"JUN","2016-06-01"]

{"sheet":"DD_Jun2016","index":9,"n_rows":128,"n_cols":88,"rows_kept":128,"cut":false,"hidden":true,"merged":[[2,79,2,81],[2,82,2,84],[2,85,2,87],[67,1,67,7],[2,61,2,63],[2,64,2,66],[2,67,2,69],[2,70,2,72],[2,73,2,75],[2,76,2,78],[2,43,2,45],[2,46,2,48],[2,49,2,51],[2,52,2,54],[2,55,2,57],[2,58,2,60],[2,40,2,42],[1,1,1,36],[1,37,1,87],[2,1,2,3],[2,4,2,6],[2,7,2,9],[2,10,2,12],[2,13,2,15],[2,16,2,18],[2,19,2,21],[2,22,2,24],[2,25,2,27],[2,28,2,30],[2,31,2,33],[2,34,2,36],[2,37,2,39]]}
[null,2,{"$f":"B1+1","v":3},{"$f":"C1+1","v":4},5,6,7,{"$f":"G1+1","v":8},{"$f":"H1+1","v":9},{"$f":"I1+1","v":10},{"$f":"J1+1","v":11},12,13,14,15,16,17,18,19,20,21,22,23,24,25,26,27,28,29,30,31,32,33,34,35,36,37,38,39,40,41,42,43,44,45,46,47,48,49,50,51,52,53,54,55,56,57,58,59,60,61,62,63,64,65,66,67,{"$f":"BO1+1","v":68},69,70,71,72,73,74,75,76,77,78,79,80,81,82,83,84,85,86,87,88]
["Apr-Jun 16","Quarterly",null,null,null,null,null,null,null,null,null,null,null,null,null,null,null,null,null,null,null,null,null,null,null,null,null,null,null,null,null,null,null,null,null,null,null,"Annual"]
[2016,"CalFresh Households ",null,null,"CalFresh Persons",null,null,"% Medi-Cal Receiving CalFresh",null,null,"CalFresh Receiving Medi-Cal",null,null,"% CalFresh Persons Receiving Medi-Cal",null,null,"Timeliness - 30 Days",null,null,"Timeliness - Expedited",null,null,"Active Error Rate",null,null,"30 Day Total Churn % of reapps",null,null,"90 Day Total Churn % of reapps",null,null,"30 Day Churn % of scheduled recerts",null,null,"90 day Churn % of scheduled recerts",null,null,"Households",null,null,"Persons",null,null,"Elderly",null,null,"Children",null,null,"Child Only Households",null,null,"Child Only Persons",null,null,"ESL",null,null,"Total Population",null,null,"Elderly (60+)",null,null,"Children (<18)","FY 11-12","FY 12-13","Total Pop >5",null,null,"Total ESL >5",null,null,"Medi-Cal",null,null,"SSI Recipients",null,null,"Unemployment Rate",null,null,"CalFresh Eligibles",null,null,"Eligibles exc undocs/SSI"]
["County","Same Qtr Previous Yr","Previous Qtr","Current Qtr","Same Qtr Previous Yr","Previous Qtr","Current Qtr","Same Qtr Previous Yr","Previous Qtr","Current Qtr","Same Qtr Previous Yr","Previous Qtr","Current Qtr","Same Qtr Previous Yr","Previous Qtr","Current Qtr","Same Qtr Previous Yr","Previous Qtr","Current Qtr","Same Qtr Previous Yr","Previous Qtr","Current Qtr","Same Qtr Previous Yr","Previous Qtr","Current Qtr","Same Qtr Previous Yr","Previous Qtr","Current Qtr","Same Qtr Previous Yr","Previous Qtr","Current Qtr","Same Qtr Previous Yr","Previous Qtr","Current Qtr","Same Qtr Previous Yr","Previous Qtr","Current Qtr",{"$f":"AM4-1","v":2014},{"$f":"AN4-1","v":2015},{"$f":"$A$3","v":2016},{"$f":"AP4-1","v":2014},{"$f":"AQ4-1","v":2015},{"$f":"$A$3","v":2016},{"$f":"AS4-1","v":2014},{"$f":"AT4-1","v":2015},{"$f":"$A$3","v":2016},{"$f":"AV4-1","v":2014},{"$f":"AW4-1","v":2015},{"$f":"$A$3","v":2016},{"$f":"AY4-1","v":2014},{"$f":"AZ4-1","v":2015},{"$f":"$A$3","v":2016},{"$f":"BB4-1","v":2014},{"$f":"BC4-1","v":2015},{"$f":"$A$3","v":2016},{"$f":"BE4-1","v":2014},{"$f":"BF4-1","v":2015},{"$f":"$A$3","v":2016},{"$f":"BH4-1","v":2014},{"$f":"BI4-1","v":2015},{"$f":"$A$3","v":2016},{"$f":"BK4-1","v":2014},{"$f":"BL4-1","v":2015},{"$f":"$A$3","v":2016},{"$f":"BN4-1","v":2014},{"$f":"BO4-1","v":2015},{"$f":"$A$3","v":2016},{"$f":"BQ4-1","v":2014},{"$f":"BR4-1","v":2015},{"$f":"$A$3","v":2016},{"$f":"BT4-1","v":2014},{"$f":"BU4-1","v":2015},{"$f":"$A$3","v":2016},{"$f":"BW4-1","v":2014},{"$f":"BX4-1","v":2015},{"$f":"$A$3","v":2016},{"$f":"BZ4-1","v":2014},{"$f":"CA4-1","v":2015},{"$f":"$A$3","v":2016},{"$f":"CC4-1","v":2014},{"$f":"CD4-1","v":2015},{"$f":"$A$3","v":2016},{"$f":"CF4-1","v":2014},{"$f":"CG4-1","v":2015},{"$f":"$A$3","v":2016},{"$f":"CI4-1","v":2014},{"$f":"CJ4-1","v":2015},{"$f":"$A$3","v":2016}]
["Statewide",2119268,2128364,2109006,4462799,4431790,4369738,0.34153861848995498,0.32866151617317513,0.32388732073561671,4128954,4187085,4032723,0.93189395288761789,0.94184862726304264,0.94226950176340263,0.97205735595356901,0.97606869847891453,0.97685550110239094,0.94672493205742914,0.93364307751213083,0.92511003488731547,4.6199999999999998E-2,"5.25%","7.08%",0.12770000000000001,0.1166,"NA**",0.2122,0.1978,"NA**",0.12859999999999999,0.11320000000000001,"NA**",0.16309999999999999,0.15049999999999999,"NA**",2070803,2140950,2082147,4476031,4481900,4305354,234156,304341,343349,2226004,2720376,2688057,320176,352831,336878,null,null,null,1337933,1628446,1609601,38548204,38896969,39242698,7071818,7340539,7605654,9157600.2108177487,9184302.1456730999,9118201,null,null,null,3760183,3779748,"NA**","NA**","NA**","NA**",1193089,1187073,"NA**",7.4999999999999997E-2,6.2E-2,"NA**",6980318.9933200004,6409430.1798400003,"NA**",0.63400000000000001,0.69733016424114824,"NA**"]
["Alameda",61121,61221,61011,119790,118228,117298,0.26396550018064541,0.24553070855126979,0.2455275366029141,114707,112333,111250,0.9117551208578083,0.92561799604482531,0.92574100887047117,0.8350722311396469,0.9210639210639211,0.95960884353741494,0.89557245080500891,0.89770958416722257,0.93227366966136838,4.6100000000000002E-2,"5.88%",6.08E-2,0.1036,0.11,"NA**",0.19870000000000002,0.20860000000000001,"NA**",7.5800000000000006E-2,7.4200000000000002E-2,"NA**",0.1326,0.13039999999999999,"NA**",64020,62663,60323,125434,121577,115631,9307,12022,13243,60223,71736,68415,9205,10229,9533,null,null,null,40011,48924,48483,1582119,1599888,1616999,294442,306991,318982,348427.63074616727,350485.90423296276,345798,null,null,null,139309,136922,"NA**","NA**","NA**","NA**",47823,47331,"NA**",5.9000000000000004E-2,4.7E-2,"NA**",214362.74921746785,189599.38247473686,"NA**",0.58770588854592853,0.6372229790855547,"NA**"]
["Alpine",102,99,92,163,158,155,0.42857142857142855,0.40934065934065933,0.38918918918918921,156,149,144,0.9285714285714286,0.95512820512820518,0.95364238410596025,1,1,1,0.625,0.44444444444444442,0.63636363636363635,2.87E-2,"5.74%","5.84%",0,0,"NA**",6.25E-2,0,"NA**",0.125,0,"NA**",0.125,6.6699999999999995E-2,"NA**",114,101,93,194,171,154,16,21,18,59,66,67,0,1,3,null,null,null,0,0,0,1243,1252,1261,398,425,450,245.12604402352622,245.24806817578772,235,null,null,null,23,13,"NA**","NA**","NA**","NA**",39,39,"NA**",8.8000000000000009E-2,7.9000000000000001E-2,"NA**",227.60400000000001,251.76235368406708,"NA**",0.80292964974253522,0.66597195415907617,"NA**"]
["Amador",1814,1782,1808,3438,3384,3415,0.40022449488650536,0.37568995889606577,0.37625398324088283,3209,3199,3188,0.91294452347083921,0.92536881689326,0.91979226774379685,1,0.95833333333333337,0.98863636363636365,0.94009216589861755,0.97448979591836737,0.95897435897435901,2.87E-2,"5.74%","5.84%",0.1444,0.13070000000000001,"NA**",0.22320000000000001,0.24179999999999999,"NA**",0.27789999999999998,0.29189999999999999,"NA**",0.31730000000000003,0.33549999999999996,"NA**",1770,1823,1765,3373,3445,3324,250,329,374,1222,1619,1639,59,67,54,null,null,null,102,126,130,37017,37178,37458,12078,12420,12765,5806.444939870772,5741.3388351534049,5526,null,null,null,559,411,"NA**","NA**","NA**","NA**",696,688,"NA**",8.3000000000000004E-2,6.6000000000000003E-2,"NA**",5066.8769000000002,4641.215269938667,"NA**",0.66465992098604165,0.73183059517474591,"NA**"]
["Butte",16430,16890,17087,31927,32167,32218,0.37571300274278502,0.36237637553976876,0.36552169573131349,30958,31218,31126,0.94487852521059701,0.9460573368082914,0.94349802970597152,0.94574599260172632,0.91280653950953683,0.91172761664564939,0.93495934959349591,0.94829683698296841,0.93855421686746987,2.87E-2,"5.74%","5.84%",0.14369999999999999,0.14510000000000001,"NA**",0.2223,0.22320000000000001,"NA**",0.28610000000000002,0.24059999999999998,"NA**",0.32179999999999997,0.26719999999999999,"NA**",15571,16729,16974,31036,32207,32165,1577,2080,2370,12850,15753,15905,878,925,888,null,null,null,2667,3048,2971,224518,226656,228700,53940,55954,57974,45265.605107922253,45149.99213226221,44846,null,null,null,5637,3903,"NA**","NA**","NA**","NA**",10866,10733,"NA**",8.6999999999999994E-2,7.2000000000000008E-2,"NA**",54488.457335660292,53294.935690978324,"NA**",0.56693046889491883,0.60002261475812002,"NA**"]
["Calaveras",2928,2822,2780,5509,5246,5156,0.42454861686268014,0.39971220721080825,0.38926228196511442,5126,5000,4865,0.9226061915046796,0.93545369504209541,0.93163538873994634,1,0.99122807017543857,0.99145299145299148,0.95154185022026427,0.92741935483870963,0.96399999999999997,2.87E-2,"5.74%","5.84%",0.11609999999999999,9.7599999999999992E-2,"NA**",0.2021,0.21890000000000001,"NA**",0.2097,0.33,"NA**",0.24590000000000001,0.38380000000000003,"NA**",2768,2924,2784,5231,5498,5147,437,625,720,1778,2295,2314,88,84,82,null,null,null,133,154,147,45508,45923,46454,15719,16225,16763,7801.2104030740311,7637.7532343521698,7882,null,null,null,598,331,"NA**","NA**","NA**","NA**",1056,1057,"NA**",8.1000000000000003E-2,6.5000000000000002E-2,"NA**",6481.8431399999999,6513.4381661360239,"NA**",0.80293519722539908,0.83412168219338856,"NA**"]
["Colusa",726,590,633,1725,1325,1434,0.19681274900398407,0.15771884432945235,0.15525698443164854,1729,1463,1456,0.96108949416342415,0.9779411764705882,0.97652582159624413,0.875,0.91428571428571426,0.83333333333333337,0.91803278688524592,0.97058823529411764,0.98734177215189878,2.87E-2,"5.74%","5.84%",0.1361,0.1045,"NA**",0.2147,0.18640000000000001,"NA**",0.40840000000000004,0.25,"NA**",0.49209999999999998,0.28179999999999999,"NA**",725,661,629,1722,1563,1410,84,118,132,1004,1267,1084,142,170,130,null,null,null,570,773,566,22254,22555,22886,4198,4385,4547,6114.1060167886735,6166.9855677956084,6286,null,null,null,3111,2864,"NA**","NA**","NA**","NA**",563,561,"NA**",0.17499999999999999,0.153,"NA**",4329.1111334587722,3891.2793981338737,"NA**",0.39141984295657661,0.39781260650221328,"NA**"]
["Contra Costa",35311,35187,34941,71323,70493,69736,0.25199719273096505,0.24012996067910825,0.23657645668009317,67504,67848,66839,0.92344733242134058,0.93328564747310794,0.93411876511117631,0.96837666900913566,0.95795107033639149,0.9647676161919041,0.96974985456660845,0.97864974033467977,0.98381070983810714,2.2800000000000001E-2,"3.70%","4.46%",8.8300000000000003E-2,9.7200000000000009E-2,"NA**",0.17129999999999998,0.17899999999999999,"NA**",6.6799999999999998E-2,6.2300000000000001E-2,"NA**",0.11259999999999999,9.98E-2,"NA**",35280,36075,33984,76061,72362,67647,3876,5175,5886,36150,45190,43955,5317,6102,5847,null,null,null,16078,20122,19983,1095476,1108963,1121591,223639,232490,241196,251862.3177617825,250389.57821969141,253328,null,null,null,68215,74992,"NA**","NA**","NA**","NA**",24288,24238,"NA**",6.2E-2,0.05,"NA**",129295.01242862869,129091.91511449881,"NA**",0.57143348851746278,0.55604114791387682,"NA**"]
["Del Norte",2493,2623,2640,5146,5361,5369,0.42976066597294482,0.42938822184105202,0.42710872745002437,4956,5257,5256,0.96195652173913049,0.9738792145238977,0.97387437465258475,1,0.99090909090909096,0.98863636363636365,0.92924528301886788,0.94418604651162785,0.93548387096774188,2.87E-2,"5.74%","5.84%",0.2147,0.16920000000000002,"NA**",0.2712,0.2291,"NA**",0.38869999999999999,0.3795,"NA**",0.41070000000000001,0.40679999999999999,"NA**",2545,2514,2608,5227,5205,5300,238,288,355,2130,2603,2683,139,144,125,null,null,null,223,288,260,28477,28587,28700,6387,6622,6869,5654.6549127770913,5598.6446624199343,5628,null,null,null,725,654,"NA**","NA**","NA**","NA**",1816,1797,"NA**",0.10199999999999999,8.5999999999999993E-2,"NA**",5678.398908648649,5724.0149025059327,"NA**",0.91507601883208589,0.90731769369194393,"NA**"]
["El Dorado",7359,7223,7232,13261,12975,12850,0.33203484852472825,0.31059707892944532,0.31143490332934254,12615,12313,12226,0.91096187175043331,0.93019566367001583,0.92959245742092456,0.995,1,0.98518518518518516,0.9492924528301887,0.95576251455180439,0.98552472858866103,2.87E-2,"5.74%","5.84%",0.13159999999999999,0.11810000000000001,"NA**",0.21829999999999999,0.1991,"NA**",0.23070000000000002,0.22409999999999999,"NA**",0.25900000000000001,0.25440000000000002,"NA**",6871,7405,7255,12479,13278,12890,972,1276,1464,4740,6328,6217,396,442,397,null,null,null,886,1067,1057,184320,184833,185768,47929,49793,51761,37664.542846401193,37280.001801441511,36155,null,null,null,3522,3365,"NA**","NA**","NA**","NA**",2851,2871,"NA**",7.0000000000000007E-2,5.7000000000000002E-2,"NA**",27235.390669734086,20083.838883198157,"NA**",0.45696364279304263,0.65409556790410273,"NA**"]
["Fresno",97856,97621,97068,229388,226870,224870,0.47371087712724969,0.46101025646217864,0.45862364756055124,222520,227663,226694,0.93263814377682408,0.94534228031857026,0.94778871319748137,0.94101550623289754,0.95912233243162004,0.94941094941094939,0.97181008902077148,0.9102362204724409,0.96867584242999527,2.4500000000000001E-2,"2.68%","2.72%",0.14080000000000001,0.15289999999999998,"NA**",0.25059999999999999,0.27190000000000003,"NA**",0.10539999999999999,9.8800000000000013E-2,"NA**",0.16370000000000001,0.14859999999999998,"NA**",94285,97947,94500,224430,228537,218671,7362,9438,10633,122849,144746,145582,13450,14341,13898,null,null,null,60875,71864,70303,969338,981681,995718,152725,158747,164643,279805.04518592323,283782.73520290782,280951,null,null,null,109792,107436,"NA**","NA**","NA**","NA**",41053,41165,"NA**",0.11599999999999999,0.10199999999999999,"NA**",281485.64386297087,261386.45146811887,"NA**",0.80626906421255717,0.87322270167921334,"NA**"]
["Glenn",1521,1528,1568,3682,3581,3655,0.312621853013478,0.29145890300788163,0.29452880212099303,3688,3624,3666,0.9604166666666667,0.97524219590958017,0.97344662772172064,1,0.9885057471264368,1,0.98611111111111116,0.9779411764705882,0.98648648648648651,2.87E-2,"5.74%","5.84%",0.12179999999999999,0.1487,"NA**",0.20559999999999998,0.23739999999999997,"NA**",0.1472,0.21340000000000001,"NA**",0.15990000000000001,0.21820000000000001,"NA**",1514,1528,1585,3697,3645,3699,148,183,229,1960,2401,2493,215,229,231,null,null,null,762,935,941,28868,29132,29389,6039,6264,6479,7542.3532608838696,7517.5781143914046,7529,null,null,null,2410,2525,"NA**","NA**","NA**","NA**",1111,1106,"NA**",0.107,8.6999999999999994E-2,"NA**",6547.321475439956,6488.522581162948,"NA**",0.55838355889207381,0.55587898296053628,"NA**"]
["Humboldt",11942,12438,12582,20875,21226,21361,0.38568115597312241,0.36577168882685668,0.36334661354581671,19458,19917,20064,0.9155413353408931,0.91454679033887409,0.91649917778183809,0.99827586206896557,0.99644128113879005,0.98758865248226946,0.93620414673046248,0.96565495207667729,0.98530612244897964,2.87E-2,"5.74%","5.84%",0.11550000000000001,0.1396,"NA**",0.17960000000000001,0.22510000000000002,"NA**",0.2379,0.29100000000000004,"NA**",0.26419999999999999,0.31940000000000002,"NA**",10547,12084,12456,19098,21066,21148,1117,1512,1718,7428,9450,9409,644,686,619,null,null,null,900,1123,1130,136779,137159,137546,31381,32518,33579,25824.346756329993,25608.662436615778,26712,null,null,null,2266,2396,"NA**","NA**","NA**","NA**",5545,5488,"NA**",6.8000000000000005E-2,5.5999999999999994E-2,"NA**",33221.697389799374,31850.861804597371,"NA**",0.56563435374326043,0.65877861627084822,"NA**"]
["Imperial",16913,17551,17297,42432,43457,42432,0.45319086364081951,0.44591178475900772,0.43725153167213254,41607,42511,41465,0.95663670015864621,0.96552272365940628,0.9660997204100652,0.94860499265785614,0.97913043478260864,0.97023004059539919,0.83593109105824448,0.93706293706293708,0.93568147013782543,2.87E-2,"5.74%","5.84%",0.1517,0.17399999999999999,"NA**",0.2346,0.26280000000000003,"NA**",0.25090000000000001,0.25670000000000004,"NA**",0.2802,0.2959,"NA**",15936,17367,17431,40394,43485,42490,2213,2905,3426,19838,24612,25125,990,905,853,null,null,null,21381,27755,28442,183154,187689,192472,29668,31415,33270,52464.020156607272,53798.941740081158,52609,null,null,null,33803,33949,"NA**","NA**","NA**","NA**",10238,10128,"NA**",0.23600000000000002,0.24,"NA**",44825.902304321608,47595.452831908508,"NA**",0.89508144333471995,0.90733457568972442,"NA**"]
["Inyo",1042,1083,1063,2073,2104,2089,0.35212765957446807,0.34613397623557773,0.34191430545957152,1986,2010,1979,0.93900709219858158,0.95486935866983369,0.94688995215311,1,1,0.98076923076923073,0.90517241379310343,0.9,0.89166666666666672,2.87E-2,"5.74%","5.84%",0.1295,0.13970000000000002,"NA**",0.2455,0.21829999999999999,"NA**",0.30359999999999998,0.3362,"NA**",0.34380000000000005,0.3624,"NA**",1068,1049,1069,2149,2076,2072,154,201,226,928,1141,1130,98,96,81,null,null,null,296,346,302,19244,19304,19362,5699,5912,6087,3589.5701619655765,3538.0676322539412,3681,null,null,null,510,495,"NA**","NA**","NA**","NA**",402,394,"NA**",7.0000000000000007E-2,5.7999999999999996E-2,"NA**",2967.7021800000002,2591.6434729807825,"NA**",0.72042269416670368,0.80302969461806784,"NA**"]
["Kern",66165,70072,71050,157116,163371,165582,0.396816772417252,0.40040553789476813,0.3922669700564958,151909,161727,161015,0.94589596383516605,0.95442313366774856,0.95851390608629394,0.99380530973451331,0.99462213416360035,0.98563471122837876,0.94744744744744747,0.93981346546196443,0.94457687723480332,7.7999999999999996E-3,"0.87%","1.37%",0.1779,0.19579999999999997,"NA**",0.2606,0.2923,"NA**",0.1754,0.1862,"NA**",0.2039,0.21729999999999999,"NA**",61918,68143,70466,148150,160741,163720,5081,7145,8828,82576,105010,111127,9808,10689,10601,null,null,null,37076,47266,48847,878356,894492,912061,128553,134065,139644,256534.74921096466,262787.02606974827,258383,null,null,null,79181,87761,"NA**","NA**","NA**","NA**",31592,31341,"NA**",0.10400000000000001,0.10199999999999999,"NA**",225536.44752317923,207468.11046195566,"NA**",0.6560986851203231,0.76605508020541824,"NA**"]
["Kings",10570,10950,10868,24693,25133,24891,0.42630894482746334,0.42773626677736265,0.41724519048112457,23930,24730,24161,0.95353841249601534,0.96218193136720875,0.96443397732715952,0.99798792756539234,0.99685534591194969,0.98917748917748916,0.96777546777546775,0.97134387351778662,0.96652267818574511,2.87E-2,"5.74%","5.84%",0.1943,0.21429999999999999,"NA**",0.2742,0.3,"NA**",0.28949999999999998,0.21579999999999999,"NA**",0.32040000000000002,0.24739999999999998,"NA**",10210,10785,10726,24002,24942,24414,797,1081,1265,12521,15587,15975,1267,1418,1417,null,null,null,5713,7275,7531,153601,155122,156946,20420,21191,22048,41468.351015276377,41947.117082501296,40367,null,null,null,15306,13818,"NA**","NA**","NA**","NA**",4635,4579,"NA**",0.121,0.105,"NA**",38859.035145836984,35958.112369286609,"NA**",0.61675060236025636,0.68600653300893477,"NA**"]
["Lake",6132,6604,6694,11957,12618,12649,0.38020850354586749,0.38380413140866104,0.37938677502770596,11634,12337,12324,0.95337212160944029,0.9612747389745987,0.96288772560356273,0.98031496062992129,0.97101449275362317,0.95289855072463769,0.95660377358490567,0.93086003372681281,0.93382352941176472,2.87E-2,"5.74%","5.84%",7.8899999999999998E-2,8.0299999999999996E-2,"NA**",0.15229999999999999,0.17430000000000001,"NA**",0.307,0.32420000000000004,"NA**",0.35159999999999997,0.3654,"NA**",5525,6253,6618,11036,12127,12378,736,1022,1616,4622,5927,6704,344,393,412,null,null,null,817,1156,1534,65465,66219,67033,18728,19438,20141,12725.630298424316,12641.751632484478,13313,null,null,null,1951,2109,"NA**","NA**","NA**","NA**",3663,3675,"NA**",8.900000000000001E-2,7.6999999999999999E-2,"NA**",17435.21142,14762.324643526681,"NA**",0.6317675039698486,0.83474883738835326,"NA**"]
["Lassen",1544,1538,1553,3212,3164,3154,0.40397350993377484,0.37695167286245351,0.37634674922600619,3111,3042,3039,0.9387447193723597,0.93975903614457834,0.93767355754396786,0.94366197183098588,0.83098591549295775,0.93846153846153846,0.73372781065088755,0.90306122448979587,0.75324675324675328,2.87E-2,"5.74%","5.84%",7.4400000000000008E-2,5.2499999999999998E-2,"NA**",0.14099999999999999,0.1575,"NA**",0.27179999999999999,0.2238,"NA**",0.30510000000000004,0.24030000000000001,"NA**",1536,1540,1569,3168,3205,3147,150,199,208,1345,1730,1728,108,99,95,null,null,null,71,94,90,35038,35190,35381,6479,6760,6989,5518.9504761362441,5457.061364451567,5526,null,null,null,712,650,"NA**","NA**","NA**","NA**",880,883,"NA**",9.3000000000000013E-2,7.2999999999999995E-2,"NA**",4056.2381502702701,3734.3844591172287,"NA**",0.78611426364455528,0.85393368079206677,"NA**"]
["Los Angeles",584978,574799,561319,1178282,1148399,1115699,0.27628849741550232,0.25164094470310988,0.22263104668721556,1038448,1046239,937376,0.86612614130448384,0.90250123785222713,0.89782243272624529,0.97076662670145986,0.96825084585726651,0.9643670680117149,0.94936805821524317,0.89402231857274861,0.82863390118138502,4.0500000000000001E-2,"4.71%","7.49%",8.1600000000000006E-2,7.8000000000000005E-3,"NA**",0.1522,3.3500000000000002E-2,"NA**",1.0200000000000001E-2,2.0999999999999999E-3,"NA**",1.3300000000000001E-2,2.75E-2,"NA**",585696,588075,551541,1193453,1183107,1100589,59648,76022,83903,614546,726193,694580,109736,118786,110447,null,null,null,444589,520243,501112,10082664,10147070,10209897,1760921,1826080,1889056,2322212.77862493,2320563.288278704,2324837,null,null,null,1394350,1352159,"NA**","NA**","NA**","NA**",389765,386663,"NA**",8.3000000000000004E-2,6.7000000000000004E-2,"NA**",2032449.5447149202,1776819.9017034955,"NA**",0.58334051625028915,0.66276061455130608,"NA**"]
["Madera",12125,12348,12187,29932,30164,29647,0.41954980045364493,0.41704909699374459,0.41278102470031142,29225,29535,29028,0.96691480562448306,0.97017376736852479,0.97044664348756349,1,0.99785407725321884,0.98575498575498577,0.84963325183374083,0.96833130328867234,0.96842105263157896,2.87E-2,"5.74%","5.84%",0.1447,0.1537,"NA**",0.2266,0.2492,"NA**",0.25030000000000002,0.16789999999999999,"NA**",0.28899999999999998,0.19500000000000001,"NA**",11507,12063,11896,28885,29699,28999,799,1081,1266,16999,20470,21003,2654,3011,3012,null,null,null,10033,11990,12151,154829,157722,160749,27801,28993,30213,43015.336728260176,43735.680426210754,42805,null,null,null,20778,20134,"NA**","NA**","NA**","NA**",4505,4530,"NA**",0.11,0.105,"NA**",38902.722557910449,32412.669981496838,"NA**",0.74120990607815518,0.91808234301547598,"NA**"]
["Marin",6426,6309,6252,10485,10420,10351,0.23620606864381588,0.2191667212291844,0.21679734161544642,10330,10042,9982,0.94406872600987024,0.94888027969384858,0.94840855106888367,0.96928327645051193,0.99261992619926198,0.98561151079136688,0.92091388400702989,0.92443729903536975,0.93236714975845414,2.87E-2,"5.74%","5.84%",0.1807,0.18640000000000001,"NA**",0.25950000000000001,0.27810000000000001,"NA**",0.26450000000000001,0.34149999999999997,"NA**",0.30459999999999998,0.39229999999999998,"NA**",6216,6511,6227,10397,10687,10235,1119,1471,1617,4831,5967,5988,1282,1459,1424,null,null,null,3804,4835,5020,257792,258804,259151,70897,72375,73848,51121.563218984047,50887.43722540226,50441,null,null,null,11871,11168,"NA**","NA**","NA**","NA**",3034,2913,"NA**",4.2999999999999997E-2,3.5000000000000003E-2,"NA**",22695.631874723927,23708.456912370384,"NA**",0.45416962715835596,0.44650733867359088,"NA**"]
["Mariposa",1113,1127,1141,2127,2098,2101,0.42660644631492506,0.41091201932756188,0.41209906617945596,2078,2041,2030,0.96070272769301901,0.95552434456928836,0.96026490066225167,1,0.97916666666666663,0.97499999999999998,0.96385542168674698,0.93103448275862066,0.96511627906976749,2.87E-2,"5.74%","5.84%",0.125,8.8000000000000009E-2,"NA**",0.1991,0.15140000000000001,"NA**",0.28699999999999998,0.19719999999999999,"NA**",0.30559999999999998,0.21129999999999999,"NA**",1005,1122,1084,1974,2152,1997,172,233,264,711,952,919,31,30,33,null,null,null,52,49,45,18091,18147,18247,6133,6328,6520,2966.4664275877021,2947.5409210527732,2923,null,null,null,199,233,"NA**","NA**","NA**","NA**",454,451,"NA**",8.8000000000000009E-2,7.2000000000000008E-2,"NA**",3171.7656000000002,3054.69051511517,"NA**",0.63584459078564948,0.68894049645505728,"NA**"]
["Mendocino",6965,6949,6816,13008,13099,12720,0.31904573351811522,0.2997765494531342,0.28717276260946939,12892,12745,12264,0.93651024262676164,0.94772456870910171,0.94724646636286403,1,0.99734042553191493,0.92991913746630728,0.97204574332909788,0.95673671199011123,0.97414965986394553,2.87E-2,"5.74%","5.84%",0.15710000000000002,0.21379999999999999,"NA**",0.27339999999999998,0.32829999999999998,"NA**",0.25209999999999999,0.28749999999999998,"NA**",0.31420000000000003,0.34960000000000002,"NA**",7569,7077,6663,14007,13204,12443,941,1117,1200,5681,6905,6840,618,637,615,null,null,null,1931,2266,2211,88795,88884,89069,24007,24725,25371,18783.632639376912,18736.678197747307,18620,null,null,null,4690,4327,"NA**","NA**","NA**","NA**",3145,3087,"NA**",6.9000000000000006E-2,5.9000000000000004E-2,"NA**",19834.102620000001,19173.64807786543,"NA**",0.69491422244138812,0.68801460976166073,"NA**"]
["Merced",25216,25089,24988,58981,58122,57715,0.42629482071713148,0.40846915223517083,0.40021368882096131,58208,57693,56561,0.96830968342954105,0.97380369651447385,0.97299203523077182,0.99663299663299665,0.99549549549549554,0.98562091503267979,0.96553610503282272,0.96349942062572425,0.95818815331010454,1.2E-2,"3.52%","2.32%",0.15859999999999999,0.18739999999999998,"NA**",0.23749999999999999,0.28970000000000001,"NA**",0.32130000000000003,0.30670000000000003,"NA**",0.35580000000000001,0.34179999999999999,"NA**",24370,25373,24440,57733,58778,56347,1886,2467,2834,31258,37709,37617,3796,4262,4155,null,null,null,15688,19191,18944,266444,269572,272888,39238,40790,42303,79286.589312189026,79728.363415231361,78952,null,null,null,33521,36937,"NA**","NA**","NA**","NA**",10825,10774,"NA**",0.128,0.114,"NA**",74498.948899488212,79373.224855765933,"NA**",0.76763611001397902,0.73586842548148068,"NA**"]
["Modoc",465,492,494,1012,1061,1050,0.30926557173845676,0.3249221183800623,0.32510159424820256,998,1043,1040,0.96611810261374642,0.95775941230486683,0.94890510948905105,0.89473684210526316,0.94594594594594594,1,0.94,0.92682926829268297,0.8666666666666667,2.87E-2,"5.74%","5.84%",0.12029999999999999,0.14560000000000001,"NA**",0.1729,0.2089,"NA**",0.2707,0.18989999999999999,"NA**",0.28570000000000001,0.20250000000000001,"NA**",467,455,520,1001,966,1088,40,58,66,438,605,634,31,42,44,null,null,null,62,61,67,9395,9410,9443,2896,2945,2996,1904.7347798418079,1894.2473567463867,1701,null,null,null,353,308,"NA**","NA**","NA**","NA**",421,419,"NA**",0.105,8.8000000000000009E-2,"NA**",2247.367847027027,2017.0868161556718,"NA**",0.4472268901875262,0.49576448172215082,"NA**"]
["Mono",522,448,439,852,797,790,0.20956284153005464,0.19325961032122169,0.19694173477458476,767,734,747,0.86568848758465011,0.90729295426452405,0.9154411764705882,0.96296296296296302,1,0.96666666666666667,0.98058252427184467,0.91891891891891897,0.98684210526315785,2.87E-2,"5.74%","5.84%",2.3700000000000002E-2,5.9299999999999999E-2,"NA**",0.13739999999999999,0.1186,"NA**",3.7900000000000003E-2,9.3200000000000005E-2,"NA**",5.6900000000000006E-2,0.12710000000000002,"NA**",522,520,448,855,856,784,49,72,73,334,463,473,70,78,81,null,null,null,218,290,280,14440,14525,14624,2804,2939,3084,3046.2677022780099,3086.1520692575414,2957,null,null,null,1069,1021,"NA**","NA**","NA**","NA**",100,99,"NA**",7.2000000000000008E-2,6.0999999999999999E-2,"NA**",1714.0770399999999,1202.935349824179,"NA**",0.49939412291526875,0.69164149189032076,"NA**"]
["Monterey",24412,24305,24809,54990,54487,55488,0.31511870295309785,0.30231934208653183,0.29318495812106038,54421,55215,54326,0.96397130457886815,0.96819162180644935,0.97003785443896862,1,0.99825174825174823,0.99794450154162384,0.96007259528130673,0.95952485701715795,0.97102342786683105,5.5199999999999999E-2,"4.43%","4.14%",0.1426,0.15259999999999999,"NA**",0.2213,0.24079999999999999,"NA**",0.1764,0.161,"NA**",0.20499999999999999,0.18659999999999999,"NA**",21758,22745,21783,49132,50601,47811,2212,2984,3572,30054,40553,41820,6638,8572,8711,null,null,null,22043,31763,33355,426670,429584,432475,73258,75614,77803,113103.84351239129,113635.94734262917,109355,null,null,null,74856,80174,"NA**","NA**","NA**","NA**",8488,8376,"NA**",9.0999999999999998E-2,8.1000000000000003E-2,"NA**",76819.094700000001,67987.332642685971,"NA**",0.65190822926998127,0.75962434950577884,"NA**"]
["Napa",3705,3633,3665,7653,7533,7533,0.23036014181750328,0.22168304298028815,0.22106909725355714,7407,7355,7349,0.94104942192859864,0.94952233410792664,0.94997414684591519,0.98809523809523814,0.97041420118343191,0.98692810457516345,0.97378277153558057,0.9391025641025641,0.96071428571428574,2.87E-2,"5.74%","5.84%",0.11,0.1036,"NA**",0.16750000000000001,0.18170000000000003,"NA**",0.16550000000000001,0.17420000000000002,"NA**",0.19839999999999999,0.2072,"NA**",3526,3632,3532,7325,7444,7246,433,562,681,4040,5159,5116,798,924,874,null,null,null,2923,3742,3772,141172,142301,143238,32913,33854,34743,30941.977016032983,30799.407576182886,29747,null,null,null,11600,11912,"NA**","NA**","NA**","NA**",2118,2093,"NA**",5.5999999999999994E-2,4.5999999999999999E-2,"NA**",13996.583175617894,19657.156549353978,"NA**",0.52160944627671246,0.38161673999826451,"NA**"]
["Nevada",4235,4308,4354,7675,7694,7768,0.30595852798950907,0.2848661278584288,0.28374624196065001,7466,7437,7456,0.93115490147168867,0.93488372093023253,0.93586042425003135,0.98888888888888893,1,0.93809523809523809,0.82524271844660191,0.85924369747899154,0.87103594080338265,2.87E-2,"5.74%","5.84%",0.11119999999999999,0.1096,"NA**",0.20449999999999999,0.18140000000000001,"NA**",0.24979999999999999,0.27160000000000001,"NA**",0.28749999999999998,0.2974,"NA**",4221,4272,4373,7804,7776,7684,640,813,949,2868,3576,3604,165,182,173,null,null,null,284,364,346,98453,98633,99101,32138,33027,33881,17236.934289972254,17025.616892218222,16650,null,null,null,1472,1252,"NA**","NA**","NA**","NA**",1796,1806,"NA**",6.6000000000000003E-2,5.5E-2,"NA**",12648.7451,18076.102852228705,"NA**",0.61057440393830054,0.42800062583066384,"NA**"]
["Orange",121210,124047,123438,254662,257551,254598,0.26965984844168422,0.2611990576488295,0.26037018093817954,236640,241921,240788,0.92087495573464917,0.92713127790445893,0.92857197948401526,0.98782854118892216,0.97929490766648009,0.98668467773060597,0.99714525608732163,0.99293761560450644,0.99497823903582194,3.9800000000000002E-2,"4.87%","4.75%",0.1084,0.1074,"NA**",0.1991,0.2077,"NA**",8.5699999999999998E-2,7.1500000000000008E-2,"NA**",0.1336,0.11689999999999999,"NA**",117235,123718,123573,270245,257750,252962,17616,22825,25449,135615,165520,164718,28117,31211,29757,null,null,null,114889,137793,136779,3125833,3150934,3172578,579380,601086,622907,719771.85208355053,718991.53943436081,705434,null,null,null,325313,331979,"NA**","NA**","NA**","NA**",68202,68296,"NA**",5.5E-2,4.4999999999999998E-2,"NA**",443857.48963470419,420793.16996716603,"NA**",0.58262619430581397,0.61073927765205804,"NA**"]
["Placer",9342,9365,9281,18325,17969,17795,0.25382760987914493,0.24149276603416414,0.24247214463304584,15899,16074,15799,0.87573671164968325,0.89578689255461441,0.89502605937004309,0.98223350253807107,0.98095238095238091,0.97643097643097643,0.93772893772893773,0.9147157190635451,0.91533180778032042,2.87E-2,"5.74%","5.84%",0.111,0.10249999999999999,"NA**",0.20129999999999998,0.19010000000000002,"NA**",0.08,6.7400000000000002E-2,"NA**",0.129,0.10630000000000001,"NA**",9206,9410,9397,18455,18190,17692,1416,1857,2056,7411,9829,9509,658,766,749,null,null,null,1954,2411,2462,369460,373503,377653,87902,90692,93570,83682.036282043278,83184.949055424469,82281,null,null,null,6222,9998,"NA**","NA**","NA**","NA**",5087,5127,"NA**",6.3E-2,0.05,"NA**",41238.667037041385,38477.516081597299,"NA**",0.44945277490867924,0.47371604310456833,"NA**"]
["Plumas",1126,1186,1205,2151,2208,2239,0.33867908260044838,0.32775919732441472,0.32379898862199746,1964,2058,2049,0.90091743119266054,0.90580985915492962,0.90905057675244005,1,1,1,0.90277777777777779,0.82170542635658916,0.88505747126436785,2.87E-2,"5.74%","5.84%",0.11840000000000001,0.11410000000000001,"NA**",0.1673,0.18920000000000001,"NA**",0.1918,0.1832,"NA**",0.2122,0.18920000000000001,"NA**",956,1061,1101,1793,1993,2025,116,160,191,707,961,1033,37,51,60,null,null,null,22,53,67,19416,19384,19348,6907,7072,7227,3251.8089610200336,3249.3406427013269,3116,null,null,null,202,197,"NA**","NA**","NA**","NA**",651,656,"NA**",0.11699999999999999,0.10400000000000001,"NA**",3602.3331367567566,3447.5723620028475,"NA**",0.5261404932248257,0.59469382647241054,"NA**"]
["Riverside",126536,130276,128893,290231,293265,287669,0.33290730844451089,0.32464324230922775,0.31165091684687618,267248,272426,263010,0.8985210015095938,0.90401858304297333,0.90672780238911965,0.99694966954753428,0.99666048237476812,0.99424874191229329,0.92074792677202311,0.94213649851632042,0.94558800063826387,5.62E-2,"3.91%","3.52%",0.17,0.17670000000000002,"NA**",0.25650000000000001,0.27279999999999999,"NA**",0.22920000000000001,0.20300000000000001,"NA**",0.26300000000000001,0.23629999999999998,"NA**",124316,129532,128747,289618,295239,286427,13821,18121,20641,148026,184930,185979,16149,17346,16626,null,null,null,66204,81846,81348,2294333,2323527,2352654,411572,428027,444527,609127.37624504371,612757.07198579202,591160,null,null,null,172588,190180,"NA**","NA**","NA**","NA**",57657,58059,"NA**",8.199999999999999E-2,6.7000000000000004E-2,"NA**",455320.18413692369,423742.19064784935,"NA**",0.63751163857777993,0.69484033727327177,"NA**"]
["Sacramento",103785,104430,103428,219096,218604,215894,0.37642231410620808,0.36486316746660347,0.36168336815268581,203288,206240,204286,0.92290370908430563,0.9357234570589863,0.9368167143590872,0.99185857176087466,0.99169632265717678,0.99257195914577534,0.98675829701642637,0.98977542450246481,0.99208806329549359,2.8E-3,"2.64%","3.99%",0.12189999999999999,0.12789999999999999,"NA**",0.20730000000000001,0.2223,"NA**",9.4800000000000009E-2,9.98E-2,"NA**",0.14499999999999999,0.15060000000000001,"NA**",101502,105023,102234,217077,219932,213173,9056,11837,13463,101011,123044,122095,9400,10029,9476,null,null,null,47736,57891,58041,1461174,1475381,1490150,264452,275133,285594,358865.21229681373,360212.61878675024,358835,null,null,null,94516,93427,"NA**","NA**","NA**","NA**",62271,62730,"NA**",7.2999999999999995E-2,0.06,"NA**",295178.39485793357,264162.85269416921,"NA**",0.7368741653264238,0.83260287264778898,"NA**"]
["San Benito",2781,2679,2650,6283,5967,5850,0.33160762942779293,0.31005424764312423,0.29604301524326582,6085,5887,5671,0.94959425717852686,0.9539782855290877,0.95423186942621574,0.99206349206349209,1,0.96666666666666667,0.92975206611570249,0.95299145299145294,0.93258426966292129,2.87E-2,"5.74%","5.84%",0.12029999999999999,0.1595,"NA**",0.21410000000000001,0.25929999999999997,"NA**",0.24840000000000001,0.2772,"NA**",0.28910000000000002,0.32490000000000002,"NA**",2710,2702,2514,6169,5988,5527,292,367,436,3209,4065,3865,436,505,447,null,null,null,1802,2281,2246,58222,59039,59850,9875,10342,10804,15274.359905806918,15139.55401358672,15434,null,null,null,5516,5268,"NA**","NA**","NA**","NA**",899,900,"NA**",9.3000000000000013E-2,7.5999999999999998E-2,"NA**",8761.7082970805113,7772.2114419793561,"NA**",0.70741531862364759,0.78347499663269027,"NA**"]
["San Bernardino",178228,180293,179119,398523,396730,392070,0.42616820238681391,0.42157866831016871,0.41169535218311037,363530,372114,361408,0.90701550406938158,0.91599547065773923,0.91688823039922063,0.99975393700787396,0.99925037481259371,0.99465041054988801,0.96170140654126424,0.95000300824258466,0.96108949416342415,3.7400000000000003E-2,"1.88%","2.53%",0.21359999999999998,0.23,"NA**",0.29600000000000004,0.3271,"NA**",0.29109999999999997,0.2475,"NA**",0.32329999999999998,0.28139999999999998,"NA**",172721,181362,179421,392265,403228,391714,17508,22887,25789,192219,234835,237181,19813,20761,20320,null,null,null,71384,85947,85034,2096123,2116461,2137101,316194,331502,346805,575597.54239198123,576195.29418953427,562842,null,null,null,164799,168647,"NA**","NA**","NA**","NA**",68029,68072,"NA**",8.1000000000000003E-2,6.5000000000000002E-2,"NA**",458342.86103801074,433056.80317530752,"NA**",0.85480513964161331,0.92665518793589696,"NA**"]
["San Diego",141303,143026,142577,289089,291088,287392,0.3060432001060639,0.29178521242822197,0.290918814168041,263154,269110,266015,0.89326168792154759,0.9092967150300385,0.90807458080725323,0.93829507237900278,0.98336988304093564,0.99061184849465844,0.98289288905910888,0.98242293131422387,0.98041020247173283,1.0200000000000001E-2,"1.80%","2.95%",0.12789999999999999,0.13390000000000002,"NA**",0.21679999999999999,0.23329999999999998,"NA**",7.46E-2,6.8400000000000002E-2,"NA**",0.1182,0.114,"NA**",134694,143440,142524,300896,291188,286685,19191,25885,29540,131324,168267,166939,15532,17078,16369,null,null,null,97970,123936,124572,3214279,3244706,3274202,579311,601375,623244,726019.83710383007,730139.67848464369,745582,null,null,null,228246,231525,"NA**","NA**","NA**","NA**",76554,76341,"NA**",6.4000000000000001E-2,5.2000000000000005E-2,"NA**",548765.95305636863,508224.43482990994,"NA**",0.5173190533272255,0.57292109557354953,"NA**"]
["San Francisco",33614,34521,34825,51449,52672,52749,0.20333337733250614,0.20843693659053431,0.2139902793169344,46213,48788,49047,0.87752311869813726,0.89858916270674472,0.90092026230230893,0.96962616822429903,0.97295469912102772,0.98223350253807107,0.88783783783783787,0.87570093457943921,0.89958922866271107,6.3E-2,"5.63%","6.58%",0.1033,0.10039999999999999,"NA**",0.19350000000000001,0.18469999999999998,"NA**",9.0899999999999995E-2,8.4600000000000009E-2,"NA**",0.1348,0.12429999999999999,"NA**",32961,34244,35193,53900,52180,53215,6615,8552,10278,18721,23126,23185,3966,4486,4465,null,null,null,20630,26371,28237,840391,848564,857106,176508,181559,186225,123333.8504856283,126616.52909436716,125168,null,null,null,103652,100767,"NA**","NA**","NA**","NA**",37503,37327,"NA**",4.4000000000000004E-2,3.6000000000000004E-2,"NA**",100797.79189006655,102650.87358145542,"NA**",0.51877955213904448,0.50698302103297233,"NA**"]
["San Joaquin",53153,52666,52332,122470,119261,118036,0.40799119351898039,0.38296172561551312,0.3804511926842945,118601,116006,114660,0.95126607152883047,0.96002846833725053,0.95995579481426285,0.99404439631835406,0.99662352279122113,0.98414496036240096,0.90261750633267657,0.90598524186936324,0.90659041394335516,2.2200000000000001E-2,"2.76%","3.46%",0.1522,0.1822,"NA**",0.22870000000000001,0.2707,"NA**",0.24129999999999999,0.25730000000000003,"NA**",0.27500000000000002,0.29109999999999997,"NA**",50358,53401,51610,118029,122077,115760,4706,6110,6936,61837,74545,73983,6809,7330,7153,null,null,null,24307,28986,28277,713961,723506,732445,117867,122739,127591,196892.86368253254,197477.59050434033,195787,null,null,null,65961,63826,"NA**","NA**","NA**","NA**",27296,27357,"NA**",0.106,8.900000000000001E-2,"NA**",155948.40208299819,131235.16986197117,"NA**",0.75448405858440615,0.92455081561557007,"NA**"]
["San Luis Obispo",9993,10120,10120,18578,18697,18513,0.28927019063278364,0.28216477531352513,0.28093967572346507,17769,17977,17795,0.93016803643406798,0.93708298582151794,0.93944673212965901,0.98048780487804876,0.95533498759305213,0.97493036211699169,0.93238434163701067,0.96219931271477666,0.97757009345794388,2.87E-2,"5.74%","5.84%",7.5700000000000003E-2,7.7699999999999991E-2,"NA**",0.15960000000000002,0.16829999999999998,"NA**",5.67E-2,4.5100000000000001E-2,"NA**",9.9399999999999988E-2,8.2299999999999998E-2,"NA**",9573,10090,9962,17983,18642,18104,1399,1754,1919,8025,10311,10198,1102,1255,1224,null,null,null,3371,4211,4160,272941,274254,275669,67294,69554,71801,49890.159941153579,49891.067871214167,49256,null,null,null,10622,10271,"NA**","NA**","NA**","NA**",4290,4209,"NA**",5.5999999999999994E-2,4.5999999999999999E-2,"NA**",45982.301338302852,45501.527627105723,"NA**",0.39378556835265566,0.40872986695625607,"NA**"]
["San Mateo",16200,15825,15493,31947,30873,30014,0.19224164386781672,0.18072505940821354,0.175441001451831,29442,29128,28156,0.91565590595260304,0.92770240142684246,0.92801582069874755,0.97276853252647499,0.97147385103011097,0.98133748055987557,0.92040256175663315,0.90217391304347827,0.88548057259713697,2.87E-2,"5.74%","5.84%",9.3000000000000013E-2,0.11359999999999999,"NA**",0.18710000000000002,0.21600000000000003,"NA**",6.4100000000000004E-2,6.6500000000000004E-2,"NA**",0.1125,0.1148,"NA**",16060,16305,15096,32208,31752,29256,3450,4279,4604,16879,21195,20402,3907,4575,4287,null,null,null,14235,17806,17183,747334,752751,757603,160763,166303,171663,163899.72557513966,164162.96985517142,162483,null,null,null,55943,58320,"NA**","NA**","NA**","NA**",10783,10434,"NA**",4.2000000000000003E-2,3.4000000000000002E-2,"NA**",63838.644279393076,71863.839026630463,"NA**",0.5047687081036859,0.44253944353777569,"NA**"]
["Santa Barbara",17403,18844,19139,37966,39696,40218,0.27412527381445739,0.27240393906375282,0.26904453061862044,37042,39750,39616,0.94806890020731494,0.95831625641891083,0.95943425928168369,0.95288574793875147,0.895017793594306,0.98783454987834551,0.92055485498108447,0.9278959810874704,0.93145654834761327,2.87E-2,"5.74%","5.84%",8.5600000000000009E-2,9.01E-2,"NA**",0.16879999999999998,0.1699,"NA**",5.6799999999999996E-2,6.5099999999999991E-2,"NA**",0.1041,9.9000000000000005E-2,"NA**",15674,17002,18325,34497,36443,37874,1559,2179,2714,20526,28148,29036,4029,5590,5739,null,null,null,13524,19398,20539,435999,439082,442312,84301,86574,88781,98026.632468079231,98531.846173810307,99183,null,null,null,43550,48492,"NA**","NA**","NA**","NA**",8393,8191,"NA**",6.0999999999999999E-2,5.2999999999999999E-2,"NA**",83642.140157008063,73516.85468917375,"NA**",0.42200119780622236,0.50750380291810415,"NA**"]
["Santa Clara",55523,54101,53574,111985,106496,105301,0.24096775229505113,0.22261995297161688,0.22050302914186426,105047,101870,100128,0.93394205037474332,0.94879293644288798,0.9500170784469999,0.96739636702375409,0.98340248962655596,0.98639085465432774,0.97276264591439687,0.97437888198757761,0.98828696925329429,2.0400000000000001E-2,"4.15%","4.92%",2.4799999999999999E-2,2.3300000000000001E-2,"NA**",0.11509999999999999,0.12789999999999999,"NA**",0.01,4.5999999999999999E-3,"NA**",5.6100000000000004E-2,4.5400000000000003E-2,"NA**",55307,55399,52747,113439,110974,103430,9510,11866,12624,55723,67584,62659,10556,12117,11199,null,null,null,49052,59122,55825,1871516,1890424,1907264,334221,347783,361566,442256.20246357273,444794.41199402703,437558,null,null,null,174224,176469,"NA**","NA**","NA**","NA**",43472,42694,"NA**",5.2000000000000005E-2,4.2000000000000003E-2,"NA**",173716.07032996006,160882.03041679427,"NA**",0.65194601619115522,0.68854903421894531,"NA**"]
["Santa Cruz",13787,14771,15034,26274,27374,27613,0.31779759596742924,0.31547114009357347,0.31784897864381501,24588,26027,26001,0.92925170068027207,0.93693077504589795,0.93616331821127674,0.97044334975369462,0.96173044925124795,0.95677799607072689,0.97083333333333333,0.94688922610015169,0.971830985915493,2.87E-2,"5.74%","5.84%",1.38E-2,1.3600000000000001E-2,"NA**",7.7899999999999997E-2,8.5199999999999998E-2,"NA**",6.4000000000000003E-3,6.6E-3,"NA**",3.8900000000000004E-2,3.7100000000000001E-2,"NA**",12402,13892,14500,23719,26010,26340,1797,2375,2827,11576,15311,15699,2244,2811,2854,null,null,null,8530,12072,12690,272210,273695,275133,56302,58703,60995,56012.675058615081,56099.070800205816,56533,null,null,null,23557,21297,"NA**","NA**","NA**","NA**",5038,4931,"NA**",8.6999999999999994E-2,7.4999999999999997E-2,"NA**",47670.412089345795,44874.516510386777,"NA**",0.50502675093748539,0.57953642042354159,"NA**"]
["Shasta",13084,12916,12982,25180,24753,24569,0.37023420479302832,0.35677148909066669,0.35570071258907365,24471,24086,23960,0.94489922001698978,0.9511886896769608,0.95120886101075863,0.96685082872928174,0.98130841121495327,0.96958174904942962,0.97860962566844922,0.98337112622826905,0.98034769463340887,2.87E-2,"5.74%","5.84%",0.14449999999999999,0.15810000000000002,"NA**",0.22309999999999999,0.25819999999999999,"NA**",0.30620000000000003,0.26829999999999998,"NA**",0.33909999999999996,0.3105,"NA**",12720,13115,12960,24671,25293,24222,1221,1685,1906,9992,12683,12561,609,647,608,null,null,null,465,628,627,179305,180021,181231,46860,48202,49664,38531.994910681715,38475.304639389833,38198,null,null,null,2491,2477,"NA**","NA**","NA**","NA**",9289,9252,"NA**",9.6999999999999989E-2,7.8E-2,"NA**",29544.132694257751,36163.91709251736,"NA**",0.83034253379074596,0.69300660294121874,"NA**"]
["Sierra",178,164,158,324,297,271,0.35406698564593303,0.32384341637010677,0.30072463768115942,296,273,249,0.89156626506024095,0.91,0.92222222222222228,1,1,1,0.9,0.88235294117647056,1,2.87E-2,"5.74%","5.84%",7.690000000000001E-2,6.4500000000000002E-2,"NA**",0.26919999999999999,0.1613,"NA**",0.23079999999999998,3.2300000000000002E-2,"NA**",0.23079999999999998,9.6799999999999997E-2,"NA**",163,171,157,294,317,265,41,40,52,86,131,93,3,1,3,null,null,null,8,12,10,3267,3257,3243,1274,1300,1323,449.61574944784144,438.78958903328606,456,null,null,null,89,36,"NA**","NA**","NA**","NA**",89,85,"NA**",0.1,0.09,"NA**",535.0838027255985,517.50934604434076,"NA**",0.56159427452170951,0.60385382870597404,"NA**"]
["Siskiyou",3279,3332,3290,7132,7116,6942,0.39930434782608698,0.3779247758582987,0.36471599763555268,6888,6913,6787,0.95853047592541052,0.95973899763987225,0.96269503546099289,0.98484848484848486,0.99212598425196852,0.92660550458715596,0.86046511627906974,0.88888888888888884,0.88085106382978728,2.87E-2,"5.74%","5.84%",0.122,0.1439,"NA**",0.18420000000000003,0.22539999999999999,"NA**",0.23800000000000002,0.25540000000000002,"NA**",0.25600000000000001,0.28539999999999999,"NA**",3184,3250,3172,6907,6992,6702,413,529,608,2825,3571,3533,141,150,156,null,null,null,181,270,284,45290,45400,45553,14388,14816,15286,8638.7989509851286,8548.906876857618,8904,null,null,null,717,661,"NA**","NA**","NA**","NA**",2431,2389,"NA**",0.113,9.4E-2,"NA**",11466.607281621622,11426.959750526816,"NA**",0.60582435845117577,0.61723183482887178,"NA**"]
["Solano",22650,22861,22656,43830,43644,42828,0.34258704978549337,0.32689189506748234,0.32158870006897849,41205,41732,41027,0.92348551065689499,0.93268371178258536,0.93359881670269651,0.94512877939529671,0.94851994851994847,0.98817345597897499,0.98538622129436326,0.971830985915493,{"$error":"#DIV/0!"},2.0199999999999999E-2,"2.14%","1.53%",1.2500000000000001E-2,1.29E-2,"NA**",0.11560000000000001,0.12140000000000001,"NA**",3.4999999999999996E-3,4.4000000000000003E-3,"NA**",3.95E-2,5.5399999999999998E-2,"NA**",22292,23149,22415,43531,44119,42303,2457,3120,3576,19919,25381,24939,2272,2573,2490,null,null,null,6844,8830,8928,428705,432921,437121,84375,88221,92092,96722.750147999774,96377.184204589197,98511,null,null,null,18343,21251,"NA**","NA**","NA**","NA**",11752,11654,"NA**",7.4999999999999997E-2,6.0999999999999999E-2,"NA**",56428.942712714306,65104.991393786215,"NA**",0.76925949545071659,0.67496232970642456,"NA**"]
["Sonoma",20098,19602,19386,36090,35037,34425,0.2758863263919421,0.25670901529892032,0.25279218189070601,34512,33643,32955,0.92667078377144696,0.927826806398235,0.92635277582572029,0.91834451901565994,0.89252948885976413,0.86223862238622384,0.75607560756075609,0.50915750915750912,0.58674463937621835,2.87E-2,"5.74%","5.84%",0.10150000000000001,0.1275,"NA**",0.18890000000000001,0.22769999999999999,"NA**",7.0199999999999999E-2,7.2300000000000003E-2,"NA**",0.1207,0.1197,"NA**",19304,20183,19088,34951,36183,33804,2986,3870,4239,16974,21537,20809,3249,3738,3587,null,null,null,10517,13316,13176,497260,501350,505507,116344,120115,123789,104297.65363244574,103884.87133090568,103241,null,null,null,25983,29579,"NA**","NA**","NA**","NA**",8488,8388,"NA**",5.5999999999999994E-2,4.4999999999999998E-2,"NA**",69970.760883828043,58010.09098079682,"NA**",0.50345315035929272,0.61995535705282345,"NA**"]
["Stanislaus",43265,42639,42367,92704,90153,89096,0.39023091047671843,0.36505408208623502,0.3526503415504631,90109,88695,86162,0.94124344537990678,0.95170393579123569,0.95636730933590841,0.98590130916414909,0.99783197831978321,0.98983413590155167,0.91822955738934731,0.91544965411222134,0.92515879591273131,1.4500000000000001E-2,"2.75%","2.92%",0.18539999999999998,0.18590000000000001,"NA**",0.27960000000000002,0.29010000000000002,"NA**",0.29719999999999996,0.22420000000000001,"NA**",0.34350000000000003,0.26700000000000002,"NA**",42873,43553,41897,92778,92572,87686,3835,4942,5541,45160,54880,54419,5238,5611,5526,null,null,null,18095,21837,21493,532344,538689,545188,89829,93394,97119,144079.48738884,144427.46164977338,143670,null,null,null,48829,48625,"NA**","NA**","NA**","NA**",20165,19884,"NA**",0.11199999999999999,9.5000000000000001E-2,"NA**",115984.89329029445,105439.64707702218,"NA**",0.79497781177320248,0.87422444234218655,"NA**"]
["Sutter",5646,5742,5876,13160,13253,13467,0.31042357274401472,0.3038616931316358,0.30370866123560497,12642,12936,13160,0.95678498448497695,0.95935924058142985,0.96516318298496517,0.96818181818181814,0.97560975609756095,0.95813953488372094,0.91489361702127658,0.88070175438596487,0.89958158995815896,2.87E-2,"5.74%","5.84%",0.18030000000000002,0.1709,"NA**",0.24340000000000001,0.24789999999999998,"NA**",0.2601,0.25769999999999998,"NA**",0.2853,0.28010000000000002,"NA**",5623,5712,5725,13083,13236,13127,491,644,726,6535,8067,8179,648,726,688,null,null,null,2388,2921,2890,97257,97887,99015,18667,19295,19917,25371.022967771576,25512.182483911005,25239,null,null,null,8544,8773,"NA**","NA**","NA**","NA**",3793,3793,"NA**",0.127,0.10800000000000001,"NA**",16038.088739999999,22251.185890391582,"NA**",0.8091986651521671,0.59198717459615158,"NA**"]
["Tehama",4754,4664,4683,10371,10136,10196,0.37344232515894643,0.3582838236863638,0.35921985815602836,10279,10071,10130,0.96326492362477745,0.97004430745521097,0.96863645056416137,0.96491228070175439,0.95238095238095233,0.97727272727272729,0.97368421052631582,0.9694989106753813,0.95402298850574707,2.87E-2,"5.74%","5.84%",0.1384,0.15,"NA**",0.21100000000000002,0.2492,"NA**",0.26929999999999998,0.29430000000000001,"NA**",0.29350000000000004,0.32380000000000003,"NA**",5009,4816,4572,11155,10543,9981,492,616,700,5146,6292,6121,422,480,459,null,null,null,1283,1615,1557,64827,65193,65614,15700,16155,16613,15138.422612932412,15063.986380926679,15244,null,null,null,2345,2169,"NA**","NA**","NA**","NA**",3106,3068,"NA**",9.6999999999999989E-2,0.08,"NA**",14124.951781959047,14981.799913806626,"NA**",0.76327104213104657,0.69554949293710311,"NA**"]
["Trinity",1004,1025,1007,1808,1796,1757,0.34607726005575468,0.35090837282780413,0.34001966568338249,1738,1777,1729,0.93440860215053767,0.94370685077004779,0.94584245076586437,0.93877551020408168,0.93617021276595747,0.98305084745762716,0.83606557377049184,0.81203007518796988,0.72173913043478266,2.87E-2,"5.74%","5.84%",0.10199999999999999,0.12859999999999999,"NA**",0.1714,0.22820000000000001,"NA**",0.30199999999999999,0.30709999999999998,"NA**",0.34289999999999998,0.34850000000000003,"NA**",1001,1035,974,1838,1867,1708,117,148,183,623,825,763,42,39,38,null,null,null,10,9,18,13782,13821,13884,4753,4906,5040,2215.3138250944216,2174.5816712138712,2275,null,null,null,49,100,"NA**","NA**","NA**","NA**",656,643,"NA**",9.9000000000000005E-2,7.8E-2,"NA**",3023.1546806198121,3244.6750167680871,"NA**",0.5912422140107656,0.56469445800616525,"NA**"]
["Tulare",52745,53587,53192,125269,125618,125132,0.48487388153366534,0.47517060488408086,0.46894287840906923,119759,123733,122856,0.95091352299886456,0.96234104608205329,0.966274460454288,0.98525395958492623,0.96631578947368424,0.99070021881838077,0.98624273922347905,0.98018648018648014,0.98687824229478183,3.4000000000000002E-2,"2.29%","5.09%",0.20629999999999998,0.2137,"NA**",0.32079999999999997,0.32990000000000003,"NA**",0.17530000000000001,0.13769999999999999,"NA**",0.2404,0.19219999999999998,"NA**",50975,52900,51880,132774,123955,120959,4856,6133,6886,65842,78672,78665,7798,8381,8206,null,null,null,39618,48197,48568,461703,467170,472984,68896,71452,74131,144471.64399342524,146093.40726953471,143902,null,null,null,63244,58345,"NA**","NA**","NA**","NA**",17865,17848,"NA**",0.13200000000000001,0.11699999999999999,"NA**",139566.34738282335,136612.71147384617,"NA**",0.90358518151528189,0.91335509939391257,"NA**"]
["Tuolumne",3126,3196,3159,5559,5609,5493,0.37499142602373275,0.36044815698753646,0.35314615023788781,5467,5437,5270,0.94388812154696133,0.94936266806355862,0.93788930414664529,0.95092024539877296,0.99346405228758172,0.98399999999999999,0.78693181818181823,0.96875,0.98496240601503759,2.87E-2,"5.74%","5.84%",0.14069999999999999,0.1333,"NA**",0.23170000000000002,0.22289999999999999,"NA**",0.21989999999999998,0.17809999999999998,"NA**",0.253,0.2087,"NA**",3009,3156,3128,5556,5603,5414,409,556,699,2013,2564,2582,115,106,115,null,null,null,76,103,114,54592,54628,54837,17563,17977,18389,8942.5764197559529,8831.2789146650412,8746,null,null,null,628,577,"NA**","NA**","NA**","NA**",1639,1615,"NA**",8.6999999999999994E-2,7.0999999999999994E-2,"NA**",9986.6219400000009,9026.3750228294939,"NA**",0.55096208037690064,0.61887154616755258,"NA**"]
["Ventura",37080,37735,37607,75528,76144,75635,0.30689489864582553,0.29805486120517338,0.2943079310613102,69779,72616,71875,0.9034985498239072,0.9239617263843648,0.92775454357703424,0.98416289592760187,0.97574287446937535,0.98689138576779023,0.95454545454545459,0.96735074626865669,0.96791187739463602,6.7000000000000004E-2,"4.80%","8.28%",0.1361,0.16059999999999999,"NA**",0.2359,0.27460000000000001,"NA**",0.12590000000000001,0.1148,"NA**",0.19059999999999999,0.1663,"NA**",35024,37333,37090,77031,75003,74297,4822,6422,7206,37317,49069,49344,6549,7926,7911,null,null,null,26091,34694,35629,844833,850206,855406,162247,168417,174537,204901.40188281125,204332.27864576195,199398,null,null,null,75693,85361,"NA**","NA**","NA**","NA**",14875,14875,"NA**",6.7000000000000004E-2,5.7000000000000002E-2,"NA**",114149.93462956522,91148.771560301699,"NA**",0.64997993128460252,0.8310954940650721,"NA**"]
["Yolo",10077,10795,10832,20591,21479,21293,0.3353767159174264,0.33482128095757696,0.33252760715882185,19203,20252,20085,0.92047742306586133,0.92260033711448231,0.92031708211143692,0.95357833655705992,0.93654266958424504,0.97004608294930872,0.84973404255319152,0.9562913907284768,0.9330024813895782,2.87E-2,"5.74%","5.84%",0.111,9.4600000000000004E-2,"NA**",0.19109999999999999,0.1794,"NA**",7.7499999999999999E-2,7.2300000000000003E-2,"NA**",0.12789999999999999,0.1231,"NA**",8865,10254,10662,18273,20610,20820,1075,1498,1737,8448,11457,11612,867,1015,1014,null,null,null,5033,6991,7002,208069,209647,211339,34248,35625,36934,43396.258809596766,43147.736305655613,44450,null,null,null,11918,13104,"NA**","NA**","NA**","NA**",5314,5260,"NA**",7.6999999999999999E-2,6.4000000000000001E-2,"NA**",50238.245060659116,40868.096933227178,"NA**",0.3707119276196772,0.50741494929932407,"NA**"]
["Yuba",6167,6327,6272,13517,13569,13507,0.42128195197521301,0.40173242324997704,0.39978691019786911,13053,13125,13133,0.95089968674874337,0.95517065715741212,0.9579139314369074,1,1,0.99561403508771928,0.96567862714508579,0.96769230769230774,0.98019801980198018,2.87E-2,"5.74%","5.84%",0.17430000000000001,0.2011,"NA**",0.24249999999999999,0.28809999999999997,"NA**",0.33110000000000001,0.34240000000000004,"NA**",0.36049999999999999,0.37140000000000001,"NA**",6026,6306,6141,13449,13621,13252,435,584,687,6332,7563,7810,501,524,517,null,null,null,1526,1789,1825,74258,75093,76101,12397,12935,13515,20606.355027988091,20735.895093877712,21572,null,null,null,4010,3808,"NA**","NA**","NA**","NA**",3734,3710,"NA**",0.11199999999999999,9.1999999999999998E-2,"NA**",17375.6149,18760.691225398547,"NA**",0.76600000000000001,0.72442693271347103,"NA**"]
[null,{"$f":"SUM(B6:B63)","v":2119268},{"$f":"SUM(C6:C63)","v":2128364},{"$f":"SUM(C6:C63)","v":2128364},{"$f":"SUM(E6:E63)","v":4462799},4431790,4369738,null,null,null,{"$f":"SUM(K6:K63)","v":4128954},{"$f":"SUM(L6:L63)","v":4187085},{"$f":"SUM(M6:M63)","v":4032723},null,null,null,null,null,null,null,null,null,null,null,null,null,null,null,null,null,null,null,null,null,null,null,null,{"$f":"SUM(AL6:AL63)","v":2070803},{"$f":"SUM(AM6:AM63)","v":2140950},{"$f":"SUM(AN6:AN63)","v":2082147},{"$f":"SUM(AO6:AO63)","v":4476031},4481900,4305354,234156,304341,{"$f":"SUM(AT6:AT63)","v":343349},2226004,2720376,2688057,320176,352831,{"$f":"SUM(AZ6:AZ63)","v":336878},0,0,0,1337933,1628446,1609601,38548204,38896969,39242698,7071818,7340539,7605654,9157600.2108177487,{"$f":"SUM(BN6:BN63)","v":9184302.1456730999},9118201,0,0,0,3760183,3779748,0,{"$f":"SUM(BV6:BV63)","v":0},{"$f":"SUM(BW6:BW63)","v":0},{"$f":"SUM(BX6:BX63)","v":0},1193089,1187073,{"$f":"SUM(CA6:CA63)","v":0},null,null,null,{"$f":"SUM(CE6:CE63)","v":6976175.9604580654},6412169.838193588,0,{"$f":"SUM(CH6:CH63)","v":36.837743649741832},{"$f":"SUM(CI6:CI63)","v":38.898912645633594},0]
[null,{"$f":"B64=B5","v":true},{"$f":"C64=C5","v":true},{"$f":"D64=C5","v":true},{"$f":"E64=E5","v":true},true,true,null,null,null,{"$f":"K64=K5","v":true},{"$f":"L64=L5","v":true},{"$f":"M64=M5","v":true},null,null,null,null,null,null,null,null,null,null,null,null,null,null,null,null,null,null,null,null,null,null,null,null,{"$f":"AL64=AL5","v":true},true,true,true,true,true,true,true,{"$f":"AT64=AT5","v":true},{"$f":"AU64=AU5","v":true},{"$f":"AV64=AV5","v":true},{"$f":"AW64=AW5","v":true},{"$f":"AX64=AX5","v":true},true,{"$f":"AZ64=AZ5","v":true},true,true,true,true,true,true,true,true,true,true,true,true,true,{"$f":"BN64=BN5","v":true},true,true,true,true,true,true,false,{"$f":"BV64=BV5","v":false},{"$f":"BW64=BW5","v":false},{"$f":"BX64=BX5","v":false},true,true,{"$f":"CA64=CA5","v":false},null,null,null,{"$f":"CE64=CE5","v":false},false,false,{"$f":"CH64=CH5","v":false},false,false]
[null,"Tracy/Sunit",null,null,"Tracy/Sunit",null,null,"Paul (Dashboard)",null,null,"Carl",null,null,null,null,null,"Tracy/Sunit",null,null,"Tracy/Sunit",null,null,"Pam Kian (Glenn Fuji)",null,null,"Pam Ward",null,null,"Pam Ward",null,null,"Pam Ward",null,null,"Pam Ward",null,null,"Tracy/Sunit",null,null,"Tracy/Sunit",null,null,"Carl",null,null,"Carl",null,null,"Tadese/Aynalem",null,null,"Tadese/Aynalem",null,null,"Carl",null,null,"Ertug",null,null,"Ertug",null,null,"Ertug",null,null,"Ertug",null,null,"Ertug",null,null,"Carl",null,null,"Greg Jones",null,null,"Ertug",null,null,"Ertug",null,null,"Tadese"]
[null,null,null,null,null,null,null,null,null,null,null,null,null,null,null,null,null,null,null,null,null,null,null,null,null,null,null,null,null,null,null,null,null,null,null,null,null,null,null,null,null,null,null,null,null,null,null,null,null,null,null,null,null,null,null,null,null,null,null,null,null,null,null,null,null,null,null,null,null,null,null,null,null,null,null,null,null,null,null,null,null,null,null,null,null,"(Per Tadese: Don't force statewide to sum)"]
[null,"Current Qtr/Yr exceeding 10% tolerance from previous qtr/yr will be highlighted"]
[]
[null,null,null,null,null,null,null,null,null,null,null,null,null,null,null,null,null,null,null,null,null,null,null,null,null,13.01,{"$f":"Z70/100","v":0.13009999999999999}]
[null,null,null,null,null,null,null,null,null,null,null,null,null,null,null,null,null,null,null,null,null,null,null,null,null,9.89,{"$f":"Z71/100","v":9.8900000000000002E-2}]
["Oct-Dec 11",2012,null,null,null,null,null,null,null,null,null,null,null,null,null,null,null,null,null,null,null,null,null,null,null,7.14,7.1399999999999991E-2]
["Jan-Mar 12",2013,null,null,null,null,null,null,null,null,null,null,null,null,null,null,null,null,null,null,null,null,null,null,null,14.39,0.1439]
["Apr-Jun 12",2014,null,null,null,null,null,null,null,null,null,null,null,null,null,null,null,null,null,null,null,null,null,null,null,13.57,0.13570000000000002]
["Jul-Sep 12",2015,null,null,null,null,null,null,null,null,null,null,null,null,null,null,null,null,null,null,null,null,null,null,null,13.98,0.13980000000000001]
["Oct-Dec 12",2016,null,null,null,null,null,null,null,null,null,null,null,null,null,null,null,null,null,null,null,null,null,null,null,11.2,0.11199999999999999]
["Jan-Mar 13",2017,null,null,null,null,null,null,null,null,null,null,null,null,null,null,null,null,null,null,null,null,null,null,null,11.49,0.1149]
["Apr-Jun 13",2018,null,null,null,null,null,null,null,null,null,null,null,null,null,null,null,null,null,null,null,null,null,null,null,21.1,0.21100000000000002]
["Jul-Sep 13",null,null,null,null,null,null,null,null,null,null,null,null,null,null,null,null,null,null,null,null,null,null,null,null,13.48,0.1348]
["Oct-Dec 13",null,null,null,null,null,null,null,null,null,null,null,null,null,null,null,null,null,null,null,null,null,null,null,null,15.72,0.15720000000000001]
["Jan-Mar 14",null,null,null,null,null,null,null,null,null,null,null,null,null,null,null,null,null,null,null,null,null,null,null,null,13.69,0.13689999999999999]
["Apr-Jun 14",null,null,null,null,null,null,null,null,null,null,null,null,null,null,null,null,null,null,null,null,null,null,null,null,11.83,0.1183]
["Jul-Sep 14",null,null,null,null,null,null,null,null,null,null,null,null,null,null,null,null,null,null,null,null,null,null,null,null,19.190000000000001,0.19190000000000002]
["Oct-Dec 14",null,null,null,null,null,null,null,null,null,null,null,null,null,null,null,null,null,null,null,null,null,null,null,null,16.3,0.16300000000000001]
["Jan-Mar 15",null,null,null,null,null,null,null,null,null,null,null,null,null,null,null,null,null,null,null,null,null,null,null,null,20.93,0.20929999999999999]
["Apr-Jun 15",null,null,null,null,null,null,null,null,null,null,null,null,null,null,null,null,null,null,null,null,null,null,null,null,20.97,0.2097]
["Jul-Sep 15",null,null,null,null,null,null,null,null,null,null,null,null,null,null,null,null,null,null,null,null,null,null,null,null,11.13,0.11130000000000001]
["Oct-Dec 15",null,null,null,null,null,null,null,null,null,null,null,null,null,null,null,null,null,null,null,null,null,null,null,null,15.45,0.1545]
["Jan-Mar 16",null,null,null,null,null,null,null,null,null,null,null,null,null,null,null,null,null,null,null,null,null,null,null,null,9.6199999999999992,9.6199999999999994E-2]
["Apr-Jun 16",null,null,null,null,null,null,null,null,null,null,null,null,null,null,null,null,null,null,null,null,null,null,null,null,17.14,0.1714]
["Jul-Sep 16",null,null,null,null,null,null,null,null,null,null,null,null,null,null,null,null,null,null,null,null,null,null,null,null,13.23,0.1323]
["Oct-Dec 16",null,null,null,null,null,null,null,null,null,null,null,null,null,null,null,null,null,null,null,null,null,null,null,null,16.170000000000002,0.16170000000000001]
["Jan-Mar 17",null,null,null,null,null,null,null,null,null,null,null,null,null,null,null,null,null,null,null,null,null,null,null,null,18.239999999999998,0.18239999999999998]
["Apr-Jun 17",null,null,null,null,null,null,null,null,null,null,null,null,null,null,null,null,null,null,null,null,null,null,null,null,17.8,0.17800000000000002]
["Jul-Sep 17",null,null,null,null,null,null,null,null,null,null,null,null,null,null,null,null,null,null,null,null,null,null,null,null,22,0.22]
["Oct-Dec 17",null,null,null,null,null,null,null,null,null,null,null,null,null,null,null,null,null,null,null,null,null,null,null,null,1.81,1.8100000000000002E-2]
["Jan-Mar 18",null,null,null,null,null,null,null,null,null,null,null,null,null,null,null,null,null,null,null,null,null,null,null,null,17.91,0.17910000000000001]
["Apr-Jun 18",null,null,null,null,null,null,null,null,null,null,null,null,null,null,null,null,null,null,null,null,null,null,null,null,11.51,0.11509999999999999]
["Jul-Sep 18",null,null,null,null,null,null,null,null,null,null,null,null,null,null,null,null,null,null,null,null,null,null,null,null,12.19,0.12189999999999999]
["Oct-Dec 15",null,null,null,null,null,null,null,null,null,null,null,null,null,null,null,null,null,null,null,null,null,null,null,null,9.02,9.0200000000000002E-2]
[null,null,null,null,null,null,null,null,null,null,null,null,null,null,null,null,null,null,null,null,null,null,null,null,null,8.1300000000000008,8.1300000000000011E-2]
[null,null,null,null,null,null,null,null,null,null,null,null,null,null,null,null,null,null,null,null,null,null,null,null,null,17.18,0.17180000000000001]
[null,null,null,null,null,null,null,null,null,null,null,null,null,null,null,null,null,null,null,null,null,null,null,null,null,17.600000000000001,0.17600000000000002]
[null,null,null,null,null,null,null,null,null,null,null,null,null,null,null,null,null,null,null,null,null,null,null,null,null,9.64,9.64E-2]
[null,null,null,null,null,null,null,null,null,null,null,null,null,null,null,null,null,null,null,null,null,null,null,null,null,18.829999999999998,0.1883]
[null,null,null,null,null,null,null,null,null,null,null,null,null,null,null,null,null,null,null,null,null,null,null,null,null,21.05,0.21050000000000002]
[null,null,null,null,null,null,null,null,null,null,null,null,null,null,null,null,null,null,null,null,null,null,null,null,null,12.04,0.12039999999999999]
[null,null,null,null,null,null,null,null,null,null,null,null,null,null,null,null,null,null,null,null,null,null,null,null,null,11.38,0.11380000000000001]
[null,null,null,null,null,null,null,null,null,null,null,null,null,null,null,null,null,null,null,null,null,null,null,null,null,16.850000000000001,0.16850000000000001]
[null,null,null,null,null,null,null,null,null,null,null,null,null,null,null,null,null,null,null,null,null,null,null,null,null,7.23,7.2300000000000003E-2]
[null,null,null,null,null,null,null,null,null,null,null,null,null,null,null,null,null,null,null,null,null,null,null,null,null,8.5,8.5000000000000006E-2]
[null,null,null,null,null,null,null,null,null,null,null,null,null,null,null,null,null,null,null,null,null,null,null,null,null,9.15,9.1499999999999998E-2]
[null,null,null,null,null,null,null,null,null,null,null,null,null,null,null,null,null,null,null,null,null,null,null,null,null,5.26,5.2600000000000001E-2]
[null,null,null,null,null,null,null,null,null,null,null,null,null,null,null,null,null,null,null,null,null,null,null,null,null,6.52,6.5199999999999994E-2]
[null,null,null,null,null,null,null,null,null,null,null,null,null,null,null,null,null,null,null,null,null,null,null,null,null,16.37,0.16370000000000001]
[null,null,null,null,null,null,null,null,null,null,null,null,null,null,null,null,null,null,null,null,null,null,null,null,null,9.76,9.7599999999999992E-2]
[null,null,null,null,null,null,null,null,null,null,null,null,null,null,null,null,null,null,null,null,null,null,null,null,null,13.11,0.13109999999999999]
[null,null,null,null,null,null,null,null,null,null,null,null,null,null,null,null,null,null,null,null,null,null,null,null,null,4.13,4.1299999999999996E-2]
[null,null,null,null,null,null,null,null,null,null,null,null,null,null,null,null,null,null,null,null,null,null,null,null,null,8.81,8.8100000000000012E-2]
[null,null,null,null,null,null,null,null,null,null,null,null,null,null,null,null,null,null,null,null,null,null,null,null,null,19.899999999999999,0.19899999999999998]
[null,null,null,null,null,null,null,null,null,null,null,null,null,null,null,null,null,null,null,null,null,null,null,null,null,16.329999999999998,0.16329999999999997]
[null,null,null,null,null,null,null,null,null,null,null,null,null,null,null,null,null,null,null,null,null,null,null,null,null,14.71,0.14710000000000001]
[null,null,null,null,null,null,null,null,null,null,null,null,null,null,null,null,null,null,null,null,null,null,null,null,null,16.34,0.16339999999999999]
[null,null,null,null,null,null,null,null,null,null,null,null,null,null,null,null,null,null,null,null,null,null,null,null,null,19.12,0.19120000000000001]
[null,null,null,null,null,null,null,null,null,null,null,null,null,null,null,null,null,null,null,null,null,null,null,null,null,14.76,0.14760000000000001]
[null,null,null,null,null,null,null,null,null,null,null,null,null,null,null,null,null,null,null,null,null,null,null,null,null,11.14,0.1114]
[null,null,null,null,null,null,null,null,null,null,null,null,null,null,null,null,null,null,null,null,null,null,null,null,null,11.5,0.115]
[null,null,null,null,null,null,null,null,null,null,null,null,null,null,null,null,null,null,null,null,null,null,null,null,null,16.18,0.1618]

{"sheet":"tbl_churn_data","index":10,"n_rows":1063,"n_cols":26,"rows_kept":1063,"cut":false,"hidden":true,"merged":[]}
["county","snap_apps_rcvd","init_apps","apps_rcvd_bene_prev_30d","apps_rcvd_bene_prev_60d","apps_rcvd_bene_prev_90d","apps_rcvd_bene_over_90d","ave_days_apprv_bene","cases_sched_recert","recert_rcvd_snap_follow_mth","recert_not_rcvd_snap_follow_mth","incomp_recert_no_bene_reapp","incomp_recert_no_bene_reapp_30d","incomp_recert_no_bene_reapp_60d","incomp_recert_no_bene_reapp_90d","avg_days_btw_notice_recert","pct_reapps_churning","pct_reapps_churning_in_30d","pct_recerts_churning","pct_recerts_churning_in_30d","pct_apps_rcvd_from_this_county","pct_cases_sched_recert_this_county","year","quarter","month","date"]
["Alameda",15455,8665,1852,731,459,3748,13.7,12285,10362,1923,958,471,278,209,46.3,0.2,0.12,0.06,0.03,3.0599999999999999E-2,3.56E-2,2011,4,"DEC","2011-12-01"]
["Alameda",16105,8998,1860,889,551,3807,13.7,14337,12087,2250,1096,493,366,237,45.7,0.21,0.12,7.0000000000000007E-2,0.03,3.1699999999999999E-2,3.7199999999999997E-2,2012,1,"MAR","2012-03-01"]
["Alameda",16072,8973,1418,883,572,4226,14,14720,12314,2406,1157,547,361,249,44.7,0.18,0.09,7.0000000000000007E-2,0.03,3.0300000000000001E-2,3.5200000000000002E-2,2012,2,"JUN","2012-06-01"]
["Alameda",16325,9243,1272,807,557,4446,14,16226,13519,2707,1331,699,379,253,47,0.16,0.08,0.08,0.04,2.9899999999999999E-2,3.5700000000000003E-2,2012,3,"SEP","2012-09-01"]
["Alameda",14710,8019,1244,901,553,3993,14.3,15466,12704,2762,1386,664,432,290,44.3,0.18,0.08,0.09,0.05,2.9600000000000001E-2,3.4700000000000002E-2,2012,4,"DEC","2012-12-01"]
["Alameda",15363,8330,1264,936,626,4207,14.7,16956,14143,2813,1462,767,435,260,40.700000000000003,0.18,0.08,0.1,0.05,3.15E-2,3.9699999999999999E-2,2013,1,"MAR","2013-03-01"]
["Alameda",15186,7889,1502,1003,572,4220,14,16965,13977,2988,1442,760,422,260,41.3,0.2,0.1,0.1,0.05,3.0700000000000002E-2,3.5999999999999997E-2,2013,2,"JUN","2013-06-01"]
["Alameda",17308,9420,1403,925,743,4817,13.7,16574,13584,2990,1477,849,382,246,41.3,0.18,0.08,0.09,0.05,3.09E-2,3.3799999999999997E-2,2013,3,"SEP","2013-09-01"]
["Alameda",14318,7514,1447,703,505,4149,16.3,16102,12634,3468,1780,1034,453,293,43.3,0.19,0.1,0.12,7.0000000000000007E-2,2.9399999999999999E-2,3.3099999999999997E-2,2013,4,"DEC","2013-12-01"]
["Alameda",15801,8261,1687,849,536,4468,15.3,17174,13476,3698,1755,941,492,322,40.700000000000003,0.19,0.11,0.11,0.06,3.1099999999999999E-2,3.8199999999999998E-2,2014,1,"MAR","2014-03-01"]
["Alameda",14417,7331,1447,827,554,4258,15.3,17174,13476,3698,1755,941,492,322,40.700000000000003,0.2,0.1,0.12,7.0000000000000007E-2,3.04E-2,3.73E-2,2014,2,"JUN","2014-06-01"]
["Alameda",16807,8621,2071,925,562,4628,17.3,16847,12479,4368,2159,1162,628,369,43.3,0.21,0.12,0.13,7.0000000000000007E-2,3.27E-2,3.4599999999999999E-2,2014,3,"SEP","2014-09-01"]
["Alameda",14457,6960,1688,990,619,4200,16.7,15113,10854,4259,2275,1277,616,382,42.7,0.23,0.12,0.16,0.09,3.0800000000000001E-2,3.0700000000000002E-2,2014,4,"DEC","2014-12-01"]
["Alameda",16260,7966,1863,1158,615,4658,20,16738,12358,4380,2155,1183,595,377,40.299999999999997,0.22,0.11,0.13,7.0000000000000007E-2,3.6299999999999999E-2,3.5400000000000001E-2,2015,1,"MAR","2015-03-01"]
["Alameda",15659,7441,1622,876,614,5106,17.3,16588,12527,4061,2077,1187,534,356,40.700000000000003,0.2,0.1,0.13,0.08,3.5200000000000002E-2,3.3099999999999997E-2,2015,2,"JUN","2015-06-01"]
["Alameda",15733,7607,1635,879,578,5034,16,15583,11413,4170,1790,1058,453,279,41.7,0.2,0.1,0.11,7.0000000000000007E-2,3.3500000000000002E-2,3.0499999999999999E-2,2015,3,"SEP","2015-09-01"]
["Alameda",12933,6047,1438,784,484,4180,13.7,15048,10864,4184,1995,1113,529,353,40.700000000000003,0.21,0.11,0.15,0.09,3.7999999999999999E-2,3.7100000000000001E-2,2015,4,"DEC","2015-12-01"]
["Alameda",14795,6977,1628,898,560,4732,10.3,15926,11778,4148,1929,1098,507,324,40,0.21,0.11,0.13,7.0000000000000007E-2,3.27E-2,3.44E-2,2016,1,"MAR","2016-03-01"]
["Alpine",25,18,0,0,1,6,4,12,9,3,3,3,0,0,30.3,0.04,0,0.12,0.12,0,0,2011,4,"DEC","2011-12-01"]
["Alpine",23,17,0,0,0,6,0.7,21,18,3,1,1,0,0,24.3,0,0,0.04,0.04,0,1E-4,2012,1,"MAR","2012-03-01"]
["Alpine",24,14,1,1,0,8,3,22,18,4,1,1,0,0,39.299999999999997,0.08,0.04,0.04,0.04,0,1E-4,2012,2,"JUN","2012-06-01"]
["Alpine",19,15,1,1,0,2,3.3,32,26,6,2,2,0,0,33.299999999999997,0.11,0.05,0.11,0.11,0,1E-4,2012,3,"SEP","2012-09-01"]
["Alpine",23,11,0,1,1,10,3.7,35,33,2,2,2,0,0,27.3,0.09,0,0.09,0.09,0,1E-4,2012,4,"DEC","2012-12-01"]
["Alpine",16,10,3,0,0,3,1.3,30,16,14,2,0,2,0,0,0.19,0.19,0.13,0,0,1E-4,2013,1,"MAR","2013-03-01"]
["Alpine",28,15,2,2,0,9,2.2999999999999998,28,14,14,3,3,0,0,3.3,0.14000000000000001,7.0000000000000007E-2,0.11,0.11,1E-4,1E-4,2013,2,"JUN","2013-06-01"]
["Alpine",23,13,2,2,1,5,7,29,16,13,5,5,0,0,11.7,0.22,0.09,0.22,0.22,0,1E-4,2013,3,"SEP","2013-09-01"]
["Alpine",27,17,4,0,0,6,7.3,29,18,11,4,2,1,1,30.7,0.15,0.15,0.15,7.0000000000000007E-2,1E-4,1E-4,2013,4,"DEC","2013-12-01"]
["Alpine",30,18,2,2,2,6,8,15,9,6,1,1,0,0,15.3,0.2,7.0000000000000007E-2,0.03,0.03,1E-4,0,2014,1,"MAR","2014-03-01"]
["Alpine",19,15,0,0,2,2,5,17,8,9,0,0,0,0,25.7,0.11,0,0,0,0,0,2014,2,"JUN","2014-06-01"]
["Alpine",25,13,2,2,0,8,8,16,5,11,1,1,0,0,18.7,0.16,0.08,0.04,0.04,0,0,2014,3,"SEP","2014-09-01"]
["Alpine",25,17,1,1,1,5,6.7,30,9,21,3,2,0,1,28.7,0.12,0.04,0.12,0.08,1E-4,1E-4,2014,4,"DEC","2014-12-01"]
["Alpine",19,12,2,0,2,3,8,31,15,16,0,0,0,0,30.7,0.21,0.11,0,0,0,1E-4,2015,1,"MAR","2015-03-01"]
["Alpine",16,9,0,1,0,6,5.7,35,18,17,2,2,0,0,35.700000000000003,0.06,0,0.13,0.13,0,1E-4,2015,2,"JUN","2015-06-01"]
["Alpine",17,11,0,1,0,5,5.3,33,18,15,0,0,0,0,29.7,0.06,0,0,0,0,1E-4,2015,3,"SEP","2015-09-01"]
["Alpine",14,7,0,1,0,6,12.3,27,17,10,1,1,0,0,27,7.0000000000000007E-2,0,7.0000000000000007E-2,7.0000000000000007E-2,0,1E-4,2015,4,"DEC","2015-12-01"]
["Alpine",15,10,0,0,0,5,8,17,5,12,1,0,1,0,14,0,0,7.0000000000000007E-2,0,0,0,2016,1,"MAR","2016-03-01"]
["Amador",487,337,14,15,22,99,15.7,252,161,91,84,82,1,1,39,0.1,0.03,0.17,0.17,1E-3,6.9999999999999999E-4,2011,4,"DEC","2011-12-01"]
["Amador",578,369,21,17,20,151,14,510,351,159,113,96,10,7,38.700000000000003,0.1,0.04,0.2,0.17,1.1000000000000001E-3,1.2999999999999999E-3,2012,1,"MAR","2012-03-01"]
["Amador",550,327,16,30,32,145,11,522,357,165,110,103,3,4,38.700000000000003,0.14000000000000001,0.03,0.2,0.19,1E-3,1.1999999999999999E-3,2012,2,"JUN","2012-06-01"]
["Amador",580,333,19,34,32,162,12.3,560,407,153,99,88,8,3,30,0.15,0.03,0.17,0.15,1.1000000000000001E-3,1.1999999999999999E-3,2012,3,"SEP","2012-09-01"]
["Amador",527,312,15,23,36,141,13,567,396,171,120,105,10,5,29.7,0.14000000000000001,0.03,0.23,0.2,1.1000000000000001E-3,1.2999999999999999E-3,2012,4,"DEC","2012-12-01"]
["Amador",562,315,96,29,19,103,11.7,572,335,237,110,106,3,1,9.6999999999999993,0.26,0.17,0.2,0.19,1.1999999999999999E-3,1.2999999999999999E-3,2013,1,"MAR","2013-03-01"]
["Amador",528,298,76,15,18,121,10.7,647,365,282,111,104,5,2,7,0.21,0.14000000000000001,0.21,0.2,1.1000000000000001E-3,1.4E-3,2013,2,"JUN","2013-06-01"]
["Amador",586,314,91,27,13,141,12.3,600,337,263,122,111,9,2,17.3,0.22,0.16,0.21,0.19,1E-3,1.1999999999999999E-3,2013,3,"SEP","2013-09-01"]
["Amador",561,275,101,27,20,138,11.3,585,326,259,85,76,7,2,25.3,0.26,0.18,0.15,0.14000000000000001,1.1999999999999999E-3,1.1999999999999999E-3,2013,4,"DEC","2013-12-01"]
["Amador",612,334,87,27,11,153,8.3000000000000007,605,337,268,118,104,5,9,27.3,0.2,0.14000000000000001,0.19,0.17,1.1999999999999999E-3,1.2999999999999999E-3,2014,1,"MAR","2014-03-01"]
["Amador",450,239,61,17,19,114,8.6999999999999993,591,324,267,120,112,8,0,25.7,0.22,0.14000000000000001,0.27,0.25,8.9999999999999998E-4,1.2999999999999999E-3,2014,2,"JUN","2014-06-01"]
["Amador",470,247,76,23,9,115,12,557,316,241,134,119,11,4,26.7,0.23,0.16,0.28999999999999998,0.25,8.9999999999999998E-4,1.1000000000000001E-3,2014,3,"SEP","2014-09-01"]
["Amador",438,215,75,29,11,108,12.3,599,350,249,140,121,16,3,25,0.26,0.17,0.32,0.28000000000000003,8.9999999999999998E-4,1.1999999999999999E-3,2014,4,"DEC","2014-12-01"]
["Amador",529,258,74,30,17,150,12.7,575,332,243,144,137,2,5,25.3,0.23,0.14000000000000001,0.27,0.26,1.1999999999999999E-3,1.1999999999999999E-3,2015,1,"MAR","2015-03-01"]
["Amador",457,244,66,21,15,111,9.3000000000000007,560,319,241,145,127,11,7,26.7,0.22,0.14000000000000001,0.32,0.28000000000000003,1E-3,1.1000000000000001E-3,2015,2,"JUN","2015-06-01"]
["Amador",467,238,74,19,17,119,13.7,563,326,237,154,135,10,9,26.7,0.24,0.16,0.33,0.28999999999999998,1E-3,1.1000000000000001E-3,2015,3,"SEP","2015-09-01"]
["Amador",458,233,48,31,23,123,10.3,610,355,255,189,167,10,12,27,0.22,0.1,0.41,0.36,1.2999999999999999E-3,1.5E-3,2015,4,"DEC","2015-12-01"]
["Amador",459,222,60,29,22,126,10.3,636,387,249,154,134,13,7,27.7,0.24,0.13,0.34,0.28999999999999998,1E-3,1.4E-3,2016,1,"MAR","2016-03-01"]
["Butte",3970,2483,139,179,177,992,19.7,1831,707,1124,1071,1051,13,7,48.3,0.12,0.04,0.27,0.26,7.9000000000000008E-3,5.3E-3,2011,4,"DEC","2011-12-01"]
["Butte",4249,2640,120,180,169,1140,20.3,3936,2341,1595,1198,1106,64,28,47,0.11,0.03,0.28000000000000003,0.26,8.3999999999999995E-3,1.0200000000000001E-2,2012,1,"MAR","2012-03-01"]
["Butte",4486,2667,124,231,195,1269,18.3,4374,2528,1846,1416,1311,75,30,44.3,0.12,0.03,0.32,0.28999999999999998,8.3999999999999995E-3,1.04E-2,2012,2,"JUN","2012-06-01"]
["Butte",4775,2864,170,207,177,1357,18,4242,2508,1734,1259,1179,44,36,42,0.12,0.04,0.26,0.25,8.6999999999999994E-3,9.2999999999999992E-3,2012,3,"SEP","2012-09-01"]
["Butte",3990,2203,151,191,186,1259,15.3,4193,2560,1633,1191,1110,50,31,37.700000000000003,0.13,0.04,0.3,0.28000000000000003,8.0000000000000002E-3,9.4000000000000004E-3,2012,4,"DEC","2012-12-01"]
["Butte",4277,2421,627,183,125,921,15.7,4169,2464,1705,1002,928,56,18,12,0.22,0.15,0.23,0.22,8.8000000000000005E-3,9.7000000000000003E-3,2013,1,"MAR","2013-03-01"]
["Butte",4488,2466,609,202,134,1077,15.3,4654,2912,1742,1091,1020,45,26,10.3,0.21,0.14000000000000001,0.24,0.23,9.1000000000000004E-3,9.9000000000000008E-3,2013,2,"JUN","2013-06-01"]
["Butte",4939,2844,651,205,136,1103,17.7,4511,2710,1801,967,876,58,33,15.7,0.2,0.13,0.2,0.18,8.8000000000000005E-3,9.1999999999999998E-3,2013,3,"SEP","2013-09-01"]
["Butte",4273,2300,669,209,142,953,19,4615,2670,1945,1357,1257,77,23,28.3,0.24,0.16,0.32,0.28999999999999998,8.8000000000000005E-3,9.4999999999999998E-3,2013,4,"DEC","2013-12-01"]
["Butte",4648,2494,672,215,125,1142,19.7,4495,2677,1818,1344,1212,92,40,29,0.22,0.15,0.28999999999999998,0.26,9.1000000000000004E-3,0.01,2014,1,"MAR","2014-03-01"]
["Butte",4262,2247,583,186,135,1111,16,4665,2759,1906,1343,1213,92,38,28,0.21,0.14000000000000001,0.32,0.28000000000000003,8.9999999999999993E-3,1.01E-2,2014,2,"JUN","2014-06-01"]
["Butte",4547,2470,618,208,122,1129,16.3,4523,2607,1916,1384,1276,70,38,27.7,0.21,0.14000000000000001,0.3,0.28000000000000003,8.8000000000000005E-3,9.2999999999999992E-3,2014,3,"SEP","2014-09-01"]
["Butte",4029,2138,536,193,132,1030,16.7,4358,2564,1794,1389,1254,89,46,27.3,0.21,0.13,0.34,0.31,8.6E-3,8.8999999999999999E-3,2014,4,"DEC","2014-12-01"]
["Butte",4533,2463,660,194,122,1094,17.3,4546,2660,1886,1316,1211,60,45,28,0.22,0.15,0.28999999999999998,0.27,1.01E-2,9.5999999999999992E-3,2015,1,"MAR","2015-03-01"]
["Butte",4323,2169,621,184,156,1193,16,4778,2824,1954,1391,1237,94,60,27.3,0.22,0.14000000000000001,0.32,0.28999999999999998,9.7000000000000003E-3,9.4999999999999998E-3,2015,2,"JUN","2015-06-01"]
["Butte",4947,2601,731,230,159,1226,19,4966,2889,2077,1262,1120,100,42,27.7,0.23,0.15,0.26,0.23,1.0500000000000001E-2,9.7000000000000003E-3,2015,3,"SEP","2015-09-01"]
["Butte",4526,2310,688,247,158,1123,17.7,4745,2775,1970,1201,1069,94,38,26,0.24,0.15,0.27,0.24,1.3299999999999999E-2,1.17E-2,2015,4,"DEC","2015-12-01"]
["Butte",4659,2384,676,211,153,1235,18,4928,2964,1964,1245,1121,86,38,27.3,0.22,0.15,0.27,0.24,1.03E-2,1.06E-2,2016,1,"MAR","2016-03-01"]
["Calaveras",645,412,21,38,33,141,14.7,302,184,118,113,106,4,3,37.700000000000003,0.14000000000000001,0.03,0.18,0.16,1.2999999999999999E-3,8.9999999999999998E-4,2011,4,"DEC","2011-12-01"]
["Calaveras",706,445,6,22,24,209,13.3,664,469,195,135,115,13,7,39,7.0000000000000007E-2,0.8,0.19,0.16,1.4E-3,1.6999999999999999E-3,2012,1,"MAR","2012-03-01"]
["Calaveras",717,439,16,33,25,204,11,757,553,204,138,118,12,8,45.7,0.1,0.02,0.19,0.17,1.4E-3,1.8E-3,2012,2,"JUN","2012-06-01"]
["Calaveras",756,469,21,30,30,206,13.7,814,554,260,177,158,9,10,44,0.11,0.03,0.23,0.21,1.4E-3,1.8E-3,2012,3,"SEP","2012-09-01"]
["Calaveras",660,376,22,36,35,191,11,807,547,260,155,136,12,7,35.299999999999997,0.14000000000000001,0.03,0.23,0.21,1.2999999999999999E-3,1.8E-3,2012,4,"DEC","2012-12-01"]
["Calaveras",740,434,93,28,22,163,12.7,794,485,309,115,101,11,3,6.7,0.19,0.13,0.16,0.14000000000000001,1.5E-3,1.9E-3,2013,1,"MAR","2013-03-01"]
["Calaveras",665,385,93,30,21,136,11,792,465,327,131,116,7,8,8,0.22,0.14000000000000001,0.2,0.17,1.2999999999999999E-3,1.6999999999999999E-3,2013,2,"JUN","2013-06-01"]
["Calaveras",791,456,84,36,29,186,10.7,801,453,348,151,132,11,8,15.3,0.19,0.11,0.19,0.17,1.4E-3,1.6000000000000001E-3,2013,3,"SEP","2013-09-01"]
["Calaveras",745,414,81,43,30,177,11,884,513,371,125,111,11,3,21,0.21,0.11,0.17,0.15,1.5E-3,1.8E-3,2013,4,"DEC","2013-12-01"]
["Calaveras",742,409,97,28,15,193,13.3,826,493,333,143,128,13,2,18.7,0.19,0.13,0.19,0.17,1.5E-3,1.8E-3,2014,1,"MAR","2014-03-01"]
["Calaveras",628,354,68,27,13,166,14,825,501,324,138,128,8,2,21,0.17,0.11,0.22,0.2,1.2999999999999999E-3,1.8E-3,2014,2,"JUN","2014-06-01"]
["Calaveras",738,426,72,44,18,178,11,819,486,333,139,118,15,6,20.3,0.18,0.1,0.19,0.16,1.4E-3,1.6999999999999999E-3,2014,3,"SEP","2014-09-01"]
["Calaveras",655,366,85,32,17,155,11.7,886,541,345,172,141,22,9,23,0.2,0.13,0.26,0.22,1.4E-3,1.8E-3,2014,4,"DEC","2014-12-01"]
["Calaveras",687,369,88,34,20,176,11,861,560,301,183,167,13,3,22,0.21,0.13,0.27,0.24,1.5E-3,1.8E-3,2015,1,"MAR","2015-03-01"]
["Calaveras",663,357,77,37,20,172,10.7,901,557,344,163,139,15,9,21.3,0.2,0.12,0.25,0.21,1.5E-3,1.8E-3,2015,2,"JUN","2015-06-01"]
["Calaveras",643,356,72,31,19,165,10.7,901,524,377,173,151,15,7,25.3,0.19,0.11,0.27,0.24,1.4E-3,1.8E-3,2015,3,"SEP","2015-09-01"]
["Calaveras",596,299,72,31,20,174,12.7,904,538,366,190,160,24,6,25,0.21,0.12,0.32,0.27,1.8E-3,2.2000000000000001E-3,2015,4,"DEC","2015-12-01"]
["Calaveras",594,279,58,43,29,185,11.3,931,523,408,228,196,23,9,27.7,0.22,0.1,0.38,0.33,1.2999999999999999E-3,2E-3,2016,1,"MAR","2016-03-01"]
["California",505637,268493,50468,26509,20164,140003,14.9,344722,269375,75347,42989,32884,6096,4009,40.1,0.19,0.1,0.09,7.0000000000000007E-2,1,1,2011,4,"DEC","2011-12-01"]
["California",508707,268189,51116,27797,20152,141453,14.4,385758,316697,69061,48458,37476,6647,4335,37.6,0.2,0.1,0.1,7.0000000000000007E-2,1,1,2012,1,"MAR","2012-03-01"]
["California",531014,280445,49497,27711,20016,153345,13.2,418579,342652,75927,53412,41636,7288,4488,37.4,0.18,0.09,0.1,0.08,1,1,2012,2,"JUN","2012-06-01"]
["California",545881,294314,44605,26797,19869,160296,14,454238,369247,84991,59619,47141,7575,4903,37.5,0.17,0.08,0.11,0.09,1,1,2012,3,"SEP","2012-09-01"]
["California",497532,255114,44188,26790,20126,151314,13.9,445195,365143,80052,57442,45353,7461,4628,34.299999999999997,0.18,0.09,0.12,0.09,1,1,2012,4,"DEC","2012-12-01"]
["California",488037,252686,66023,25483,16866,126979,13.3,427604,340075,87529,45838,35257,6524,4057,18.7,0.22,0.14000000000000001,0.09,7.0000000000000007E-2,1,1,2013,1,"MAR","2013-03-01"]
["California",494038,256748,64256,26494,16773,129767,13.3,471431,375426,96005,51571,39601,7370,4600,18.899999999999999,0.22,0.13,0.1,0.08,1,1,2013,2,"JUN","2013-06-01"]
["California",560436,297668,67425,27838,19921,147584,14.9,490443,387826,102617,56404,44474,7674,4256,23.5,0.21,0.12,0.1,0.08,1,1,2013,3,"SEP","2013-09-01"]
["California",487708,245867,68008,24555,16736,132542,14.6,486440,379408,107032,70742,56781,9028,4933,30.5,0.22,0.14000000000000001,0.15,0.12,1,1,2013,4,"DEC","2013-12-01"]
["California",508652,266509,65464,23623,14751,138305,14.1,449224,350694,98530,65476,52111,8264,5101,29.5,0.2,0.13,0.13,0.1,1,1,2014,1,"MAR","2014-03-01"]
["California",473890,245325,56670,22774,15537,133584,13.2,460588,356248,104340,66972,53633,8257,5082,29.2,0.2,0.12,0.14000000000000001,0.11,1,1,2014,2,"JUN","2014-06-01"]
["California",514701,267567,64615,23627,15925,142967,13.7,486555,376432,110123,74704,58717,10034,5953,30.6,0.2,0.13,0.15,0.11,1,1,2014,3,"SEP","2014-09-01"]
["California",469634,228043,66874,26922,16148,131647,13.5,492149,366688,125461,75995,60390,9902,5703,30.3,0.23,0.14000000000000001,0.16,0.13,1,1,2014,4,"DEC","2014-12-01"]
["California",447988,218227,58261,23508,14618,133374,12.7,473203,356215,116988,68417,54010,8890,5517,29.8,0.22,0.13,0.15,0.12,1,1,2015,1,"MAR","2015-03-01"]
["California",444267,209978,56736,22634,14886,140033,11.5,501241,373625,127616,72448,57150,9560,5738,29.7,0.21,0.13,0.16,0.13,1,1,2015,2,"JUN","2015-06-01"]
["California",469692,224434,60129,23658,14956,146515,12.1,510134,375589,134545,72687,57867,9279,5541,30.6,0.21,0.13,0.16,0.12,1,1,2015,3,"SEP","2015-09-01"]
["California",340561,152786,51678,20614,12581,102902,12.1,405457,288526,116931,73729,57709,10121,5899,29.2,0.25,0.15,0.22,0.17,1,1,2015,4,"DEC","2015-12-01"]
["California",452537,218651,52803,22018,14769,144296,11.4,462821,319577,143244,68182,51247,10519,6416,29.8,0.2,0.12,0.15,0.11,1,1,2016,1,"MAR","2016-03-01"]
["Colusa",316,142,23,15,20,116,24.7,92,58,34,32,30,2,0,43.3,0.18,7.0000000000000007E-2,0.1,0.09,5.9999999999999995E-4,2.9999999999999997E-4,2011,4,"DEC","2011-12-01"]
["Colusa",305,165,11,14,15,100,19,183,139,44,25,24,1,0,33.299999999999997,0.13,0.04,0.08,0.08,5.9999999999999995E-4,5.0000000000000001E-4,2012,1,"MAR","2012-03-01"]
["Colusa",267,155,11,13,13,75,14.7,252,168,84,51,45,3,3,60,0.14000000000000001,0.04,0.19,0.17,5.0000000000000001E-4,5.9999999999999995E-4,2012,2,"JUN","2012-06-01"]
["Colusa",254,144,11,14,14,71,16.3,228,157,71,48,43,4,1,43,0.15,0.04,0.19,0.17,5.0000000000000001E-4,5.0000000000000001E-4,2012,3,"SEP","2012-09-01"]
["Colusa",320,145,13,14,15,133,17,270,213,57,36,33,1,2,28.7,0.13,0.04,0.11,0.1,5.9999999999999995E-4,5.9999999999999995E-4,2012,4,"DEC","2012-12-01"]
["Colusa",302,161,62,14,10,55,11.3,218,118,100,48,43,3,2,8.3000000000000007,0.28000000000000003,0.21,0.16,0.14000000000000001,5.9999999999999995E-4,5.0000000000000001E-4,2013,1,"MAR","2013-03-01"]
["Colusa",259,153,29,15,6,56,14,250,141,109,43,41,2,0,8,0.19,0.11,0.17,0.16,5.0000000000000001E-4,5.0000000000000001E-4,2013,2,"JUN","2013-06-01"]
["Colusa",276,142,37,10,8,79,19,229,120,109,61,49,9,3,18.3,0.2,0.13,0.22,0.18,5.0000000000000001E-4,5.0000000000000001E-4,2013,3,"SEP","2013-09-01"]
["Colusa",265,120,34,18,11,82,20.3,282,155,127,50,42,5,3,27.7,0.24,0.13,0.19,0.16,5.0000000000000001E-4,5.9999999999999995E-4,2013,4,"DEC","2013-12-01"]
["Colusa",275,147,27,10,11,80,24,269,165,104,66,59,3,4,27.3,0.18,0.1,0.24,0.22,5.0000000000000001E-4,5.9999999999999995E-4,2014,1,"MAR","2014-03-01"]
["Colusa",249,163,14,7,9,56,29.3,296,149,147,82,73,5,4,27.7,0.12,0.06,0.33,0.28999999999999998,5.0000000000000001E-4,5.9999999999999995E-4,2014,2,"JUN","2014-06-01"]
["Colusa",217,129,17,9,7,55,34.299999999999997,226,121,105,89,80,4,5,26.7,0.15,0.08,0.41,0.37,4.0000000000000002E-4,5.0000000000000001E-4,2014,3,"SEP","2014-09-01"]
["Colusa",264,106,29,16,16,97,34.299999999999997,230,118,112,85,75,6,4,26.3,0.23,0.11,0.32,0.28000000000000003,5.9999999999999995E-4,5.0000000000000001E-4,2014,4,"DEC","2014-12-01"]
["Colusa",225,117,30,10,9,59,23.7,229,114,115,87,75,8,4,30,0.22,0.13,0.39,0.33,5.0000000000000001E-4,5.0000000000000001E-4,2015,1,"MAR","2015-03-01"]
["Colusa",191,101,26,10,5,49,19.7,257,114,143,94,78,14,2,28,0.21,0.14000000000000001,0.49,0.41,4.0000000000000002E-4,5.0000000000000001E-4,2015,2,"JUN","2015-06-01"]
["Colusa",209,111,31,12,5,50,20.3,219,99,120,77,69,7,1,28.7,0.23,0.15,0.37,0.33,4.0000000000000002E-4,4.0000000000000002E-4,2015,3,"SEP","2015-09-01"]
["Colusa",229,88,29,11,2,99,28,275,130,145,84,72,8,4,23.3,0.18,0.13,0.37,0.31,6.9999999999999999E-4,6.9999999999999999E-4,2015,4,"DEC","2015-12-01"]
["Colusa",220,112,23,9,9,67,27,198,92,106,62,55,6,1,24.3,0.19,0.1,0.28000000000000003,0.25,5.0000000000000001E-4,4.0000000000000002E-4,2016,1,"MAR","2016-03-01"]
["Contra Costa",9909,5900,1116,467,260,2166,15.7,6982,5643,1339,883,540,226,117,50.3,0.19,0.11,0.09,0.05,1.9599999999999999E-2,2.0299999999999999E-2,2011,4,"DEC","2011-12-01"]
["Contra Costa",10726,6305,1157,509,325,2430,14,7005,5658,1347,1138,780,207,151,50.3,0.19,0.11,0.11,7.0000000000000007E-2,2.1100000000000001E-2,1.8200000000000001E-2,2012,1,"MAR","2012-03-01"]
["Contra Costa",10809,6174,1193,462,330,2650,13.3,6826,5777,1049,710,421,191,98,50,0.18,0.11,7.0000000000000007E-2,0.04,2.0400000000000001E-2,1.6299999999999999E-2,2012,2,"JUN","2012-06-01"]
["Contra Costa",10465,6178,919,472,281,2615,16.3,7093,6147,946,597,351,156,90,49,0.16,0.09,0.06,0.03,1.9199999999999998E-2,1.5599999999999999E-2,2012,3,"SEP","2012-09-01"]
["Contra Costa",9458,5478,987,467,249,2277,15.3,7704,6320,1384,851,448,236,167,49,0.18,0.1,0.09,0.05,1.9E-2,1.7299999999999999E-2,2012,4,"DEC","2012-12-01"]
["Contra Costa",10268,5599,1177,589,383,2520,15,8196,6739,1457,836,455,235,146,46,0.21,0.11,0.08,0.04,2.1000000000000001E-2,1.9199999999999998E-2,2013,1,"MAR","2013-03-01"]
["Contra Costa",9540,5129,1096,561,291,2463,16,8113,6709,1404,776,427,200,149,48,0.2,0.11,0.08,0.04,1.9300000000000001E-2,1.72E-2,2013,2,"JUN","2013-06-01"]
["Contra Costa",10802,5921,999,518,408,2956,15.7,7756,6407,1349,657,358,192,107,46,0.18,0.09,0.06,0.03,1.9300000000000001E-2,1.5800000000000002E-2,2013,3,"SEP","2013-09-01"]
["Contra Costa",9135,5127,859,374,257,2518,18,7699,6224,1475,915,540,238,137,44,0.16,0.09,0.1,0.06,1.8700000000000001E-2,1.5800000000000002E-2,2013,4,"DEC","2013-12-01"]
["Contra Costa",9790,5611,923,440,237,2579,13,8147,6658,1489,839,527,187,125,38.299999999999997,0.16,0.09,0.09,0.05,1.9199999999999998E-2,1.8100000000000002E-2,2014,1,"MAR","2014-03-01"]
["Contra Costa",9001,5155,720,331,247,2548,13,8147,6658,1489,839,527,187,125,38.299999999999997,0.14000000000000001,0.08,0.09,0.06,1.9E-2,1.77E-2,2014,2,"JUN","2014-06-01"]
["Contra Costa",9839,5576,856,414,276,2717,15.7,8865,7125,1740,1021,622,257,142,40.299999999999997,0.16,0.09,0.1,0.06,1.9099999999999999E-2,1.8200000000000001E-2,2014,3,"SEP","2014-09-01"]
["Contra Costa",8542,4733,786,416,235,2372,14,8205,6405,1800,973,608,222,143,39.700000000000003,0.17,0.09,0.11,7.0000000000000007E-2,1.8200000000000001E-2,1.67E-2,2014,4,"DEC","2014-12-01"]
["Contra Costa",9436,5324,857,439,261,2555,13,8405,6430,1975,986,583,245,158,39.299999999999997,0.17,0.09,0.1,0.06,2.1100000000000001E-2,1.78E-2,2015,1,"MAR","2015-03-01"]
["Contra Costa",9121,4987,805,447,310,2572,11.7,8259,6376,1883,1027,609,249,169,40.299999999999997,0.17,0.09,0.11,7.0000000000000007E-2,2.0500000000000001E-2,1.6500000000000001E-2,2015,2,"JUN","2015-06-01"]
["Contra Costa",9842,5470,839,441,267,2825,12.7,8634,6663,1971,1029,639,236,154,43.3,0.16,0.09,0.11,7.0000000000000007E-2,2.1000000000000001E-2,1.6899999999999998E-2,2015,3,"SEP","2015-09-01"]
["Contra Costa",8446,4465,897,399,268,2417,13,8240,6135,2105,1105,675,260,170,41,0.19,0.11,0.13,0.08,2.4799999999999999E-2,2.0299999999999999E-2,2015,4,"DEC","2015-12-01"]
["Contra Costa",9015,4846,876,449,289,2555,11.3,7699,5900,1799,900,562,206,132,39,0.18,0.1,0.1,0.06,1.9900000000000001E-2,1.66E-2,2016,1,"MAR","2016-03-01"]
["Del Norte",764,360,51,58,70,225,7.3,277,168,109,100,96,3,1,39.700000000000003,0.23,7.0000000000000007E-2,0.13,0.13,1.5E-3,8.0000000000000004E-4,2011,4,"DEC","2011-12-01"]
["Del Norte",746,395,29,30,44,248,8.6999999999999993,736,510,226,173,157,10,6,32.299999999999997,0.14000000000000001,0.04,0.23,0.21,1.5E-3,1.9E-3,2012,1,"MAR","2012-03-01"]
["Del Norte",705,367,32,51,41,214,7.7,762,549,213,150,139,6,5,37,0.18,0.05,0.21,0.2,1.2999999999999999E-3,1.8E-3,2012,2,"JUN","2012-06-01"]
["Del Norte",701,340,46,26,56,233,8.3000000000000007,828,585,243,184,161,14,9,33,0.18,7.0000000000000007E-2,0.26,0.23,1.2999999999999999E-3,1.8E-3,2012,3,"SEP","2012-09-01"]
["Del Norte",697,319,54,53,58,213,7.3,826,573,253,196,174,17,5,27,0.24,0.08,0.28000000000000003,0.25,1.4E-3,1.9E-3,2012,4,"DEC","2012-12-01"]
["Del Norte",676,301,168,34,25,148,8.3000000000000007,800,448,352,179,169,8,2,9.3000000000000007,0.34,0.25,0.26,0.25,1.4E-3,1.9E-3,2013,1,"MAR","2013-03-01"]
["Del Norte",706,327,149,27,11,192,9,801,495,306,141,134,5,2,7.3,0.26,0.21,0.2,0.19,1.4E-3,1.6999999999999999E-3,2013,2,"JUN","2013-06-01"]
["Del Norte",741,369,138,28,21,185,9.6999999999999993,850,500,350,165,146,11,8,16.3,0.25,0.19,0.22,0.2,1.2999999999999999E-3,1.6999999999999999E-3,2013,3,"SEP","2013-09-01"]
["Del Norte",730,313,166,52,21,178,9,895,579,316,189,179,7,3,30,0.33,0.23,0.26,0.25,1.5E-3,1.8E-3,2013,4,"DEC","2013-12-01"]
["Del Norte",597,292,112,20,15,158,12.7,927,598,329,217,204,9,4,30.7,0.25,0.19,0.36,0.34,1.1999999999999999E-3,2.0999999999999999E-3,2014,1,"MAR","2014-03-01"]
["Del Norte",555,273,90,26,14,152,13.3,842,539,303,228,219,6,3,28.7,0.23,0.16,0.41,0.39,1.1999999999999999E-3,1.8E-3,2014,2,"JUN","2014-06-01"]
["Del Norte",606,309,117,24,13,143,13.3,783,457,326,202,186,8,8,29.7,0.25,0.19,0.33,0.31,1.1999999999999999E-3,1.6000000000000001E-3,2014,3,"SEP","2014-09-01"]
["Del Norte",564,250,110,26,19,159,14.3,816,496,320,223,202,14,7,26.3,0.27,0.2,0.4,0.36,1.1999999999999999E-3,1.6999999999999999E-3,2014,4,"DEC","2014-12-01"]
["Del Norte",572,273,99,16,13,171,14.3,678,431,247,207,190,9,8,27.7,0.22,0.17,0.36,0.33,1.2999999999999999E-3,1.4E-3,2015,1,"MAR","2015-03-01"]
["Del Norte",638,297,137,19,17,168,14.7,779,513,266,262,248,9,5,28.3,0.27,0.21,0.41,0.39,1.4E-3,1.6000000000000001E-3,2015,2,"JUN","2015-06-01"]
["Del Norte",654,352,85,25,18,174,12.3,736,455,281,222,207,10,5,28.3,0.2,0.13,0.34,0.32,1.4E-3,1.4E-3,2015,3,"SEP","2015-09-01"]
["Del Norte",605,300,96,30,19,160,13.3,728,451,277,219,204,8,7,26.3,0.24,0.16,0.36,0.34,1.8E-3,1.8E-3,2015,4,"DEC","2015-12-01"]
["Del Norte",585,291,99,16,19,160,14,729,479,250,238,222,9,7,28.3,0.23,0.17,0.41,0.38,1.2999999999999999E-3,1.6000000000000001E-3,2016,1,"MAR","2016-03-01"]
["El Dorado",2318,1467,65,101,96,589,12.7,611,306,305,283,273,6,4,44,0.11,0.03,0.12,0.12,4.5999999999999999E-3,1.8E-3,2011,4,"DEC","2011-12-01"]
["El Dorado",2449,1536,60,111,123,619,13.7,1945,1334,611,422,382,26,14,41,0.12,0.02,0.17,0.16,4.7999999999999996E-3,5.0000000000000001E-3,2012,1,"MAR","2012-03-01"]
["El Dorado",2459,1510,70,113,100,666,12.7,1939,1348,591,388,349,29,10,41.7,0.12,0.03,0.16,0.14000000000000001,4.5999999999999999E-3,4.5999999999999999E-3,2012,2,"JUN","2012-06-01"]
["El Dorado",2397,1417,77,131,106,666,14,1975,1354,621,415,377,32,6,37.700000000000003,0.13,0.03,0.17,0.16,4.4000000000000003E-3,4.3E-3,2012,3,"SEP","2012-09-01"]
["El Dorado",2453,1435,92,92,128,706,13,2027,1366,661,481,426,42,13,36.299999999999997,0.13,0.04,0.2,0.17,4.8999999999999998E-3,4.5999999999999999E-3,2012,4,"DEC","2012-12-01"]
["El Dorado",2380,1355,351,101,82,491,12.7,1969,1013,956,418,372,32,14,9.3000000000000007,0.22,0.15,0.18,0.16,4.8999999999999998E-3,4.5999999999999999E-3,2013,1,"MAR","2013-03-01"]
["El Dorado",2359,1335,318,109,72,525,14.3,2175,1155,1020,472,420,37,15,11,0.21,0.13,0.2,0.18,4.7999999999999996E-3,4.5999999999999999E-3,2013,2,"JUN","2013-06-01"]
["El Dorado",2444,1367,301,135,71,570,15,2107,1002,1105,465,411,37,17,18.7,0.21,0.12,0.19,0.17,4.4000000000000003E-3,4.3E-3,2013,3,"SEP","2013-09-01"]
["El Dorado",2431,1331,307,122,99,572,17,2277,1127,1150,506,442,48,16,28.7,0.22,0.13,0.21,0.18,5.0000000000000001E-3,4.7000000000000002E-3,2013,4,"DEC","2013-12-01"]
["El Dorado",2363,1323,239,96,61,644,16.7,2081,1129,952,423,375,31,17,30.3,0.17,0.1,0.18,0.16,4.5999999999999999E-3,4.5999999999999999E-3,2014,1,"MAR","2014-03-01"]
["El Dorado",2035,1150,223,74,63,525,14,2188,1124,1064,486,430,34,22,29,0.18,0.11,0.24,0.21,4.3E-3,4.7999999999999996E-3,2014,2,"JUN","2014-06-01"]
["El Dorado",2100,1168,235,101,63,533,11,2071,1139,932,512,437,45,30,29,0.19,0.11,0.24,0.21,4.1000000000000003E-3,4.3E-3,2014,3,"SEP","2014-09-01"]
["El Dorado",2047,1113,230,98,67,539,11,2188,1145,1043,473,410,45,18,27.7,0.19,0.11,0.23,0.2,4.4000000000000003E-3,4.4000000000000003E-3,2014,4,"DEC","2014-12-01"]
["El Dorado",2063,1137,250,100,50,526,9.6999999999999993,2118,1147,971,533,472,40,21,28.7,0.19,0.12,0.26,0.23,4.5999999999999999E-3,4.4999999999999997E-3,2015,1,"MAR","2015-03-01"]
["El Dorado",1938,989,255,103,65,526,8.3000000000000007,2102,1144,958,502,447,33,22,27.7,0.22,0.13,0.26,0.23,4.4000000000000003E-3,4.1999999999999997E-3,2015,2,"JUN","2015-06-01"]
["El Dorado",1988,1067,253,97,62,509,9.6999999999999993,2243,1223,1020,529,463,46,20,28.3,0.21,0.13,0.27,0.23,4.1999999999999997E-3,4.4000000000000003E-3,2015,3,"SEP","2015-09-01"]
["El Dorado",1845,905,247,106,72,515,10,2372,1239,1133,491,436,35,20,27,0.23,0.13,0.27,0.24,5.4000000000000003E-3,5.8999999999999999E-3,2015,4,"DEC","2015-12-01"]
["El Dorado",1914,956,226,92,63,577,10,2260,1188,1072,487,429,37,21,28,0.2,0.12,0.25,0.22,4.1999999999999997E-3,4.8999999999999998E-3,2016,1,"MAR","2016-03-01"]
["Fresno",20248,7605,4125,1439,1006,6073,7.3,22002,19158,2844,2419,1471,559,389,58.7,0.32,0.2,0.12,7.0000000000000007E-2,0.04,6.3799999999999996E-2,2011,4,"DEC","2011-12-01"]
["Fresno",19535,7619,4023,1365,906,5622,7.3,21126,18525,2601,2353,1442,548,363,57.3,0.32,0.21,0.12,7.0000000000000007E-2,3.8399999999999997E-2,5.4800000000000001E-2,2012,1,"MAR","2012-03-01"]
["Fresno",18988,7625,3257,1271,842,5993,7,21672,18813,2859,2440,1602,465,373,57.3,0.28000000000000003,0.17,0.13,0.08,3.5799999999999998E-2,5.1799999999999999E-2,2012,2,"JUN","2012-06-01"]
["Fresno",18926,7867,2972,1319,855,5913,6.3,24037,21086,2951,2819,1751,605,463,57,0.27,0.16,0.15,0.09,3.4700000000000002E-2,5.2900000000000003E-2,2012,3,"SEP","2012-09-01"]
["Fresno",19085,6984,3054,1534,1084,6429,7,23199,20959,2240,2173,1371,470,332,50,0.3,0.16,0.11,7.0000000000000007E-2,3.8399999999999997E-2,5.21E-2,2012,4,"DEC","2012-12-01"]
["Fresno",17207,6874,2210,1253,789,6081,7.3,21194,19555,1639,1509,877,365,267,41.7,0.25,0.13,0.09,0.05,3.5299999999999998E-2,4.9599999999999998E-2,2013,1,"MAR","2013-03-01"]
["Fresno",17356,6915,2728,1340,767,5606,10.3,23137,20341,2796,2643,1686,583,374,54,0.28000000000000003,0.16,0.15,0.1,3.5099999999999999E-2,4.9099999999999998E-2,2013,2,"JUN","2013-06-01"]
["Fresno",20566,8054,3391,1555,1106,6460,10.7,25040,21684,3356,2985,2002,585,398,47.7,0.28999999999999998,0.16,0.15,0.1,3.6700000000000003E-2,5.11E-2,2013,3,"SEP","2013-09-01"]
["Fresno",18912,6926,2656,1263,928,7139,9,24756,21477,3279,2821,1823,613,385,47,0.26,0.14000000000000001,0.15,0.1,3.8800000000000001E-2,5.0900000000000001E-2,2013,4,"DEC","2013-12-01"]
["Fresno",18309,7511,2365,1079,720,6634,9,23265,20355,2910,2135,1298,488,349,45.3,0.23,0.13,0.12,7.0000000000000007E-2,3.5999999999999997E-2,5.1799999999999999E-2,2014,1,"MAR","2014-03-01"]
["Fresno",17268,7323,2271,988,657,6029,9,23265,20355,2910,2135,1298,488,349,45.3,0.23,0.13,0.12,0.08,3.6400000000000002E-2,5.0500000000000003E-2,2014,2,"JUN","2014-06-01"]
["Fresno",18585,7919,2765,1118,674,6109,10.7,27047,23235,3812,3027,1811,731,485,46,0.25,0.15,0.16,0.1,3.61E-2,5.5599999999999997E-2,2014,3,"SEP","2014-09-01"]
["Fresno",18865,7287,2862,1386,954,6376,8.6999999999999993,25804,22189,3615,3118,2062,634,422,46,0.28000000000000003,0.15,0.17,0.11,4.02E-2,5.2400000000000002E-2,2014,4,"DEC","2014-12-01"]
["Fresno",17256,7158,2254,1189,761,5894,8.6999999999999993,24151,20914,3237,2412,1484,544,384,43,0.24,0.13,0.14000000000000001,0.09,3.85E-2,5.0999999999999997E-2,2015,1,"MAR","2015-03-01"]
["Fresno",17443,6865,2456,1197,719,6206,7.3,25448,21827,3621,2856,1838,609,409,43.3,0.25,0.14000000000000001,0.16,0.11,3.9300000000000002E-2,5.0799999999999998E-2,2015,2,"JUN","2015-06-01"]
["Fresno",18577,7579,2587,1266,804,6341,8,26612,22603,4009,3041,1965,660,416,47.7,0.25,0.14000000000000001,0.16,0.11,3.9600000000000003E-2,5.2200000000000003E-2,2015,3,"SEP","2015-09-01"]
["Fresno",17836,6312,2940,1407,800,6377,8,28051,23899,4152,3538,2340,746,452,48,0.28999999999999998,0.16,0.2,0.13,5.2400000000000002E-2,6.9199999999999998E-2,2015,4,"DEC","2015-12-01"]
["Fresno",17499,6524,2676,1266,816,6217,7.7,24063,20484,3579,2601,1729,531,341,48.3,0.27,0.15,0.15,0.1,3.8699999999999998E-2,5.1999999999999998E-2,2016,1,"MAR","2016-03-01"]
["Glenn",499,308,10,27,25,129,17,158,91,67,63,63,0,0,36.299999999999997,0.12,0.02,0.13,0.13,1E-3,5.0000000000000001E-4,2011,4,"DEC","2011-12-01"]
["Glenn",506,281,25,22,16,162,15.7,454,365,89,57,53,2,2,16.7,0.13,0.05,0.11,0.11,1E-3,1.1999999999999999E-3,2012,1,"MAR","2012-03-01"]
["Glenn",487,275,18,27,21,146,14,467,371,96,68,64,3,1,27.7,0.14000000000000001,0.04,0.14000000000000001,0.13,8.9999999999999998E-4,1.1000000000000001E-3,2012,2,"JUN","2012-06-01"]
["Glenn",501,291,12,23,23,152,15.7,427,330,97,62,56,5,1,28.7,0.12,0.02,0.12,0.11,8.9999999999999998E-4,8.9999999999999998E-4,2012,3,"SEP","2012-09-01"]
["Glenn",495,261,26,28,29,151,12.7,476,339,137,104,94,5,5,30.7,0.17,0.05,0.21,0.19,1E-3,1.1000000000000001E-3,2012,4,"DEC","2012-12-01"]
["Glenn",484,244,98,19,20,103,10.3,444,266,178,77,71,5,1,5.7,0.28000000000000003,0.2,0.16,0.15,1E-3,1E-3,2013,1,"MAR","2013-03-01"]
["Glenn",431,236,59,21,11,104,10.7,489,286,203,53,49,3,1,6.3,0.21,0.14000000000000001,0.12,0.11,8.9999999999999998E-4,1E-3,2013,2,"JUN","2013-06-01"]
["Glenn",480,272,89,17,15,87,12.7,454,256,198,55,48,6,1,10.7,0.25,0.19,0.11,0.1,8.9999999999999998E-4,8.9999999999999998E-4,2013,3,"SEP","2013-09-01"]
["Glenn",485,233,80,28,27,117,12.7,528,312,216,84,75,9,0,24,0.28000000000000003,0.16,0.17,0.15,1E-3,1.1000000000000001E-3,2013,4,"DEC","2013-12-01"]
["Glenn",481,252,73,14,13,129,11.7,496,312,184,69,60,2,7,23.7,0.21,0.15,0.14000000000000001,0.13,8.9999999999999998E-4,1.1000000000000001E-3,2014,1,"MAR","2014-03-01"]
["Glenn",381,191,53,15,16,106,9.6999999999999993,460,266,194,65,58,4,3,22.3,0.22,0.14000000000000001,0.17,0.15,8.0000000000000004E-4,1E-3,2014,2,"JUN","2014-06-01"]
["Glenn",427,246,43,19,13,106,13.3,437,246,191,76,69,2,5,24.3,0.18,0.1,0.18,0.16,8.0000000000000004E-4,8.9999999999999998E-4,2014,3,"SEP","2014-09-01"]
["Glenn",427,192,65,22,18,130,12.3,526,304,222,102,84,10,8,25,0.25,0.15,0.24,0.2,8.9999999999999998E-4,1.1000000000000001E-3,2014,4,"DEC","2014-12-01"]
["Glenn",388,199,53,21,13,102,9.6999999999999993,461,256,205,76,66,6,4,21.7,0.22,0.14000000000000001,0.2,0.17,8.9999999999999998E-4,1E-3,2015,1,"MAR","2015-03-01"]
["Glenn",394,220,48,17,16,93,8,429,247,182,63,58,3,2,22,0.21,0.12,0.16,0.15,8.9999999999999998E-4,8.9999999999999998E-4,2015,2,"JUN","2015-06-01"]
["Glenn",379,208,36,17,9,109,9.6999999999999993,491,275,216,79,74,2,3,23.3,0.16,0.1,0.21,0.2,8.0000000000000004E-4,1E-3,2015,3,"SEP","2015-09-01"]
["Glenn",350,156,53,15,16,110,10.7,512,302,210,75,62,9,4,20,0.24,0.15,0.21,0.18,1E-3,1.2999999999999999E-3,2015,4,"DEC","2015-12-01"]
["Glenn",417,203,62,18,19,115,8.3000000000000007,460,291,169,91,89,2,0,21.7,0.24,0.15,0.22,0.21,8.9999999999999998E-4,1E-3,2016,1,"MAR","2016-03-01"]
["Humboldt",3014,1835,134,171,145,729,12.7,886,460,426,387,375,7,5,40,0.15,0.04,0.13,0.12,6.0000000000000001E-3,2.5999999999999999E-3,2011,4,"DEC","2011-12-01"]
["Humboldt",3377,2045,87,180,121,944,14,2727,1620,1107,716,622,55,39,45,0.12,0.03,0.21,0.18,6.6E-3,7.1000000000000004E-3,2012,1,"MAR","2012-03-01"]
["Humboldt",3291,1944,98,165,144,940,13.3,2832,1715,1117,749,662,63,24,42,0.12,0.03,0.23,0.2,6.1999999999999998E-3,6.7999999999999996E-3,2012,2,"JUN","2012-06-01"]
["Humboldt",3439,2082,119,172,137,929,13,2664,1572,1092,712,632,53,27,38.299999999999997,0.12,0.03,0.21,0.18,6.3E-3,5.8999999999999999E-3,2012,3,"SEP","2012-09-01"]
["Humboldt",3148,1783,148,146,135,936,16,2786,1573,1213,849,749,62,38,42.3,0.14000000000000001,0.05,0.27,0.24,6.3E-3,6.3E-3,2012,4,"DEC","2012-12-01"]
["Humboldt",3560,2039,489,153,121,758,15.3,2911,1459,1452,813,707,74,32,13.7,0.21,0.14000000000000001,0.23,0.2,7.3000000000000001E-3,6.7999999999999996E-3,2013,1,"MAR","2013-03-01"]
["Humboldt",3636,2113,430,139,98,856,14,2897,1650,1247,749,675,43,31,15,0.18,0.12,0.21,0.19,7.4000000000000003E-3,6.1000000000000004E-3,2013,2,"JUN","2013-06-01"]
["Humboldt",3859,2319,440,142,115,843,16.3,2922,1571,1351,798,686,71,41,21.7,0.18,0.11,0.21,0.18,6.8999999999999999E-3,6.0000000000000001E-3,2013,3,"SEP","2013-09-01"]
["Humboldt",3330,2010,345,170,115,690,18,2972,1641,1331,724,642,59,23,30,0.19,0.1,0.22,0.19,6.7999999999999996E-3,6.1000000000000004E-3,2013,4,"DEC","2013-12-01"]
["Humboldt",3493,2161,275,107,79,871,19,2780,1651,1129,630,567,38,25,31.7,0.13,0.08,0.18,0.16,6.8999999999999999E-3,6.1999999999999998E-3,2014,1,"MAR","2014-03-01"]
["Humboldt",3368,2019,286,96,82,885,12.7,3034,1775,1259,752,687,47,18,30.3,0.14000000000000001,0.08,0.22,0.2,7.1000000000000004E-3,6.6E-3,2014,2,"JUN","2014-06-01"]
["Humboldt",3524,2253,350,105,78,738,12.3,2710,1578,1132,776,713,44,19,32.700000000000003,0.15,0.1,0.22,0.2,6.7999999999999996E-3,5.5999999999999999E-3,2014,3,"SEP","2014-09-01"]
["Humboldt",3612,2265,397,147,81,722,11,2981,1720,1261,841,753,58,30,31.7,0.17,0.11,0.23,0.21,7.7000000000000002E-3,6.1000000000000004E-3,2014,4,"DEC","2014-12-01"]
["Humboldt",3590,2151,409,120,92,818,10,2985,1720,1265,823,763,40,20,31.3,0.17,0.11,0.23,0.21,8.0000000000000002E-3,6.3E-3,2015,1,"MAR","2015-03-01"]
["Humboldt",3274,1906,378,132,78,780,8.6999999999999993,3257,1767,1490,865,779,58,28,32,0.18,0.12,0.26,0.24,7.4000000000000003E-3,6.4999999999999997E-3,2015,2,"JUN","2015-06-01"]
["Humboldt",3763,2295,440,182,93,753,12,3574,1931,1643,1069,973,70,26,33.700000000000003,0.19,0.12,0.28000000000000003,0.26,8.0000000000000002E-3,7.0000000000000001E-3,2015,3,"SEP","2015-09-01"]
["Humboldt",3390,1948,417,147,104,774,10,3420,1826,1594,1023,913,71,39,30.3,0.2,0.12,0.3,0.27,0.01,8.3999999999999995E-3,2015,4,"DEC","2015-12-01"]
["Humboldt",3337,1819,466,164,121,767,10.7,3471,1927,1544,1066,971,70,25,31.3,0.23,0.14000000000000001,0.32,0.28999999999999998,7.4000000000000003E-3,7.4999999999999997E-3,2016,1,"MAR","2016-03-01"]
["Imperial",3305,1847,128,141,147,1042,15,1769,1322,447,384,365,13,6,30.3,0.13,0.04,0.12,0.11,6.4999999999999997E-3,5.1000000000000004E-3,2011,4,"DEC","2011-12-01"]
["Imperial",3276,1791,123,144,133,1085,15.3,3778,2847,931,637,553,53,31,29.3,0.12,0.04,0.19,0.17,6.4000000000000003E-3,9.7999999999999997E-3,2012,1,"MAR","2012-03-01"]
["Imperial",3697,1937,135,174,194,1257,14.7,4279,3262,1017,685,606,51,28,26,0.14000000000000001,0.04,0.19,0.16,7.0000000000000001E-3,1.0200000000000001E-2,2012,2,"JUN","2012-06-01"]
["Imperial",4069,2140,140,183,170,1436,16.7,4633,3529,1104,758,684,46,28,26.7,0.12,0.03,0.19,0.17,7.4999999999999997E-3,1.0200000000000001E-2,2012,3,"SEP","2012-09-01"]
["Imperial",3163,1660,196,126,148,1033,14.3,3548,2678,870,575,521,32,22,26.3,0.15,0.06,0.18,0.16,6.4000000000000003E-3,8.0000000000000002E-3,2012,4,"DEC","2012-12-01"]
["Imperial",3172,1622,613,137,121,679,15,3873,2604,1269,560,495,36,29,6,0.27,0.19,0.18,0.16,6.4999999999999997E-3,9.1000000000000004E-3,2013,1,"MAR","2013-03-01"]
["Imperial",3846,1811,738,180,160,957,16.7,4662,3253,1409,597,521,41,35,5.7,0.28000000000000003,0.19,0.16,0.14000000000000001,7.7999999999999996E-3,9.9000000000000008E-3,2013,2,"JUN","2013-06-01"]
["Imperial",4443,2200,726,199,135,1183,18.3,4867,3382,1485,687,609,54,24,12,0.24,0.16,0.15,0.14000000000000001,7.9000000000000008E-3,9.9000000000000008E-3,2013,3,"SEP","2013-09-01"]
["Imperial",3328,1622,590,144,128,844,14.3,4062,2872,1190,723,653,52,18,23.7,0.26,0.18,0.22,0.2,6.7999999999999996E-3,8.3999999999999995E-3,2013,4,"DEC","2013-12-01"]
["Imperial",3489,1772,565,164,119,869,14.7,4299,3020,1279,892,769,78,45,23,0.24,0.16,0.26,0.22,6.8999999999999999E-3,9.5999999999999992E-3,2014,1,"MAR","2014-03-01"]
["Imperial",4040,2006,536,195,164,1139,16,4765,3296,1469,1023,887,88,48,22.7,0.22,0.13,0.25,0.22,8.5000000000000006E-3,1.03E-2,2014,2,"JUN","2014-06-01"]
["Imperial",4341,2234,568,185,130,1224,16.3,4951,3510,1441,1142,1023,83,36,23.7,0.2,0.13,0.26,0.24,8.3999999999999995E-3,1.0200000000000001E-2,2014,3,"SEP","2014-09-01"]
["Imperial",3479,1819,513,149,95,903,15,4018,2835,1183,798,709,57,32,23,0.22,0.15,0.23,0.2,7.4000000000000003E-3,8.2000000000000007E-3,2014,4,"DEC","2014-12-01"]
["Imperial",3443,1717,548,156,116,906,13.7,4217,2923,1294,946,831,75,40,24.7,0.24,0.16,0.27,0.24,7.7000000000000002E-3,8.8999999999999999E-3,2015,1,"MAR","2015-03-01"]
["Imperial",3619,1684,549,184,116,1086,12.7,5127,3614,1513,1014,908,67,39,22.7,0.23,0.15,0.28000000000000003,0.25,8.0999999999999996E-3,1.0200000000000001E-2,2015,2,"JUN","2015-06-01"]
["Imperial",4049,1990,555,176,134,1194,12,5386,3850,1536,969,862,82,25,23.3,0.21,0.14000000000000001,0.24,0.21,8.6E-3,1.06E-2,2015,3,"SEP","2015-09-01"]
["Imperial",3231,1559,532,146,92,902,10.3,4304,2893,1411,820,738,49,33,22.7,0.24,0.16,0.25,0.23,9.4999999999999998E-3,1.06E-2,2015,4,"DEC","2015-12-01"]
["Imperial",3265,1569,568,154,136,838,10,4577,3135,1442,966,838,83,45,23,0.26,0.17,0.3,0.26,7.1999999999999998E-3,9.9000000000000008E-3,2016,1,"MAR","2016-03-01"]
["Inyo",330,182,11,19,22,96,8.6999999999999993,111,81,30,26,24,2,0,37.700000000000003,0.16,0.03,0.08,7.0000000000000007E-2,6.9999999999999999E-4,2.9999999999999997E-4,2011,4,"DEC","2011-12-01"]
["Inyo",344,186,4,15,25,114,10,284,227,57,41,39,0,2,32.299999999999997,0.13,0.01,0.12,0.11,6.9999999999999999E-4,6.9999999999999999E-4,2012,1,"MAR","2012-03-01"]
["Inyo",317,167,14,14,26,96,9,298,217,81,49,46,2,1,32.700000000000003,0.17,0.04,0.16,0.15,5.9999999999999995E-4,6.9999999999999999E-4,2012,2,"JUN","2012-06-01"]
["Inyo",336,178,18,18,18,104,8,295,228,67,43,42,1,0,23.7,0.16,0.05,0.13,0.13,5.9999999999999995E-4,5.9999999999999995E-4,2012,3,"SEP","2012-09-01"]
["Inyo",303,147,17,18,13,108,8.6999999999999993,343,262,81,67,63,4,0,28.3,0.16,0.06,0.22,0.21,5.9999999999999995E-4,8.0000000000000004E-4,2012,4,"DEC","2012-12-01"]
["Inyo",314,166,48,9,7,84,7.7,310,169,141,48,45,2,1,6.3,0.2,0.15,0.15,0.14000000000000001,5.9999999999999995E-4,6.9999999999999999E-4,2013,1,"MAR","2013-03-01"]
["Inyo",362,173,59,15,14,101,7.7,333,178,155,82,71,5,6,5.7,0.24,0.16,0.23,0.2,6.9999999999999999E-4,6.9999999999999999E-4,2013,2,"JUN","2013-06-01"]
["Inyo",350,177,60,21,18,74,7.7,348,175,173,60,55,3,2,16,0.28000000000000003,0.17,0.17,0.16,5.9999999999999995E-4,6.9999999999999999E-4,2013,3,"SEP","2013-09-01"]
["Inyo",292,154,36,16,13,73,9.3000000000000007,371,201,170,85,74,10,1,27.7,0.22,0.12,0.28999999999999998,0.25,5.9999999999999995E-4,8.0000000000000004E-4,2013,4,"DEC","2013-12-01"]
["Inyo",348,179,36,21,11,101,7.7,349,198,151,78,76,1,1,24.7,0.2,0.1,0.22,0.22,6.9999999999999999E-4,8.0000000000000004E-4,2014,1,"MAR","2014-03-01"]
["Inyo",240,128,25,9,5,73,9,345,172,173,75,63,8,4,29,0.16,0.1,0.31,0.26,5.0000000000000001E-4,6.9999999999999999E-4,2014,2,"JUN","2014-06-01"]
["Inyo",297,152,30,17,9,89,8,315,166,149,74,71,1,2,26,0.19,0.1,0.25,0.24,5.9999999999999995E-4,5.9999999999999995E-4,2014,3,"SEP","2014-09-01"]
["Inyo",287,134,34,15,14,90,8,375,200,175,97,89,5,3,27.3,0.22,0.12,0.34,0.31,5.9999999999999995E-4,8.0000000000000004E-4,2014,4,"DEC","2014-12-01"]
["Inyo",278,115,42,12,11,98,5.7,340,184,156,86,76,7,3,27.3,0.23,0.15,0.31,0.27,5.9999999999999995E-4,6.9999999999999999E-4,2015,1,"MAR","2015-03-01"]
["Inyo",224,92,29,18,8,77,5.7,302,166,136,77,68,5,4,26.7,0.25,0.13,0.34,0.3,5.0000000000000001E-4,5.9999999999999995E-4,2015,2,"JUN","2015-06-01"]
["Inyo",265,121,34,21,8,81,6.3,319,187,132,93,85,5,3,29.3,0.24,0.13,0.35,0.32,5.9999999999999995E-4,5.9999999999999995E-4,2015,3,"SEP","2015-09-01"]
["Inyo",261,104,35,14,12,96,5,355,205,150,88,85,3,0,27.7,0.23,0.13,0.34,0.33,8.0000000000000004E-4,8.9999999999999998E-4,2015,4,"DEC","2015-12-01"]
["Inyo",229,120,32,9,9,59,7.3,313,187,126,83,77,4,2,26,0.22,0.14000000000000001,0.36,0.34,5.0000000000000001E-4,6.9999999999999999E-4,2016,1,"MAR","2016-03-01"]
["Kern",17479,7954,1028,1154,1233,6110,14,7658,5334,2324,1945,1781,117,47,28.7,0.2,0.06,0.11,0.1,3.4599999999999999E-2,2.2200000000000001E-2,2011,4,"DEC","2011-12-01"]
["Kern",17255,7971,1005,998,1008,6273,15,15747,11894,3853,2735,2398,226,111,29.7,0.18,0.06,0.16,0.14000000000000001,3.39E-2,4.0800000000000003E-2,2012,1,"MAR","2012-03-01"]
["Kern",16866,8140,862,886,823,6155,14.3,17150,12988,4162,2763,2417,236,110,29,0.15,0.05,0.16,0.14000000000000001,3.1800000000000002E-2,4.1000000000000002E-2,2012,2,"JUN","2012-06-01"]
["Kern",17387,8407,939,910,910,6221,15.3,17369,12599,4770,3156,2726,278,152,28.7,0.16,0.05,0.18,0.16,3.1899999999999998E-2,3.8199999999999998E-2,2012,3,"SEP","2012-09-01"]
["Kern",17301,7461,1082,981,1028,6749,15.7,18304,13165,5139,3481,2997,321,163,25.7,0.18,0.06,0.2,0.17,3.4799999999999998E-2,4.1099999999999998E-2,2012,4,"DEC","2012-12-01"]
["Kern",17024,7414,3904,788,586,4332,14.7,16546,10713,5833,2505,2120,260,125,8.6999999999999993,0.31,0.23,0.15,0.12,3.49E-2,3.8699999999999998E-2,2013,1,"MAR","2013-03-01"]
["Kern",16488,7187,3451,788,621,4441,14.7,18636,12584,6052,2438,2062,233,143,7.7,0.28999999999999998,0.21,0.15,0.13,3.3399999999999999E-2,3.95E-2,2013,2,"JUN","2013-06-01"]
["Kern",18709,8388,3852,972,656,4841,15,18707,12339,6368,2749,2327,299,123,13.7,0.28999999999999998,0.21,0.15,0.12,3.3399999999999999E-2,3.8100000000000002E-2,2013,3,"SEP","2013-09-01"]
["Kern",17640,6993,4010,1058,739,4840,16,20454,13309,7145,4694,4145,406,143,24.3,0.33,0.23,0.27,0.24,3.6200000000000003E-2,4.2000000000000003E-2,2013,4,"DEC","2013-12-01"]
["Kern",17666,7475,3633,833,550,5175,16,18436,12188,6248,3924,3367,368,189,22.7,0.28000000000000003,0.21,0.22,0.19,3.4700000000000002E-2,4.1000000000000002E-2,2014,1,"MAR","2014-03-01"]
["Kern",16220,6845,3233,869,592,4681,15,18595,11944,6651,3933,3389,364,180,22.3,0.28999999999999998,0.2,0.24,0.21,3.4200000000000001E-2,4.0399999999999998E-2,2014,2,"JUN","2014-06-01"]
["Kern",17089,7547,3029,921,576,5016,14.3,18099,11603,6496,4019,3448,397,174,22,0.26,0.18,0.24,0.2,3.32E-2,3.7199999999999997E-2,2014,3,"SEP","2014-09-01"]
["Kern",17097,6729,3614,1030,650,5074,14.7,18973,12455,6518,4273,3579,465,229,20.7,0.31,0.21,0.25,0.21,3.6400000000000002E-2,3.8600000000000002E-2,2014,4,"DEC","2014-12-01"]
["Kern",18148,7781,3240,895,622,5610,14,17225,11536,5689,3359,2876,301,182,19,0.26,0.18,0.19,0.16,4.0500000000000001E-2,3.6400000000000002E-2,2015,1,"MAR","2015-03-01"]
["Kern",17788,7658,3165,912,559,5494,12.3,18417,12461,5956,3627,3120,344,163,18.7,0.26,0.18,0.2,0.18,0.04,3.6700000000000003E-2,2015,2,"JUN","2015-06-01"]
["Kern",18281,7917,3474,908,557,5425,12.3,18935,12618,6317,3766,3220,362,184,19,0.27,0.19,0.21,0.18,3.8899999999999997E-2,3.7100000000000001E-2,2015,3,"SEP","2015-09-01"]
["Kern",17827,6974,3648,1108,710,5387,12.7,20484,13464,7020,4400,3795,440,165,19.3,0.31,0.2,0.25,0.21,5.2299999999999999E-2,5.0500000000000003E-2,2015,4,"DEC","2015-12-01"]
["Kern",18339,7482,3591,1102,668,5496,12.7,19365,12721,6644,3985,3414,397,174,19.7,0.28999999999999998,0.2,0.22,0.19,4.0500000000000001E-2,4.1799999999999997E-2,2016,1,"MAR","2016-03-01"]
["Kings",2721,1273,146,171,150,981,14.7,1323,978,345,296,277,15,4,34,0.17,0.05,0.11,0.1,5.4000000000000003E-3,3.8E-3,2011,4,"DEC","2011-12-01"]
["Kings",2735,1330,116,132,124,1033,16.7,2800,2193,607,423,369,33,21,30,0.14000000000000001,0.04,0.16,0.14000000000000001,5.4000000000000003E-3,7.3000000000000001E-3,2012,1,"MAR","2012-03-01"]
["Kings",2629,1291,136,132,138,932,15.7,2791,2199,592,400,352,28,20,30,0.15,0.05,0.15,0.13,5.0000000000000001E-3,6.7000000000000002E-3,2012,2,"JUN","2012-06-01"]
["Kings",2757,1376,118,149,131,983,16,3006,2319,687,452,399,35,18,32,0.14000000000000001,0.04,0.16,0.14000000000000001,5.1000000000000004E-3,6.6E-3,2012,3,"SEP","2012-09-01"]
["Kings",2761,1174,153,186,190,1058,16,3061,2350,711,521,464,38,19,28.3,0.19,0.06,0.19,0.17,5.4999999999999997E-3,6.8999999999999999E-3,2012,4,"DEC","2012-12-01"]
["Kings",2920,1305,591,138,101,785,15,2771,1817,954,525,467,41,17,8.3000000000000007,0.28000000000000003,0.2,0.18,0.16,6.0000000000000001E-3,6.4999999999999997E-3,2013,1,"MAR","2013-03-01"]
["Kings",2652,1204,556,134,90,668,15.7,2996,1919,1077,548,475,45,28,7.3,0.28999999999999998,0.21,0.21,0.18,5.4000000000000003E-3,6.4000000000000003E-3,2013,2,"JUN","2013-06-01"]
["Kings",2691,1235,535,133,110,678,16.3,3084,1934,1150,583,525,33,25,14.3,0.28999999999999998,0.2,0.22,0.2,4.7999999999999996E-3,6.3E-3,2013,3,"SEP","2013-09-01"]
["Kings",2645,1043,613,153,109,727,17.3,3428,2172,1256,1158,1070,77,11,29,0.33,0.23,0.44,0.4,5.4000000000000003E-3,7.0000000000000001E-3,2013,4,"DEC","2013-12-01"]
["Kings",2719,1198,492,124,78,827,16,3241,2144,1097,1031,949,49,33,28.7,0.26,0.18,0.38,0.35,5.3E-3,7.1999999999999998E-3,2014,1,"MAR","2014-03-01"]
["Kings",2266,966,424,105,84,687,14.7,3019,1925,1094,937,861,48,28,27,0.27,0.19,0.41,0.38,4.7999999999999996E-3,6.6E-3,2014,2,"JUN","2014-06-01"]
["Kings",2511,1118,461,125,82,725,14.3,2980,1840,1140,923,822,70,31,28,0.27,0.18,0.37,0.33,4.8999999999999998E-3,6.1000000000000004E-3,2014,3,"SEP","2014-09-01"]
["Kings",2620,1008,569,174,91,778,15,3191,2047,1144,961,882,51,28,25.7,0.32,0.22,0.37,0.34,5.5999999999999999E-3,6.4999999999999997E-3,2014,4,"DEC","2014-12-01"]
["Kings",2747,1109,619,136,71,812,12.7,2936,1956,980,883,797,65,21,27.7,0.3,0.23,0.32,0.28999999999999998,6.1000000000000004E-3,6.1999999999999998E-3,2015,1,"MAR","2015-03-01"]
["Kings",2553,1089,496,119,85,764,11.3,2890,1868,1022,818,739,48,31,26,0.27,0.19,0.32,0.28999999999999998,5.7000000000000002E-3,5.7999999999999996E-3,2015,2,"JUN","2015-06-01"]
["Kings",2605,1071,561,114,81,778,10.3,3035,1910,1125,745,673,46,26,27.3,0.28999999999999998,0.22,0.28999999999999998,0.26,5.4999999999999997E-3,5.8999999999999999E-3,2015,3,"SEP","2015-09-01"]
["Kings",2590,920,620,165,108,777,10,3260,2131,1129,793,704,64,25,24,0.34,0.24,0.31,0.27,7.6E-3,8.0000000000000002E-3,2015,4,"DEC","2015-12-01"]
["Kings",2627,1011,563,143,82,828,9,3178,2009,1169,650,567,56,27,27,0.3,0.21,0.25,0.22,5.7999999999999996E-3,6.8999999999999999E-3,2016,1,"MAR","2016-03-01"]
["Lake",1393,934,26,52,45,336,20.3,677,314,363,354,338,13,3,46.3,0.09,0.02,0.25,0.24,2.8E-3,2E-3,2011,4,"DEC","2011-12-01"]
["Lake",1542,984,29,55,62,412,23.3,1434,821,613,468,432,30,6,54.7,0.1,0.02,0.3,0.28000000000000003,3.0000000000000001E-3,3.7000000000000002E-3,2012,1,"MAR","2012-03-01"]
["Lake",1535,1015,27,59,31,403,22,1447,845,602,427,395,17,15,49.3,0.08,0.02,0.28000000000000003,0.26,2.8999999999999998E-3,3.5000000000000001E-3,2012,2,"JUN","2012-06-01"]
["Lake",1573,997,24,47,59,446,23.3,1527,868,659,438,403,23,12,46.3,0.08,0.02,0.28000000000000003,0.26,2.8999999999999998E-3,3.3999999999999998E-3,2012,3,"SEP","2012-09-01"]
["Lake",1370,807,26,48,59,430,19.3,1558,1000,558,409,379,24,6,37,0.1,0.02,0.3,0.28000000000000003,2.8E-3,3.5000000000000001E-3,2012,4,"DEC","2012-12-01"]
["Lake",1437,867,153,54,45,318,25.3,1500,906,594,351,307,29,15,14.3,0.18,0.11,0.24,0.21,2.8999999999999998E-3,3.5000000000000001E-3,2013,1,"MAR","2013-03-01"]
["Lake",1510,934,168,55,36,317,20,1626,1049,577,295,263,18,14,12.3,0.17,0.11,0.2,0.17,3.0999999999999999E-3,3.3999999999999998E-3,2013,2,"JUN","2013-06-01"]
["Lake",1596,923,169,55,52,397,24,1664,1041,623,285,250,22,13,20,0.17,0.11,0.18,0.16,2.8E-3,3.3999999999999998E-3,2013,3,"SEP","2013-09-01"]
["Lake",1340,746,140,46,50,358,22.7,1752,1121,631,454,413,27,14,31,0.18,0.1,0.34,0.31,2.7000000000000001E-3,3.5999999999999999E-3,2013,4,"DEC","2013-12-01"]
["Lake",1361,834,90,29,34,374,27.7,1627,1068,559,535,475,45,15,31.7,0.11,7.0000000000000007E-2,0.39,0.35,2.7000000000000001E-3,3.5999999999999999E-3,2014,1,"MAR","2014-03-01"]
["Lake",1270,767,71,42,35,355,18.7,1615,979,636,482,431,27,24,30,0.12,0.06,0.38,0.34,2.7000000000000001E-3,3.5000000000000001E-3,2014,2,"JUN","2014-06-01"]
["Lake",1369,802,90,54,43,380,15,1553,987,566,471,422,34,15,30,0.14000000000000001,7.0000000000000007E-2,0.34,0.31,2.7000000000000001E-3,3.2000000000000002E-3,2014,3,"SEP","2014-09-01"]
["Lake",1323,768,92,54,50,359,13.7,1668,1033,635,480,413,51,16,31.3,0.15,7.0000000000000007E-2,0.36,0.31,2.8E-3,3.3999999999999998E-3,2014,4,"DEC","2014-12-01"]
["Lake",1417,863,90,58,37,369,12.3,1593,1029,564,455,394,39,22,31.7,0.13,0.06,0.32,0.28000000000000003,3.2000000000000002E-3,3.3999999999999998E-3,2015,1,"MAR","2015-03-01"]
["Lake",1280,733,101,50,44,352,12,1666,1051,615,450,393,36,21,29.7,0.15,0.08,0.35,0.31,2.8999999999999998E-3,3.3E-3,2015,2,"JUN","2015-06-01"]
["Lake",1731,1051,99,55,51,475,11.3,1793,1076,717,511,439,49,23,31,0.12,0.06,0.3,0.25,3.7000000000000002E-3,3.5000000000000001E-3,2015,3,"SEP","2015-09-01"]
["Lake",2190,1408,148,97,55,482,9.6999999999999993,1918,1153,765,540,473,42,25,30.7,0.14000000000000001,7.0000000000000007E-2,0.25,0.22,6.4000000000000003E-3,4.7000000000000002E-3,2015,4,"DEC","2015-12-01"]
["Lake",1308,698,105,61,62,382,11,1810,1080,730,478,424,38,16,29,0.17,0.08,0.37,0.32,2.8999999999999998E-3,3.8999999999999998E-3,2016,1,"MAR","2016-03-01"]
["Lassen",522,218,74,33,57,140,12,173,68,105,99,95,4,0,45.3,0.31,0.14000000000000001,0.19,0.18,1E-3,5.0000000000000001E-4,2011,4,"DEC","2011-12-01"]
["Lassen",589,257,65,43,50,174,9.3000000000000007,457,333,124,98,88,7,3,38,0.27,0.11,0.17,0.15,1.1999999999999999E-3,1.1999999999999999E-3,2012,1,"MAR","2012-03-01"]
["Lassen",550,253,57,36,60,144,11.7,465,350,115,79,69,5,5,26,0.28000000000000003,0.1,0.14000000000000001,0.13,1E-3,1.1000000000000001E-3,2012,2,"JUN","2012-06-01"]
["Lassen",599,321,33,26,47,172,13.7,542,383,159,104,95,5,4,21.3,0.18,0.06,0.17,0.16,1.1000000000000001E-3,1.1999999999999999E-3,2012,3,"SEP","2012-09-01"]
["Lassen",476,216,47,21,33,159,12,482,335,147,89,82,4,3,5.3,0.21,0.1,0.19,0.17,1E-3,1.1000000000000001E-3,2012,4,"DEC","2012-12-01"]
["Lassen",478,245,77,21,22,113,10.3,475,257,218,93,80,5,8,9.3000000000000007,0.25,0.16,0.19,0.17,1E-3,1.1000000000000001E-3,2013,1,"MAR","2013-03-01"]
["Lassen",466,243,72,18,19,114,11.3,482,283,199,68,60,3,5,12,0.23,0.15,0.15,0.13,8.9999999999999998E-4,1E-3,2013,2,"JUN","2013-06-01"]
["Lassen",565,304,88,23,22,128,12,544,323,221,107,101,3,3,17.7,0.24,0.16,0.19,0.18,1E-3,1.1000000000000001E-3,2013,3,"SEP","2013-09-01"]
["Lassen",494,241,69,23,18,143,14.7,545,314,231,119,109,8,2,28.3,0.22,0.14000000000000001,0.24,0.22,1E-3,1.1000000000000001E-3,2013,4,"DEC","2013-12-01"]
["Lassen",445,257,46,29,9,104,12.7,507,312,195,123,110,5,8,27.7,0.19,0.1,0.28000000000000003,0.25,8.9999999999999998E-4,1.1000000000000001E-3,2014,1,"MAR","2014-03-01"]
["Lassen",407,230,32,19,19,107,16,478,284,194,103,92,5,6,30.3,0.17,0.08,0.25,0.23,8.9999999999999998E-4,1E-3,2014,2,"JUN","2014-06-01"]
["Lassen",466,258,56,22,16,114,20.7,576,347,229,104,94,8,2,29.3,0.2,0.12,0.22,0.2,8.9999999999999998E-4,1.1999999999999999E-3,2014,3,"SEP","2014-09-01"]
["Lassen",421,243,37,13,9,119,18.7,559,304,255,100,87,8,5,27,0.14000000000000001,0.09,0.24,0.21,8.9999999999999998E-4,1.1000000000000001E-3,2014,4,"DEC","2014-12-01"]
["Lassen",410,228,28,17,18,119,15,503,273,230,117,102,12,3,28.7,0.15,7.0000000000000007E-2,0.28999999999999998,0.25,8.9999999999999998E-4,1.1000000000000001E-3,2015,1,"MAR","2015-03-01"]
["Lassen",390,222,29,13,13,113,21.7,459,257,202,119,106,10,3,28.7,0.14000000000000001,7.0000000000000007E-2,0.31,0.27,8.9999999999999998E-4,8.9999999999999998E-4,2015,2,"JUN","2015-06-01"]
["Lassen",412,237,35,20,11,109,23.3,523,285,238,134,120,10,4,29.3,0.16,0.09,0.33,0.28999999999999998,8.9999999999999998E-4,1E-3,2015,3,"SEP","2015-09-01"]
["Lassen",348,188,22,25,9,104,21,501,274,227,112,94,14,4,26,0.16,0.06,0.32,0.27,1E-3,1.1999999999999999E-3,2015,4,"DEC","2015-12-01"]
["Lassen",362,196,19,27,11,109,15,481,253,228,87,81,4,2,25.7,0.16,0.05,0.24,0.22,8.0000000000000004E-4,1E-3,2016,1,"MAR","2016-03-01"]
["Los Angeles",134653,73373,15196,7297,4577,34210,13.7,112391,86473,25918,2623,908,998,717,36,0.2,0.11,0.02,0.67,0.26629999999999998,0.32600000000000001,2011,4,"DEC","2011-12-01"]
["Los Angeles",129409,67082,15778,7895,4946,33708,13.7,74481,73622,859,400,18,245,137,32.299999999999997,0.22,0.12,0.3,0,0.25440000000000002,0.19309999999999999,2012,1,"MAR","2012-03-01"]
["Los Angeles",146948,77135,17312,8166,5271,39064,13.3,81940,81112,828,441,15,300,126,31.7,0.21,0.12,0.3,0,0.2767,0.1958,2012,2,"JUN","2012-06-01"]
["Los Angeles",147723,80774,15430,6317,4456,40746,13.3,83679,82961,718,427,18,271,138,31.3,0.18,0.1,0.28999999999999998,0.01,0.27060000000000001,0.1842,2012,3,"SEP","2012-09-01"]
["Los Angeles",127647,70576,13711,5893,3662,33805,13,80990,80372,618,465,18,287,160,31.3,0.18,0.11,0.36,0.01,0.25659999999999999,0.18190000000000001,2012,4,"DEC","2012-12-01"]
["Los Angeles",121801,66996,13774,5984,3830,31217,13.3,85650,82791,2859,1955,1377,354,224,30,0.19,0.11,0.02,0.01,0.24959999999999999,0.20030000000000001,2013,1,"MAR","2013-03-01"]
["Los Angeles",128957,72421,12407,6366,4271,33492,13.3,96578,93609,2969,2001,1252,496,253,30.7,0.18,0.1,0.02,0.97,0.26100000000000001,0.2049,2013,2,"JUN","2013-06-01"]
["Los Angeles",144822,85474,11302,6503,4430,37113,13,98693,96277,2416,1813,1214,377,222,31.7,0.15,0.08,0.01,0.84,0.25840000000000002,0.20119999999999999,2013,3,"SEP","2013-09-01"]
["Los Angeles",116138,65841,12100,5678,3527,28992,13.3,89247,87864,1383,1274,956,206,112,29.3,0.18,0.1,0.01,0.82,0.23810000000000001,0.1835,2013,4,"DEC","2013-12-01"]
["Los Angeles",124799,71635,12980,5467,3401,31316,13,74644,73191,1453,1702,1101,374,227,29.3,0.18,0.1,0.01,0.9,0.24540000000000001,0.16619999999999999,2014,1,"MAR","2014-03-01"]
["Los Angeles",121636,68135,11504,5892,3905,32200,12.7,82075,80845,1230,1091,736,203,152,30.7,0.18,0.09,0.9,0.61,0.25669999999999998,0.1782,2014,2,"JUN","2014-06-01"]
["Los Angeles",129105,73423,11686,4634,3920,35442,12.7,77270,76276,994,972,748,155,69,31.7,0.16,0.09,1,0.6,0.25080000000000002,0.1588,2014,3,"SEP","2014-09-01"]
["Los Angeles",117017,62400,14254,6832,3483,30048,14,98987,82901,16086,1314,958,233,123,30.3,0.21,0.12,0.01,0.82,0.2492,0.2011,2014,4,"DEC","2014-12-01"]
["Los Angeles",84407,40234,6963,3762,2450,30998,14.3,90873,79562,11311,1023,805,141,77,29.7,0.16,0.08,0.01,0.95,0.18840000000000001,0.192,2015,1,"MAR","2015-03-01"]
["Los Angeles",89363,41809,7291,3718,2596,33949,12,101643,84901,16742,1189,908,181,100,30.3,0.15,0.08,0.01,0.01,0.2011,0.20280000000000001,2015,2,"JUN","2015-06-01"]
["Los Angeles",90967,43225,7277,3609,2378,34478,11.7,96380,79548,16832,1046,791,174,81,0,0.15,0.08,0.01,0.9,0.19370000000000001,0.18890000000000001,2015,3,"SEP","2015-09-01"]
["Los Angeles",0,0,0,0,0,0,0,0,0,0,0,0,0,0,0,0,0,0,0,0,0,2015,4,"DEC","2015-12-01"]
["Los Angeles",101982,58216,791,1132,1498,40345,15.7,76118,44756,31362,2803,213,1619,971,53,0.03,0.78,0.03,0.21,0.22539999999999999,0.16450000000000001,2016,1,"MAR","2016-03-01"]
["Madera",3178,1427,250,219,227,1055,21.3,1723,1173,550,482,436,38,8,33.700000000000003,0.22,0.08,0.15,0.14000000000000001,6.3E-3,5.0000000000000001E-3,2011,4,"DEC","2011-12-01"]
["Madera",2824,1432,120,172,153,947,21,2987,2268,719,526,450,51,25,32.299999999999997,0.16,0.04,0.19,0.16,5.5999999999999999E-3,7.7000000000000002E-3,2012,1,"MAR","2012-03-01"]
["Madera",2475,1306,111,124,108,826,18,2692,1958,734,512,455,34,23,30.7,0.14000000000000001,0.05,0.21,0.18,4.7000000000000002E-3,6.4000000000000003E-3,2012,2,"JUN","2012-06-01"]
["Madera",2691,1381,146,160,126,878,20.3,3203,2311,892,579,485,65,29,31.3,0.16,0.05,0.22,0.18,4.8999999999999998E-3,7.1000000000000004E-3,2012,3,"SEP","2012-09-01"]
["Madera",3204,1316,174,225,216,1273,20.7,3628,2639,989,760,661,70,29,29.7,0.19,0.05,0.24,0.21,6.4000000000000003E-3,8.0999999999999996E-3,2012,4,"DEC","2012-12-01"]
["Madera",2699,1294,504,148,97,656,19.3,2957,1976,981,487,413,54,20,9.3000000000000007,0.28000000000000003,0.19,0.18,0.15,5.4999999999999997E-3,6.8999999999999999E-3,2013,1,"MAR","2013-03-01"]
["Madera",2392,1212,410,111,92,567,16,2948,1985,963,468,416,37,15,6.7,0.26,0.17,0.2,0.17,4.7999999999999996E-3,6.3E-3,2013,2,"JUN","2013-06-01"]
["Madera",2804,1368,465,175,105,691,17.3,3358,2249,1109,605,514,65,26,14.3,0.27,0.17,0.22,0.18,5.0000000000000001E-3,6.7999999999999996E-3,2013,3,"SEP","2013-09-01"]
["Madera",3026,1334,515,163,137,877,18.3,3879,2690,1189,700,611,65,24,26.7,0.27,0.17,0.23,0.2,6.1999999999999998E-3,8.0000000000000002E-3,2013,4,"DEC","2013-12-01"]
["Madera",2699,1424,380,106,72,717,18,3212,2260,952,663,578,55,30,25.3,0.21,0.14000000000000001,0.25,0.21,5.3E-3,7.1999999999999998E-3,2014,1,"MAR","2014-03-01"]
["Madera",2083,1083,289,87,83,541,13.3,2896,1978,918,572,529,28,15,24.7,0.22,0.14000000000000001,0.27,0.25,4.4000000000000003E-3,6.3E-3,2014,2,"JUN","2014-06-01"]
["Madera",2373,1190,297,129,91,666,14.3,3252,2198,1054,682,568,62,52,27,0.22,0.13,0.28999999999999998,0.24,4.5999999999999999E-3,6.7000000000000002E-3,2014,3,"SEP","2014-09-01"]
["Madera",2829,1181,493,178,124,853,17.7,3911,2710,1201,754,658,69,27,26,0.28000000000000003,0.17,0.27,0.23,6.0000000000000001E-3,7.9000000000000008E-3,2014,4,"DEC","2014-12-01"]
["Madera",2412,1194,351,118,71,678,14.3,3177,2164,1013,593,525,44,24,24.7,0.22,0.15,0.25,0.22,5.4000000000000003E-3,6.7000000000000002E-3,2015,1,"MAR","2015-03-01"]
["Madera",2149,1019,311,99,77,643,12.3,3107,2057,1050,621,538,46,37,24.7,0.23,0.14000000000000001,0.28999999999999998,0.25,4.7999999999999996E-3,6.1999999999999998E-3,2015,2,"JUN","2015-06-01"]
["Madera",2283,1038,353,137,101,654,12.3,3533,2313,1220,668,543,84,41,26,0.26,0.16,0.28999999999999998,0.24,4.8999999999999998E-3,6.8999999999999999E-3,2015,3,"SEP","2015-09-01"]
["Madera",2611,1026,450,189,115,831,11.7,3999,2746,1253,585,477,70,38,23.7,0.28999999999999998,0.17,0.22,0.18,7.7000000000000002E-3,9.9000000000000008E-3,2015,4,"DEC","2015-12-01"]
["Madera",2251,1012,346,118,97,678,10,3301,2299,1002,439,378,36,25,23,0.25,0.15,0.2,0.17,5.0000000000000001E-3,7.1000000000000004E-3,2016,1,"MAR","2016-03-01"]
["Marin",1746,1009,120,62,61,494,15,546,434,112,95,88,6,1,36,0.14000000000000001,7.0000000000000007E-2,0.05,0.05,3.5000000000000001E-3,1.6000000000000001E-3,2011,4,"DEC","2011-12-01"]
["Marin",1994,1143,98,93,78,582,16.7,1632,1155,477,273,238,24,11,38.299999999999997,0.14000000000000001,0.05,0.14000000000000001,0.12,3.8999999999999998E-3,4.1999999999999997E-3,2012,1,"MAR","2012-03-01"]
["Marin",1900,1087,89,81,67,576,18.7,1594,1132,462,257,214,33,10,35.700000000000003,0.13,0.05,0.14000000000000001,0.11,3.5999999999999999E-3,3.8E-3,2012,2,"JUN","2012-06-01"]
["Marin",1833,1108,68,83,65,509,19.3,1626,1122,504,293,252,26,15,32.700000000000003,0.12,0.04,0.16,0.14000000000000001,3.3999999999999998E-3,3.5999999999999999E-3,2012,3,"SEP","2012-09-01"]
["Marin",1535,887,63,58,56,471,16.3,1674,1175,499,292,268,15,9,31,0.12,0.04,0.19,0.17,3.0999999999999999E-3,3.8E-3,2012,4,"DEC","2012-12-01"]
["Marin",1886,1115,306,69,43,353,17.7,1699,1034,665,296,254,25,17,7.7,0.22,0.16,0.16,0.13,3.8999999999999998E-3,4.0000000000000001E-3,2013,1,"MAR","2013-03-01"]
["Marin",1693,1017,224,66,46,340,16,1740,1081,659,295,252,30,13,7.3,0.2,0.13,0.17,0.15,3.3999999999999998E-3,3.7000000000000002E-3,2013,2,"JUN","2013-06-01"]
["Marin",1804,1011,257,69,58,409,16.3,1668,1027,641,283,249,26,8,16.7,0.21,0.14000000000000001,0.16,0.14000000000000001,3.2000000000000002E-3,3.3999999999999998E-3,2013,3,"SEP","2013-09-01"]
["Marin",1687,1027,237,62,42,319,14.7,1672,1014,658,338,299,28,11,29.3,0.2,0.14000000000000001,0.2,0.18,3.5000000000000001E-3,3.3999999999999998E-3,2013,4,"DEC","2013-12-01"]
["Marin",1752,1014,258,68,45,367,14.7,1848,1179,669,401,347,33,21,28.7,0.21,0.15,0.23,0.2,3.3999999999999998E-3,4.1000000000000003E-3,2014,1,"MAR","2014-03-01"]
["Marin",1446,822,193,53,47,331,12.3,1833,1083,750,364,300,39,25,28.3,0.2,0.13,0.25,0.21,3.0999999999999999E-3,4.0000000000000001E-3,2014,2,"JUN","2014-06-01"]
["Marin",1552,875,216,68,38,355,12,1712,1037,675,378,327,26,25,29.3,0.21,0.14000000000000001,0.24,0.21,3.0000000000000001E-3,3.5000000000000001E-3,2014,3,"SEP","2014-09-01"]
["Marin",1441,775,211,57,58,340,12.7,1589,941,648,380,328,35,17,29.7,0.23,0.15,0.26,0.23,3.0999999999999999E-3,3.2000000000000002E-3,2014,4,"DEC","2014-12-01"]
["Marin",1683,885,302,70,45,381,12.7,1721,1029,692,512,450,42,20,30.7,0.25,0.18,0.3,0.27,3.8E-3,3.5999999999999999E-3,2015,1,"MAR","2015-03-01"]
["Marin",1599,841,289,70,56,343,12,1765,1014,751,487,423,42,22,28.7,0.26,0.18,0.3,0.26,3.5999999999999999E-3,3.5000000000000001E-3,2015,2,"JUN","2015-06-01"]
["Marin",1613,824,267,90,39,393,10.3,1831,1053,778,481,428,34,19,29.7,0.25,0.17,0.3,0.27,3.3999999999999998E-3,3.5999999999999999E-3,2015,3,"SEP","2015-09-01"]
["Marin",1403,710,231,87,42,333,8.6999999999999993,1826,1013,813,465,411,35,19,27.7,0.26,0.16,0.33,0.28999999999999998,4.1000000000000003E-3,4.4999999999999997E-3,2015,4,"DEC","2015-12-01"]
["Marin",1593,752,297,86,60,398,10.7,2034,1196,838,625,544,52,29,29.7,0.28000000000000003,0.19,0.39,0.34,3.5000000000000001E-3,4.4000000000000003E-3,2016,1,"MAR","2016-03-01"]
["Mariposa",242,152,6,9,12,63,17,115,81,34,33,32,1,0,38.700000000000003,0.11,0.02,0.14000000000000001,0.13,5.0000000000000001E-4,2.9999999999999997E-4,2011,4,"DEC","2011-12-01"]
["Mariposa",274,174,4,10,10,76,15.3,250,181,69,41,41,0,0,35.299999999999997,0.09,0.02,0.15,0.15,5.0000000000000001E-4,5.9999999999999995E-4,2012,1,"MAR","2012-03-01"]
["Mariposa",249,157,5,9,10,68,13.3,244,180,64,43,40,3,0,27.3,0.1,0.02,0.17,0.16,5.0000000000000001E-4,5.9999999999999995E-4,2012,2,"JUN","2012-06-01"]
["Mariposa",286,174,8,15,6,83,19,267,179,88,51,44,6,1,43.7,0.1,0.03,0.18,0.15,5.0000000000000001E-4,5.9999999999999995E-4,2012,3,"SEP","2012-09-01"]
["Mariposa",255,150,12,15,10,68,16.3,291,208,83,50,46,2,2,36.299999999999997,0.15,0.05,0.2,0.18,5.0000000000000001E-4,6.9999999999999999E-4,2012,4,"DEC","2012-12-01"]
["Mariposa",283,169,40,8,5,61,15.7,266,157,109,48,41,7,0,12,0.19,0.14000000000000001,0.17,0.14000000000000001,5.9999999999999995E-4,5.9999999999999995E-4,2013,1,"MAR","2013-03-01"]
["Mariposa",235,131,38,8,12,46,14.7,289,185,104,63,60,2,1,9.6999999999999993,0.25,0.16,0.27,0.26,5.0000000000000001E-4,5.9999999999999995E-4,2013,2,"JUN","2013-06-01"]
["Mariposa",296,171,44,10,5,66,16.7,252,151,101,29,23,3,3,12.7,0.2,0.15,0.1,0.08,5.0000000000000001E-4,5.0000000000000001E-4,2013,3,"SEP","2013-09-01"]
["Mariposa",298,182,28,9,7,72,16.7,257,153,104,49,46,3,0,25.3,0.15,0.09,0.16,0.15,5.9999999999999995E-4,5.0000000000000001E-4,2013,4,"DEC","2013-12-01"]
["Mariposa",291,188,27,6,3,67,14.7,276,181,95,65,58,3,4,27.7,0.12,0.09,0.22,0.2,5.9999999999999995E-4,5.9999999999999995E-4,2014,1,"MAR","2014-03-01"]
["Mariposa",232,141,19,6,7,59,17.3,293,174,119,52,45,3,4,23.3,0.14000000000000001,0.08,0.22,0.19,5.0000000000000001E-4,5.9999999999999995E-4,2014,2,"JUN","2014-06-01"]
["Mariposa",259,161,37,4,12,45,19.3,295,172,123,60,49,8,3,25,0.2,0.14000000000000001,0.23,0.19,5.0000000000000001E-4,5.9999999999999995E-4,2014,3,"SEP","2014-09-01"]
["Mariposa",269,139,49,16,6,59,18.3,313,172,141,56,51,1,4,24,0.26,0.18,0.21,0.19,5.9999999999999995E-4,5.9999999999999995E-4,2014,4,"DEC","2014-12-01"]
["Mariposa",258,154,37,7,7,53,16.7,286,185,101,74,68,4,2,24.3,0.2,0.14000000000000001,0.28999999999999998,0.26,5.9999999999999995E-4,5.9999999999999995E-4,2015,1,"MAR","2015-03-01"]
["Mariposa",216,122,27,10,6,51,14.3,293,184,109,66,62,4,0,25.7,0.2,0.13,0.31,0.28999999999999998,5.0000000000000001E-4,5.9999999999999995E-4,2015,2,"JUN","2015-06-01"]
["Mariposa",240,143,32,8,5,52,12,311,171,140,84,78,3,3,29,0.19,0.13,0.35,0.33,5.0000000000000001E-4,5.9999999999999995E-4,2015,3,"SEP","2015-09-01"]
["Mariposa",231,134,26,6,11,54,16.3,327,195,132,67,60,5,2,24,0.19,0.11,0.28999999999999998,0.26,6.9999999999999999E-4,8.0000000000000004E-4,2015,4,"DEC","2015-12-01"]
["Mariposa",284,162,25,8,10,79,15.3,319,188,131,60,56,4,0,25.3,0.15,0.09,0.21,0.2,5.9999999999999995E-4,6.9999999999999999E-4,2016,1,"MAR","2016-03-01"]
["Mendocino",1991,1032,132,115,120,592,7.7,673,475,198,188,182,6,0,40.299999999999997,0.18,7.0000000000000007E-2,0.09,0.09,3.8999999999999998E-3,2E-3,2011,4,"DEC","2011-12-01"]
["Mendocino",2106,1035,87,120,122,742,10,2090,1409,681,416,370,27,19,42.3,0.16,0.04,0.2,0.18,4.1000000000000003E-3,5.4000000000000003E-3,2012,1,"MAR","2012-03-01"]
["Mendocino",2002,990,87,115,104,706,8,2070,1409,661,353,299,36,18,43,0.15,0.04,0.18,0.15,3.8E-3,4.8999999999999998E-3,2012,2,"JUN","2012-06-01"]
["Mendocino",2099,1158,71,124,83,663,10,2056,1335,721,384,322,40,22,37.299999999999997,0.13,0.03,0.18,0.15,3.8E-3,4.4999999999999997E-3,2012,3,"SEP","2012-09-01"]
["Mendocino",1849,854,123,108,120,644,10,2360,1407,953,567,482,53,32,39,0.19,7.0000000000000007E-2,0.31,0.26,3.7000000000000002E-3,5.3E-3,2012,4,"DEC","2012-12-01"]
["Mendocino",2006,882,433,139,74,478,10.7,2307,1276,1031,400,325,52,23,7.7,0.32,0.22,0.2,0.16,4.1000000000000003E-3,5.4000000000000003E-3,2013,1,"MAR","2013-03-01"]
["Mendocino",1880,859,343,121,74,483,9.6999999999999993,2295,1260,1035,424,349,54,21,8.3000000000000007,0.28999999999999998,0.18,0.23,0.19,3.8E-3,4.8999999999999998E-3,2013,2,"JUN","2013-06-01"]
["Mendocino",2005,971,320,120,76,518,13.7,1979,1090,889,422,362,41,19,15.7,0.26,0.16,0.21,0.18,3.5999999999999999E-3,4.0000000000000001E-3,2013,3,"SEP","2013-09-01"]
["Mendocino",1634,744,294,87,60,449,12.7,2212,1335,877,526,452,51,23,31.3,0.27,0.18,0.32,0.28000000000000003,3.3999999999999998E-3,4.4999999999999997E-3,2013,4,"DEC","2013-12-01"]
["Mendocino",1648,809,176,85,53,525,10,2569,1998,571,69,59,5,5,32.299999999999997,0.19,0.11,0.04,0.04,3.2000000000000002E-3,5.7000000000000002E-3,2014,1,"MAR","2014-03-01"]
["Mendocino",1448,818,156,40,31,403,8.3000000000000007,2097,1254,843,360,286,53,21,28.3,0.16,0.11,0.25,0.2,3.0999999999999999E-3,4.5999999999999999E-3,2014,2,"JUN","2014-06-01"]
["Mendocino",1683,884,230,106,55,408,10.3,1916,976,940,465,367,67,31,33,0.23,0.14000000000000001,0.28000000000000003,0.22,3.3E-3,3.8999999999999998E-3,2014,3,"SEP","2014-09-01"]
["Mendocino",1509,678,259,104,77,391,10.7,2081,1164,917,643,536,69,38,30.7,0.28999999999999998,0.17,0.43,0.36,3.2000000000000002E-3,4.1999999999999997E-3,2014,4,"DEC","2014-12-01"]
["Mendocino",1604,660,241,117,72,514,14,2419,1207,1212,699,558,96,45,31.7,0.27,0.15,0.44,0.35,3.5999999999999999E-3,5.1000000000000004E-3,2015,1,"MAR","2015-03-01"]
["Mendocino",1547,635,243,104,76,489,12.3,2093,1098,995,486,390,68,28,29.7,0.27,0.16,0.31,0.25,3.5000000000000001E-3,4.1999999999999997E-3,2015,2,"JUN","2015-06-01"]
["Mendocino",1748,746,307,128,67,500,9.3000000000000007,2019,1023,996,467,385,53,29,29.3,0.28999999999999998,0.18,0.27,0.22,3.7000000000000002E-3,4.0000000000000001E-3,2015,3,"SEP","2015-09-01"]
["Mendocino",1417,577,261,100,56,423,10.7,2156,1222,934,574,473,64,37,28,0.28999999999999998,0.18,0.41,0.33,4.1999999999999997E-3,5.3E-3,2015,4,"DEC","2015-12-01"]
["Mendocino",1642,629,351,118,70,474,10.7,2169,1210,959,574,472,78,24,29,0.33,0.21,0.35,0.28999999999999998,3.5999999999999999E-3,4.7000000000000002E-3,2016,1,"MAR","2016-03-01"]
["Merced",5572,2217,365,326,367,2297,15.3,2958,1795,1163,1078,1027,39,12,40.700000000000003,0.19,7.0000000000000007E-2,0.19,0.18,1.0999999999999999E-2,8.6E-3,2011,4,"DEC","2011-12-01"]
["Merced",5723,2333,285,323,317,2465,15,5784,4101,1683,1349,1243,72,34,39.700000000000003,0.16,0.05,0.24,0.22,1.1299999999999999E-2,1.4999999999999999E-2,2012,1,"MAR","2012-03-01"]
["Merced",5190,2234,264,259,221,2212,15,6079,4184,1895,1453,1322,82,49,36.700000000000003,0.14000000000000001,0.05,0.28000000000000003,0.26,9.7999999999999997E-3,1.4500000000000001E-2,2012,2,"JUN","2012-06-01"]
["Merced",5663,2461,279,299,303,2321,14,6373,4371,2002,1528,1396,81,51,35,0.16,0.05,0.27,0.25,1.04E-2,1.4E-2,2012,3,"SEP","2012-09-01"]
["Merced",5466,1940,337,370,363,2456,13,6909,4843,2066,1594,1462,100,32,31,0.2,0.06,0.28999999999999998,0.27,1.0999999999999999E-2,1.55E-2,2012,4,"DEC","2012-12-01"]
["Merced",5203,2128,1059,282,198,1536,12,6109,4199,1910,1091,984,70,37,10,0.3,0.2,0.21,0.19,1.0699999999999999E-2,1.43E-2,2013,1,"MAR","2013-03-01"]
["Merced",4849,2152,863,255,164,1415,11.3,6733,4802,1931,1255,1139,78,38,8.6999999999999993,0.26,0.18,0.26,0.23,9.7999999999999997E-3,1.43E-2,2013,2,"JUN","2013-06-01"]
["Merced",5493,2497,935,292,178,1591,14.7,6978,4826,2152,1340,1214,96,30,16.3,0.26,0.17,0.24,0.22,9.7999999999999997E-3,1.4200000000000001E-2,2013,3,"SEP","2013-09-01"]
["Merced",5374,1972,1120,293,241,1748,18,7726,5332,2394,1844,1666,135,43,27.3,0.31,0.21,0.34,0.31,1.0999999999999999E-2,1.5900000000000001E-2,2013,4,"DEC","2013-12-01"]
["Merced",5555,2381,916,257,167,1834,18,6763,4763,2000,1569,1408,115,46,26.7,0.24,0.17,0.28000000000000003,0.25,1.09E-2,1.5100000000000001E-2,2014,1,"MAR","2014-03-01"]
["Merced",4683,2140,678,199,143,1523,14.3,6658,4602,2056,1699,1536,106,57,25.7,0.22,0.14000000000000001,0.36,0.33,9.9000000000000008E-3,1.4500000000000001E-2,2014,2,"JUN","2014-06-01"]
["Merced",5229,2395,745,237,163,1689,14,6834,4608,2226,1789,1573,141,75,26.7,0.22,0.14000000000000001,0.34,0.3,1.0200000000000001E-2,1.4E-2,2014,3,"SEP","2014-09-01"]
["Merced",5238,2072,909,383,222,1652,15.3,7618,5198,2420,2074,1850,184,40,28,0.28999999999999998,0.17,0.4,0.35,1.12E-2,1.55E-2,2014,4,"DEC","2014-12-01"]
["Merced",4898,2163,832,211,141,1551,12.3,6713,4622,2091,1734,1588,100,46,27.3,0.24,0.17,0.35,0.32,1.09E-2,1.4200000000000001E-2,2015,1,"MAR","2015-03-01"]
["Merced",4812,2120,763,232,148,1549,12,6760,4628,2132,1712,1546,106,60,25,0.24,0.16,0.36,0.32,1.0800000000000001E-2,1.35E-2,2015,2,"JUN","2015-06-01"]
["Merced",5112,2183,962,240,181,1546,11.7,7059,4757,2302,1731,1578,104,49,26.7,0.27,0.19,0.34,0.31,1.09E-2,1.38E-2,2015,3,"SEP","2015-09-01"]
["Merced",5118,1920,1025,359,229,1585,12.7,7748,5194,2554,1896,1698,146,52,24.7,0.32,0.2,0.37,0.33,1.4999999999999999E-2,1.9099999999999999E-2,2015,4,"DEC","2015-12-01"]
["Merced",4780,1906,896,310,179,1489,12,6831,4564,2267,1634,1466,118,50,25.3,0.28999999999999998,0.19,0.34,0.31,1.06E-2,1.4800000000000001E-2,2016,1,"MAR","2016-03-01"]
["Modoc",187,88,14,11,17,57,18.3,57,23,34,24,24,0,0,35.700000000000003,0.22,7.0000000000000007E-2,0.13,0.13,4.0000000000000002E-4,2.0000000000000001E-4,2011,4,"DEC","2011-12-01"]
["Modoc",184,103,6,10,9,56,15.3,140,103,37,28,25,3,0,-6.3,0.14000000000000001,0.03,0.15,0.14000000000000001,4.0000000000000002E-4,4.0000000000000002E-4,2012,1,"MAR","2012-03-01"]
["Modoc",157,93,4,9,9,42,12.7,131,96,35,27,24,2,1,-11.7,0.14000000000000001,0.03,0.17,0.15,2.9999999999999997E-4,2.9999999999999997E-4,2012,2,"JUN","2012-06-01"]
["Modoc",163,108,8,6,4,37,17.3,124,93,31,21,20,0,1,4,0.11,0.05,0.13,0.12,2.9999999999999997E-4,2.9999999999999997E-4,2012,3,"SEP","2012-09-01"]
["Modoc",159,83,13,8,10,45,18.3,178,128,50,42,37,4,1,26.7,0.2,0.08,0.26,0.23,2.9999999999999997E-4,4.0000000000000002E-4,2012,4,"DEC","2012-12-01"]
["Modoc",160,72,36,12,7,33,17.7,136,66,70,21,18,1,2,5,0.34,0.23,0.13,0.11,2.9999999999999997E-4,2.9999999999999997E-4,2013,1,"MAR","2013-03-01"]
["Modoc",150,88,33,5,4,20,17.7,143,73,70,19,15,2,2,8,0.28000000000000003,0.22,0.13,0.1,2.9999999999999997E-4,2.9999999999999997E-4,2013,2,"JUN","2013-06-01"]
["Modoc",186,109,20,9,6,42,19.7,160,78,82,24,22,1,1,14.7,0.19,0.11,0.13,0.12,2.9999999999999997E-4,2.9999999999999997E-4,2013,3,"SEP","2013-09-01"]
["Modoc",179,93,36,6,5,39,17,180,108,72,34,31,1,2,25.7,0.26,0.2,0.19,0.17,4.0000000000000002E-4,4.0000000000000002E-4,2013,4,"DEC","2013-12-01"]
["Modoc",141,92,18,3,4,24,12,135,72,63,26,26,0,0,24,0.18,0.13,0.18,0.18,2.9999999999999997E-4,2.9999999999999997E-4,2014,1,"MAR","2014-03-01"]
["Modoc",147,77,24,6,1,39,14,128,73,55,28,26,2,0,21.7,0.21,0.16,0.19,0.18,2.9999999999999997E-4,2.9999999999999997E-4,2014,2,"JUN","2014-06-01"]
["Modoc",149,81,19,3,3,43,20,137,66,71,36,34,0,2,25.7,0.17,0.13,0.24,0.23,2.9999999999999997E-4,2.9999999999999997E-4,2014,3,"SEP","2014-09-01"]
["Modoc",142,74,25,11,7,25,15.7,164,84,80,44,39,1,4,22.7,0.3,0.18,0.31,0.27,2.9999999999999997E-4,2.9999999999999997E-4,2014,4,"DEC","2014-12-01"]
["Modoc",146,68,31,3,5,39,17.7,151,86,65,51,49,1,1,25.3,0.27,0.21,0.35,0.34,2.9999999999999997E-4,2.9999999999999997E-4,2015,1,"MAR","2015-03-01"]
["Modoc",133,79,16,4,3,31,13,158,80,78,38,36,1,1,23.3,0.17,0.12,0.28999999999999998,0.27,2.9999999999999997E-4,2.9999999999999997E-4,2015,2,"JUN","2015-06-01"]
["Modoc",141,62,32,6,2,39,16.3,128,74,54,45,43,1,1,28.3,0.28000000000000003,0.23,0.32,0.31,2.9999999999999997E-4,2.9999999999999997E-4,2015,3,"SEP","2015-09-01"]
["Modoc",147,70,18,14,4,41,10.7,154,93,61,49,48,0,1,22.3,0.24,0.12,0.33,0.33,4.0000000000000002E-4,4.0000000000000002E-4,2015,4,"DEC","2015-12-01"]
["Modoc",158,87,23,5,5,38,11.3,137,76,61,32,30,1,1,24.7,0.21,0.15,0.2,0.19,2.9999999999999997E-4,2.9999999999999997E-4,2016,1,"MAR","2016-03-01"]
["Mono",341,205,15,20,21,80,10.3,29,17,12,9,7,2,0,33.299999999999997,0.16,0.04,0.03,0.02,6.9999999999999999E-4,1E-4,2011,4,"DEC","2011-12-01"]
["Mono",310,205,9,10,19,67,13.3,128,116,12,5,3,1,1,-0.7,0.12,0.03,0.02,1,5.9999999999999995E-4,2.9999999999999997E-4,2012,1,"MAR","2012-03-01"]
["Mono",282,152,6,15,27,82,14,214,194,20,12,9,2,1,2.2999999999999998,0.17,0.02,0.04,0.03,5.0000000000000001E-4,5.0000000000000001E-4,2012,2,"JUN","2012-06-01"]
["Mono",194,115,3,17,8,51,16.3,166,135,31,19,16,2,1,26.7,0.14000000000000001,0.02,0.1,0.08,4.0000000000000002E-4,4.0000000000000002E-4,2012,3,"SEP","2012-09-01"]
["Mono",260,125,5,23,20,87,11.7,272,233,39,25,24,1,0,18.3,0.18,0.02,0.1,0.09,5.0000000000000001E-4,5.9999999999999995E-4,2012,4,"DEC","2012-12-01"]
["Mono",177,107,19,3,4,44,14.3,189,46,143,15,6,3,6,17.7,0.15,0.11,0.08,0.03,4.0000000000000002E-4,4.0000000000000002E-4,2013,1,"MAR","2013-03-01"]
["Mono",277,145,5,16,19,92,15.3,203,65,138,13,12,1,0,8.3000000000000007,0.14000000000000001,0.02,0.05,0.04,5.9999999999999995E-4,4.0000000000000002E-4,2013,2,"JUN","2013-06-01"]
["Mono",186,101,9,12,8,56,17,171,61,110,24,18,3,3,17.7,0.16,0.05,0.13,0.1,2.9999999999999997E-4,2.9999999999999997E-4,2013,3,"SEP","2013-09-01"]
["Mono",324,197,5,9,21,92,14.7,205,85,120,21,20,1,0,21.7,0.11,0.02,0.06,0.06,6.9999999999999999E-4,4.0000000000000002E-4,2013,4,"DEC","2013-12-01"]
["Mono",307,218,7,3,4,75,12,141,49,92,18,15,3,0,21,0.05,0.02,0.06,0.05,5.9999999999999995E-4,2.9999999999999997E-4,2014,1,"MAR","2014-03-01"]
["Mono",240,132,22,20,7,59,13,171,68,103,24,19,4,1,26.7,0.2,0.09,0.1,0.08,5.0000000000000001E-4,4.0000000000000002E-4,2014,2,"JUN","2014-06-01"]
["Mono",153,90,9,7,8,39,17.7,195,81,114,27,24,3,0,24,0.16,0.06,0.18,0.16,2.9999999999999997E-4,4.0000000000000002E-4,2014,3,"SEP","2014-09-01"]
["Mono",246,128,17,9,7,85,12.7,280,93,187,20,17,2,1,23.7,0.13,7.0000000000000007E-2,0.08,7.0000000000000007E-2,5.0000000000000001E-4,5.9999999999999995E-4,2014,4,"DEC","2014-12-01"]
["Mono",197,122,10,11,6,48,13.7,201,74,127,20,18,1,1,22.7,0.14000000000000001,0.05,0.1,0.09,4.0000000000000002E-4,4.0000000000000002E-4,2015,1,"MAR","2015-03-01"]
["Mono",211,105,5,19,5,77,11.7,158,56,102,12,8,4,0,19,0.14000000000000001,0.02,0.06,0.04,5.0000000000000001E-4,2.9999999999999997E-4,2015,2,"JUN","2015-06-01"]
["Mono",123,71,12,8,3,29,13,180,72,108,26,23,1,2,23.7,0.19,0.1,0.21,0.19,2.9999999999999997E-4,4.0000000000000002E-4,2015,3,"SEP","2015-09-01"]
["Mono",179,105,9,9,7,49,11.7,228,90,138,28,22,4,2,22.7,0.14000000000000001,0.05,0.16,0.12,5.0000000000000001E-4,5.9999999999999995E-4,2015,4,"DEC","2015-12-01"]
["Mono",118,68,7,4,3,36,10,178,66,112,15,11,4,0,22.7,0.12,0.06,0.13,0.09,2.9999999999999997E-4,4.0000000000000002E-4,2016,1,"MAR","2016-03-01"]
["Monterey",8855,3509,174,345,559,4268,18.3,2601,1800,801,697,657,29,11,30,0.12,0.02,0.08,7.0000000000000007E-2,1.7500000000000002E-2,7.4999999999999997E-3,2011,4,"DEC","2011-12-01"]
["Monterey",6140,3388,141,228,270,2113,14,4453,3488,965,684,629,30,25,26,0.1,0.02,0.11,0.1,1.21E-2,1.15E-2,2012,1,"MAR","2012-03-01"]
["Monterey",4995,2888,132,214,242,1519,12.7,4319,3243,1076,743,675,42,26,27,0.12,0.03,0.15,0.14000000000000001,9.4000000000000004E-3,1.03E-2,2012,2,"JUN","2012-06-01"]
["Monterey",6044,3134,151,272,311,2176,15.3,5690,4259,1431,993,886,62,45,26.3,0.12,0.03,0.16,0.15,1.11E-2,1.2500000000000001E-2,2012,3,"SEP","2012-09-01"]
["Monterey",9092,3115,344,378,522,4733,19.3,8445,6997,1448,1090,996,66,28,23,0.14000000000000001,0.04,0.12,0.11,1.83E-2,1.9E-2,2012,4,"DEC","2012-12-01"]
["Monterey",6111,3078,1029,198,140,1666,12,4807,3099,1708,682,612,39,31,8.3000000000000007,0.22,0.17,0.11,0.1,1.2500000000000001E-2,1.12E-2,2013,1,"MAR","2013-03-01"]
["Monterey",4919,2632,881,213,136,1057,9.6999999999999993,4861,3152,1709,678,599,53,26,6.7,0.25,0.18,0.14000000000000001,0.12,0.01,1.03E-2,2013,2,"JUN","2013-06-01"]
["Monterey",6462,3065,1553,367,198,1279,12.7,5925,3627,2298,932,779,104,49,13.7,0.33,0.24,0.14000000000000001,0.12,1.15E-2,1.21E-2,2013,3,"SEP","2013-09-01"]
["Monterey",9768,3132,2288,615,504,3229,14.3,8995,5839,3156,1188,1036,119,33,21,0.35,0.23,0.12,0.11,0.02,1.8499999999999999E-2,2013,4,"DEC","2013-12-01"]
["Monterey",6667,3398,882,246,193,1948,12.7,5591,3789,1802,865,768,72,25,22,0.2,0.13,0.13,0.12,1.3100000000000001E-2,1.24E-2,2014,1,"MAR","2014-03-01"]
["Monterey",4652,2530,586,220,130,1186,11.3,5039,3148,1891,859,735,85,39,21,0.2,0.13,0.18,0.16,9.7999999999999997E-3,1.09E-2,2014,2,"JUN","2014-06-01"]
["Monterey",6057,2779,1259,324,229,1466,11.3,6202,3628,2574,1534,1290,144,100,24.3,0.3,0.21,0.25,0.21,1.18E-2,1.2699999999999999E-2,2014,3,"SEP","2014-09-01"]
["Monterey",9890,2916,2258,755,473,3488,14.3,9617,6192,3425,2162,1910,176,76,24.7,0.35,0.23,0.22,0.19,2.1100000000000001E-2,1.95E-2,2014,4,"DEC","2014-12-01"]
["Monterey",6530,3012,986,315,233,1984,12.7,5638,3534,2104,944,831,87,26,24,0.23,0.15,0.14000000000000001,0.13,1.46E-2,1.1900000000000001E-2,2015,1,"MAR","2015-03-01"]
["Monterey",5160,2515,736,266,140,1503,11.3,5022,3067,1955,1058,910,97,51,24,0.22,0.14000000000000001,0.21,0.18,1.1599999999999999E-2,0.01,2015,2,"JUN","2015-06-01"]
["Monterey",6093,2501,1512,378,240,1462,13,6431,3864,2567,1606,1355,177,74,27,0.35,0.25,0.26,0.22,1.2999999999999999E-2,1.26E-2,2015,3,"SEP","2015-09-01"]
["Monterey",9131,2587,1876,741,438,3489,15,9947,6361,3586,2644,2285,268,91,24.7,0.33,0.21,0.28999999999999998,0.25,2.6800000000000001E-2,2.4500000000000001E-2,2015,4,"DEC","2015-12-01"]
["Monterey",6172,2695,942,340,204,1991,11,5981,3551,2430,1152,994,102,56,23.7,0.24,0.15,0.19,0.16,1.3599999999999999E-2,1.29E-2,2016,1,"MAR","2016-03-01"]
["Napa",1279,786,35,53,49,356,24,518,223,295,273,256,11,6,49.3,0.11,0.03,0.21,0.2,2.5000000000000001E-3,1.5E-3,2011,4,"DEC","2011-12-01"]
["Napa",1336,868,33,48,44,343,31,979,622,357,261,227,24,10,59.7,0.09,0.03,0.2,0.17,2.5999999999999999E-3,2.5000000000000001E-3,2012,1,"MAR","2012-03-01"]
["Napa",1165,757,31,33,32,312,25.3,928,551,377,285,268,10,7,44.3,0.08,0.03,0.25,0.23,2.2000000000000001E-3,2.2000000000000001E-3,2012,2,"JUN","2012-06-01"]
["Napa",1264,756,32,46,38,392,25,1086,627,459,320,289,28,3,51.7,0.09,0.03,0.25,0.23,2.3E-3,2.3999999999999998E-3,2012,3,"SEP","2012-09-01"]
["Napa",1301,733,48,45,41,434,28.3,1232,679,553,419,347,53,19,49.7,0.1,0.04,0.32,0.27,2.5999999999999999E-3,2.8E-3,2012,4,"DEC","2012-12-01"]
["Napa",1209,718,134,49,34,274,25.7,1020,537,483,332,300,24,8,16.7,0.18,0.11,0.27,0.25,2.5000000000000001E-3,2.3999999999999998E-3,2013,1,"MAR","2013-03-01"]
["Napa",1051,623,121,38,35,234,25.7,980,546,434,275,245,22,8,11.7,0.18,0.12,0.26,0.23,2.0999999999999999E-3,2.0999999999999999E-3,2013,2,"JUN","2013-06-01"]
["Napa",1257,692,165,57,38,305,27,1068,560,508,326,289,23,14,17.7,0.21,0.13,0.26,0.23,2.2000000000000001E-3,2.2000000000000001E-3,2013,3,"SEP","2013-09-01"]
["Napa",1334,703,160,54,47,370,21.7,1236,719,517,239,213,15,11,24.7,0.2,0.12,0.18,0.16,2.7000000000000001E-3,2.5000000000000001E-3,2013,4,"DEC","2013-12-01"]
["Napa",1182,690,105,35,34,318,14.3,983,579,404,189,166,14,9,24,0.15,0.09,0.16,0.14000000000000001,2.3E-3,2.2000000000000001E-3,2014,1,"MAR","2014-03-01"]
["Napa",923,557,92,31,26,217,12,916,572,344,181,164,9,8,24.7,0.16,0.1,0.2,0.18,1.9E-3,2E-3,2014,2,"JUN","2014-06-01"]
["Napa",1019,577,95,44,30,273,18.3,1111,649,462,263,229,23,11,28.3,0.17,0.09,0.26,0.23,2E-3,2.3E-3,2014,3,"SEP","2014-09-01"]
["Napa",1009,542,114,39,32,282,15.7,1244,726,518,277,231,30,16,26.3,0.18,0.11,0.27,0.23,2.0999999999999999E-3,2.5000000000000001E-3,2014,4,"DEC","2014-12-01"]
["Napa",1088,584,120,47,32,305,14.3,1020,597,423,182,158,15,9,25.7,0.18,0.11,0.17,0.15,2.3999999999999998E-3,2.2000000000000001E-3,2015,1,"MAR","2015-03-01"]
["Napa",973,545,107,20,36,265,12.3,977,574,403,193,161,22,10,25,0.17,0.11,0.2,0.17,2.2000000000000001E-3,1.9E-3,2015,2,"JUN","2015-06-01"]
["Napa",1125,596,124,56,39,310,16,1105,659,446,219,191,20,8,26,0.2,0.11,0.2,0.17,2.3999999999999998E-3,2.2000000000000001E-3,2015,3,"SEP","2015-09-01"]
["Napa",1009,487,109,54,32,327,14.3,1247,738,509,285,245,32,8,23.3,0.19,0.11,0.28000000000000003,0.24,3.0000000000000001E-3,3.0999999999999999E-3,2015,4,"DEC","2015-12-01"]
["Napa",1062,542,110,59,24,327,14.3,1071,590,481,220,185,27,8,25.7,0.18,0.1,0.21,0.17,2.3E-3,2.3E-3,2016,1,"MAR","2016-03-01"]
["Nevada",1026,730,29,44,27,196,15.3,413,272,141,125,122,3,0,38.299999999999997,0.1,0.03,0.12,0.12,2E-3,1.1999999999999999E-3,2011,4,"DEC","2011-12-01"]
["Nevada",1238,858,30,46,49,255,11.3,967,711,256,171,148,16,7,39.700000000000003,0.1,0.02,0.14000000000000001,0.12,2.3999999999999998E-3,2.5000000000000001E-3,2012,1,"MAR","2012-03-01"]
["Nevada",1354,914,48,57,49,286,11.7,1047,757,290,178,151,23,4,39.700000000000003,0.11,0.04,0.13,0.11,2.5000000000000001E-3,2.5000000000000001E-3,2012,2,"JUN","2012-06-01"]
["Nevada",1295,888,29,58,35,285,11,1030,716,314,209,176,24,9,43,0.09,0.02,0.16,0.14000000000000001,2.3999999999999998E-3,2.3E-3,2012,3,"SEP","2012-09-01"]
["Nevada",1184,759,39,65,49,272,9.6999999999999993,1117,787,330,220,191,16,13,33.299999999999997,0.13,0.03,0.19,0.16,2.3999999999999998E-3,2.5000000000000001E-3,2012,4,"DEC","2012-12-01"]
["Nevada",1278,755,165,54,45,259,10.3,1146,564,582,172,149,15,8,9.6999999999999993,0.21,0.13,0.13,0.12,2.5999999999999999E-3,2.7000000000000001E-3,2013,1,"MAR","2013-03-01"]
["Nevada",1288,783,157,68,44,236,12,1247,683,564,234,204,19,11,11.3,0.21,0.12,0.18,0.16,2.5999999999999999E-3,2.5999999999999999E-3,2013,2,"JUN","2013-06-01"]
["Nevada",1400,848,177,60,38,277,16.3,1261,688,573,225,203,13,9,15,0.2,0.13,0.16,0.15,2.5000000000000001E-3,2.5999999999999999E-3,2013,3,"SEP","2013-09-01"]
["Nevada",1314,784,164,53,28,285,15.7,1276,698,578,222,189,29,4,24.7,0.19,0.12,0.17,0.14000000000000001,2.7000000000000001E-3,2.5999999999999999E-3,2013,4,"DEC","2013-12-01"]
["Nevada",1519,917,154,62,43,343,20.3,1232,668,564,233,199,18,16,23.7,0.17,0.1,0.15,0.13,3.0000000000000001E-3,2.7000000000000001E-3,2014,1,"MAR","2014-03-01"]
["Nevada",1170,705,103,39,50,273,14.3,1297,703,594,276,239,21,16,23,0.16,0.09,0.24,0.2,2.5000000000000001E-3,2.8E-3,2014,2,"JUN","2014-06-01"]
["Nevada",1175,680,127,49,46,273,20,1262,682,580,300,262,30,8,25,0.19,0.11,0.26,0.22,2.3E-3,2.5999999999999999E-3,2014,3,"SEP","2014-09-01"]
["Nevada",1151,640,120,67,34,290,18.7,1281,699,582,293,255,30,8,25.3,0.19,0.1,0.25,0.22,2.5000000000000001E-3,2.5999999999999999E-3,2014,4,"DEC","2014-12-01"]
["Nevada",1168,671,123,52,32,290,17.7,1265,698,567,259,219,25,15,25.7,0.18,0.11,0.22,0.19,2.5999999999999999E-3,2.7000000000000001E-3,2015,1,"MAR","2015-03-01"]
["Nevada",1061,581,118,51,48,263,17.3,1277,704,573,305,265,24,16,26,0.2,0.11,0.28999999999999998,0.25,2.3999999999999998E-3,2.5000000000000001E-3,2015,2,"JUN","2015-06-01"]
["Nevada",1083,620,79,56,33,295,13,1308,729,579,275,247,17,11,26.7,0.16,7.0000000000000007E-2,0.25,0.23,2.3E-3,2.5999999999999999E-3,2015,3,"SEP","2015-09-01"]
["Nevada",965,538,89,47,27,264,12.7,1280,694,586,266,234,21,11,25.7,0.17,0.09,0.28000000000000003,0.24,2.8E-3,3.2000000000000002E-3,2015,4,"DEC","2015-12-01"]
["Nevada",1086,587,119,47,31,302,12.3,1279,728,551,323,295,13,15,25,0.18,0.11,0.3,0.27,2.3999999999999998E-3,2.8E-3,2016,1,"MAR","2016-03-01"]
["Orange",23776,14395,2676,1038,683,4984,5,18519,16425,2094,1300,806,276,218,39.299999999999997,0.18,0.11,0.05,0.03,4.7E-2,5.3699999999999998E-2,2011,4,"DEC","2011-12-01"]
["Orange",24203,14606,2812,1093,710,4982,5,17693,15321,2372,1315,762,309,244,38.299999999999997,0.19,0.12,0.05,0.03,4.7600000000000003E-2,4.5900000000000003E-2,2012,1,"MAR","2012-03-01"]
["Orange",24766,14567,2625,1142,758,5674,5,20223,17555,2668,1758,1083,429,246,38,0.18,0.11,7.0000000000000007E-2,0.04,4.6600000000000003E-2,4.8300000000000003E-2,2012,2,"JUN","2012-06-01"]
["Orange",25546,15306,2131,1245,779,6085,5,22749,19797,2952,1899,1189,417,293,39.299999999999997,0.16,0.08,7.0000000000000007E-2,0.05,4.6800000000000001E-2,5.0099999999999999E-2,2012,3,"SEP","2012-09-01"]
["Orange",23722,13786,2029,1236,801,5870,5,22367,19365,3002,1920,1203,444,273,36.700000000000003,0.17,0.09,0.08,0.05,4.7699999999999999E-2,5.0200000000000002E-2,2012,4,"DEC","2012-12-01"]
["Orange",23119,13336,2014,1226,853,5690,5,21628,18840,2788,1671,988,434,249,34.299999999999997,0.18,0.09,7.0000000000000007E-2,0.04,4.7399999999999998E-2,5.0599999999999999E-2,2013,1,"MAR","2013-03-01"]
["Orange",23505,13337,2121,1386,755,5906,5.3,23807,20494,3313,2041,1245,476,320,35.700000000000003,0.18,0.09,0.09,0.05,4.7600000000000003E-2,5.0500000000000003E-2,2013,2,"JUN","2013-06-01"]
["Orange",27639,15797,2299,1352,1049,7142,5.3,25168,21802,3366,1970,1286,408,276,34.700000000000003,0.17,0.08,7.0000000000000007E-2,0.05,4.9299999999999997E-2,5.1299999999999998E-2,2013,3,"SEP","2013-09-01"]
["Orange",23695,13784,1918,922,693,6378,6,24503,20785,3718,2401,1505,501,395,34,0.15,0.08,0.1,0.06,4.8599999999999997E-2,5.04E-2,2013,4,"DEC","2013-12-01"]
["Orange",26025,15246,2455,1118,735,6471,6,23850,19666,4184,2256,1381,524,351,33.299999999999997,0.17,0.09,0.09,0.05,5.1200000000000002E-2,5.3100000000000001E-2,2014,1,"MAR","2014-03-01"]
["Orange",23501,13312,2178,1129,766,6116,6,23850,19666,4184,2256,1381,524,351,33.299999999999997,0.17,0.09,0.1,0.06,4.9599999999999998E-2,5.1799999999999999E-2,2014,2,"JUN","2014-06-01"]
["Orange",26583,14661,2942,1278,821,6881,9,30272,25119,5153,3177,1910,826,441,35.700000000000003,0.19,0.11,0.12,7.0000000000000007E-2,5.16E-2,6.2199999999999998E-2,2014,3,"SEP","2014-09-01"]
["Orange",23614,12762,2595,1271,805,6181,5.7,26357,21298,5059,3092,2019,654,419,35.299999999999997,0.2,0.11,0.13,0.09,5.0299999999999997E-2,5.3600000000000002E-2,2014,4,"DEC","2014-12-01"]
["Orange",24486,13358,2741,1330,767,6290,6,26795,21617,5178,2932,1849,650,433,33.700000000000003,0.2,0.11,0.12,0.08,5.4699999999999999E-2,5.6599999999999998E-2,2015,1,"MAR","2015-03-01"]
["Orange",24519,12948,2659,1390,833,6689,5.7,28415,22947,5468,3275,2101,711,463,34.299999999999997,0.2,0.11,0.13,0.09,5.5199999999999999E-2,5.67E-2,2015,2,"JUN","2015-06-01"]
["Orange",26237,13844,2805,1353,815,7420,6,29912,24132,5780,3227,2084,700,443,35.299999999999997,0.19,0.11,0.12,0.08,5.5899999999999998E-2,5.8599999999999999E-2,2015,3,"SEP","2015-09-01"]
["Orange",23218,12129,2551,1329,826,6383,6,27753,22159,5594,3204,2075,660,469,32.700000000000003,0.2,0.11,0.14000000000000001,0.09,6.8199999999999997E-2,6.8400000000000002E-2,2015,4,"DEC","2015-12-01"]
["Orange",24223,12576,2602,1474,955,6616,5.7,26955,21596,5359,2831,1733,670,428,33.299999999999997,0.21,0.11,0.12,7.0000000000000007E-2,5.3499999999999999E-2,5.8200000000000002E-2,2016,1,"MAR","2016-03-01"]
["Placer",3047,1847,341,160,90,609,10.3,1730,1389,341,234,128,58,48,43,0.19,0.11,0.08,0.04,6.0000000000000001E-3,5.0000000000000001E-3,2011,4,"DEC","2011-12-01"]
["Placer",3331,2013,351,168,125,674,9.6999999999999993,1662,1343,319,235,124,62,49,42.7,0.19,0.11,7.0000000000000007E-2,0.04,6.4999999999999997E-3,4.3E-3,2012,1,"MAR","2012-03-01"]
["Placer",3388,2030,341,166,107,744,8.6999999999999993,1738,1426,312,213,125,45,43,42,0.18,0.1,0.06,0.04,6.4000000000000003E-3,4.1999999999999997E-3,2012,2,"JUN","2012-06-01"]
["Placer",3315,1985,330,167,100,733,8.6999999999999993,1948,1592,356,232,133,54,45,42.3,0.18,0.1,7.0000000000000007E-2,0.04,6.1000000000000004E-3,4.3E-3,2012,3,"SEP","2012-09-01"]
["Placer",3302,1977,288,163,126,748,8.6999999999999993,1982,1606,376,217,129,46,42,41.7,0.17,0.09,7.0000000000000007E-2,0.04,6.6E-3,4.4999999999999997E-3,2012,4,"DEC","2012-12-01"]
["Placer",3339,1968,287,163,117,804,8.3000000000000007,1936,1609,327,196,112,49,35,39,0.17,0.09,0.06,0.03,6.7999999999999996E-3,4.4999999999999997E-3,2013,1,"MAR","2013-03-01"]
["Placer",3296,1947,268,163,104,814,8,2059,1689,370,205,111,54,40,37.700000000000003,0.16,0.08,0.06,0.03,6.7000000000000002E-3,4.4000000000000003E-3,2013,2,"JUN","2013-06-01"]
["Placer",3567,2182,255,151,123,856,10.3,2218,1805,413,244,145,64,35,36.299999999999997,0.15,7.0000000000000007E-2,7.0000000000000007E-2,0.04,6.4000000000000003E-3,4.4999999999999997E-3,2013,3,"SEP","2013-09-01"]
["Placer",3185,1873,294,129,90,799,10.7,2186,1730,456,371,256,70,45,37.700000000000003,0.16,0.09,0.12,0.08,6.4999999999999997E-3,4.4999999999999997E-3,2013,4,"DEC","2013-12-01"]
["Placer",3379,1952,339,159,83,846,9.6999999999999993,2178,1709,469,321,200,73,48,33.299999999999997,0.17,0.1,0.1,0.06,6.6E-3,4.7999999999999996E-3,2014,1,"MAR","2014-03-01"]
["Placer",3219,1833,318,151,122,795,9.6999999999999993,2178,1709,469,321,200,73,48,33.299999999999997,0.18,0.1,0.1,0.06,6.7999999999999996E-3,4.7000000000000002E-3,2014,2,"JUN","2014-06-01"]
["Placer",3363,1954,328,141,87,853,10,2600,2080,520,373,235,83,55,36.700000000000003,0.17,0.1,0.11,7.0000000000000007E-2,6.4999999999999997E-3,5.3E-3,2014,3,"SEP","2014-09-01"]
["Placer",3140,1731,359,158,95,797,10.3,2565,1935,630,469,321,88,60,35,0.19,0.11,0.15,0.1,6.7000000000000002E-3,5.1999999999999998E-3,2014,4,"DEC","2014-12-01"]
["Placer",3195,1768,377,164,95,791,11,2533,1919,614,405,253,89,63,32.700000000000003,0.2,0.12,0.13,0.08,7.1000000000000004E-3,5.4000000000000003E-3,2015,1,"MAR","2015-03-01"]
["Placer",3125,1653,347,169,113,843,9.6999999999999993,2614,1979,635,403,250,83,70,34.700000000000003,0.2,0.11,0.13,0.08,7.0000000000000001E-3,5.1999999999999998E-3,2015,2,"JUN","2015-06-01"]
["Placer",3312,1826,353,168,114,851,10,2782,2061,721,390,249,90,51,35.700000000000003,0.19,0.11,0.12,0.08,7.1000000000000004E-3,5.4999999999999997E-3,2015,3,"SEP","2015-09-01"]
["Placer",2897,1597,278,159,98,765,10,2667,1997,670,387,234,91,62,33,0.18,0.1,0.13,0.08,8.5000000000000006E-3,6.6E-3,2015,4,"DEC","2015-12-01"]
["Placer",2936,1540,301,166,91,838,9,2265,1748,517,312,198,74,40,33.299999999999997,0.19,0.1,0.11,7.0000000000000007E-2,6.4999999999999997E-3,4.8999999999999998E-3,2016,1,"MAR","2016-03-01"]
["Plumas",283,194,11,7,14,57,19,90,63,27,24,24,0,0,42.3,0.11,0.04,0.08,0.08,5.9999999999999995E-4,2.9999999999999997E-4,2011,4,"DEC","2011-12-01"]
["Plumas",324,214,17,7,11,75,15,186,142,44,34,33,1,0,33.700000000000003,0.11,0.05,0.11,0.1,5.9999999999999995E-4,5.0000000000000001E-4,2012,1,"MAR","2012-03-01"]
["Plumas",297,198,8,12,13,66,15.7,195,151,44,26,24,1,1,34.299999999999997,0.11,0.03,0.09,0.08,5.9999999999999995E-4,5.0000000000000001E-4,2012,2,"JUN","2012-06-01"]
["Plumas",329,219,7,5,18,80,18.3,236,166,70,52,49,2,1,37.299999999999997,0.09,0.02,0.16,0.15,5.9999999999999995E-4,5.0000000000000001E-4,2012,3,"SEP","2012-09-01"]
["Plumas",332,197,10,11,10,104,16.7,248,176,72,58,56,1,1,35.700000000000003,0.09,0.03,0.17,0.17,6.9999999999999999E-4,5.9999999999999995E-4,2012,4,"DEC","2012-12-01"]
["Plumas",334,202,57,11,8,56,15.7,253,132,121,40,39,1,0,8.6999999999999993,0.23,0.17,0.12,0.12,6.9999999999999999E-4,5.9999999999999995E-4,2013,1,"MAR","2013-03-01"]
["Plumas",262,159,45,5,8,45,13,242,128,114,31,30,1,0,6.3,0.22,0.17,0.12,0.11,5.0000000000000001E-4,5.0000000000000001E-4,2013,2,"JUN","2013-06-01"]
["Plumas",347,221,47,11,8,60,16.3,272,136,136,47,40,4,3,12.7,0.19,0.14000000000000001,0.14000000000000001,0.12,5.9999999999999995E-4,5.9999999999999995E-4,2013,3,"SEP","2013-09-01"]
["Plumas",360,224,37,13,16,70,18.3,293,157,136,45,42,3,0,22.7,0.18,0.1,0.13,0.12,6.9999999999999999E-4,5.9999999999999995E-4,2013,4,"DEC","2013-12-01"]
["Plumas",318,219,18,12,4,65,16.7,260,146,114,52,46,5,1,32,0.11,0.06,0.16,0.15,5.9999999999999995E-4,5.9999999999999995E-4,2014,1,"MAR","2014-03-01"]
["Plumas",245,165,18,10,5,47,15.3,252,139,113,61,56,4,1,27.3,0.13,7.0000000000000007E-2,0.25,0.23,5.0000000000000001E-4,5.0000000000000001E-4,2014,2,"JUN","2014-06-01"]
["Plumas",382,255,35,11,10,71,15.3,309,164,145,96,92,3,1,31,0.15,0.09,0.25,0.24,6.9999999999999999E-4,5.9999999999999995E-4,2014,3,"SEP","2014-09-01"]
["Plumas",324,207,26,10,11,70,15,339,188,151,84,77,3,4,30,0.15,0.08,0.26,0.24,6.9999999999999999E-4,6.9999999999999999E-4,2014,4,"DEC","2014-12-01"]
["Plumas",382,275,29,5,8,65,15.7,260,154,106,73,69,1,3,31,0.11,0.08,0.19,0.18,8.9999999999999998E-4,5.0000000000000001E-4,2015,1,"MAR","2015-03-01"]
["Plumas",245,150,29,7,5,54,16.3,257,134,123,52,47,3,2,32,0.17,0.12,0.21,0.19,5.9999999999999995E-4,5.0000000000000001E-4,2015,2,"JUN","2015-06-01"]
["Plumas",427,276,50,22,12,67,16.3,371,183,188,96,84,6,6,32,0.2,0.12,0.23,0.2,8.9999999999999998E-4,6.9999999999999999E-4,2015,3,"SEP","2015-09-01"]
["Plumas",354,197,27,17,14,99,17,363,207,156,80,70,4,6,28.7,0.16,0.08,0.23,0.2,1E-3,8.9999999999999998E-4,2015,4,"DEC","2015-12-01"]
["Plumas",333,181,38,13,12,89,16,333,192,141,63,61,2,0,29.7,0.19,0.11,0.19,0.18,6.9999999999999999E-4,6.9999999999999999E-4,2016,1,"MAR","2016-03-01"]
["Riverside",32587,18180,937,1502,1408,10560,12.7,12687,8305,4382,3813,3650,116,47,38.700000000000003,0.12,0.03,0.12,0.11,6.4399999999999999E-2,3.6799999999999999E-2,2011,4,"DEC","2011-12-01"]
["Riverside",32493,17797,948,1518,1382,10848,12.7,27356,19066,8290,5385,4765,382,238,41.3,0.12,0.03,0.17,0.15,6.3899999999999998E-2,7.0900000000000005E-2,2012,1,"MAR","2012-03-01"]
["Riverside",36205,19312,988,1707,1490,12708,11.7,32334,22446,9888,6679,5989,439,251,37.299999999999997,0.12,0.03,0.18,0.17,6.8199999999999997E-2,7.7200000000000005E-2,2012,2,"JUN","2012-06-01"]
["Riverside",40336,21594,1035,1724,1660,14323,12,35403,23861,11542,7927,7259,455,213,35.700000000000003,0.11,0.03,0.2,0.18,7.3899999999999993E-2,7.7899999999999997E-2,2012,3,"SEP","2012-09-01"]
["Riverside",33602,17738,1099,1634,1399,11732,11.3,31904,21898,10006,6833,6246,377,210,30.7,0.12,0.03,0.2,0.19,6.7500000000000004E-2,7.17E-2,2012,4,"DEC","2012-12-01"]
["Riverside",34580,17773,6308,1588,1022,7889,11.7,30619,18851,11768,5559,4851,485,223,9.6999999999999993,0.26,0.18,0.16,0.14000000000000001,7.0900000000000005E-2,7.1599999999999997E-2,2013,1,"MAR","2013-03-01"]
["Riverside",36003,18005,6336,1733,1120,8809,11.7,37827,23838,13989,6523,5686,564,273,9,0.26,0.18,0.18,0.16,7.2900000000000006E-2,8.0199999999999994E-2,2013,2,"JUN","2013-06-01"]
["Riverside",42116,21320,7233,1883,1279,10401,12.3,39735,25142,14593,7310,6604,490,216,16.3,0.25,0.17,0.17,0.16,7.51E-2,8.1000000000000003E-2,2013,3,"SEP","2013-09-01"]
["Riverside",34099,16554,6629,1668,1017,8231,11.3,37425,23757,13668,7848,7066,594,188,25,0.27,0.19,0.23,0.21,6.9900000000000004E-2,7.6899999999999996E-2,2013,4,"DEC","2013-12-01"]
["Riverside",34282,17224,5952,1633,905,8568,11.3,35824,23140,12684,8317,7334,644,339,24.7,0.25,0.17,0.24,0.21,6.7400000000000002E-2,7.9699999999999993E-2,2014,1,"MAR","2014-03-01"]
["Riverside",33672,16362,5382,1631,1081,9216,11,38063,23539,14524,8992,7983,670,339,25,0.24,0.16,0.27,0.24,7.1099999999999997E-2,8.2600000000000007E-2,2014,2,"JUN","2014-06-01"]
["Riverside",37418,18572,5820,1688,1108,10230,12.3,39260,24485,14775,9363,8366,653,344,25,0.23,0.16,0.25,0.22,7.2700000000000001E-2,8.0699999999999994E-2,2014,3,"SEP","2014-09-01"]
["Riverside",30351,14669,5331,1508,931,7912,11.3,34784,21847,12937,8167,7211,624,332,24.7,0.26,0.18,0.27,0.24,6.4600000000000005E-2,7.0699999999999999E-2,2014,4,"DEC","2014-12-01"]
["Riverside",31669,15355,5392,1690,1013,8219,11.7,33719,20707,13012,8061,7082,620,359,24.7,0.26,0.17,0.25,0.22,7.0699999999999999E-2,7.1300000000000002E-2,2015,1,"MAR","2015-03-01"]
["Riverside",33401,15410,5677,1716,1176,9422,10,38221,23548,14673,8783,7656,762,365,25.3,0.26,0.17,0.26,0.23,7.5200000000000003E-2,7.6300000000000007E-2,2015,2,"JUN","2015-06-01"]
["Riverside",36355,17326,5593,1772,1056,10608,11,40274,25064,15210,8810,7808,689,313,26,0.23,0.15,0.24,0.22,7.7399999999999997E-2,7.8899999999999998E-2,2015,3,"SEP","2015-09-01"]
["Riverside",29705,13607,5152,1592,889,8465,10.7,34870,21592,13278,7950,6873,706,371,25,0.26,0.17,0.27,0.23,8.72E-2,8.5999999999999993E-2,2015,4,"DEC","2015-12-01"]
["Riverside",30815,13905,5444,1816,1145,8505,9.6999999999999993,34772,21259,13513,7282,6256,664,362,25.3,0.27,0.18,0.24,0.2,6.8099999999999994E-2,7.51E-2,2016,1,"MAR","2016-03-01"]
["Sacramento",23243,12911,2876,988,668,5800,11.3,17351,14884,2467,1694,949,428,317,46,0.2,0.12,7.0000000000000007E-2,0.04,4.5999999999999999E-2,5.0299999999999997E-2,2011,4,"DEC","2011-12-01"]
["Sacramento",24406,13411,3025,1182,780,6008,9.6999999999999993,17093,14748,2345,1496,751,411,334,45.7,0.2,0.12,0.06,0.03,4.8000000000000001E-2,4.4299999999999999E-2,2012,1,"MAR","2012-03-01"]
["Sacramento",25671,14500,2605,1089,819,6658,10,19172,16512,2660,1822,1028,496,298,45,0.18,0.1,7.0000000000000007E-2,0.04,4.8300000000000003E-2,4.58E-2,2012,2,"JUN","2012-06-01"]
["Sacramento",26707,15464,2133,1262,738,7110,10.3,23080,20315,2765,1931,1119,486,326,42.3,0.15,0.08,7.0000000000000007E-2,0.04,4.8899999999999999E-2,5.0799999999999998E-2,2012,3,"SEP","2012-09-01"]
["Sacramento",23055,12935,2075,1132,766,6147,9.6999999999999993,23697,21010,2687,1946,1197,455,294,40.299999999999997,0.17,0.09,0.08,0.05,4.6300000000000001E-2,5.3199999999999997E-2,2012,4,"DEC","2012-12-01"]
["Sacramento",22881,12605,2161,1212,779,6124,10.7,23353,20730,2623,1874,1101,483,290,37.299999999999997,0.18,0.09,0.08,0.05,4.6899999999999997E-2,5.4600000000000003E-2,2013,1,"MAR","2013-03-01"]
["Sacramento",23903,13066,2304,1274,736,6523,10,24475,21530,2945,1959,1136,510,313,38.299999999999997,0.18,0.1,0.08,0.05,4.8399999999999999E-2,5.1900000000000002E-2,2013,2,"JUN","2013-06-01"]
["Sacramento",25859,14396,2225,1262,907,7069,11,24909,21854,3055,1985,1220,465,300,39.700000000000003,0.17,0.09,0.08,0.05,4.6100000000000002E-2,5.0799999999999998E-2,2013,3,"SEP","2013-09-01"]
["Sacramento",22814,12330,2299,988,665,6532,10.7,24216,20689,3527,2574,1622,590,362,38.299999999999997,0.17,0.1,0.11,7.0000000000000007E-2,4.6800000000000001E-2,4.9799999999999997E-2,2013,4,"DEC","2013-12-01"]
["Sacramento",24671,13516,2466,1150,726,6813,9.3000000000000007,22561,19094,3467,2282,1404,500,378,35.700000000000003,0.18,0.1,0.09,0.06,4.8500000000000001E-2,5.0200000000000002E-2,2014,1,"MAR","2014-03-01"]
["Sacramento",24426,13123,2393,1090,725,7095,9.3000000000000007,22561,19094,3467,2282,1404,500,378,35.700000000000003,0.17,0.1,0.09,0.06,5.1499999999999997E-2,4.9000000000000002E-2,2014,2,"JUN","2014-06-01"]
["Sacramento",26664,14612,2787,1151,737,7377,6.7,25252,21160,4092,2702,1675,643,384,36,0.18,0.1,0.1,0.06,5.1799999999999999E-2,5.1900000000000002E-2,2014,3,"SEP","2014-09-01"]
["Sacramento",22707,11918,2669,1134,670,6316,6,23726,19283,4443,3131,2062,638,431,36.700000000000003,0.2,0.12,0.14000000000000001,0.09,4.8399999999999999E-2,4.82E-2,2014,4,"DEC","2014-12-01"]
["Sacramento",24040,12487,2966,1304,788,6495,6.7,24727,20062,4665,3159,2035,671,453,35,0.21,0.12,0.13,0.08,5.3699999999999998E-2,5.2299999999999999E-2,2015,1,"MAR","2015-03-01"]
["Sacramento",24308,12177,2964,1277,797,7093,7,26414,21522,4892,3525,2304,710,511,36.299999999999997,0.21,0.12,0.15,0.09,5.4699999999999999E-2,5.2699999999999997E-2,2015,2,"JUN","2015-06-01"]
["Sacramento",25347,12925,2998,1311,864,7249,8,24980,19977,5003,3133,2047,660,426,37.700000000000003,0.2,0.12,0.12,0.08,5.3999999999999999E-2,4.9000000000000002E-2,2015,3,"SEP","2015-09-01"]
["Sacramento",21830,10626,2755,1313,765,6371,7,24059,19071,4988,3344,2176,689,479,36.299999999999997,0.22,0.13,0.15,0.1,6.4100000000000004E-2,5.9299999999999999E-2,2015,4,"DEC","2015-12-01"]
["Sacramento",22618,10960,2893,1312,822,6631,6.7,23535,18739,4796,3406,2257,694,455,35.299999999999997,0.22,0.13,0.15,0.1,0.05,5.0900000000000001E-2,2016,1,"MAR","2016-03-01"]
["San Benito",916,459,34,67,56,300,19.7,354,232,122,113,108,3,2,39,0.17,0.04,0.12,0.12,1.8E-3,1E-3,2011,4,"DEC","2011-12-01"]
["San Benito",945,484,30,54,52,325,16.3,773,564,209,135,119,13,3,39,0.14000000000000001,0.03,0.14000000000000001,0.13,1.9E-3,2E-3,2012,1,"MAR","2012-03-01"]
["San Benito",778,427,22,35,36,258,18,804,573,231,156,138,17,1,38.700000000000003,0.12,0.03,0.2,0.18,1.5E-3,1.9E-3,2012,2,"JUN","2012-06-01"]
["San Benito",825,418,32,43,35,297,15,837,560,277,203,180,15,8,43.3,0.13,0.04,0.25,0.22,1.5E-3,1.8E-3,2012,3,"SEP","2012-09-01"]
["San Benito",921,427,40,43,56,355,17.7,912,646,266,189,159,19,11,37.700000000000003,0.15,0.04,0.21,0.17,1.9E-3,2E-3,2012,4,"DEC","2012-12-01"]
["San Benito",832,423,142,31,24,212,14.3,745,441,304,116,100,10,6,8,0.24,0.17,0.14000000000000001,0.12,1.6999999999999999E-3,1.6999999999999999E-3,2013,1,"MAR","2013-03-01"]
["San Benito",823,423,155,30,34,181,13.3,786,491,295,118,103,7,8,7.7,0.27,0.19,0.14000000000000001,0.13,1.6999999999999999E-3,1.6999999999999999E-3,2013,2,"JUN","2013-06-01"]
["San Benito",903,454,163,43,35,208,18.3,843,487,356,194,174,13,7,16,0.27,0.18,0.21,0.19,1.6000000000000001E-3,1.6999999999999999E-3,2013,3,"SEP","2013-09-01"]
["San Benito",984,390,204,49,46,295,16.3,1029,615,414,221,205,14,2,28,0.3,0.21,0.22,0.21,2E-3,2.0999999999999999E-3,2013,4,"DEC","2013-12-01"]
["San Benito",830,410,154,34,10,222,14,839,518,321,196,174,10,12,27,0.24,0.19,0.24,0.21,1.6000000000000001E-3,1.9E-3,2014,1,"MAR","2014-03-01"]
["San Benito",656,340,88,39,34,155,14.3,769,448,321,193,172,13,8,27.3,0.25,0.13,0.28999999999999998,0.26,1.4E-3,1.6999999999999999E-3,2014,2,"JUN","2014-06-01"]
["San Benito",754,407,94,30,17,206,16,804,465,339,270,240,18,12,29.3,0.19,0.12,0.36,0.32,1.5E-3,1.6999999999999999E-3,2014,3,"SEP","2014-09-01"]
["San Benito",895,374,142,61,48,270,18,915,545,370,357,322,31,4,27.3,0.28000000000000003,0.16,0.4,0.36,1.9E-3,1.9E-3,2014,4,"DEC","2014-12-01"]
["San Benito",752,360,105,50,20,217,16,744,419,325,256,225,27,4,27.7,0.23,0.14000000000000001,0.34,0.3,1.6999999999999999E-3,1.6000000000000001E-3,2015,1,"MAR","2015-03-01"]
["San Benito",640,283,77,39,21,220,12.7,727,422,305,185,159,14,12,27.3,0.21,0.12,0.28999999999999998,0.25,1.4E-3,1.5E-3,2015,2,"JUN","2015-06-01"]
["San Benito",614,272,96,33,26,187,14,785,436,349,245,211,23,11,29.7,0.25,0.16,0.4,0.34,1.2999999999999999E-3,1.5E-3,2015,3,"SEP","2015-09-01"]
["San Benito",706,283,129,44,23,227,14.7,973,546,427,299,257,30,12,26.3,0.28000000000000003,0.18,0.42,0.36,2.0999999999999999E-3,2.3999999999999998E-3,2015,4,"DEC","2015-12-01"]
["San Benito",671,288,107,40,27,209,12.7,741,430,311,218,186,25,7,26.3,0.26,0.16,0.32,0.28000000000000003,1.5E-3,1.6000000000000001E-3,2016,1,"MAR","2016-03-01"]
["San Bernardino",37385,18833,1496,1693,1660,13703,11,18301,12478,5823,5373,5287,48,38,35,0.13,0.04,0.14000000000000001,0.14000000000000001,7.3899999999999993E-2,5.3100000000000001E-2,2011,4,"DEC","2011-12-01"]
["San Bernardino",40024,20237,1429,1834,1718,14806,11,37727,27089,10638,7834,7252,347,235,37,0.12,0.04,0.2,0.18,7.8700000000000006E-2,9.7799999999999998E-2,2012,1,"MAR","2012-03-01"]
["San Bernardino",44183,22432,1452,1957,1784,16558,10.7,43302,30875,12427,8921,8228,450,243,33.700000000000003,0.12,0.03,0.2,0.19,8.3199999999999996E-2,0.10349999999999999,2012,2,"JUN","2012-06-01"]
["San Bernardino",44473,22909,1487,1869,1710,16498,11.7,46182,31861,14321,10388,9741,402,245,34,0.11,0.03,0.23,0.22,8.1500000000000003E-2,0.1017,2012,3,"SEP","2012-09-01"]
["San Bernardino",38674,18867,1692,1769,1672,14674,10.7,42311,29979,12332,9294,8646,423,225,30.3,0.13,0.04,0.24,0.22,7.7700000000000005E-2,9.5000000000000001E-2,2012,4,"DEC","2012-12-01"]
["San Bernardino",40313,19143,8780,1641,1103,9646,10.3,41105,26646,14459,6655,6016,400,239,7.7,0.28999999999999998,0.22,0.17,0.15,8.2600000000000007E-2,9.6100000000000005E-2,2013,1,"MAR","2013-03-01"]
["San Bernardino",41135,18862,8658,1762,1283,10570,10.7,50716,34117,16599,8671,7875,514,282,8,0.28000000000000003,0.21,0.21,0.19,8.3299999999999999E-2,0.1076,2013,2,"JUN","2013-06-01"]
["San Bernardino",46917,22518,8988,1964,1306,12141,12,51028,34143,16885,9471,8744,514,213,15.3,0.26,0.19,0.2,0.19,8.3699999999999997E-2,0.104,2013,3,"SEP","2013-09-01"]
["San Bernardino",40189,18711,8476,1850,1209,9943,10,49207,33068,16139,12359,11554,590,215,29.3,0.28999999999999998,0.21,0.31,0.28999999999999998,8.2400000000000001E-2,0.1012,2013,4,"DEC","2013-12-01"]
["San Bernardino",42674,19879,8553,1722,1045,11475,9.6999999999999993,47235,31727,15508,12409,11454,633,322,29,0.27,0.2,0.28999999999999998,0.27,8.3900000000000002E-2,0.1051,2014,1,"MAR","2014-03-01"]
["San Bernardino",38813,17585,7687,1733,1148,10660,8.3000000000000007,49147,32002,17145,12949,11856,728,365,30,0.27,0.2,0.33,0.31,8.1900000000000001E-2,0.1067,2014,2,"JUN","2014-06-01"]
["San Bernardino",41730,19115,8086,1850,1159,11520,8.3000000000000007,50354,33404,16950,12950,11861,701,388,30,0.27,0.19,0.31,0.28000000000000003,8.1100000000000005E-2,0.10349999999999999,2014,3,"SEP","2014-09-01"]
["San Bernardino",35681,15606,7824,1697,1051,9503,8,46974,30471,16503,12567,11410,762,395,29.3,0.3,0.22,0.35,0.32,7.5999999999999998E-2,9.5399999999999999E-2,2014,4,"DEC","2014-12-01"]
["San Bernardino",38039,16684,8246,2017,1157,9935,8.6999999999999993,46083,29850,16233,11713,10582,745,386,30,0.3,0.22,0.31,0.28000000000000003,8.4900000000000003E-2,9.74E-2,2015,1,"MAR","2015-03-01"]
["San Bernardino",39490,16518,8434,1986,1270,11282,8,50377,32502,17875,12769,11494,867,408,30,0.3,0.21,0.32,0.28999999999999998,8.8900000000000007E-2,0.10050000000000001,2015,2,"JUN","2015-06-01"]
["San Bernardino",41678,17850,8668,2087,1229,11844,8,53188,34373,18815,12809,11594,779,436,30.3,0.28999999999999998,0.21,0.31,0.28000000000000003,8.8700000000000001E-2,0.1043,2015,3,"SEP","2015-09-01"]
["San Bernardino",34616,13599,8197,1972,1133,9715,8,48147,30516,17631,11976,10634,924,418,29.3,0.33,0.24,0.35,0.31,0.1016,0.1187,2015,4,"DEC","2015-12-01"]
["San Bernardino",37664,14793,8662,2296,1362,10551,8.3000000000000007,48277,30565,17712,10600,9323,809,468,29.3,0.33,0.23,0.28000000000000003,0.25,8.3199999999999996E-2,0.1043,2016,1,"MAR","2016-03-01"]
["San Diego",40262,21982,6505,2103,1354,8318,8.3000000000000007,27736,22365,5371,4966,3147,1080,739,42.3,0.25,0.16,0.12,0.08,7.9600000000000004E-2,8.0500000000000002E-2,2011,4,"DEC","2011-12-01"]
["San Diego",40013,21090,6907,2435,1499,8082,7,28621,22875,5746,5217,3181,1231,805,40.700000000000003,0.27,0.17,0.13,0.08,7.8700000000000006E-2,7.4200000000000002E-2,2012,1,"MAR","2012-03-01"]
["San Diego",41531,20890,7055,2622,1538,9426,7.7,31254,24998,6256,5751,3475,1366,910,41.3,0.27,0.17,0.14000000000000001,0.08,7.8200000000000006E-2,7.4700000000000003E-2,2012,2,"JUN","2012-06-01"]
["San Diego",43342,22335,6823,2598,1638,9948,8.6999999999999993,35811,28870,6941,6270,3881,1389,1000,41.7,0.26,0.16,0.14000000000000001,0.09,7.9399999999999998E-2,7.8799999999999995E-2,2012,3,"SEP","2012-09-01"]
["San Diego",41317,20107,6988,2701,1708,9813,9.6999999999999993,31667,25948,5719,5166,3226,1134,806,37.700000000000003,0.28000000000000003,0.17,0.13,0.08,8.3000000000000004E-2,7.1099999999999997E-2,2012,4,"DEC","2012-12-01"]
["San Diego",37250,18698,4314,2469,1669,10100,10,22953,20536,2417,2059,1035,582,442,36.299999999999997,0.23,0.12,0.06,0.03,7.6300000000000007E-2,5.3699999999999998E-2,2013,1,"MAR","2013-03-01"]
["San Diego",36564,18571,4402,2353,1273,9965,10.7,24141,21492,2649,2386,1220,655,511,37,0.22,0.12,7.0000000000000007E-2,0.03,7.3999999999999996E-2,5.1200000000000002E-2,2013,2,"JUN","2013-06-01"]
["San Diego",44148,22825,5202,2347,1798,11976,11.7,31474,25954,5520,4282,2720,1009,553,36,0.21,0.12,0.1,0.06,7.8799999999999995E-2,6.4199999999999993E-2,2013,3,"SEP","2013-09-01"]
["San Diego",40669,20261,6192,2043,1311,10862,11,33271,25829,7442,5890,3825,1240,825,35,0.23,0.15,0.14000000000000001,0.09,8.3400000000000002E-2,6.8400000000000002E-2,2013,4,"DEC","2013-12-01"]
["San Diego",40953,20610,5979,2140,1270,10954,11.3,28417,22742,5675,4085,2463,958,664,33.299999999999997,0.23,0.15,0.1,0.06,8.0500000000000002E-2,6.3299999999999995E-2,2014,1,"MAR","2014-03-01"]
["San Diego",39623,20051,4834,1959,1323,11456,11.3,28417,22742,5675,4085,2463,958,664,33.299999999999997,0.2,0.12,0.1,0.06,8.3599999999999994E-2,6.1699999999999998E-2,2014,2,"JUN","2014-06-01"]
["San Diego",42882,21509,6005,2265,1331,11772,11,34813,28628,6185,4976,3073,1126,777,36,0.22,0.14000000000000001,0.12,7.0000000000000007E-2,8.3299999999999999E-2,7.1499999999999994E-2,2014,3,"SEP","2014-09-01"]
["San Diego",39097,18746,5927,2221,1310,10893,10.3,32316,25499,6817,5177,3421,1072,684,35,0.24,0.15,0.13,0.09,8.3199999999999996E-2,6.5699999999999995E-2,2014,4,"DEC","2014-12-01"]
["San Diego",40752,20386,5450,2276,1439,11201,11.7,30940,24530,6410,4286,2704,907,675,33.299999999999997,0.22,0.13,0.11,7.0000000000000007E-2,9.0999999999999998E-2,6.54E-2,2015,1,"MAR","2015-03-01"]
["San Diego",38727,18508,4952,2109,1335,11823,11.3,32218,25485,6733,4577,2890,1016,671,34.299999999999997,0.22,0.13,0.12,7.0000000000000007E-2,8.72E-2,6.4299999999999996E-2,2015,2,"JUN","2015-06-01"]
["San Diego",40516,19062,5338,2230,1336,12550,11.3,34602,26924,7678,4632,2920,1020,692,36.700000000000003,0.22,0.13,0.11,7.0000000000000007E-2,8.6300000000000002E-2,6.7799999999999999E-2,2015,3,"SEP","2015-09-01"]
["San Diego",36818,16885,5186,2282,1351,11114,10.3,32851,25394,7457,4938,3124,1086,728,35,0.24,0.14000000000000001,0.13,0.08,0.1081,8.1000000000000003E-2,2015,4,"DEC","2015-12-01"]
["San Diego",38512,18060,5157,2374,1455,11466,11.3,31388,24435,6953,4392,2633,1017,742,34.700000000000003,0.23,0.13,0.11,7.0000000000000007E-2,8.5099999999999995E-2,6.7799999999999999E-2,2016,1,"MAR","2016-03-01"]
["San Francisco",8636,4822,844,521,292,2157,7,6364,4998,1366,878,588,176,114,35.299999999999997,0.19,0.1,0.1,7.0000000000000007E-2,1.7100000000000001E-2,1.8499999999999999E-2,2011,4,"DEC","2011-12-01"]
["San Francisco",9605,5318,1037,597,340,2313,7,6471,5038,1433,902,600,183,119,37.700000000000003,0.21,0.11,0.09,0.06,1.89E-2,1.6799999999999999E-2,2012,1,"MAR","2012-03-01"]
["San Francisco",9195,4876,1036,526,313,2444,6.3,6655,5166,1489,928,607,190,131,37.700000000000003,0.2,0.11,0.1,7.0000000000000007E-2,1.7299999999999999E-2,1.5900000000000001E-2,2012,2,"JUN","2012-06-01"]
["San Francisco",9193,5061,794,550,339,2449,8,7021,5360,1661,923,586,202,135,39.299999999999997,0.18,0.09,0.1,0.06,1.6799999999999999E-2,1.55E-2,2012,3,"SEP","2012-09-01"]
["San Francisco",8403,4430,733,535,338,2367,7.3,6560,5013,1547,979,592,262,125,37.299999999999997,0.19,0.09,0.12,7.0000000000000007E-2,1.6899999999999998E-2,1.47E-2,2012,4,"DEC","2012-12-01"]
["San Francisco",8889,4559,914,546,365,2505,9.6999999999999993,6924,5331,1593,1035,711,194,130,37,0.21,0.1,0.12,0.08,1.8200000000000001E-2,1.6199999999999999E-2,2013,1,"MAR","2013-03-01"]
["San Francisco",8805,4548,1002,609,318,2328,9.3000000000000007,7190,5572,1618,1112,756,218,138,37.700000000000003,0.22,0.11,0.13,0.09,1.78E-2,1.5299999999999999E-2,2013,2,"JUN","2013-06-01"]
["San Francisco",9204,4883,888,545,403,2485,9.3000000000000007,7205,5479,1726,956,658,189,109,37.299999999999997,0.2,0.1,0.1,7.0000000000000007E-2,1.6400000000000001E-2,1.47E-2,2013,3,"SEP","2013-09-01"]
["San Francisco",7856,4216,793,420,264,2163,10.7,6539,4886,1653,1045,673,234,138,35.299999999999997,0.19,0.1,0.13,0.09,1.61E-2,1.34E-2,2013,4,"DEC","2013-12-01"]
["San Francisco",9014,4773,973,499,268,2501,10,7096,5254,1842,1159,809,223,127,34.700000000000003,0.19,0.11,0.13,0.09,1.77E-2,1.5800000000000002E-2,2014,1,"MAR","2014-03-01"]
["San Francisco",8010,4140,937,380,253,2300,10,7096,5254,1842,1159,809,223,127,34.700000000000003,0.2,0.12,0.14000000000000001,0.1,1.6899999999999998E-2,1.54E-2,2014,2,"JUN","2014-06-01"]
["San Francisco",8412,4390,1159,422,276,2165,9,7433,5667,1766,1157,828,216,113,37,0.22,0.14000000000000001,0.14000000000000001,0.1,1.6299999999999999E-2,1.5299999999999999E-2,2014,3,"SEP","2014-09-01"]
["San Francisco",7241,3702,867,382,201,2089,8.6999999999999993,6473,4705,1768,1221,850,227,144,37,0.2,0.12,0.17,0.12,1.54E-2,1.32E-2,2014,4,"DEC","2014-12-01"]
["San Francisco",8496,4479,1019,421,264,2313,8,7396,5518,1878,1244,845,245,154,34.299999999999997,0.2,0.12,0.15,0.1,1.9E-2,1.5599999999999999E-2,2015,1,"MAR","2015-03-01"]
["San Francisco",8174,4125,844,438,300,2467,7.3,7352,5579,1773,1102,743,213,146,35,0.19,0.1,0.13,0.09,1.84E-2,1.47E-2,2015,2,"JUN","2015-06-01"]
["San Francisco",8789,4670,1008,424,272,2415,8.3000000000000007,7175,5334,1841,1056,742,182,132,37.700000000000003,0.19,0.12,0.12,0.08,1.8700000000000001E-2,1.41E-2,2015,3,"SEP","2015-09-01"]
["San Francisco",7747,4095,790,456,262,2144,8,6479,4873,1606,1012,711,180,121,35.299999999999997,0.19,0.1,0.13,0.09,2.2700000000000001E-2,1.6E-2,2015,4,"DEC","2015-12-01"]
["San Francisco",8582,4590,862,447,276,2407,7.7,7306,5505,1801,1067,726,202,139,34.700000000000003,0.18,0.1,0.12,0.08,1.9E-2,1.5800000000000002E-2,2016,1,"MAR","2016-03-01"]
["San Joaquin",10991,6294,583,488,508,3118,20.7,6158,4314,1844,1637,1585,41,11,36,0.14000000000000001,0.05,0.15,0.14000000000000001,2.1700000000000001E-2,1.7899999999999999E-2,2011,4,"DEC","2011-12-01"]
["San Joaquin",11311,6624,545,517,405,3220,21.7,11602,8732,2870,2011,1829,116,66,36,0.13,0.05,0.18,0.16,2.2200000000000001E-2,3.0099999999999998E-2,2012,1,"MAR","2012-03-01"]
["San Joaquin",11551,6752,575,458,401,3365,21.3,12196,9209,2987,1998,1778,153,67,32,0.12,0.05,0.17,0.15,2.18E-2,2.9100000000000001E-2,2012,2,"JUN","2012-06-01"]
["San Joaquin",11783,6759,563,521,452,3488,21.7,12932,9621,3311,2171,1934,152,85,33.299999999999997,0.13,0.05,0.18,0.16,2.1600000000000001E-2,2.8500000000000001E-2,2012,3,"SEP","2012-09-01"]
["San Joaquin",10944,5748,614,487,501,3594,17.3,12736,9570,3166,2176,1973,128,75,28,0.15,0.06,0.2,0.18,2.1999999999999999E-2,2.86E-2,2012,4,"DEC","2012-12-01"]
["San Joaquin",11072,6042,2193,393,288,2156,16.3,12698,8862,3836,1737,1548,115,74,7.3,0.26,0.2,0.16,0.14000000000000001,2.2700000000000001E-2,2.9700000000000001E-2,2013,1,"MAR","2013-03-01"]
["San Joaquin",11556,6295,1947,423,362,2529,17.7,13765,9857,3908,1858,1634,157,67,7,0.24,0.17,0.16,0.14000000000000001,2.3400000000000001E-2,2.92E-2,2013,2,"JUN","2013-06-01"]
["San Joaquin",12405,6684,2333,524,364,2500,19.3,14174,10113,4061,1927,1710,138,79,14.3,0.26,0.19,0.16,0.14000000000000001,2.2100000000000002E-2,2.8899999999999999E-2,2013,3,"SEP","2013-09-01"]
["San Joaquin",10975,5632,2094,511,339,2399,17.3,14933,10434,4499,2483,2231,186,66,25,0.27,0.19,0.23,0.2,2.2499999999999999E-2,3.0700000000000002E-2,2013,4,"DEC","2013-12-01"]
["San Joaquin",11629,6470,1645,442,292,2780,20,14343,10191,4152,2819,2519,192,108,24,0.21,0.14000000000000001,0.24,0.22,2.29E-2,3.1899999999999998E-2,2014,1,"MAR","2014-03-01"]
["San Joaquin",10250,5582,1361,414,333,2560,18,14467,9989,4478,3066,2741,220,105,24,0.21,0.13,0.3,0.27,2.1600000000000001E-2,3.1399999999999997E-2,2014,2,"JUN","2014-06-01"]
["San Joaquin",11145,6198,1494,447,300,2706,18,14304,9977,4327,3202,2848,228,126,25.3,0.2,0.13,0.28999999999999998,0.26,2.1700000000000001E-2,2.9399999999999999E-2,2014,3,"SEP","2014-09-01"]
["San Joaquin",10104,5190,1562,465,326,2561,15.7,14371,10028,4343,3086,2755,230,101,24.7,0.23,0.15,0.31,0.27,2.1499999999999998E-2,2.92E-2,2014,4,"DEC","2014-12-01"]
["San Joaquin",10941,5660,1769,511,322,2679,14,14204,9768,4436,2826,2528,187,111,24.3,0.24,0.16,0.26,0.23,2.4400000000000002E-2,0.03,2015,1,"MAR","2015-03-01"]
["San Joaquin",10129,5119,1542,454,321,2693,12.7,14755,10114,4641,2785,2444,233,108,23.7,0.23,0.15,0.28000000000000003,0.24,2.2800000000000001E-2,2.9399999999999999E-2,2015,2,"JUN","2015-06-01"]
["San Joaquin",10513,5316,1695,496,342,2664,12.7,15449,10548,4901,3050,2711,230,109,24.7,0.24,0.16,0.28999999999999998,0.26,2.24E-2,3.0300000000000001E-2,2015,3,"SEP","2015-09-01"]
["San Joaquin",9697,4491,1741,547,330,2588,13.7,15350,10205,5145,3003,2619,260,124,24.7,0.27,0.18,0.31,0.27,2.8500000000000001E-2,3.7900000000000003E-2,2015,4,"DEC","2015-12-01"]
["San Joaquin",10258,4768,1869,551,357,2713,12.3,15007,9973,5034,2986,2639,229,118,24.3,0.27,0.18,0.28999999999999998,0.26,2.2700000000000001E-2,3.2399999999999998E-2,2016,1,"MAR","2016-03-01"]
["San Luis Obispo",3061,1708,336,146,110,761,12.3,1679,1437,242,159,88,43,28,45.3,0.19,0.11,0.05,0.03,6.1000000000000004E-3,4.8999999999999998E-3,2011,4,"DEC","2011-12-01"]
["San Luis Obispo",3016,1680,327,169,90,750,10.7,1711,1431,280,139,67,42,30,44.3,0.19,0.11,0.05,0.02,5.8999999999999999E-3,4.4000000000000003E-3,2012,1,"MAR","2012-03-01"]
["San Luis Obispo",2737,1508,238,142,97,752,11.7,1813,1481,332,194,103,56,35,43,0.17,0.09,7.0000000000000007E-2,0.04,5.1999999999999998E-3,4.3E-3,2012,2,"JUN","2012-06-01"]
["San Luis Obispo",2973,1686,193,158,112,824,13.3,1940,1622,318,171,90,42,39,43.7,0.16,0.06,0.06,0.03,5.4000000000000003E-3,4.3E-3,2012,3,"SEP","2012-09-01"]
["San Luis Obispo",2707,1465,205,129,94,814,12.7,2019,1660,359,198,126,46,26,39.299999999999997,0.16,0.08,7.0000000000000007E-2,0.05,5.4000000000000003E-3,4.4999999999999997E-3,2012,4,"DEC","2012-12-01"]
["San Luis Obispo",2835,1590,187,155,84,819,11.3,1953,1659,294,153,85,41,27,40,0.15,7.0000000000000007E-2,0.05,0.03,5.7999999999999996E-3,4.5999999999999999E-3,2013,1,"MAR","2013-03-01"]
["San Luis Obispo",2600,1434,188,147,91,740,13,1933,1590,343,195,96,54,45,39,0.16,7.0000000000000007E-2,0.08,0.04,5.3E-3,4.1000000000000003E-3,2013,2,"JUN","2013-06-01"]
["San Luis Obispo",3042,1681,201,168,126,866,12.7,2058,1680,378,223,120,61,42,41,0.16,7.0000000000000007E-2,7.0000000000000007E-2,0.04,5.4000000000000003E-3,4.1999999999999997E-3,2013,3,"SEP","2013-09-01"]
["San Luis Obispo",2816,1483,187,123,109,914,14.3,2015,1632,383,256,155,54,47,40.700000000000003,0.15,7.0000000000000007E-2,0.09,0.06,5.7999999999999996E-3,4.1000000000000003E-3,2013,4,"DEC","2013-12-01"]
["San Luis Obispo",3088,1674,228,116,79,991,12,1987,1632,355,190,105,52,33,36.700000000000003,0.14000000000000001,7.0000000000000007E-2,0.06,0.03,6.1000000000000004E-3,4.4000000000000003E-3,2014,1,"MAR","2014-03-01"]
["San Luis Obispo",2613,1444,175,100,67,827,12,1987,1632,355,190,105,52,33,36.700000000000003,0.13,7.0000000000000007E-2,7.0000000000000007E-2,0.04,5.4999999999999997E-3,4.3E-3,2014,2,"JUN","2014-06-01"]
["San Luis Obispo",2819,1506,205,144,95,869,11.7,2203,1657,546,265,138,73,54,39,0.16,7.0000000000000007E-2,0.09,0.05,5.4999999999999997E-3,4.4999999999999997E-3,2014,3,"SEP","2014-09-01"]
["San Luis Obispo",2677,1326,192,145,102,912,13.3,2143,1671,472,289,169,68,52,39.299999999999997,0.16,7.0000000000000007E-2,0.11,0.06,5.7000000000000002E-3,4.4000000000000003E-3,2014,4,"DEC","2014-12-01"]
["San Luis Obispo",2804,1479,235,131,83,876,11.7,2196,1718,478,272,149,74,49,36.700000000000003,0.16,0.08,0.1,0.05,6.3E-3,4.5999999999999999E-3,2015,1,"MAR","2015-03-01"]
["San Luis Obispo",2575,1294,195,132,84,870,12,2135,1671,464,256,146,68,42,36,0.16,0.08,0.1,0.06,5.7999999999999996E-3,4.3E-3,2015,2,"JUN","2015-06-01"]
["San Luis Obispo",2830,1494,206,124,85,921,13,2231,1718,513,263,155,63,45,36.700000000000003,0.15,7.0000000000000007E-2,0.09,0.06,6.0000000000000001E-3,4.4000000000000003E-3,2015,3,"SEP","2015-09-01"]
["San Luis Obispo",2546,1228,221,143,85,869,12,2311,1768,543,276,160,67,49,34,0.18,0.09,0.11,0.06,7.4999999999999997E-3,5.7000000000000002E-3,2015,4,"DEC","2015-12-01"]
["San Luis Obispo",2638,1295,205,133,106,899,11.3,2162,1691,471,217,119,55,43,34.299999999999997,0.17,0.08,0.08,0.05,5.7999999999999996E-3,4.7000000000000002E-3,2016,1,"MAR","2016-03-01"]
["San Mateo",4696,3040,341,169,122,1024,12.7,2289,1963,326,252,124,66,62,43.3,0.13,7.0000000000000007E-2,0.05,0.03,9.2999999999999992E-3,6.6E-3,2011,4,"DEC","2011-12-01"]
["San Mateo",5319,3382,470,237,173,1057,12.7,2445,2116,329,234,113,70,51,43,0.17,0.09,0.04,0.02,1.0500000000000001E-2,6.3E-3,2012,1,"MAR","2012-03-01"]
["San Mateo",5062,3147,505,213,131,1066,12,2557,2168,389,301,168,82,51,42.7,0.17,0.1,0.06,0.03,9.4999999999999998E-3,6.1000000000000004E-3,2012,2,"JUN","2012-06-01"]
["San Mateo",5427,3354,434,253,168,1218,11.7,3021,2535,486,329,180,79,70,41.7,0.16,0.08,0.06,0.03,9.9000000000000008E-3,6.7000000000000002E-3,2012,3,"SEP","2012-09-01"]
["San Mateo",4811,2860,389,250,174,1138,17,2930,2490,440,384,217,102,65,39,0.17,0.08,0.08,0.05,9.7000000000000003E-3,6.6E-3,2012,4,"DEC","2012-12-01"]
["San Mateo",5250,3118,405,282,172,1273,19.7,3083,2607,476,352,199,80,73,39,0.16,0.08,7.0000000000000007E-2,0.04,1.0800000000000001E-2,7.1999999999999998E-3,2013,1,"MAR","2013-03-01"]
["San Mateo",4857,2900,413,254,170,1120,16.7,3124,2606,518,372,207,98,67,40.700000000000003,0.17,0.09,0.08,0.04,9.7999999999999997E-3,6.6E-3,2013,2,"JUN","2013-06-01"]
["San Mateo",5575,3352,382,264,211,1366,11.3,3321,2780,541,401,243,117,41,39.700000000000003,0.15,7.0000000000000007E-2,7.0000000000000007E-2,0.04,9.9000000000000008E-3,6.7999999999999996E-3,2013,3,"SEP","2013-09-01"]
["San Mateo",4730,2842,370,216,116,1186,10,3194,2554,640,484,306,102,76,37,0.15,0.08,0.1,0.06,9.7000000000000003E-3,6.6E-3,2013,4,"DEC","2013-12-01"]
["San Mateo",5240,2992,522,271,170,1285,9.3000000000000007,3302,2557,745,436,261,99,76,36.299999999999997,0.18,0.1,0.08,0.05,1.03E-2,7.4000000000000003E-3,2014,1,"MAR","2014-03-01"]
["San Mateo",4657,2655,403,247,145,1207,9.3000000000000007,3302,2557,745,436,261,99,76,36.299999999999997,0.17,0.09,0.09,0.06,9.7999999999999997E-3,7.1999999999999998E-3,2014,2,"JUN","2014-06-01"]
["San Mateo",4935,2697,556,268,157,1257,11,4104,3265,839,577,372,124,81,37.700000000000003,0.2,0.11,0.12,0.08,9.5999999999999992E-3,8.3999999999999995E-3,2014,3,"SEP","2014-09-01"]
["San Mateo",4237,2277,391,230,177,1162,11,3317,2560,757,517,317,112,88,37.299999999999997,0.19,0.09,0.12,7.0000000000000007E-2,8.9999999999999993E-3,6.7000000000000002E-3,2014,4,"DEC","2014-12-01"]
["San Mateo",4784,2588,458,281,188,1269,10.3,3597,2803,794,543,332,121,90,37,0.19,0.1,0.11,7.0000000000000007E-2,1.0699999999999999E-2,7.6E-3,2015,1,"MAR","2015-03-01"]
["San Mateo",4463,2351,415,252,168,1277,9,3631,2823,808,502,286,111,105,37.299999999999997,0.19,0.09,0.11,0.06,0.01,7.1999999999999998E-3,2015,2,"JUN","2015-06-01"]
["San Mateo",4981,2647,469,291,161,1413,9.6999999999999993,3910,3015,895,531,327,115,89,40.299999999999997,0.19,0.09,0.11,7.0000000000000007E-2,1.06E-2,7.7000000000000002E-3,2015,3,"SEP","2015-09-01"]
["San Mateo",4215,2217,406,268,174,1150,10.3,3375,2549,826,484,291,114,79,39,0.2,0.1,0.11,7.0000000000000007E-2,1.24E-2,8.3000000000000001E-3,2015,4,"DEC","2015-12-01"]
["San Mateo",4287,2163,487,261,178,1198,9.6999999999999993,3510,2630,880,492,285,122,85,40,0.22,0.11,0.11,7.0000000000000007E-2,9.4999999999999998E-3,7.6E-3,2016,1,"MAR","2016-03-01"]
["Santa Barbara",5880,2591,890,391,248,1760,25.7,3545,3078,467,415,233,117,65,42.7,0.26,0.15,7.0000000000000007E-2,0.04,1.1599999999999999E-2,1.03E-2,2011,4,"DEC","2011-12-01"]
["Santa Barbara",5094,2493,767,242,167,1425,21,3003,2533,470,307,183,78,46,42,0.23,0.15,0.06,0.04,0.01,7.7999999999999996E-3,2012,1,"MAR","2012-03-01"]
["Santa Barbara",4137,2267,416,173,116,1165,12.7,3032,2519,513,339,196,78,65,40.700000000000003,0.17,0.1,0.08,0.05,7.7999999999999996E-3,7.1999999999999998E-3,2012,2,"JUN","2012-06-01"]
["Santa Barbara",4529,2441,371,281,190,1246,14.7,3658,2993,665,419,225,113,81,44.3,0.19,0.08,0.09,0.05,8.3000000000000001E-3,8.0999999999999996E-3,2012,3,"SEP","2012-09-01"]
["Santa Barbara",5451,2304,608,337,256,1946,18.7,4295,3623,672,455,269,118,68,39.299999999999997,0.22,0.11,0.08,0.05,1.0999999999999999E-2,9.5999999999999992E-3,2012,4,"DEC","2012-12-01"]
["Santa Barbara",4817,2440,474,246,180,1477,15.3,3637,3097,540,356,233,68,55,38,0.19,0.1,7.0000000000000007E-2,0.05,9.9000000000000008E-3,8.5000000000000006E-3,2013,1,"MAR","2013-03-01"]
["Santa Barbara",4242,2283,388,223,128,1220,13.3,3435,2789,646,396,212,119,65,38.700000000000003,0.17,0.09,0.09,0.05,8.6E-3,7.3000000000000001E-3,2013,2,"JUN","2013-06-01"]
["Santa Barbara",5113,2645,457,317,214,1480,16,3750,3017,733,454,255,123,76,39.700000000000003,0.19,0.09,0.09,0.05,9.1000000000000004E-3,7.6E-3,2013,3,"SEP","2013-09-01"]
["Santa Barbara",5826,2571,567,292,265,2131,21.7,4593,3795,798,632,344,181,107,38,0.19,0.1,0.11,0.06,1.1900000000000001E-2,9.4000000000000004E-3,2013,4,"DEC","2013-12-01"]
["Santa Barbara",4907,2483,479,219,152,1574,19.3,3962,3246,716,339,197,90,52,34,0.17,0.1,7.0000000000000007E-2,0.04,9.5999999999999992E-3,8.8000000000000005E-3,2014,1,"MAR","2014-03-01"]
["Santa Barbara",4022,2201,311,154,106,1250,19.3,3962,3246,716,339,197,90,52,34,0.14000000000000001,0.08,0.08,0.05,8.5000000000000006E-3,8.6E-3,2014,2,"JUN","2014-06-01"]
["Santa Barbara",4707,2489,407,207,146,1458,14.7,4625,3730,895,550,274,158,118,39.299999999999997,0.16,0.09,0.12,0.06,9.1000000000000004E-3,9.4999999999999998E-3,2014,3,"SEP","2014-09-01"]
["Santa Barbara",5387,2355,487,338,206,2001,16.7,5247,4219,1028,614,353,165,96,40.299999999999997,0.19,0.09,0.11,7.0000000000000007E-2,1.15E-2,1.0699999999999999E-2,2014,4,"DEC","2014-12-01"]
["Santa Barbara",4869,2476,419,240,181,1553,12.7,4182,3303,879,480,276,120,84,38,0.17,0.09,0.1,0.06,1.09E-2,8.8000000000000005E-3,2015,1,"MAR","2015-03-01"]
["Santa Barbara",4313,2315,369,215,144,1270,11.3,4025,3179,846,449,245,128,76,38.299999999999997,0.17,0.09,0.1,0.06,9.7000000000000003E-3,8.0000000000000002E-3,2015,2,"JUN","2015-06-01"]
["Santa Barbara",4895,2581,345,242,179,1548,12,4072,3315,757,487,263,130,94,39.299999999999997,0.16,7.0000000000000007E-2,0.1,0.05,1.04E-2,8.0000000000000002E-3,2015,3,"SEP","2015-09-01"]
["Santa Barbara",5690,2590,416,303,211,2170,15.3,5029,4182,847,605,357,168,80,36.700000000000003,0.16,7.0000000000000007E-2,0.11,0.06,1.67E-2,1.24E-2,2015,4,"DEC","2015-12-01"]
["Santa Barbara",4596,2557,446,260,135,1198,11.3,3768,2973,795,490,322,96,72,36,0.17,0.09,0.1,7.0000000000000007E-2,1.0200000000000001E-2,8.0999999999999996E-3,2016,1,"MAR","2016-03-01"]
["Santa Clara",11073,6501,1035,497,354,2686,31,9772,8358,1414,427,124,185,118,46.3,0.17,0.09,0.04,0.01,2.1899999999999999E-2,2.8299999999999999E-2,2011,4,"DEC","2011-12-01"]
["Santa Clara",11963,7021,1152,527,350,2913,27,9830,8409,1421,412,86,190,136,45,0.17,0.1,0.03,0.7,2.35E-2,2.5499999999999998E-2,2012,1,"MAR","2012-03-01"]
["Santa Clara",12273,7172,1152,479,316,3154,25,10134,8658,1476,413,113,180,120,43.7,0.16,0.09,0.03,0.9,2.3099999999999999E-2,2.4199999999999999E-2,2012,2,"JUN","2012-06-01"]
["Santa Clara",12240,7316,987,475,339,3123,23,11654,10161,1493,485,141,194,150,41,0.15,0.08,0.04,0.01,2.24E-2,2.5700000000000001E-2,2012,3,"SEP","2012-09-01"]
["Santa Clara",11058,6457,716,513,348,3024,15.7,11840,10421,1419,463,126,183,154,38,0.14000000000000001,0.06,0.04,0.01,2.2200000000000001E-2,2.6599999999999999E-2,2012,4,"DEC","2012-12-01"]
["Santa Clara",11553,6760,660,535,373,3225,13.7,12029,10510,1519,451,123,189,139,37,0.14000000000000001,0.06,0.04,0.01,2.3699999999999999E-2,2.81E-2,2013,1,"MAR","2013-03-01"]
["Santa Clara",12424,7408,654,650,377,3335,14,11907,10400,1507,455,109,193,153,38.299999999999997,0.14000000000000001,0.05,0.04,0.88,2.5100000000000001E-2,2.53E-2,2013,2,"JUN","2013-06-01"]
["Santa Clara",13273,7817,521,628,540,3767,16.7,12491,10745,1746,483,112,243,128,39.700000000000003,0.13,0.04,0.04,0.84,2.3699999999999999E-2,2.5499999999999998E-2,2013,3,"SEP","2013-09-01"]
["Santa Clara",11003,6449,483,502,351,3218,16,12198,10227,1971,592,116,263,213,39.299999999999997,0.12,0.04,0.05,0.01,2.2599999999999999E-2,2.5100000000000001E-2,2013,4,"DEC","2013-12-01"]
["Santa Clara",11947,7005,521,583,403,3435,14.3,12605,10357,2248,540,98,252,190,38,0.13,0.04,0.05,0.8,2.35E-2,2.81E-2,2014,1,"MAR","2014-03-01"]
["Santa Clara",11623,6631,399,532,424,3637,14.3,12605,10357,2248,540,98,252,190,38,0.12,0.03,0.05,0.84,2.4500000000000001E-2,2.7400000000000001E-2,2014,2,"JUN","2014-06-01"]
["Santa Clara",12099,7086,452,605,342,3614,10.3,13207,10848,2359,755,196,328,231,36.700000000000003,0.12,0.04,0.06,0.02,2.35E-2,2.7099999999999999E-2,2014,3,"SEP","2014-09-01"]
["Santa Clara",10471,5791,360,670,453,3197,10.7,12310,9966,2344,599,136,286,177,40.700000000000003,0.14000000000000001,0.03,0.06,0.01,2.23E-2,2.5000000000000001E-2,2014,4,"DEC","2014-12-01"]
["Santa Clara",10903,6116,274,632,401,3480,10.7,13087,10598,2489,605,131,289,185,38,0.12,0.03,0.06,0.01,2.4299999999999999E-2,2.7699999999999999E-2,2015,1,"MAR","2015-03-01"]
["Santa Clara",10661,5844,264,555,408,3590,9.6999999999999993,12756,10329,2427,598,107,276,215,38.700000000000003,0.12,0.02,0.06,1,2.4E-2,2.5399999999999999E-2,2015,2,"JUN","2015-06-01"]
["Santa Clara",11040,6038,258,611,460,3673,9.6999999999999993,12705,10133,2572,538,116,243,179,41,0.12,0.02,0.05,0.01,2.35E-2,2.4899999999999999E-2,2015,3,"SEP","2015-09-01"]
["Santa Clara",9151,4958,230,534,379,3050,8,12278,9757,2521,631,111,302,218,37.700000000000003,0.12,0.03,7.0000000000000007E-2,0.01,2.69E-2,3.0300000000000001E-2,2015,4,"DEC","2015-12-01"]
["Santa Clara",9941,5269,232,618,421,3401,7.7,12214,9954,2260,451,46,231,174,36,0.13,0.02,0.05,0.46,2.1999999999999999E-2,2.64E-2,2016,1,"MAR","2016-03-01"]
["Santa Cruz",4047,1846,463,240,203,1295,22,2665,2172,493,345,158,113,74,45.3,0.22,0.11,0.09,0.04,8.0000000000000002E-3,7.7000000000000002E-3,2011,4,"DEC","2011-12-01"]
["Santa Cruz",3846,2023,418,184,144,1077,17.7,2347,1980,367,176,72,63,41,42.7,0.19,0.11,0.05,0.02,7.6E-3,6.1000000000000004E-3,2012,1,"MAR","2012-03-01"]
["Santa Cruz",3217,1862,186,140,92,937,12.3,2088,1772,316,126,53,40,33,40.700000000000003,0.13,0.06,0.04,0.02,6.1000000000000004E-3,5.0000000000000001E-3,2012,2,"JUN","2012-06-01"]
["Santa Cruz",3362,2045,163,154,96,904,14.7,2567,2071,496,281,119,96,66,44.3,0.12,0.05,0.08,0.04,6.1999999999999998E-3,5.7000000000000002E-3,2012,3,"SEP","2012-09-01"]
["Santa Cruz",3828,1861,209,275,188,1295,19.3,2743,2297,446,233,96,87,50,37.299999999999997,0.18,0.05,0.06,0.03,7.7000000000000002E-3,6.1999999999999998E-3,2012,4,"DEC","2012-12-01"]
["Santa Cruz",3579,2006,140,169,107,1157,15.3,2452,2006,446,211,109,61,41,37.700000000000003,0.12,0.04,0.06,0.03,7.3000000000000001E-3,5.7000000000000002E-3,2013,1,"MAR","2013-03-01"]
["Santa Cruz",3068,1777,200,143,91,857,12.3,2694,2089,605,185,80,61,44,39,0.14000000000000001,7.0000000000000007E-2,0.06,0.03,6.1999999999999998E-3,5.7000000000000002E-3,2013,2,"JUN","2013-06-01"]
["Santa Cruz",3512,1985,192,186,151,998,16.7,2546,1957,589,248,111,84,53,41.3,0.15,0.05,7.0000000000000007E-2,0.03,6.3E-3,5.1999999999999998E-3,2013,3,"SEP","2013-09-01"]
["Santa Cruz",3878,1925,199,202,196,1356,22.7,2921,2311,610,244,82,94,68,40,0.15,0.05,0.06,0.02,8.0000000000000002E-3,6.0000000000000001E-3,2013,4,"DEC","2013-12-01"]
["Santa Cruz",3562,2012,108,149,142,1151,21.7,2716,2180,536,154,51,69,34,40.299999999999997,0.11,0.03,0.04,0.01,7.0000000000000001E-3,6.0000000000000001E-3,2014,1,"MAR","2014-03-01"]
["Santa Cruz",2917,1695,88,114,66,954,21.7,2716,2180,536,154,51,69,34,40.299999999999997,0.09,0.03,0.05,0.02,6.1999999999999998E-3,5.8999999999999999E-3,2014,2,"JUN","2014-06-01"]
["Santa Cruz",2948,1669,131,118,96,934,17.7,3071,2402,669,219,54,90,75,44,0.12,0.04,7.0000000000000007E-2,0.02,5.7000000000000002E-3,6.3E-3,2014,3,"SEP","2014-09-01"]
["Santa Cruz",3346,1657,88,174,147,1280,15.7,3163,2549,614,175,32,79,64,44,0.12,0.03,0.05,0.96,7.1000000000000004E-3,6.4000000000000003E-3,2014,4,"DEC","2014-12-01"]
["Santa Cruz",3344,1930,44,105,115,1150,15,3069,2422,647,140,20,67,53,39.700000000000003,0.08,0.01,0.04,0.6,7.4999999999999997E-3,6.4999999999999997E-3,2015,1,"MAR","2015-03-01"]
["Santa Cruz",2825,1626,39,96,85,979,12,3174,2561,613,110,18,51,41,37.700000000000003,0.08,0.01,0.04,0.64,6.4000000000000003E-3,6.3E-3,2015,2,"JUN","2015-06-01"]
["Santa Cruz",3127,1834,55,134,93,1011,10,3067,2382,685,166,23,77,66,42.3,0.09,0.02,0.05,0.7,6.7000000000000002E-3,6.0000000000000001E-3,2015,3,"SEP","2015-09-01"]
["Santa Cruz",3353,1664,71,164,147,1307,12,3434,2828,606,171,35,77,59,38.700000000000003,0.11,0.02,0.05,0.01,9.7999999999999997E-3,8.5000000000000006E-3,2015,4,"DEC","2015-12-01"]
["Santa Cruz",3311,1871,45,134,103,1158,12,3215,2628,587,123,22,56,45,36,0.09,0.01,0.04,0.66,7.3000000000000001E-3,6.8999999999999999E-3,2016,1,"MAR","2016-03-01"]
["Shasta",3405,2099,90,156,163,897,13.7,1451,884,567,526,511,12,3,36.700000000000003,0.12,0.03,0.15,0.15,6.7000000000000002E-3,4.1999999999999997E-3,2011,4,"DEC","2011-12-01"]
["Shasta",3982,2365,98,218,178,1123,15,3528,2518,1010,715,643,40,32,39.299999999999997,0.12,0.03,0.18,0.16,7.7999999999999996E-3,9.1000000000000004E-3,2012,1,"MAR","2012-03-01"]
["Shasta",4191,2443,108,199,181,1260,15.7,3796,2642,1154,791,709,55,27,36.700000000000003,0.12,0.03,0.19,0.17,7.9000000000000008E-3,9.1000000000000004E-3,2012,2,"JUN","2012-06-01"]
["Shasta",4232,2354,107,242,205,1324,18,4034,2762,1272,874,788,60,26,37,0.13,0.03,0.21,0.19,7.7999999999999996E-3,8.8999999999999999E-3,2012,3,"SEP","2012-09-01"]
["Shasta",3558,1867,140,181,183,1187,23.7,3769,2389,1380,1019,925,56,38,38.299999999999997,0.14000000000000001,0.04,0.28999999999999998,0.26,7.1999999999999998E-3,8.5000000000000006E-3,2012,4,"DEC","2012-12-01"]
["Shasta",3980,2063,710,185,145,877,24.3,3832,2068,1764,800,702,73,25,9.3000000000000007,0.26,0.18,0.2,0.18,8.2000000000000007E-3,8.9999999999999993E-3,2013,1,"MAR","2013-03-01"]
["Shasta",4141,2060,678,216,136,1051,19.3,4263,2414,1849,829,735,58,36,9.6999999999999993,0.25,0.16,0.2,0.18,8.3999999999999995E-3,8.9999999999999993E-3,2013,2,"JUN","2013-06-01"]
["Shasta",4159,2170,620,181,138,1050,30.3,4028,2256,1772,683,595,59,29,13,0.23,0.15,0.16,0.14000000000000001,7.4000000000000003E-3,8.2000000000000007E-3,2013,3,"SEP","2013-09-01"]
["Shasta",3394,1654,530,191,110,909,21.7,3914,2346,1568,720,649,53,18,25,0.24,0.16,0.21,0.19,7.0000000000000001E-3,8.0000000000000002E-3,2013,4,"DEC","2013-12-01"]
["Shasta",3748,1967,488,133,93,1067,17,3900,2415,1485,823,748,52,23,25,0.19,0.13,0.22,0.2,7.4000000000000003E-3,8.6999999999999994E-3,2014,1,"MAR","2014-03-01"]
["Shasta",3498,1813,441,156,91,997,14.7,4036,2376,1660,926,823,72,31,23,0.2,0.13,0.26,0.24,7.4000000000000003E-3,8.8000000000000005E-3,2014,2,"JUN","2014-06-01"]
["Shasta",3755,1955,509,175,120,996,15.3,3688,2289,1399,919,827,55,37,25,0.21,0.14000000000000001,0.24,0.22,7.3000000000000001E-3,7.6E-3,2014,3,"SEP","2014-09-01"]
["Shasta",3262,1557,529,163,120,893,17.3,3919,2307,1612,1080,953,89,38,25.7,0.25,0.16,0.33,0.28999999999999998,6.8999999999999999E-3,8.0000000000000002E-3,2014,4,"DEC","2014-12-01"]
["Shasta",3398,1660,543,192,115,888,16.7,3853,2239,1614,1075,962,80,33,25.3,0.25,0.16,0.32,0.28000000000000003,7.6E-3,8.0999999999999996E-3,2015,1,"MAR","2015-03-01"]
["Shasta",3397,1645,491,171,96,994,15.7,4104,2372,1732,1152,1040,72,40,25.7,0.22,0.14000000000000001,0.34,0.31,7.6E-3,8.2000000000000007E-3,2015,2,"JUN","2015-06-01"]
["Shasta",3389,1650,472,166,122,979,17,4053,2304,1749,1031,927,60,44,26.3,0.22,0.14000000000000001,0.3,0.27,7.1999999999999998E-3,7.9000000000000008E-3,2015,3,"SEP","2015-09-01"]
["Shasta",3039,1388,465,170,115,901,14.7,3896,2184,1712,1042,904,93,45,26.3,0.25,0.15,0.34,0.3,8.8999999999999999E-3,9.5999999999999992E-3,2015,4,"DEC","2015-12-01"]
["Shasta",3366,1456,532,185,152,1041,14,3847,2127,1720,1045,903,101,41,27.7,0.26,0.16,0.31,0.27,7.4000000000000003E-3,8.3000000000000001E-3,2016,1,"MAR","2016-03-01"]
["Sierra",50,37,0,3,1,9,16.3,13,11,2,2,2,0,0,37.700000000000003,0.08,0,0.04,0.04,1E-4,0,2011,4,"DEC","2011-12-01"]
["Sierra",41,27,1,0,1,12,12.3,31,26,5,4,4,0,0,37,0.05,0.02,0.1,0.1,1E-4,1E-4,2012,1,"MAR","2012-03-01"]
["Sierra",63,47,5,2,1,8,13.3,43,33,10,6,6,0,0,31.7,0.13,0.08,0.1,0.1,1E-4,1E-4,2012,2,"JUN","2012-06-01"]
["Sierra",54,38,3,3,2,8,9.6999999999999993,33,26,7,2,2,0,0,38.700000000000003,0.15,0.06,0.04,0.04,1E-4,1E-4,2012,3,"SEP","2012-09-01"]
["Sierra",49,27,0,4,4,14,13.7,43,34,9,6,6,0,0,32.299999999999997,0.16,0,0.12,0.12,1E-4,1E-4,2012,4,"DEC","2012-12-01"]
["Sierra",56,32,10,2,3,9,11,50,26,24,6,6,0,0,10.3,0.27,0.18,0.11,0.11,1E-4,1E-4,2013,1,"MAR","2013-03-01"]
["Sierra",41,28,4,0,1,8,13.3,62,38,24,8,7,0,1,8,0.12,0.1,0.2,0.17,1E-4,1E-4,2013,2,"JUN","2013-06-01"]
["Sierra",42,23,7,2,3,7,17.3,58,30,28,5,4,1,0,15,0.28999999999999998,0.17,0.12,0.1,1E-4,1E-4,2013,3,"SEP","2013-09-01"]
["Sierra",37,17,2,1,3,14,10,46,27,19,5,5,0,0,28,0.16,0.05,0.14000000000000001,0.14000000000000001,1E-4,1E-4,2013,4,"DEC","2013-12-01"]
["Sierra",47,25,7,2,1,12,11,57,42,15,10,9,1,0,31,0.21,0.15,0.21,0.19,1E-4,1E-4,2014,1,"MAR","2014-03-01"]
["Sierra",30,20,2,0,1,7,10.3,64,34,30,5,4,1,0,28.7,0.1,7.0000000000000007E-2,0.17,0.13,1E-4,1E-4,2014,2,"JUN","2014-06-01"]
["Sierra",38,20,2,4,1,11,16.3,44,28,16,6,5,1,0,29.3,0.18,0.05,0.16,0.13,1E-4,1E-4,2014,3,"SEP","2014-09-01"]
["Sierra",49,21,3,4,1,20,13,47,24,23,6,4,1,1,33.700000000000003,0.16,0.06,0.12,0.08,1E-4,1E-4,2014,4,"DEC","2014-12-01"]
["Sierra",39,28,4,0,1,6,7.3,65,40,25,7,5,1,1,29.3,0.13,0.1,0.18,0.13,1E-4,1E-4,2015,1,"MAR","2015-03-01"]
["Sierra",26,10,2,2,3,9,12,48,34,14,6,6,0,0,29,0.27,0.08,0.23,0.23,1E-4,1E-4,2015,2,"JUN","2015-06-01"]
["Sierra",34,23,0,4,0,7,12.7,55,34,21,5,4,1,0,31.7,0.12,0,0.15,0.12,1E-4,1E-4,2015,3,"SEP","2015-09-01"]
["Sierra",31,20,3,0,3,5,11.7,57,24,33,3,3,0,0,27.3,0.19,0.1,0.1,0.1,1E-4,1E-4,2015,4,"DEC","2015-12-01"]
["Sierra",31,14,2,1,2,12,4.7,59,31,28,3,1,2,0,34,0.16,0.06,0.1,0.03,1E-4,1E-4,2016,1,"MAR","2016-03-01"]
["Siskiyou",893,575,22,35,36,225,17,327,203,124,117,113,3,1,42.7,0.1,0.02,0.13,0.13,1.8E-3,8.9999999999999998E-4,2011,4,"DEC","2011-12-01"]
["Siskiyou",866,550,21,40,42,213,17.7,762,529,233,160,146,9,5,43.3,0.12,0.02,0.19,0.17,1.6999999999999999E-3,2E-3,2012,1,"MAR","2012-03-01"]
["Siskiyou",853,533,33,50,31,206,13.3,804,573,231,150,132,11,7,40.299999999999997,0.13,0.04,0.18,0.16,1.6000000000000001E-3,1.9E-3,2012,2,"JUN","2012-06-01"]
["Siskiyou",924,601,21,28,40,234,12.7,868,599,269,170,158,7,5,34.700000000000003,0.1,0.02,0.18,0.17,1.6999999999999999E-3,1.9E-3,2012,3,"SEP","2012-09-01"]
["Siskiyou",974,577,33,44,45,275,14.7,896,622,274,174,155,13,6,34.700000000000003,0.13,0.03,0.18,0.16,2E-3,2E-3,2012,4,"DEC","2012-12-01"]
["Siskiyou",931,572,125,37,25,172,14.7,808,489,319,132,118,10,4,10.7,0.2,0.13,0.14000000000000001,0.13,1.9E-3,1.9E-3,2013,1,"MAR","2013-03-01"]
["Siskiyou",862,498,113,40,25,186,16.7,889,563,326,113,100,7,6,12.7,0.21,0.13,0.13,0.12,1.6999999999999999E-3,1.9E-3,2013,2,"JUN","2013-06-01"]
["Siskiyou",1086,666,124,32,31,233,14.7,948,594,354,172,160,8,4,17,0.17,0.11,0.16,0.15,1.9E-3,1.9E-3,2013,3,"SEP","2013-09-01"]
["Siskiyou",1082,619,169,37,45,212,16.3,1109,705,404,217,201,13,3,28.7,0.23,0.16,0.2,0.19,2.2000000000000001E-3,2.3E-3,2013,4,"DEC","2013-12-01"]
["Siskiyou",962,575,95,37,22,233,19,928,604,324,230,210,15,5,28.3,0.16,0.1,0.24,0.22,1.9E-3,2.0999999999999999E-3,2014,1,"MAR","2014-03-01"]
["Siskiyou",834,477,100,25,26,206,15.7,893,549,344,211,198,8,5,27.3,0.18,0.12,0.25,0.24,1.8E-3,1.9E-3,2014,2,"JUN","2014-06-01"]
["Siskiyou",937,527,134,39,29,208,16.7,1014,598,416,277,250,21,6,29.7,0.22,0.14000000000000001,0.3,0.27,1.8E-3,2.0999999999999999E-3,2014,3,"SEP","2014-09-01"]
["Siskiyou",896,459,125,48,30,234,17.3,1044,636,408,239,217,11,11,27,0.23,0.14000000000000001,0.27,0.24,1.9E-3,2.0999999999999999E-3,2014,4,"DEC","2014-12-01"]
["Siskiyou",844,449,134,35,31,195,16.7,893,555,338,215,196,9,10,25.7,0.24,0.16,0.25,0.23,1.9E-3,1.9E-3,2015,1,"MAR","2015-03-01"]
["Siskiyou",836,476,102,30,22,206,16.3,911,571,340,214,199,11,4,27,0.18,0.12,0.26,0.24,1.9E-3,1.8E-3,2015,2,"JUN","2015-06-01"]
["Siskiyou",961,580,111,22,20,228,18,1034,623,411,319,302,12,5,29.7,0.16,0.12,0.33,0.31,2E-3,2E-3,2015,3,"SEP","2015-09-01"]
["Siskiyou",871,455,118,46,17,235,18.7,979,601,378,271,242,21,8,26,0.21,0.14000000000000001,0.31,0.28000000000000003,2.5999999999999999E-3,2.3999999999999998E-3,2015,4,"DEC","2015-12-01"]
["Siskiyou",834,395,120,40,28,251,19.3,903,537,366,238,213,17,8,26.7,0.23,0.14000000000000001,0.28999999999999998,0.26,1.8E-3,2E-3,2016,1,"MAR","2016-03-01"]
["Solano",5860,3261,419,322,213,1645,14.7,4338,3401,937,308,68,134,106,48.3,0.16,7.0000000000000007E-2,0.05,0.01,1.1599999999999999E-2,1.26E-2,2011,4,"DEC","2011-12-01"]
["Solano",6168,3252,485,369,263,1799,14.7,4384,3480,904,337,79,145,113,46,0.18,0.08,0.06,0.01,1.21E-2,1.14E-2,2012,1,"MAR","2012-03-01"]
["Solano",6153,3341,319,362,263,1868,14,4608,3699,909,366,77,164,125,45.7,0.15,0.05,0.06,0.01,1.1599999999999999E-2,1.0999999999999999E-2,2012,2,"JUN","2012-06-01"]
["Solano",6250,3459,186,366,264,1975,13.7,5237,4281,956,317,75,140,102,47.3,0.13,0.03,0.05,0.01,1.14E-2,1.15E-2,2012,3,"SEP","2012-09-01"]
["Solano",5493,2956,139,373,237,1788,12.3,5313,4262,1051,370,74,179,117,44,0.14000000000000001,0.03,7.0000000000000007E-2,0.01,1.0999999999999999E-2,1.1900000000000001E-2,2012,4,"DEC","2012-12-01"]
["Solano",5602,2929,176,423,265,1809,13.3,5489,4492,997,354,71,170,113,40.299999999999997,0.15,0.03,0.06,0.01,1.15E-2,1.2800000000000001E-2,2013,1,"MAR","2013-03-01"]
["Solano",5841,3098,241,425,257,1820,11.3,5539,4530,1009,342,79,164,99,42,0.16,0.04,0.06,0.01,1.18E-2,1.17E-2,2013,2,"JUN","2013-06-01"]
["Solano",6476,3537,193,418,322,2006,13.7,5627,4510,1117,301,68,146,87,44,0.14000000000000001,0.03,0.05,0.01,1.1599999999999999E-2,1.15E-2,2013,3,"SEP","2013-09-01"]
["Solano",5246,2742,165,303,226,1810,13.3,5776,4446,1330,392,93,187,112,42.7,0.13,0.03,7.0000000000000007E-2,0.02,1.0800000000000001E-2,1.1900000000000001E-2,2013,4,"DEC","2013-12-01"]
["Solano",5828,3105,149,350,212,2012,13.3,5526,4364,1162,314,50,147,117,37,0.12,0.03,0.05,0.9,1.15E-2,1.23E-2,2014,1,"MAR","2014-03-01"]
["Solano",5323,2891,94,293,217,1828,13.3,5526,4364,1162,314,50,147,117,37,0.11,0.02,0.06,0.94,1.12E-2,1.2E-2,2014,2,"JUN","2014-06-01"]
["Solano",5544,3059,131,273,199,1882,12.7,6325,5081,1244,350,40,187,123,39.299999999999997,0.11,0.02,0.06,0.7,1.0800000000000001E-2,1.2999999999999999E-2,2014,3,"SEP","2014-09-01"]
["Solano",4846,2548,89,341,182,1686,13,5973,4480,1493,348,39,185,124,40,0.13,0.02,7.0000000000000007E-2,0.8,1.03E-2,1.21E-2,2014,4,"DEC","2014-12-01"]
["Solano",5289,2852,71,340,219,1807,11.7,5733,4393,1340,318,31,177,110,38,0.12,0.01,0.06,0.59,1.18E-2,1.21E-2,2015,1,"MAR","2015-03-01"]
["Solano",4887,2599,61,295,209,1723,10,4761,3863,898,193,17,109,67,37.700000000000003,0.12,0.01,0.04,0.35,1.0999999999999999E-2,9.4999999999999998E-3,2015,2,"JUN","2015-06-01"]
["Solano",5353,2938,73,283,182,1877,11.3,4960,3908,1052,215,22,120,73,38.700000000000003,0.1,0.01,0.04,0.4,1.14E-2,9.7000000000000003E-3,2015,3,"SEP","2015-09-01"]
["Solano",4365,2325,62,319,170,1489,12,5693,4261,1432,326,28,174,124,40.299999999999997,0.13,0.01,7.0000000000000007E-2,0.64,1.2800000000000001E-2,1.4E-2,2015,4,"DEC","2015-12-01"]
["Solano",4803,2571,62,313,208,1649,11.7,5419,4116,1303,266,21,150,95,38.700000000000003,0.12,0.01,0.06,0.44,1.06E-2,1.17E-2,2016,1,"MAR","2016-03-01"]
["Sonoma",4988,2719,525,214,184,1346,20,3400,2837,563,313,164,83,66,37.700000000000003,0.19,0.11,0.06,0.03,9.9000000000000008E-3,9.9000000000000008E-3,2011,4,"DEC","2011-12-01"]
["Sonoma",5773,3073,610,281,181,1628,20.3,3329,2818,511,329,167,90,72,38.299999999999997,0.19,0.11,0.06,0.03,1.1299999999999999E-2,8.6E-3,2012,1,"MAR","2012-03-01"]
["Sonoma",5279,2795,485,228,182,1589,14,3626,3089,537,324,169,82,73,41,0.17,0.09,0.06,0.03,9.9000000000000008E-3,8.6999999999999994E-3,2012,2,"JUN","2012-06-01"]
["Sonoma",5087,2781,406,274,157,1469,13.3,3976,3279,697,366,184,96,86,39.700000000000003,0.16,0.08,7.0000000000000007E-2,0.04,9.2999999999999992E-3,8.8000000000000005E-3,2012,3,"SEP","2012-09-01"]
["Sonoma",4968,2566,403,270,222,1507,12.7,3899,3260,639,351,198,86,67,35,0.18,0.08,7.0000000000000007E-2,0.04,0.01,8.8000000000000005E-3,2012,4,"DEC","2012-12-01"]
["Sonoma",5010,2570,409,271,201,1559,17.3,4170,3427,743,382,194,111,77,34.700000000000003,0.18,0.08,0.08,0.04,1.03E-2,9.7999999999999997E-3,2013,1,"MAR","2013-03-01"]
["Sonoma",4744,2440,418,298,176,1412,17,4136,3333,803,400,201,120,79,36.299999999999997,0.19,0.09,0.08,0.04,9.5999999999999992E-3,8.8000000000000005E-3,2013,2,"JUN","2013-06-01"]
["Sonoma",4951,2494,360,293,237,1567,19.7,4180,3303,877,386,198,119,69,36.299999999999997,0.18,7.0000000000000007E-2,0.08,0.04,8.8000000000000005E-3,8.5000000000000006E-3,2013,3,"SEP","2013-09-01"]
["Sonoma",4571,2270,444,232,147,1478,18.7,4582,3553,1029,653,345,197,111,36.700000000000003,0.18,0.1,0.14000000000000001,0.08,9.4000000000000004E-3,9.4000000000000004E-3,2013,4,"DEC","2013-12-01"]
["Sonoma",5186,2552,558,277,177,1622,21.3,4306,3334,972,476,255,135,86,36,0.2,0.11,0.09,0.05,1.0200000000000001E-2,9.5999999999999992E-3,2014,1,"MAR","2014-03-01"]
["Sonoma",4733,2239,499,234,163,1598,21.3,4306,3334,972,476,255,135,86,36,0.19,0.11,0.1,0.05,0.01,9.2999999999999992E-3,2014,2,"JUN","2014-06-01"]
["Sonoma",4860,2383,483,255,142,1597,10.7,4379,3438,941,532,295,128,109,36.700000000000003,0.18,0.1,0.11,0.06,9.4000000000000004E-3,8.9999999999999993E-3,2014,3,"SEP","2014-09-01"]
["Sonoma",4665,2150,547,240,172,1556,9.3000000000000007,4464,3482,982,623,360,155,108,36,0.21,0.12,0.13,0.08,9.9000000000000008E-3,9.1000000000000004E-3,2014,4,"DEC","2014-12-01"]
["Sonoma",5202,2597,536,256,188,1625,13.3,4499,3538,961,489,286,125,78,34.299999999999997,0.19,0.1,0.09,0.06,1.1599999999999999E-2,9.4999999999999998E-3,2015,1,"MAR","2015-03-01"]
["Sonoma",4442,2133,451,228,160,1470,9.6999999999999993,4554,3598,956,536,312,153,71,35.299999999999997,0.19,0.1,0.12,7.0000000000000007E-2,0.01,9.1000000000000004E-3,2015,2,"JUN","2015-06-01"]
["Sonoma",4773,2346,452,233,146,1596,14,4390,3352,1038,493,278,132,83,36,0.17,0.1,0.1,0.06,1.0200000000000001E-2,8.6E-3,2015,3,"SEP","2015-09-01"]
["Sonoma",4375,1964,549,240,158,1464,14.7,4634,3570,1064,647,349,173,125,37.700000000000003,0.22,0.13,0.15,0.08,1.2800000000000001E-2,1.14E-2,2015,4,"DEC","2015-12-01"]
["Sonoma",4880,2120,622,285,204,1649,18,4301,3306,995,584,353,134,97,36.299999999999997,0.23,0.13,0.12,7.0000000000000007E-2,1.0800000000000001E-2,9.2999999999999992E-3,2016,1,"MAR","2016-03-01"]
["Stanislaus",9639,4771,228,537,502,3601,14,5052,3608,1444,1320,1260,48,12,36.700000000000003,0.13,0.02,0.14000000000000001,0.13,1.9099999999999999E-2,1.47E-2,2011,4,"DEC","2011-12-01"]
["Stanislaus",10821,5232,197,672,526,4194,12,10735,7909,2826,1929,1686,162,81,41,0.13,0.02,0.18,0.16,2.1299999999999999E-2,2.7799999999999998E-2,2012,1,"MAR","2012-03-01"]
["Stanislaus",11171,5381,287,645,515,4343,9.6999999999999993,11519,8238,3281,2348,2040,222,86,41.7,0.13,0.03,0.21,0.18,2.1000000000000001E-2,2.75E-2,2012,2,"JUN","2012-06-01"]
["Stanislaus",11309,5470,243,699,501,4396,9,12043,8159,3884,2869,2604,193,72,40.299999999999997,0.13,0.02,0.25,0.23,2.07E-2,2.6499999999999999E-2,2012,3,"SEP","2012-09-01"]
["Stanislaus",9872,4336,370,645,544,3977,9.3000000000000007,11583,8295,3288,2400,2160,152,88,34.299999999999997,0.16,0.04,0.24,0.22,1.9800000000000002E-2,2.5999999999999999E-2,2012,4,"DEC","2012-12-01"]
["Stanislaus",11000,4820,2148,644,366,3022,8.3000000000000007,11649,7497,4152,1852,1615,152,85,9.6999999999999993,0.28999999999999998,0.2,0.17,0.15,2.2499999999999999E-2,2.7199999999999998E-2,2013,1,"MAR","2013-03-01"]
["Stanislaus",10954,4759,2180,602,398,3015,8.6999999999999993,13334,8931,4403,1808,1559,170,79,8.6999999999999993,0.28999999999999998,0.2,0.17,0.14000000000000001,2.2200000000000001E-2,2.8299999999999999E-2,2013,2,"JUN","2013-06-01"]
["Stanislaus",11846,5262,2270,599,375,3340,10,13458,8972,4486,2043,1774,192,77,13.7,0.27,0.19,0.17,0.15,2.1100000000000001E-2,2.7400000000000001E-2,2013,3,"SEP","2013-09-01"]
["Stanislaus",10653,4325,2246,695,477,2910,11.3,13646,8852,4794,3307,2975,238,94,22.7,0.32,0.21,0.31,0.28000000000000003,2.18E-2,2.81E-2,2013,4,"DEC","2013-12-01"]
["Stanislaus",10984,4923,1920,524,367,3250,15,12876,8551,4325,3312,2931,262,119,21.3,0.26,0.18,0.3,0.27,2.1600000000000001E-2,2.87E-2,2014,1,"MAR","2014-03-01"]
["Stanislaus",9686,4268,1551,490,391,2986,14,13113,8354,4759,3486,3113,260,113,20.3,0.25,0.16,0.36,0.32,2.0400000000000001E-2,2.8500000000000001E-2,2014,2,"JUN","2014-06-01"]
["Stanislaus",10555,4626,1862,566,351,3150,11.3,13077,8248,4829,3460,2973,339,148,25,0.26,0.18,0.33,0.28000000000000003,2.0500000000000001E-2,2.69E-2,2014,3,"SEP","2014-09-01"]
["Stanislaus",9508,3843,1697,594,376,2998,13.7,12407,7852,4555,3461,2999,325,137,25,0.28000000000000003,0.18,0.36,0.32,2.0199999999999999E-2,2.52E-2,2014,4,"DEC","2014-12-01"]
["Stanislaus",9977,4130,1777,607,329,3134,12.7,11902,7590,4312,3139,2697,306,136,25.3,0.27,0.18,0.31,0.27,2.23E-2,2.52E-2,2015,1,"MAR","2015-03-01"]
["Stanislaus",9704,3957,1799,540,374,3034,9,12659,8035,4624,3333,2884,319,130,26.7,0.28000000000000003,0.19,0.34,0.3,2.18E-2,2.53E-2,2015,2,"JUN","2015-06-01"]
["Stanislaus",10415,4205,1890,616,378,3326,9.3000000000000007,13309,8223,5086,3338,2835,320,183,28,0.28000000000000003,0.18,0.32,0.27,2.2200000000000001E-2,2.6100000000000002E-2,2015,3,"SEP","2015-09-01"]
["Stanislaus",9492,3673,1632,658,437,3092,9,12548,7519,5029,3153,2628,357,168,25.7,0.28999999999999998,0.17,0.33,0.28000000000000003,2.7900000000000001E-2,3.09E-2,2015,4,"DEC","2015-12-01"]
["Stanislaus",10053,4014,1869,629,418,3123,8,12344,7475,4869,2684,2254,283,147,27.3,0.28999999999999998,0.19,0.27,0.22,2.2200000000000001E-2,2.6700000000000002E-2,2016,1,"MAR","2016-03-01"]
["Sutter",1755,988,83,104,89,491,16.3,580,337,243,233,225,6,2,42,0.16,0.05,0.13,0.13,3.5000000000000001E-3,1.6999999999999999E-3,2011,4,"DEC","2011-12-01"]
["Sutter",1738,1050,61,75,78,474,15.7,1374,1054,320,210,191,11,8,37.299999999999997,0.12,0.04,0.12,0.11,3.3999999999999998E-3,3.5999999999999999E-3,2012,1,"MAR","2012-03-01"]
["Sutter",1655,971,79,66,75,464,14.7,1442,1039,403,269,251,13,5,38.700000000000003,0.13,0.05,0.16,0.15,3.0999999999999999E-3,3.3999999999999998E-3,2012,2,"JUN","2012-06-01"]
["Sutter",1730,1005,60,75,92,498,16.7,1571,1134,437,281,257,15,9,39.700000000000003,0.13,0.03,0.16,0.15,3.2000000000000002E-3,3.5000000000000001E-3,2012,3,"SEP","2012-09-01"]
["Sutter",1779,936,84,92,92,575,16,1734,1233,501,351,323,22,6,36.299999999999997,0.15,0.05,0.2,0.18,3.5999999999999999E-3,3.8999999999999998E-3,2012,4,"DEC","2012-12-01"]
["Sutter",1728,935,313,72,41,367,14.7,1442,830,612,212,183,23,6,10,0.25,0.18,0.12,0.11,3.5000000000000001E-3,3.3999999999999998E-3,2013,1,"MAR","2013-03-01"]
["Sutter",1629,876,266,75,55,357,15.3,1588,924,664,267,249,10,8,11,0.24,0.16,0.16,0.15,3.3E-3,3.3999999999999998E-3,2013,2,"JUN","2013-06-01"]
["Sutter",1797,916,337,80,54,410,15,1605,942,663,262,231,24,7,16,0.26,0.19,0.15,0.13,3.2000000000000002E-3,3.3E-3,2013,3,"SEP","2013-09-01"]
["Sutter",1754,847,350,87,64,406,16.3,1837,1108,729,417,399,15,3,28,0.28999999999999998,0.2,0.24,0.23,3.5999999999999999E-3,3.8E-3,2013,4,"DEC","2013-12-01"]
["Sutter",1790,978,290,58,27,437,15.3,1711,1025,686,381,348,21,12,27.3,0.21,0.16,0.21,0.19,3.5000000000000001E-3,3.8E-3,2014,1,"MAR","2014-03-01"]
["Sutter",1598,881,239,55,44,379,14.7,1632,954,678,366,333,16,17,27.7,0.21,0.15,0.23,0.21,3.3999999999999998E-3,3.5000000000000001E-3,2014,2,"JUN","2014-06-01"]
["Sutter",1716,943,316,54,49,354,14,1682,1020,662,485,446,20,19,28.7,0.24,0.18,0.28000000000000003,0.26,3.3E-3,3.5000000000000001E-3,2014,3,"SEP","2014-09-01"]
["Sutter",1592,748,297,93,59,395,13.7,1811,1067,744,422,375,38,9,26.3,0.28000000000000003,0.19,0.27,0.24,3.3999999999999998E-3,3.7000000000000002E-3,2014,4,"DEC","2014-12-01"]
["Sutter",1609,771,305,73,45,415,15.7,1669,972,697,387,353,23,11,27,0.26,0.19,0.24,0.22,3.5999999999999999E-3,3.5000000000000001E-3,2015,1,"MAR","2015-03-01"]
["Sutter",1553,794,280,64,34,381,15.3,1685,919,766,443,404,25,14,27,0.24,0.18,0.28999999999999998,0.26,3.5000000000000001E-3,3.3999999999999998E-3,2015,2,"JUN","2015-06-01"]
["Sutter",1634,792,323,65,47,407,15.7,1762,1045,717,432,402,18,12,29,0.27,0.2,0.26,0.25,3.5000000000000001E-3,3.5000000000000001E-3,2015,3,"SEP","2015-09-01"]
["Sutter",1536,704,298,80,50,404,15.7,1849,1110,739,444,402,32,10,27.7,0.28000000000000003,0.19,0.28999999999999998,0.26,4.4999999999999997E-3,4.5999999999999999E-3,2015,4,"DEC","2015-12-01"]
["Sutter",1521,704,260,71,46,440,15.7,1651,1010,641,426,392,20,14,28.3,0.25,0.17,0.28000000000000003,0.26,3.3999999999999998E-3,3.5999999999999999E-3,2016,1,"MAR","2016-03-01"]
["Tehama",1301,811,67,62,61,300,24,529,329,200,171,162,6,3,33,0.15,0.05,0.13,0.12,2.5999999999999999E-3,1.5E-3,2011,4,"DEC","2011-12-01"]
["Tehama",1424,910,60,53,52,349,23,1237,928,309,212,197,7,8,33.700000000000003,0.12,0.04,0.15,0.14000000000000001,2.8E-3,3.2000000000000002E-3,2012,1,"MAR","2012-03-01"]
["Tehama",1478,876,72,60,51,419,20.7,1325,970,355,240,221,16,3,35.299999999999997,0.12,0.05,0.16,0.15,2.8E-3,3.2000000000000002E-3,2012,2,"JUN","2012-06-01"]
["Tehama",1435,881,84,55,42,373,18.3,1345,958,387,269,251,14,4,31.3,0.13,0.06,0.19,0.17,2.5999999999999999E-3,3.0000000000000001E-3,2012,3,"SEP","2012-09-01"]
["Tehama",1376,716,137,85,65,373,17.7,1414,955,459,335,305,19,11,30,0.21,0.1,0.24,0.22,2.8E-3,3.2000000000000002E-3,2012,4,"DEC","2012-12-01"]
["Tehama",1385,763,252,58,40,272,16.3,1342,776,566,233,220,6,7,11.3,0.25,0.18,0.17,0.16,2.8E-3,3.0999999999999999E-3,2013,1,"MAR","2013-03-01"]
["Tehama",1414,800,208,54,31,321,17.3,1500,928,572,258,233,19,6,11.7,0.21,0.15,0.18,0.16,2.8999999999999998E-3,3.2000000000000002E-3,2013,2,"JUN","2013-06-01"]
["Tehama",1627,913,228,68,40,378,19.3,1284,832,452,204,193,5,6,15.7,0.21,0.14000000000000001,0.13,0.12,2.8999999999999998E-3,2.5999999999999999E-3,2013,3,"SEP","2013-09-01"]
["Tehama",1269,736,156,51,39,287,12.7,979,586,393,107,101,4,2,27.3,0.19,0.12,0.08,0.08,2.5999999999999999E-3,2E-3,2013,4,"DEC","2013-12-01"]
["Tehama",1346,806,156,37,27,320,17.7,1041,635,406,135,129,5,1,26.3,0.16,0.12,0.1,0.1,2.5999999999999999E-3,2.3E-3,2014,1,"MAR","2014-03-01"]
["Tehama",1262,731,143,46,27,315,14.7,1317,829,488,139,130,6,3,21,0.17,0.11,0.11,0.1,2.7000000000000001E-3,2.8999999999999998E-3,2014,2,"JUN","2014-06-01"]
["Tehama",1289,773,145,49,25,297,14.3,1418,830,588,351,314,24,13,24.7,0.17,0.11,0.27,0.24,2.5000000000000001E-3,2.8999999999999998E-3,2014,3,"SEP","2014-09-01"]
["Tehama",1196,596,175,55,53,317,13.7,1629,884,745,441,411,23,7,24.3,0.24,0.15,0.37,0.34,2.5000000000000001E-3,3.3E-3,2014,4,"DEC","2014-12-01"]
["Tehama",1326,667,196,78,45,340,13.7,1574,886,688,377,345,18,14,21,0.24,0.15,0.28000000000000003,0.26,3.0000000000000001E-3,3.3E-3,2015,1,"MAR","2015-03-01"]
["Tehama",1322,673,183,54,42,370,13.3,1733,939,794,388,356,21,11,20.7,0.21,0.14000000000000001,0.28999999999999998,0.27,3.0000000000000001E-3,3.5000000000000001E-3,2015,2,"JUN","2015-06-01"]
["Tehama",1301,642,196,73,38,352,14,1377,786,591,265,241,14,10,19.7,0.24,0.15,0.2,0.19,2.8E-3,2.7000000000000001E-3,2015,3,"SEP","2015-09-01"]
["Tehama",1119,530,187,63,41,298,13.3,1511,860,651,368,325,31,12,19.7,0.26,0.17,0.33,0.28999999999999998,3.3E-3,3.7000000000000002E-3,2015,4,"DEC","2015-12-01"]
["Tehama",1220,577,183,70,51,339,14.3,1550,882,668,395,359,25,11,21.3,0.25,0.15,0.32,0.28999999999999998,2.7000000000000001E-3,3.3E-3,2016,1,"MAR","2016-03-01"]
["Trinity",217,121,8,16,11,61,12.7,75,48,27,25,24,1,0,39.299999999999997,0.16,0.04,0.12,0.11,4.0000000000000002E-4,2.0000000000000001E-4,2011,4,"DEC","2011-12-01"]
["Trinity",290,181,14,11,12,72,16.7,257,176,81,52,46,4,2,30,0.13,0.05,0.18,0.16,5.9999999999999995E-4,6.9999999999999999E-4,2012,1,"MAR","2012-03-01"]
["Trinity",288,181,6,12,13,76,12,234,153,81,58,55,2,1,36.299999999999997,0.11,0.02,0.2,0.19,5.0000000000000001E-4,5.9999999999999995E-4,2012,2,"JUN","2012-06-01"]
["Trinity",337,220,12,12,19,74,16.3,293,149,144,104,92,8,4,38.700000000000003,0.13,0.04,0.31,0.27,5.9999999999999995E-4,5.9999999999999995E-4,2012,3,"SEP","2012-09-01"]
["Trinity",257,138,17,16,13,73,15.7,281,146,135,80,74,2,4,29.7,0.18,7.0000000000000007E-2,0.31,0.28999999999999998,5.0000000000000001E-4,5.9999999999999995E-4,2012,4,"DEC","2012-12-01"]
["Trinity",254,142,53,8,6,45,16,274,157,117,94,90,3,1,9.6999999999999993,0.26,0.21,0.37,0.35,5.0000000000000001E-4,5.9999999999999995E-4,2013,1,"MAR","2013-03-01"]
["Trinity",306,170,50,13,8,65,18.7,258,134,124,73,66,4,3,8.6999999999999993,0.23,0.16,0.24,0.22,5.9999999999999995E-4,5.0000000000000001E-4,2013,2,"JUN","2013-06-01"]
["Trinity",312,203,28,19,9,53,15.7,272,140,132,76,68,7,1,20,0.18,0.09,0.24,0.22,5.9999999999999995E-4,5.9999999999999995E-4,2013,3,"SEP","2013-09-01"]
["Trinity",242,139,27,13,4,59,14.3,235,140,95,79,74,5,0,30.3,0.18,0.11,0.33,0.31,5.0000000000000001E-4,5.0000000000000001E-4,2013,4,"DEC","2013-12-01"]
["Trinity",248,146,21,8,8,65,12,206,127,79,59,53,4,2,29,0.15,0.09,0.24,0.21,5.0000000000000001E-4,5.0000000000000001E-4,2014,1,"MAR","2014-03-01"]
["Trinity",249,170,11,6,6,56,9.6999999999999993,138,60,78,13,12,0,1,24.3,0.09,0.04,0.05,0.05,5.0000000000000001E-4,2.9999999999999997E-4,2014,2,"JUN","2014-06-01"]
["Trinity",274,180,33,8,7,46,11.7,247,125,122,48,39,6,3,30.3,0.18,0.12,0.18,0.14000000000000001,5.0000000000000001E-4,5.0000000000000001E-4,2014,3,"SEP","2014-09-01"]
["Trinity",233,146,28,10,5,44,20,257,131,126,71,60,6,5,26.7,0.18,0.12,0.3,0.26,5.0000000000000001E-4,5.0000000000000001E-4,2014,4,"DEC","2014-12-01"]
["Trinity",258,137,37,18,5,61,14.3,300,150,150,98,87,10,1,26.7,0.23,0.14000000000000001,0.38,0.34,5.9999999999999995E-4,5.9999999999999995E-4,2015,1,"MAR","2015-03-01"]
["Trinity",245,147,25,15,2,56,10.7,326,152,174,84,74,8,2,27,0.17,0.1,0.34,0.3,5.9999999999999995E-4,6.9999999999999999E-4,2015,2,"JUN","2015-06-01"]
["Trinity",291,182,32,15,4,58,13,304,147,157,76,69,4,3,29.3,0.18,0.11,0.26,0.24,5.9999999999999995E-4,5.9999999999999995E-4,2015,3,"SEP","2015-09-01"]
["Trinity",218,130,17,7,8,56,12.3,292,145,147,58,52,5,1,24.3,0.15,0.08,0.27,0.24,5.9999999999999995E-4,6.9999999999999999E-4,2015,4,"DEC","2015-12-01"]
["Trinity",241,135,31,15,9,51,12.7,296,144,152,84,74,7,3,26.7,0.23,0.13,0.35,0.31,5.0000000000000001E-4,5.9999999999999995E-4,2016,1,"MAR","2016-03-01"]
["Tulare",10962,3778,2787,832,563,3002,9,11169,9858,1311,1698,1181,342,175,43.7,0.38,0.25,0.15,0.11,2.1700000000000001E-2,3.2399999999999998E-2,2011,4,"DEC","2011-12-01"]
["Tulare",9981,3566,2338,716,459,2902,8.3000000000000007,9489,8377,1112,1213,797,261,155,43,0.35,0.23,0.12,0.08,1.9599999999999999E-2,2.46E-2,2012,1,"MAR","2012-03-01"]
["Tulare",9496,3603,1981,684,417,2811,7,10401,9182,1219,1480,1025,255,200,43.3,0.33,0.21,0.16,0.11,1.7899999999999999E-2,2.4799999999999999E-2,2012,2,"JUN","2012-06-01"]
["Tulare",9667,3896,1591,721,465,2994,6.3,11720,10362,1358,1475,1006,286,183,44.3,0.28999999999999998,0.16,0.15,0.1,1.77E-2,2.58E-2,2012,3,"SEP","2012-09-01"]
["Tulare",9722,3389,1765,832,573,3163,5.3,12891,11579,1312,1714,1228,305,181,41.3,0.33,0.18,0.18,0.13,1.95E-2,2.9000000000000001E-2,2012,4,"DEC","2012-12-01"]
["Tulare",8942,3270,1535,684,426,3027,4.7,11478,10250,1228,1393,972,236,185,37.299999999999997,0.3,0.17,0.16,0.11,1.83E-2,2.6800000000000001E-2,2013,1,"MAR","2013-03-01"]
["Tulare",9095,3383,1739,795,443,2735,5.7,11983,10609,1374,1640,1145,285,210,38,0.33,0.19,0.18,0.13,1.84E-2,2.5399999999999999E-2,2013,2,"JUN","2013-06-01"]
["Tulare",10197,3832,1781,735,594,3255,9.3000000000000007,12435,10990,1445,1571,1132,261,178,38.700000000000003,0.31,0.17,0.15,0.11,1.8200000000000001E-2,2.5399999999999999E-2,2013,3,"SEP","2013-09-01"]
["Tulare",9971,3183,2149,685,516,3438,7.7,13666,11984,1682,2440,1809,417,214,39,0.34,0.22,0.24,0.18,2.0400000000000001E-2,2.81E-2,2013,4,"DEC","2013-12-01"]
["Tulare",10943,4343,1996,650,370,3584,5.7,11957,10481,1476,1680,1186,313,181,35.299999999999997,0.28000000000000003,0.18,0.15,0.11,2.1499999999999998E-2,2.6599999999999999E-2,2014,1,"MAR","2014-03-01"]
["Tulare",9034,3622,1514,585,358,2955,5.7,11957,10481,1476,1680,1186,313,181,35.299999999999997,0.27,0.17,0.19,0.13,1.9099999999999999E-2,2.5999999999999999E-2,2014,2,"JUN","2014-06-01"]
["Tulare",10215,3824,2159,745,428,3059,6.7,13857,12029,1828,2054,1415,396,243,37,0.33,0.21,0.2,0.14000000000000001,1.9800000000000002E-2,2.8500000000000001E-2,2014,3,"SEP","2014-09-01"]
["Tulare",9785,3151,2105,773,462,3294,5.7,14183,12276,1907,2435,1807,398,230,36.700000000000003,0.34,0.22,0.25,0.18,2.0799999999999999E-2,2.8799999999999999E-2,2014,4,"DEC","2014-12-01"]
["Tulare",9343,3421,1881,636,371,3034,5.7,13216,11382,1834,1850,1320,322,208,34.700000000000003,0.31,0.2,0.2,0.14000000000000001,2.0899999999999998E-2,2.7900000000000001E-2,2015,1,"MAR","2015-03-01"]
["Tulare",8977,3159,1852,647,381,2938,4.7,13791,11828,1963,2158,1574,369,215,35.700000000000003,0.32,0.21,0.24,0.18,2.0199999999999999E-2,2.75E-2,2015,2,"JUN","2015-06-01"]
["Tulare",9831,3438,1958,701,416,3318,5,13492,11603,1889,1968,1447,316,205,36,0.31,0.2,0.2,0.15,2.0899999999999998E-2,2.64E-2,2015,3,"SEP","2015-09-01"]
["Tulare",9471,3018,2193,694,446,3120,6,14768,12729,2039,2443,1826,387,230,36.700000000000003,0.35,0.23,0.26,0.19,2.7799999999999998E-2,3.6400000000000002E-2,2015,4,"DEC","2015-12-01"]
["Tulare",9416,3254,2012,670,424,3056,5.3,12967,11072,1895,1810,1297,293,220,35,0.33,0.21,0.19,0.14000000000000001,2.0799999999999999E-2,2.8000000000000001E-2,2016,1,"MAR","2016-03-01"]
["Tuolumne",876,478,36,42,39,281,14.3,309,205,104,92,90,2,0,36.299999999999997,0.13,0.04,0.11,0.1,1.6999999999999999E-3,8.9999999999999998E-4,2011,4,"DEC","2011-12-01"]
["Tuolumne",967,514,37,60,49,307,14.7,837,647,190,119,105,8,6,38.700000000000003,0.15,0.04,0.12,0.11,1.9E-3,2.2000000000000001E-3,2012,1,"MAR","2012-03-01"]
["Tuolumne",867,445,34,46,46,296,15.7,842,646,196,128,109,14,5,42.3,0.15,0.04,0.15,0.13,1.6000000000000001E-3,2E-3,2012,2,"JUN","2012-06-01"]
["Tuolumne",925,486,37,67,42,293,16.7,930,678,252,176,156,14,6,34,0.16,0.04,0.19,0.17,1.6999999999999999E-3,2E-3,2012,3,"SEP","2012-09-01"]
["Tuolumne",844,423,30,43,47,301,14.7,897,684,213,152,134,14,4,34,0.14000000000000001,0.04,0.18,0.16,1.6999999999999999E-3,2E-3,2012,4,"DEC","2012-12-01"]
["Tuolumne",950,462,153,39,24,272,13,918,544,374,173,156,9,8,7.3,0.23,0.16,0.18,0.16,1.9E-3,2.0999999999999999E-3,2013,1,"MAR","2013-03-01"]
["Tuolumne",867,447,128,45,30,217,16.3,900,485,415,169,153,7,9,10.7,0.23,0.15,0.19,0.18,1.8E-3,1.9E-3,2013,2,"JUN","2013-06-01"]
["Tuolumne",956,488,161,56,30,221,15.3,916,500,416,192,171,12,9,16.7,0.26,0.17,0.2,0.18,1.6999999999999999E-3,1.9E-3,2013,3,"SEP","2013-09-01"]
["Tuolumne",867,416,144,51,27,229,14.3,952,538,414,182,154,21,7,27.7,0.26,0.17,0.21,0.18,1.8E-3,2E-3,2013,4,"DEC","2013-12-01"]
["Tuolumne",909,466,102,54,33,254,14.3,967,532,435,206,175,24,7,27.3,0.21,0.11,0.23,0.19,1.8E-3,2.2000000000000001E-3,2014,1,"MAR","2014-03-01"]
["Tuolumne",751,388,92,37,24,210,14.3,885,496,389,194,181,8,5,26.7,0.2,0.12,0.26,0.24,1.6000000000000001E-3,1.9E-3,2014,2,"JUN","2014-06-01"]
["Tuolumne",818,435,110,34,31,208,16.7,946,535,411,227,203,14,10,27.7,0.21,0.13,0.28000000000000003,0.25,1.6000000000000001E-3,1.9E-3,2014,3,"SEP","2014-09-01"]
["Tuolumne",806,365,128,40,25,248,16.3,922,508,414,202,179,17,6,25,0.24,0.16,0.25,0.22,1.6999999999999999E-3,1.9E-3,2014,4,"DEC","2014-12-01"]
["Tuolumne",890,444,133,32,26,255,18.3,953,533,420,213,188,15,10,27,0.21,0.15,0.24,0.21,2E-3,2E-3,2015,1,"MAR","2015-03-01"]
["Tuolumne",846,416,119,47,30,234,15.3,880,502,378,214,186,25,3,27.3,0.23,0.14000000000000001,0.25,0.22,1.9E-3,1.8E-3,2015,2,"JUN","2015-06-01"]
["Tuolumne",819,421,95,52,21,230,15.3,972,557,415,222,200,17,5,28.7,0.21,0.12,0.27,0.24,1.6999999999999999E-3,1.9E-3,2015,3,"SEP","2015-09-01"]
["Tuolumne",750,338,122,45,26,219,13.7,974,560,414,242,219,17,6,27.7,0.26,0.16,0.32,0.28999999999999998,2.2000000000000001E-3,2.3999999999999998E-3,2015,4,"DEC","2015-12-01"]
["Tuolumne",848,397,113,53,23,262,13.3,970,543,427,177,151,16,10,28,0.22,0.13,0.21,0.18,1.9E-3,2.0999999999999999E-3,2016,1,"MAR","2016-03-01"]
["Ventura",9121,4526,1124,654,338,2479,10.3,6426,5157,1269,1007,576,260,171,44.7,0.23,0.12,0.11,0.06,1.7999999999999999E-2,1.8599999999999998E-2,2011,4,"DEC","2011-12-01"]
["Ventura",9750,4768,1220,639,447,2676,9,5882,4747,1135,820,515,183,122,43,0.24,0.13,0.08,0.05,1.9199999999999998E-2,1.52E-2,2012,1,"MAR","2012-03-01"]
["Ventura",8898,4451,986,637,364,2460,8.3000000000000007,6154,4993,1161,986,581,238,167,43.3,0.22,0.11,0.11,7.0000000000000007E-2,1.6799999999999999E-2,1.47E-2,2012,2,"JUN","2012-06-01"]
["Ventura",9991,4996,924,783,444,2844,10,7688,6364,1324,1005,568,271,166,43,0.22,0.09,0.1,0.06,1.83E-2,1.6899999999999998E-2,2012,3,"SEP","2012-09-01"]
["Ventura",9400,4495,831,707,429,2938,10,7714,6288,1426,1102,643,268,191,40.700000000000003,0.21,0.09,0.12,7.0000000000000007E-2,1.89E-2,1.7299999999999999E-2,2012,4,"DEC","2012-12-01"]
["Ventura",9334,4348,968,746,436,2836,9.3000000000000007,7126,5823,1303,987,602,218,167,39.299999999999997,0.23,0.1,0.11,0.06,1.9099999999999999E-2,1.67E-2,2013,1,"MAR","2013-03-01"]
["Ventura",8765,4093,976,667,395,2634,10,7442,6018,1424,1089,619,281,189,42.3,0.23,0.11,0.12,7.0000000000000007E-2,1.77E-2,1.5800000000000002E-2,2013,2,"JUN","2013-06-01"]
["Ventura",10707,4827,1058,778,605,3439,11,8035,6529,1506,1231,762,294,175,43.7,0.23,0.1,0.12,7.0000000000000007E-2,1.9099999999999999E-2,1.6400000000000001E-2,2013,3,"SEP","2013-09-01"]
["Ventura",9160,4069,1114,590,397,2990,11.3,8080,6355,1725,1505,970,307,228,41.7,0.23,0.12,0.16,0.11,1.8800000000000001E-2,1.66E-2,2013,4,"DEC","2013-12-01"]
["Ventura",9688,4445,1279,621,356,2987,10.3,7609,6015,1594,1146,719,260,167,37.700000000000003,0.23,0.13,0.12,7.0000000000000007E-2,1.9E-2,1.6899999999999998E-2,2014,1,"MAR","2014-03-01"]
["Ventura",8660,4008,1021,542,321,2768,10.3,7609,6015,1594,1146,719,260,167,37.700000000000003,0.22,0.12,0.13,0.08,1.83E-2,1.6500000000000001E-2,2014,2,"JUN","2014-06-01"]
["Ventura",10205,4455,1406,664,453,3227,9.3000000000000007,9493,7525,1968,1596,969,394,233,38,0.25,0.14000000000000001,0.16,0.1,1.9800000000000002E-2,1.95E-2,2014,3,"SEP","2014-09-01"]
["Ventura",9073,3944,1227,635,387,2880,9.3000000000000007,8659,6839,1820,1531,1028,316,187,39.299999999999997,0.25,0.14000000000000001,0.17,0.11,1.9300000000000001E-2,1.7600000000000001E-2,2014,4,"DEC","2014-12-01"]
["Ventura",9430,4278,1277,595,356,2924,9,8747,6918,1829,1411,943,286,182,37,0.24,0.14000000000000001,0.15,0.1,2.1000000000000001E-2,1.8499999999999999E-2,2015,1,"MAR","2015-03-01"]
["Ventura",8851,3909,1205,567,316,2854,8.6999999999999993,8919,6926,1993,1687,1114,348,225,38.299999999999997,0.24,0.14000000000000001,0.19,0.13,1.9900000000000001E-2,1.78E-2,2015,2,"JUN","2015-06-01"]
["Ventura",10252,4312,1500,711,434,3295,9.6999999999999993,9616,7573,2043,1676,1155,317,204,38.700000000000003,0.26,0.15,0.16,0.11,2.18E-2,1.8800000000000001E-2,2015,3,"SEP","2015-09-01"]
["Ventura",8815,3658,1297,585,366,2909,9.3000000000000007,9149,7091,2058,1684,1141,326,217,37,0.26,0.15,0.19,0.13,2.5899999999999999E-2,2.2599999999999999E-2,2015,4,"DEC","2015-12-01"]
["Ventura",8992,3680,1444,653,372,2843,9,8194,6245,1949,1495,1032,282,181,37.299999999999997,0.27,0.16,0.17,0.11,1.9900000000000001E-2,1.77E-2,2016,1,"MAR","2016-03-01"]
["Yolo",2479,1275,338,114,94,658,15.3,1652,1378,274,190,113,43,34,40.700000000000003,0.22,0.14000000000000001,0.08,0.05,4.8999999999999998E-3,4.7999999999999996E-3,2011,4,"DEC","2011-12-01"]
["Yolo",2462,1281,340,117,97,627,12.3,1617,1367,250,161,89,47,25,40.299999999999997,0.23,0.14000000000000001,7.0000000000000007E-2,0.04,4.7999999999999996E-3,4.1999999999999997E-3,2012,1,"MAR","2012-03-01"]
["Yolo",2674,1489,273,109,68,735,14,1722,1439,283,210,124,48,38,39,0.17,0.1,0.08,0.05,5.0000000000000001E-3,4.1000000000000003E-3,2012,2,"JUN","2012-06-01"]
["Yolo",2610,1454,260,117,102,677,14,1906,1584,322,210,118,49,43,40.700000000000003,0.18,0.1,0.08,0.05,4.7999999999999996E-3,4.1999999999999997E-3,2012,3,"SEP","2012-09-01"]
["Yolo",2424,1260,273,135,110,646,17.3,1945,1576,369,254,142,69,43,37.700000000000003,0.21,0.11,0.1,0.06,4.8999999999999998E-3,4.4000000000000003E-3,2012,4,"DEC","2012-12-01"]
["Yolo",2501,1228,289,151,109,724,14.3,1941,1630,311,216,139,52,25,38,0.22,0.12,0.09,0.06,5.1000000000000004E-3,4.4999999999999997E-3,2013,1,"MAR","2013-03-01"]
["Yolo",2409,1279,277,127,73,653,15.3,2024,1678,346,249,154,48,47,37.700000000000003,0.2,0.12,0.1,0.06,4.8999999999999998E-3,4.3E-3,2013,2,"JUN","2013-06-01"]
["Yolo",2906,1576,288,155,101,786,14.3,2039,1657,382,233,139,63,31,36.700000000000003,0.19,0.1,0.08,0.05,5.1999999999999998E-3,4.1999999999999997E-3,2013,3,"SEP","2013-09-01"]
["Yolo",2592,1372,276,129,92,723,12,1995,1647,348,275,173,60,42,35,0.19,0.11,0.11,7.0000000000000007E-2,5.3E-3,4.1000000000000003E-3,2013,4,"DEC","2013-12-01"]
["Yolo",2875,1505,341,128,72,829,12.3,2124,1693,431,283,158,69,56,35.700000000000003,0.19,0.12,0.1,0.06,5.7000000000000002E-3,4.7000000000000002E-3,2014,1,"MAR","2014-03-01"]
["Yolo",2597,1333,312,125,87,740,12.3,2124,1693,431,283,158,69,56,35.700000000000003,0.2,0.12,0.11,0.06,5.4999999999999997E-3,4.5999999999999999E-3,2014,2,"JUN","2014-06-01"]
["Yolo",3131,1696,335,150,78,872,13.3,2381,1897,484,320,193,80,47,38,0.18,0.11,0.1,0.06,6.1000000000000004E-3,4.8999999999999998E-3,2014,3,"SEP","2014-09-01"]
["Yolo",2975,1563,340,138,88,846,10.3,2338,1848,490,344,235,70,39,37,0.19,0.11,0.12,0.08,6.3E-3,4.7999999999999996E-3,2014,4,"DEC","2014-12-01"]
["Yolo",2867,1593,322,128,61,763,9.3000000000000007,2419,1953,466,303,202,58,43,34.299999999999997,0.18,0.11,0.11,7.0000000000000007E-2,6.4000000000000003E-3,5.1000000000000004E-3,2015,1,"MAR","2015-03-01"]
["Yolo",2721,1469,302,143,75,732,9,2487,1972,515,348,211,82,55,36,0.19,0.11,0.13,0.08,6.1000000000000004E-3,5.0000000000000001E-3,2015,2,"JUN","2015-06-01"]
["Yolo",3182,1812,293,143,104,830,10.3,2653,2117,536,306,175,70,61,37,0.17,0.09,0.1,0.06,6.7999999999999996E-3,5.1999999999999998E-3,2015,3,"SEP","2015-09-01"]
["Yolo",2502,1355,209,136,97,705,8.3000000000000007,2599,2088,511,273,171,57,45,35.299999999999997,0.18,0.08,0.11,7.0000000000000007E-2,7.3000000000000001E-3,6.4000000000000003E-3,2015,4,"DEC","2015-12-01"]
["Yolo",2559,1422,242,132,85,678,8,2566,2052,514,315,185,82,48,33,0.18,0.09,0.12,7.0000000000000007E-2,5.7000000000000002E-3,5.4999999999999997E-3,2016,1,"MAR","2016-03-01"]
["Yuba",1738,983,74,96,95,490,14.7,736,488,248,230,216,10,4,35.299999999999997,0.15,0.04,0.13,0.12,3.3999999999999998E-3,2.0999999999999999E-3,2011,4,"DEC","2011-12-01"]
["Yuba",1967,1072,67,101,88,639,16.7,1741,1226,515,382,332,38,12,39,0.13,0.03,0.19,0.17,3.8999999999999998E-3,4.4999999999999997E-3,2012,1,"MAR","2012-03-01"]
["Yuba",1791,963,51,87,71,619,15.3,1733,1259,474,346,310,29,7,32.700000000000003,0.12,0.03,0.19,0.17,3.3999999999999998E-3,4.1000000000000003E-3,2012,2,"JUN","2012-06-01"]
["Yuba",1836,1062,52,84,82,556,15,1757,1247,510,340,306,22,12,36.700000000000003,0.12,0.03,0.19,0.17,3.3999999999999998E-3,3.8999999999999998E-3,2012,3,"SEP","2012-09-01"]
["Yuba",1797,940,75,94,76,612,14.7,1857,1277,580,413,375,24,14,30.7,0.14000000000000001,0.04,0.23,0.21,3.5999999999999999E-3,4.1999999999999997E-3,2012,4,"DEC","2012-12-01"]
["Yuba",1728,873,323,64,54,414,14,1703,957,746,387,350,23,14,10.7,0.26,0.19,0.22,0.2,3.5000000000000001E-3,4.0000000000000001E-3,2013,1,"MAR","2013-03-01"]
["Yuba",1730,926,280,61,57,406,17,1712,942,770,411,371,25,15,9,0.23,0.16,0.24,0.21,3.5000000000000001E-3,3.5999999999999999E-3,2013,2,"JUN","2013-06-01"]
["Yuba",1870,976,281,100,69,444,18.3,1766,1009,757,448,410,24,14,13.7,0.24,0.15,0.24,0.22,3.3E-3,3.5999999999999999E-3,2013,3,"SEP","2013-09-01"]
["Yuba",1764,845,340,84,71,424,16.7,1979,1150,829,690,645,34,11,21.7,0.28000000000000003,0.19,0.39,0.37,3.5999999999999999E-3,4.1000000000000003E-3,2013,4,"DEC","2013-12-01"]
["Yuba",1850,914,346,72,57,461,13.3,1908,1198,710,743,697,34,12,22.7,0.26,0.19,0.4,0.38,3.5999999999999999E-3,4.1999999999999997E-3,2014,1,"MAR","2014-03-01"]
["Yuba",1652,823,276,71,43,439,14.7,1892,1121,771,708,670,23,15,23,0.24,0.17,0.43,0.41,3.5000000000000001E-3,4.1000000000000003E-3,2014,2,"JUN","2014-06-01"]
["Yuba",1811,948,313,65,44,441,12.3,1832,1118,714,688,641,32,15,24.3,0.23,0.17,0.38,0.35,3.5000000000000001E-3,3.8E-3,2014,3,"SEP","2014-09-01"]
["Yuba",1583,753,332,82,53,363,12.3,1891,1141,750,727,687,30,10,23,0.3,0.21,0.46,0.43,3.3999999999999998E-3,3.8E-3,2014,4,"DEC","2014-12-01"]
["Yuba",1668,812,319,63,41,433,12.7,1792,1082,710,681,639,30,12,25.3,0.25,0.19,0.41,0.38,3.7000000000000002E-3,3.8E-3,2015,1,"MAR","2015-03-01"]
["Yuba",1670,836,291,63,51,429,11.7,1805,1106,699,602,553,38,11,23.7,0.24,0.17,0.36,0.33,3.8E-3,3.5999999999999999E-3,2015,2,"JUN","2015-06-01"]
["Yuba",1706,841,299,66,39,461,11.7,1823,1114,709,617,561,40,16,24,0.24,0.18,0.36,0.33,3.5999999999999999E-3,3.5999999999999999E-3,2015,3,"SEP","2015-09-01"]
["Yuba",1548,685,352,78,47,386,12.3,1903,1143,760,692,638,39,15,22.7,0.31,0.23,0.45,0.41,4.4999999999999997E-3,4.7000000000000002E-3,2015,4,"DEC","2015-12-01"]
["Yuba",1621,741,326,88,53,413,10.7,1846,1092,754,602,555,34,13,24,0.28999999999999998,0.2,0.37,0.34,3.5999999999999999E-3,4.0000000000000001E-3,2016,1,"MAR","2016-03-01"]

{"sheet":"Tables_June16","index":11,"n_rows":68,"n_cols":43,"rows_kept":68,"cut":false,"hidden":true,"merged":[[20,0,37,0],[38,0,65,0],[3,36,5,36],[3,38,5,38],[3,16,5,16],[3,22,5,22],[3,25,5,25],[3,34,5,34],[4,33,5,33],[3,6,5,6],[3,7,5,7],[3,9,5,9],[8,0,19,0],[2,23,5,23],[0,0,2,1],[3,0,3,1],[2,41,3,41],[4,41,5,41],[3,40,5,40],[0,3,5,3],[3,10,5,10],[4,35,5,35],[2,30,2,31],[4,32,5,32],[2,32,3,32],[0,25,0,33],[0,34,0,41],[1,25,1,29],[1,30,1,33],[1,34,1,37],[1,38,1,41],[2,27,2,28],[2,37,3,37],[4,37,5,37],[4,39,5,39],[2,26,3,26],[4,26,5,26],[2,29,3,29],[2,39,3,39],[4,29,5,29],[2,35,3,35],[4,0,4,1],[0,4,0,12],[0,13,0,20],[1,6,1,11],[1,13,1,17],[1,19,1,23],[2,13,2,14],[2,17,5,17],[3,12,5,12],[2,19,2,20],[1,4,1,5],[2,11,3,11],[3,4,5,4],[2,5,5,5],[4,11,5,11]]}
["Data from\nApril - June 2016\n\nTrends since\nOct - Dec 2011\n\nUnless noted in red",null,null,"Consortium","Participation",null,null,null,null,null,null,null,null,"Dual Program Participation ",null,null,null,null,null,null,null,null,null,null,null,"Timeliness - Providing Same Day Service",null,null,null,null,null,null,null,null,"Reducing Churn (Data through 2016 Q1)"]
[null,null,null,null,"PRI",null,"Persons Participating",null,null,null,null,null,"Unemployment","All Medi-Cal on CF",null,null,null,null,null,"CalFresh on Medi-Cal",null,null,null,null,null,"All Applicants",null,null,null,null,"Expedited Service",null,null,null,"Renewal Churn",null,null,null,"Applications from Churn"]
[null,null,"County size",null,2015,"Trend since 2010","Total","Annual change","Annual Change","Annual Change","Change since Oct-Dec 2011","Trend","Annual Change 2014 to 2015","Actual Rate\n(Target = 40%) ",null,null,"Annual Change","Trend since Oct-Dec 2011",null,"Actual Rate\n(Target = 95%)",null,"CalFresh on MediCal","Annual Change","Trend since Oct-Dec 2011",null,"Average Days    (2016 Q1)","Trend since Oct-Dec 2011","Approvals > 30 days",null,"Trend since Oct-Dec 2011","Those entitled to ES receiving benefits in > 1-3 days",null,"Trend since Oct-Dec 2011","Apps processed under ES  (2013 Q4)","Recert cases without CF in following month","Trend since Oct-Dec 2011","Incomplete recerts cases that reapply within 90 days","Trend since Oct-Dec 2011","Apps that were on CF in prior 30 days","Trend since Oct-Dec 2011","Apps on CF within prior 90 days","Trend since Oct-Dec 2011"]
["Top 10 performers",null,null,null,"%",null,"#","#",null,"%","%",null,"% Pts",">= 40%",0.41,null,"% Pts",null,null,">= 95%",0.97,"Rank","% Pts",null,null,"#",null,"< 5%",0.03,null,"< 5%",0.03,null,"%","%",null,"%",null,"%",null,"%"]
["Next 10 performers",null,null,null,null,null,null,null,null,null,null,"(Best qtr is marked)",null,">= 30%",0.31,null,null,null,null,">= 90%",0.91,null,null,null,null,null,"(Best qtr is marked)","< 10%",0.09,"(Best qtr is marked)","< 10%",0.09,"(Best qtr is marked)","highlight questionable",null,"(Best qtr is marked)",null,null,null,"(Best qtr is marked)",null,"(Best qtr is marked)"]
[null,null,null,null,null,null,null,null,null,null,null,null,null,"< 30%",0.28000000000000003,null,null,null,null,"< 90%",0.7,null,null,null,null,null,null,"> =10%",0.2,null,"> =10%",0.2,null,null,null,null,null,null,null,null,null,null,"% all recerts reapply"]
[null,"United States (6/16)",null,null,null,null,43376981,{"$f":"G7-45510151","v":-2133170},null,{"$f":"H7/G7","v":-4.9177465808420369E-2},{"$f":"(G7-46512238)/46512238","v":-6.7407141320527303E-2},null,{"$f":"0.053-0.062","v":-9.0000000000000011E-3},null,null,null,null,null,"Target line",null,null,null,null,null,"Target",null,null,null,null,null,null,null,null,null,null,null,null,null,null,null,null,null,"For chart"]
[null,{"$f":"AllCountiesData!A10","v":"California"},"State",null,{"$f":"AllCountiesData!AL10","v":0.69733016424114824},null,{"$f":"AllCountiesData!W10","v":4369738},{"$f":"AllCountiesData!W10-AllCountiesData!S10","v":-93061},null,{"$f":"AllCountiesData!AC10","v":-2.0852608419066151E-2},{"$f":"AllCountiesData!AD10","v":0.11895083747096827},null,{"$f":"AllCountiesData!IL10-AllCountiesData!IH10","v":-1.2999999999999998E-2},{"$f":"AllCountiesData!BG10","v":0.32388732073561671},{"$f":"N8","v":0.32388732073561671},null,null,null,0.4,{"$f":"AllCountiesData!CB10","v":0.94226950176340263},{"$f":"T8","v":0.94226950176340263},null,null,null,0.9,{"$f":"AllCountiesData!CV10","v":11.4},null,{"$f":"AllCountiesData!DQ10","v":2.300000000000002E-2},{"$f":"AB8","v":2.300000000000002E-2},null,{"$f":"AllCountiesData!EO10","v":7.4999999999999956E-2},{"$f":"AE8","v":7.4999999999999956E-2},null,{"$f":"[1]AllCountiesData!DV10","v":0.70331222780844271},{"$f":"AllCountiesData!FK10","v":0.30950194567662226},null,{"$f":"AllCountiesData!GD10","v":0.47598503253190361},null,{"$f":"AllCountiesData!GW10","v":0.11668217184451216},null,{"$f":"AllCountiesData!HP10","v":0.1979727624481534},null,{"$f":"AK8*AI8","v":0.14731829368157451}]
["Large Counties (Participation ≥ 100k)",{"$f":"AllCountiesData!A19","v":"Tulare"},{"$f":"IF(G9>100000,\"Large\",(IF(G9>20000,\"Medium\",\"Small\")))","v":"Large"},{"$f":"AllCountiesData!C19","v":"CalWIN"},{"$f":"AllCountiesData!AL19","v":0.91335509939391257},null,{"$f":"AllCountiesData!W19","v":125132},{"$f":"AllCountiesData!W19-AllCountiesData!S19","v":-137},{"$f":"RANK(H9,H$9:H$66,0)","v":33},{"$f":"AllCountiesData!AC19","v":-1.0936464727905547E-3},{"$f":"AllCountiesData!AD19","v":0.18130410565766991},null,{"$f":"AllCountiesData!IL19-AllCountiesData!IH19","v":-1.3000000000000005E-2},{"$f":"AllCountiesData!BG19","v":0.46894287840906923},{"$f":"N9","v":0.46894287840906923},{"$f":"RANK(N9,N$9:N$66,0)","v":1},null,null,0.4,{"$f":"AllCountiesData!CB19","v":0.966274460454288},{"$f":"T9","v":0.966274460454288},{"$f":"RANK(T9,T$9:T$66,0)","v":8},null,null,0.9,{"$f":"AllCountiesData!CV19","v":5.3},null,{"$f":"AllCountiesData!DQ19","v":9.000000000000008E-3},{"$f":"AB9","v":9.000000000000008E-3},null,{"$f":"AllCountiesData!EO19","v":1.3000000000000012E-2},{"$f":"AE9","v":1.3000000000000012E-2},null,{"$f":"[1]AllCountiesData!DV21","v":0.65812264282721056},{"$f":"AllCountiesData!FK19","v":0.14614020205136113},null,{"$f":"AllCountiesData!GD19","v":0.45429104477611942},null,{"$f":"AllCountiesData!GW19","v":0.21367884451996602},null,{"$f":"AllCountiesData!HP19","v":0.32986406117247241},null,{"$f":"AK9*AI9","v":6.6390185073706046E-2}]
[null,{"$f":"AllCountiesData!A16","v":"Fresno"},"Large",{"$f":"AllCountiesData!C16","v":"CalWIN"},{"$f":"AllCountiesData!AL16","v":0.87322270167921334},null,{"$f":"AllCountiesData!W16","v":224870},{"$f":"AllCountiesData!W16-AllCountiesData!S16","v":-4518},55,{"$f":"AllCountiesData!AC16","v":-1.9695886445672835E-2},{"$f":"AllCountiesData!AD16","v":8.0067243035542746E-2},null,{"$f":"AllCountiesData!IL16-AllCountiesData!IH16","v":-2.1999999999999992E-2},{"$f":"AllCountiesData!BG16","v":0.45862364756055124},0.45862364756055124,2,null,null,0.4,{"$f":"AllCountiesData!CB16","v":0.94778871319748137},0.94778871319748137,27,null,null,0.9,{"$f":"AllCountiesData!CV16","v":7.7},null,{"$f":"AllCountiesData!DQ16","v":5.1000000000000045E-2},5.1000000000000045E-2,null,{"$f":"AllCountiesData!EO16","v":3.1000000000000028E-2},3.1000000000000028E-2,null,{"$f":"[1]AllCountiesData!DV16","v":0.64863578680203049},{"$f":"AllCountiesData!FK16","v":0.14873457174915847},null,{"$f":"AllCountiesData!GD16","v":0.58490566037735847},null,{"$f":"AllCountiesData!GW16","v":0.15292302417280987},null,{"$f":"AllCountiesData!HP16","v":0.27190125150008571},null,8.6995692909885139E-2]
[null,{"$f":"AllCountiesData!A12","v":"San Bernardino"},"Large",{"$f":"AllCountiesData!C12","v":"C-IV"},{"$f":"AllCountiesData!AL12","v":0.92665518793589696},null,{"$f":"AllCountiesData!W12","v":392070},{"$f":"AllCountiesData!W12-AllCountiesData!S12","v":-6453},56,{"$f":"AllCountiesData!AC12","v":-1.6192290030939242E-2},{"$f":"AllCountiesData!AD12","v":0.143337892259643},null,{"$f":"AllCountiesData!IL12-AllCountiesData!IH12","v":-8.9999999999999941E-3},{"$f":"AllCountiesData!BG12","v":0.41169535218311037},0.41169535218311037,8,null,null,0.4,{"$f":"AllCountiesData!CB12","v":0.91688823039922063},0.91688823039922063,50,null,null,0.9,{"$f":"AllCountiesData!CV12","v":8.3000000000000007},null,{"$f":"AllCountiesData!DQ12","v":5.0000000000000044E-3},5.0000000000000044E-3,null,{"$f":"AllCountiesData!EO12","v":3.9000000000000035E-2},3.9000000000000035E-2,null,{"$f":"[1]AllCountiesData!DV12","v":0.93888875065316379},{"$f":"AllCountiesData!FK12","v":0.3668827806201711},null,{"$f":"AllCountiesData!GD12","v":8.3333333333333329E-2},null,{"$f":"AllCountiesData!GW12","v":0.22998088360237892},null,{"$f":"AllCountiesData!HP12","v":0.32710280373831774},null,3.0573565051680924E-2]
[null,{"$f":"AllCountiesData!A18","v":"Kern"},"Large",{"$f":"AllCountiesData!C18","v":"C-IV"},{"$f":"AllCountiesData!AL18","v":0.76605508020541824},null,{"$f":"AllCountiesData!W18","v":165582},{"$f":"AllCountiesData!W18-AllCountiesData!S18","v":8466},1,{"$f":"AllCountiesData!AC18","v":5.388375467807225E-2},{"$f":"AllCountiesData!AD18","v":0.23527173710321161},null,{"$f":"AllCountiesData!IL18-AllCountiesData!IH18","v":-1.6E-2},{"$f":"AllCountiesData!BG18","v":0.3922669700564958},0.3922669700564958,11,null,null,0.4,{"$f":"AllCountiesData!CB18","v":0.95851390608629394},0.95851390608629394,17,null,null,0.9,{"$f":"AllCountiesData!CV18","v":12.7},null,{"$f":"AllCountiesData!DQ18","v":1.4000000000000012E-2},1.4000000000000012E-2,null,{"$f":"AllCountiesData!EO18","v":5.5000000000000049E-2},5.5000000000000049E-2,null,{"$f":"[1]AllCountiesData!DV18","v":0.83333333333333337},{"$f":"AllCountiesData!FK18","v":0.34309320939839916},null,{"$f":"AllCountiesData!GD18","v":0.95199999999999996},null,{"$f":"AllCountiesData!GW18","v":0.19581220350073614},null,{"$f":"AllCountiesData!HP18","v":0.29232782594470802},null,0.32662473534727599]
[null,{"$f":"AllCountiesData!A20","v":"San Joaquin"},"Large",{"$f":"AllCountiesData!C20","v":"C-IV"},{"$f":"AllCountiesData!AL20","v":0.92455081561557007},null,{"$f":"AllCountiesData!W20","v":118036},{"$f":"AllCountiesData!W20-AllCountiesData!S20","v":-4434},54,{"$f":"AllCountiesData!AC20","v":-3.6204784845268227E-2},{"$f":"AllCountiesData!AD20","v":0.1485452953196458},null,{"$f":"AllCountiesData!IL20-AllCountiesData!IH20","v":-1.4000000000000012E-2},{"$f":"AllCountiesData!BG20","v":0.3804511926842945},0.3804511926842945,14,null,null,0.4,{"$f":"AllCountiesData!CB20","v":0.95995579481426285},0.95995579481426285,15,null,null,0.9,{"$f":"AllCountiesData!CV20","v":12.3},null,{"$f":"AllCountiesData!DQ20","v":1.6000000000000014E-2},1.6000000000000014E-2,null,{"$f":"AllCountiesData!EO20","v":9.2999999999999972E-2},9.2999999999999972E-2,null,{"$f":"[1]AllCountiesData!DV19","v":0.75458830608765415},{"$f":"AllCountiesData!FK20","v":0.33544345971879791},null,{"$f":"AllCountiesData!GD20","v":0.72673931265716685},null,{"$f":"AllCountiesData!GW20","v":0.1821992591148372},null,{"$f":"AllCountiesData!HP20","v":0.2707155390914408},null,0.24377994935138123]
[null,{"$f":"AllCountiesData!A17","v":"Sacramento"},"Large",{"$f":"AllCountiesData!C17","v":"CalWIN"},{"$f":"AllCountiesData!AL17","v":0.83260287264778898},null,{"$f":"AllCountiesData!W17","v":215894},{"$f":"AllCountiesData!W17-AllCountiesData!S17","v":-3202},52,{"$f":"AllCountiesData!AC17","v":-1.4614598167013547E-2},{"$f":"AllCountiesData!AD17","v":8.3342951050003763E-2},null,{"$f":"AllCountiesData!IL17-AllCountiesData!IH17","v":-1.1999999999999997E-2},{"$f":"AllCountiesData!BG17","v":0.36168336815268581},0.36168336815268581,21,null,null,0.4,{"$f":"AllCountiesData!CB17","v":0.9368167143590872},0.9368167143590872,35,null,null,0.9,{"$f":"AllCountiesData!CV17","v":6.7},null,{"$f":"AllCountiesData!DQ17","v":7.0000000000000062E-3},7.0000000000000062E-3,null,{"$f":"AllCountiesData!EO17","v":8.0000000000000071E-3},8.0000000000000071E-3,null,{"$f":"[1]AllCountiesData!DV17","v":0.70290172700973086},{"$f":"AllCountiesData!FK17","v":0.20378160186955599},null,{"$f":"AllCountiesData!GD17","v":0.50027793218454697},null,{"$f":"AllCountiesData!GW17","v":0.12790697674418605},null,{"$f":"AllCountiesData!HP17","v":0.22225660977982137},null,0.10194743840055608]
[null,{"$f":"AllCountiesData!A13","v":"Riverside"},"Large",{"$f":"AllCountiesData!C13","v":"C-IV"},{"$f":"AllCountiesData!AL13","v":0.69484033727327177},null,{"$f":"AllCountiesData!W13","v":287669},{"$f":"AllCountiesData!W13-AllCountiesData!S13","v":-2562},51,{"$f":"AllCountiesData!AC13","v":-8.8274512371180197E-3},{"$f":"AllCountiesData!AD13","v":0.13353692174324217},null,{"$f":"AllCountiesData!IL13-AllCountiesData!IH13","v":-1.7000000000000001E-2},{"$f":"AllCountiesData!BG13","v":0.31165091684687618},0.31165091684687618,33,null,null,0.4,{"$f":"AllCountiesData!CB13","v":0.90672780238911965},0.90672780238911965,55,null,null,0.9,{"$f":"AllCountiesData!CV13","v":9.6999999999999993},null,{"$f":"AllCountiesData!DQ13","v":6.0000000000000053E-3},6.0000000000000053E-3,null,{"$f":"AllCountiesData!EO13","v":5.4000000000000048E-2},5.4000000000000048E-2,null,{"$f":"[1]AllCountiesData!DV13","v":0.90468928707586738},{"$f":"AllCountiesData!FK13","v":0.3886172782698723},null,{"$f":"AllCountiesData!GD13","v":0.61847389558232935},null,{"$f":"AllCountiesData!GW13","v":0.17666720752880091},null,{"$f":"AllCountiesData!HP13","v":0.27275677429823136},null,0.24034964198217004]
[null,{"$f":"AllCountiesData!A14","v":"San Diego"},"Large",{"$f":"AllCountiesData!C14","v":"CalWIN"},{"$f":"AllCountiesData!AL14","v":0.57292109557354953},null,{"$f":"AllCountiesData!W14","v":287392},{"$f":"AllCountiesData!W14-AllCountiesData!S14","v":-1697},48,{"$f":"AllCountiesData!AC14","v":-5.8701645514011259E-3},{"$f":"AllCountiesData!AD14","v":0.22121938367922764},null,{"$f":"AllCountiesData!IL14-AllCountiesData!IH14","v":-1.4999999999999999E-2},{"$f":"AllCountiesData!BG14","v":0.290918814168041},0.290918814168041,41,null,null,0.4,{"$f":"AllCountiesData!CB14","v":0.90807458080725323},0.90807458080725323,54,null,null,0.9,{"$f":"AllCountiesData!CV14","v":11.3},null,{"$f":"AllCountiesData!DQ14","v":9.000000000000008E-3},9.000000000000008E-3,null,{"$f":"AllCountiesData!EO14","v":2.0000000000000018E-2},2.0000000000000018E-2,null,{"$f":"[1]AllCountiesData!DV14","v":0.60810445302318716},{"$f":"AllCountiesData!FK14","v":0.22151777749458393},null,{"$f":"AllCountiesData!GD14","v":0.63391038696537683},null,{"$f":"AllCountiesData!GW14","v":0.13390631491483174},null,{"$f":"AllCountiesData!HP14","v":0.23332987120897383},null,0.14042242005130193]
[null,{"$f":"AllCountiesData!A15","v":"Orange"},"Large",{"$f":"AllCountiesData!C15","v":"CalWIN"},{"$f":"AllCountiesData!AL15","v":0.61073927765205804},null,{"$f":"AllCountiesData!W15","v":254598},{"$f":"AllCountiesData!W15-AllCountiesData!S15","v":-64},28,{"$f":"AllCountiesData!AC15","v":-2.5131350574486967E-4},{"$f":"AllCountiesData!AD15","v":0.24158412944567173},null,{"$f":"AllCountiesData!IL15-AllCountiesData!IH15","v":-1.6E-2},{"$f":"AllCountiesData!BG15","v":0.26037018093817954},0.26037018093817954,46,null,null,0.4,{"$f":"AllCountiesData!CB15","v":0.92857197948401526},0.92857197948401526,42,null,null,0.9,{"$f":"AllCountiesData!CV15","v":5.7},null,{"$f":"AllCountiesData!DQ15","v":1.3000000000000012E-2},1.3000000000000012E-2,null,{"$f":"AllCountiesData!EO15","v":5.0000000000000044E-3},5.0000000000000044E-3,null,{"$f":"[1]AllCountiesData!DV15","v":0.58987128086094109},{"$f":"AllCountiesData!FK15","v":0.19881283620849563},null,{"$f":"AllCountiesData!GD15","v":0.55882352941176472},null,{"$f":"AllCountiesData!GW15","v":0.10741856912851422},null,{"$f":"AllCountiesData!HP15","v":0.20769516575155844},null,0.11110129082239462]
[null,{"$f":"AllCountiesData!A21","v":"Alameda"},"Large",{"$f":"AllCountiesData!C21","v":"CalWIN"},{"$f":"AllCountiesData!AL21","v":0.6372229790855547},null,{"$f":"AllCountiesData!W21","v":117298},{"$f":"AllCountiesData!W21-AllCountiesData!S21","v":-2492},50,{"$f":"AllCountiesData!AC21","v":-2.0803072042741465E-2},{"$f":"AllCountiesData!AD21","v":-2.9584526035375681E-2},null,{"$f":"AllCountiesData!IL21-AllCountiesData!IH21","v":-2.0000000000000004E-2},{"$f":"AllCountiesData!BG21","v":0.2455275366029141},0.2455275366029141,48,null,null,0.4,{"$f":"AllCountiesData!CB21","v":0.92574100887047117},0.92574100887047117,46,null,null,0.9,{"$f":"AllCountiesData!CV21","v":10.3},null,{"$f":"AllCountiesData!DQ21","v":4.0000000000000036E-2},4.0000000000000036E-2,null,{"$f":"AllCountiesData!EO21","v":6.7999999999999949E-2},6.7999999999999949E-2,null,{"$f":"[1]AllCountiesData!DV20","v":0.58551252847380408},{"$f":"AllCountiesData!FK21","v":0.26045460253673236},null,{"$f":"AllCountiesData!GD21","v":0.53846153846153844},null,{"$f":"AllCountiesData!GW21","v":0.1100371747211896},null,{"$f":"AllCountiesData!HP21","v":0.2085839810746874},null,0.14024478598131743]
[null,{"$f":"AllCountiesData!A11","v":"Los Angeles"},"Large",{"$f":"AllCountiesData!C11","v":"LRS"},{"$f":"AllCountiesData!AL11","v":0.66276061455130608},null,{"$f":"AllCountiesData!W11","v":1115699},{"$f":"AllCountiesData!W11-AllCountiesData!S11","v":-62583},58,{"$f":"AllCountiesData!AC11","v":-5.311377072721131E-2},{"$f":"AllCountiesData!AD11","v":5.6779325486808481E-2},null,{"$f":"AllCountiesData!IL11-AllCountiesData!IH11","v":-1.1999999999999997E-2},{"$f":"AllCountiesData!BG11","v":0.22263104668721556},0.22263104668721556,51,null,null,0.4,{"$f":"AllCountiesData!CB11","v":0.89782243272624529},0.89782243272624529,57,null,null,0.9,{"$f":"AllCountiesData!CV11","v":15.7},null,{"$f":"AllCountiesData!DQ11","v":3.6000000000000032E-2},3.6000000000000032E-2,null,{"$f":"AllCountiesData!EO11","v":0.17100000000000004},0.17100000000000004,null,{"$f":"[1]AllCountiesData!DV11","v":0.66564776386712354},{"$f":"AllCountiesData!FK11","v":0.41201818229590897},null,{"$f":"AllCountiesData!GD11","v":0.46504339440694309},null,{"$f":"AllCountiesData!GW11","v":7.7562707144398033E-3},null,{"$f":"AllCountiesData!HP11","v":3.3545135416053813E-2},null,0.19160633405226818]
[null,{"$f":"AllCountiesData!A22","v":"Santa Clara"},"Large",{"$f":"AllCountiesData!C22","v":"CalWIN"},{"$f":"AllCountiesData!AL22","v":0.68854903421894531},null,{"$f":"AllCountiesData!W22","v":105301},{"$f":"AllCountiesData!W22-AllCountiesData!S22","v":-6684},57,{"$f":"AllCountiesData!AC22","v":-5.9686565164977452E-2},{"$f":"AllCountiesData!AD22","v":5.5130812933997332E-2},null,{"$f":"AllCountiesData!IL22-AllCountiesData!IH22","v":-1.2000000000000004E-2},{"$f":"AllCountiesData!BG22","v":0.22050302914186426},0.22050302914186426,53,null,null,0.4,{"$f":"AllCountiesData!CB22","v":0.9500170784469999},0.9500170784469999,23,null,null,0.9,{"$f":"AllCountiesData!CV22","v":7.7},null,{"$f":"AllCountiesData!DQ22","v":1.4000000000000012E-2},1.4000000000000012E-2,null,{"$f":"AllCountiesData!EO22","v":1.2000000000000011E-2},1.2000000000000011E-2,null,{"$f":"[1]AllCountiesData!DV22","v":0.46569117513405434},{"$f":"AllCountiesData!FK22","v":0.18503356803667922},null,{"$f":"AllCountiesData!GD22","v":0.69041450777202074},null,{"$f":"AllCountiesData!GW22","v":2.3337692385071926E-2},null,{"$f":"AllCountiesData!HP22","v":0.12785434060959661},null,0.1277498597973446]
["Medium Counties (Participation 20k - 100k)",{"$f":"AllCountiesData!A30","v":"Imperial"},"Medium",{"$f":"AllCountiesData!C30","v":"C-IV"},{"$f":"AllCountiesData!AL30","v":0.90733457568972442},null,{"$f":"AllCountiesData!W30","v":42432},{"$f":"AllCountiesData!W30-AllCountiesData!S30","v":0},18,{"$f":"AllCountiesData!AC30","v":0},{"$f":"AllCountiesData!AD30","v":0.19651467726926655},null,{"$f":"AllCountiesData!IL30-AllCountiesData!IH30","v":-5.0000000000000044E-3},{"$f":"AllCountiesData!BG30","v":0.43725153167213254},0.43725153167213254,3,null,null,0.4,{"$f":"AllCountiesData!CB30","v":0.9660997204100652},0.9660997204100652,9,null,null,0.9,{"$f":"AllCountiesData!CV30","v":10},null,{"$f":"AllCountiesData!DQ30","v":3.0000000000000027E-2},3.0000000000000027E-2,null,{"$f":"AllCountiesData!EO30","v":6.3999999999999946E-2},6.3999999999999946E-2,null,{"$f":"[1]AllCountiesData!DV30","v":0.91826923076923073},{"$f":"AllCountiesData!FK30","v":0.31505352851212587},null,{"$f":"AllCountiesData!GD30","v":0.43812375249500995},null,{"$f":"AllCountiesData!GW30","v":0.17396630934150076},null,{"$f":"AllCountiesData!HP30","v":0.26278713629402756},null,0.1380324341485262]
[null,{"$f":"AllCountiesData!A37","v":"Kings"},"Medium",{"$f":"AllCountiesData!C37","v":"C-IV"},{"$f":"AllCountiesData!AL37","v":0.68600653300893477},null,{"$f":"AllCountiesData!W37","v":24891},{"$f":"AllCountiesData!W37-AllCountiesData!S37","v":198},12,{"$f":"AllCountiesData!AC37","v":8.0184667719596647E-3},{"$f":"AllCountiesData!AD37","v":0.12136775239897284},null,{"$f":"AllCountiesData!IL37-AllCountiesData!IH37","v":-9.999999999999995E-3},{"$f":"AllCountiesData!BG37","v":0.41724519048112457},0.41724519048112457,5,null,null,0.4,{"$f":"AllCountiesData!CB37","v":0.96443397732715952},0.96443397732715952,11,null,null,0.9,{"$f":"AllCountiesData!CV37","v":9},null,{"$f":"AllCountiesData!DQ37","v":1.100000000000001E-2},1.100000000000001E-2,null,{"$f":"AllCountiesData!EO37","v":3.3000000000000029E-2},3.3000000000000029E-2,null,{"$f":"[1]AllCountiesData!DV37","v":0.93282262816735417},{"$f":"AllCountiesData!FK37","v":0.36784140969162998},null,{"$f":"AllCountiesData!GD37","v":0.47407407407407409},null,{"$f":"AllCountiesData!GW37","v":0.21431290445374954},null,{"$f":"AllCountiesData!HP37","v":0.29996193376475067},null,0.17438407570566164]
[null,{"$f":"AllCountiesData!A35","v":"Madera"},"Medium",{"$f":"AllCountiesData!C35","v":"C-IV"},{"$f":"AllCountiesData!AL35","v":0.91808234301547598},null,{"$f":"AllCountiesData!W35","v":29647},{"$f":"AllCountiesData!W35-AllCountiesData!S35","v":-285},36,{"$f":"AllCountiesData!AC35","v":-9.5215822531070429E-3},{"$f":"AllCountiesData!AD35","v":0.16044308752152811},null,{"$f":"AllCountiesData!IL35-AllCountiesData!IH35","v":-1.7000000000000001E-2},{"$f":"AllCountiesData!BG35","v":0.41278102470031142},0.41278102470031142,6,null,null,0.4,{"$f":"AllCountiesData!CB35","v":0.97044664348756349},0.97044664348756349,5,null,null,0.9,{"$f":"AllCountiesData!CV35","v":10},null,{"$f":"AllCountiesData!DQ35","v":1.4000000000000012E-2},1.4000000000000012E-2,null,{"$f":"AllCountiesData!EO35","v":3.2000000000000028E-2},3.2000000000000028E-2,null,{"$f":"[1]AllCountiesData!DV35","v":0.52313284864507603},{"$f":"AllCountiesData!FK35","v":0.30354438049076038},null,{"$f":"AllCountiesData!GD35","v":0.52459016393442626},null,{"$f":"AllCountiesData!GW35","v":0.15370946246112838},null,{"$f":"AllCountiesData!HP35","v":0.24922256774766771},null,0.15923639632302183]
[null,{"$f":"AllCountiesData!A26","v":"Merced"},"Medium",{"$f":"AllCountiesData!C26","v":"C-IV"},{"$f":"AllCountiesData!AL26","v":0.73586842548148068},null,{"$f":"AllCountiesData!W26","v":57715},{"$f":"AllCountiesData!W26-AllCountiesData!S26","v":-1266},45,{"$f":"AllCountiesData!AC26","v":-2.1464539427951373E-2},{"$f":"AllCountiesData!AD26","v":0.12109321885744255},null,{"$f":"AllCountiesData!IL26-AllCountiesData!IH26","v":-1.6E-2},{"$f":"AllCountiesData!BG26","v":0.40021368882096131},0.40021368882096131,9,null,null,0.4,{"$f":"AllCountiesData!CB26","v":0.97299203523077182},0.97299203523077182,4,null,null,0.9,{"$f":"AllCountiesData!CV26","v":12},null,{"$f":"AllCountiesData!DQ26","v":1.4000000000000012E-2},1.4000000000000012E-2,null,{"$f":"AllCountiesData!EO26","v":4.2000000000000037E-2},4.2000000000000037E-2,null,{"$f":"[1]AllCountiesData!DV26","v":0.78358764421287685},{"$f":"AllCountiesData!FK26","v":0.33186941882594057},null,{"$f":"AllCountiesData!GD26","v":0.55603079555175361},null,{"$f":"AllCountiesData!GW26","v":0.18744769874476988},null,{"$f":"AllCountiesData!HP26","v":0.28974895397489542},null,0.18452961696908585]
[null,{"$f":"AllCountiesData!A33","v":"Butte"},"Medium",{"$f":"AllCountiesData!C33","v":"C-IV"},{"$f":"AllCountiesData!AL33","v":0.60002261475812002},null,{"$f":"AllCountiesData!W33","v":32218},{"$f":"AllCountiesData!W33-AllCountiesData!S33","v":291},10,{"$f":"AllCountiesData!AC33","v":9.1145425501926274E-3},{"$f":"AllCountiesData!AD33","v":0.14573257467994311},null,{"$f":"AllCountiesData!IL33-AllCountiesData!IH33","v":-1.0000000000000009E-2},{"$f":"AllCountiesData!BG33","v":0.36552169573131349},0.36552169573131349,18,null,null,0.4,{"$f":"AllCountiesData!CB33","v":0.94349802970597152},0.94349802970597152,31,null,null,0.9,{"$f":"AllCountiesData!CV33","v":18},null,{"$f":"AllCountiesData!DQ33","v":8.7999999999999967E-2},8.7999999999999967E-2,null,{"$f":"AllCountiesData!EO33","v":6.1000000000000054E-2},6.1000000000000054E-2,null,{"$f":"[1]AllCountiesData!DV33","v":0.73594080338266388},{"$f":"AllCountiesData!FK33","v":0.39853896103896103},null,{"$f":"AllCountiesData!GD33","v":0.59854014598540151},null,{"$f":"AllCountiesData!GW33","v":0.14509551405881091},null,{"$f":"AllCountiesData!HP33","v":0.223223867782786},null,0.23854156792112999]
[null,{"$f":"AllCountiesData!A39","v":"Humboldt"},"Medium",{"$f":"AllCountiesData!C39","v":"C-IV"},{"$f":"AllCountiesData!AL39","v":0.65877861627084822},null,{"$f":"AllCountiesData!W39","v":21361},{"$f":"AllCountiesData!W39-AllCountiesData!S39","v":486},8,{"$f":"AllCountiesData!AC39","v":2.3281437125748504E-2},{"$f":"AllCountiesData!AD39","v":0.4266346089627997},null,{"$f":"AllCountiesData!IL39-AllCountiesData!IH39","v":-1.1000000000000003E-2},{"$f":"AllCountiesData!BG39","v":0.36334661354581671},0.36334661354581671,20,null,null,0.4,{"$f":"AllCountiesData!CB39","v":0.91649917778183809},0.91649917778183809,51,null,null,0.9,{"$f":"AllCountiesData!CV39","v":10.7},null,{"$f":"AllCountiesData!DQ39","v":1.2000000000000011E-2},1.2000000000000011E-2,null,{"$f":"AllCountiesData!EO39","v":1.5000000000000013E-2},1.5000000000000013E-2,null,{"$f":"[1]AllCountiesData!DV39","v":0.76876876876876876},{"$f":"AllCountiesData!FK39","v":0.44482857966004036},null,{"$f":"AllCountiesData!GD39","v":0.58620689655172409},null,{"$f":"AllCountiesData!GW39","v":0.13964638897213066},null,{"$f":"AllCountiesData!HP39","v":0.2250524423134552},null,0.26076158118002363]
[null,{"$f":"AllCountiesData!A38","v":"Shasta"},"Medium",{"$f":"AllCountiesData!C38","v":"C-IV"},{"$f":"AllCountiesData!AL38","v":0.69300660294121874},null,{"$f":"AllCountiesData!W38","v":24569},{"$f":"AllCountiesData!W38-AllCountiesData!S38","v":-611},43,{"$f":"AllCountiesData!AC38","v":-2.4265289912629072E-2},{"$f":"AllCountiesData!AD38","v":6.1839626505037267E-3},null,{"$f":"AllCountiesData!IL38-AllCountiesData!IH38","v":-1.0000000000000002E-2},{"$f":"AllCountiesData!BG38","v":0.35570071258907365},0.35570071258907365,23,null,null,0.4,{"$f":"AllCountiesData!CB38","v":0.95120886101075863},0.95120886101075863,22,null,null,0.9,{"$f":"AllCountiesData!CV38","v":14},null,{"$f":"AllCountiesData!DQ38","v":3.0000000000000027E-2},3.0000000000000027E-2,null,{"$f":"AllCountiesData!EO38","v":2.0000000000000018E-2},2.0000000000000018E-2,null,{"$f":"[1]AllCountiesData!DV38","v":0.83062381852551981},{"$f":"AllCountiesData!FK38","v":0.44710163763971927},null,{"$f":"AllCountiesData!GD38","v":0.45738045738045741},null,{"$f":"AllCountiesData!GW38","v":0.15805109922756982},null,{"$f":"AllCountiesData!HP38","v":0.2581699346405229},null,0.20449555151920634]
[null,{"$f":"AllCountiesData!A23","v":"Stanislaus"},"Medium",{"$f":"AllCountiesData!C23","v":"C-IV"},{"$f":"AllCountiesData!AL23","v":0.87422444234218655},null,{"$f":"AllCountiesData!W23","v":89096},{"$f":"AllCountiesData!W23-AllCountiesData!S23","v":-3608},53,{"$f":"AllCountiesData!AC23","v":-3.8919571971004485E-2},{"$f":"AllCountiesData!AD23","v":4.9830911897439524E-2},null,{"$f":"AllCountiesData!IL23-AllCountiesData!IH23","v":4.0000000000000036E-3},{"$f":"AllCountiesData!BG23","v":0.3526503415504631},0.3526503415504631,25,null,null,0.4,{"$f":"AllCountiesData!CB23","v":0.95636730933590841},0.95636730933590841,19,null,null,0.9,{"$f":"AllCountiesData!CV23","v":8},null,{"$f":"AllCountiesData!DQ23","v":1.0000000000000009E-2},1.0000000000000009E-2,null,{"$f":"AllCountiesData!EO23","v":7.4999999999999956E-2},7.4999999999999956E-2,null,{"$f":"[1]AllCountiesData!DV23","v":0.88097249601051342},{"$f":"AllCountiesData!FK23","v":0.39444264419961117},null,{"$f":"AllCountiesData!GD23","v":0.66990291262135926},null,{"$f":"AllCountiesData!GW23","v":0.18591465234258431},null,{"$f":"AllCountiesData!HP23","v":0.29006266786034018},null,0.26423827621139001]
[null,{"$f":"AllCountiesData!A40","v":"Yolo"},"Medium",{"$f":"AllCountiesData!C40","v":"CalWIN"},{"$f":"AllCountiesData!AL40","v":0.50741494929932407},null,{"$f":"AllCountiesData!W40","v":21293},{"$f":"AllCountiesData!W40-AllCountiesData!S40","v":702},5,{"$f":"AllCountiesData!AC40","v":3.4092564712738575E-2},{"$f":"AllCountiesData!AD40","v":0.31763613861386136},null,{"$f":"AllCountiesData!IL40-AllCountiesData!IH40","v":-1.0000000000000002E-2},{"$f":"AllCountiesData!BG40","v":0.33252760715882185},0.33252760715882185,28,null,null,0.4,{"$f":"AllCountiesData!CB40","v":0.92031708211143692},0.92031708211143692,48,null,null,0.9,{"$f":"AllCountiesData!CV40","v":8},null,{"$f":"AllCountiesData!DQ40","v":3.0000000000000027E-2},3.0000000000000027E-2,null,{"$f":"AllCountiesData!EO40","v":6.6999999999999948E-2},6.6999999999999948E-2,null,{"$f":"[1]AllCountiesData!DV40","v":0.79629629629629628},{"$f":"AllCountiesData!FK40","v":0.20031176929072486},null,{"$f":"AllCountiesData!GD40","v":0.52827019966411648},null,{"$f":"AllCountiesData!GW40","v":9.4568190699491989E-2},null,{"$f":"AllCountiesData!HP40","v":0.17936694021101993},null,0.10581873835828366]
[null,{"$f":"AllCountiesData!A29","v":"Solano"},"Medium",{"$f":"AllCountiesData!C29","v":"CalWIN"},{"$f":"AllCountiesData!AL29","v":0.67496232970642456},null,{"$f":"AllCountiesData!W29","v":42828},{"$f":"AllCountiesData!W29-AllCountiesData!S29","v":-1002},44,{"$f":"AllCountiesData!AC29","v":-2.2861054072553046E-2},{"$f":"AllCountiesData!AD29","v":9.8294653160661619E-2},null,{"$f":"AllCountiesData!IL29-AllCountiesData!IH29","v":-1.6E-2},{"$f":"AllCountiesData!BG29","v":0.32158870006897849},0.32158870006897849,31,null,null,0.4,{"$f":"AllCountiesData!CB29","v":0.93359881670269651},0.93359881670269651,39,null,null,0.9,{"$f":"AllCountiesData!CV29","v":11.7},null,{"$f":"AllCountiesData!DQ29","v":1.2000000000000011E-2},1.2000000000000011E-2,null,{"$f":"AllCountiesData!EO29","v":"NA"},"NA",null,{"$f":"[1]AllCountiesData!DV29","v":0.45367899351887153},{"$f":"AllCountiesData!FK29","v":0.24045026757704374},null,{"$f":"AllCountiesData!GD29","v":8.9375677571583448E-2},null,{"$f":"AllCountiesData!GW29","v":1.2908598792421403E-2},null,{"$f":"AllCountiesData!HP29","v":0.12138246929002706},null,2.1490405586966826E-2]
[null,{"$f":"AllCountiesData!A36","v":"Santa Cruz"},"Medium",{"$f":"AllCountiesData!C36","v":"CalWIN"},{"$f":"AllCountiesData!AL36","v":0.57953642042354159},null,{"$f":"AllCountiesData!W36","v":27613},{"$f":"AllCountiesData!W36-AllCountiesData!S36","v":1339},3,{"$f":"AllCountiesData!AC36","v":5.0962929131460763E-2},{"$f":"AllCountiesData!AD36","v":0.39530065689742294},null,{"$f":"AllCountiesData!IL36-AllCountiesData!IH36","v":-1.0999999999999996E-2},{"$f":"AllCountiesData!BG36","v":0.31784897864381501},0.31784897864381501,32,null,null,0.4,{"$f":"AllCountiesData!CB36","v":0.93616331821127674},0.93616331821127674,36,null,null,0.9,{"$f":"AllCountiesData!CV36","v":12},null,{"$f":"AllCountiesData!DQ36","v":4.3000000000000038E-2},4.3000000000000038E-2,null,{"$f":"AllCountiesData!EO36","v":2.8000000000000025E-2},2.8000000000000025E-2,null,{"$f":"[1]AllCountiesData!DV36","v":0.93192367199587411},{"$f":"AllCountiesData!FK36","v":0.18258164852255054},null,{"$f":"AllCountiesData!GD36","v":0.13392857142857142},null,{"$f":"AllCountiesData!GW36","v":1.3591060102688009E-2},null,{"$f":"AllCountiesData!HP36","v":8.5170643310178193E-2},null,2.4452899355698735E-2]
[null,{"$f":"AllCountiesData!A24","v":"Ventura"},"Medium",{"$f":"AllCountiesData!C24","v":"CalWIN"},{"$f":"AllCountiesData!AL24","v":0.8310954940650721},null,{"$f":"AllCountiesData!W24","v":75635},{"$f":"AllCountiesData!W24-AllCountiesData!S24","v":107},13,{"$f":"AllCountiesData!AC24","v":1.4166931469124034E-3},{"$f":"AllCountiesData!AD24","v":0.20112752104176593},null,{"$f":"AllCountiesData!IL24-AllCountiesData!IH24","v":-1.2000000000000004E-2},{"$f":"AllCountiesData!BG24","v":0.2943079310613102},0.2943079310613102,39,null,null,0.4,{"$f":"AllCountiesData!CB24","v":0.92775454357703424},0.92775454357703424,44,null,null,0.9,{"$f":"AllCountiesData!CV24","v":9},null,{"$f":"AllCountiesData!DQ24","v":1.3000000000000012E-2},1.3000000000000012E-2,null,{"$f":"AllCountiesData!EO24","v":3.2000000000000028E-2},3.2000000000000028E-2,null,{"$f":"[1]AllCountiesData!DV24","v":0.41779475982532749},{"$f":"AllCountiesData!FK24","v":0.23785696851354649},null,{"$f":"AllCountiesData!GD24","v":0.65873015873015872},null,{"$f":"AllCountiesData!GW24","v":0.16058718861209964},null,{"$f":"AllCountiesData!HP24","v":0.2745774021352313},null,0.15668355862400285]
[null,{"$f":"AllCountiesData!A27","v":"Monterey"},"Medium",{"$f":"AllCountiesData!C27","v":"C-IV"},{"$f":"AllCountiesData!AL27","v":0.75962434950577884},null,{"$f":"AllCountiesData!W27","v":55488},{"$f":"AllCountiesData!W27-AllCountiesData!S27","v":498},7,{"$f":"AllCountiesData!AC27","v":9.0561920349154397E-3},{"$f":"AllCountiesData!AD27","v":0.41793371323435463},null,{"$f":"AllCountiesData!IL27-AllCountiesData!IH27","v":-1.1999999999999997E-2},{"$f":"AllCountiesData!BG27","v":0.29318495812106038},0.29318495812106038,40,null,null,0.4,{"$f":"AllCountiesData!CB27","v":0.97003785443896862},0.97003785443896862,6,null,null,0.9,{"$f":"AllCountiesData!CV27","v":11},null,{"$f":"AllCountiesData!DQ27","v":2.0000000000000018E-3},2.0000000000000018E-3,null,{"$f":"AllCountiesData!EO27","v":2.9000000000000026E-2},2.9000000000000026E-2,null,{"$f":"[1]AllCountiesData!DV28","v":0.56059063136456211},{"$f":"AllCountiesData!FK27","v":0.40628657415147967},null,{"$f":"AllCountiesData!GD27","v":0.65479452054794518},null,{"$f":"AllCountiesData!GW27","v":0.15262475696694749},null,{"$f":"AllCountiesData!HP27","v":0.24076474400518472},null,0.26603422252658532]
[null,{"$f":"AllCountiesData!A31","v":"Santa Barbara"},"Medium",{"$f":"AllCountiesData!C31","v":"CalWIN"},{"$f":"AllCountiesData!AL31","v":0.50750380291810415},null,{"$f":"AllCountiesData!W31","v":40218},{"$f":"AllCountiesData!W31-AllCountiesData!S31","v":2252},2,{"$f":"AllCountiesData!AC31","v":5.9316230311331195E-2},{"$f":"AllCountiesData!AD31","v":0.31646481178396074},null,{"$f":"AllCountiesData!IL31-AllCountiesData!IH31","v":-7.9999999999999932E-3},{"$f":"AllCountiesData!BG31","v":0.26904453061862044},0.26904453061862044,45,null,null,0.4,{"$f":"AllCountiesData!CB31","v":0.95943425928168369},0.95943425928168369,16,null,null,0.9,{"$f":"AllCountiesData!CV31","v":11.3},null,{"$f":"AllCountiesData!DQ31","v":1.2000000000000011E-2},1.2000000000000011E-2,null,{"$f":"AllCountiesData!EO31","v":6.899999999999995E-2},6.899999999999995E-2,null,{"$f":"[1]AllCountiesData!DV31","v":0.18520425677995195},{"$f":"AllCountiesData!FK31","v":0.21098726114649682},null,{"$f":"AllCountiesData!GD31","v":0.74582338902147971},null,{"$f":"AllCountiesData!GW31","v":9.7040905134899907E-2},null,{"$f":"AllCountiesData!HP31","v":0.18298520452567449},null,0.15735923414864023]
[null,{"$f":"AllCountiesData!A32","v":"Sonoma"},"Medium",{"$f":"AllCountiesData!C32","v":"CalWIN"},{"$f":"AllCountiesData!AL32","v":0.61995535705282345},null,{"$f":"AllCountiesData!W32","v":34425},{"$f":"AllCountiesData!W32-AllCountiesData!S32","v":-1665},47,{"$f":"AllCountiesData!AC32","v":-4.6134663341645885E-2},{"$f":"AllCountiesData!AD32","v":8.1866750471401628E-2},null,{"$f":"AllCountiesData!IL32-AllCountiesData!IH32","v":-1.6E-2},{"$f":"AllCountiesData!BG32","v":0.25279218189070601},0.25279218189070601,47,null,null,0.4,{"$f":"AllCountiesData!CB32","v":0.92635277582572029},0.92635277582572029,45,null,null,0.9,{"$f":"AllCountiesData!CV32","v":18},null,{"$f":"AllCountiesData!DQ32","v":0.13800000000000001},0.13800000000000001,null,{"$f":"AllCountiesData!EO32","v":0.41300000000000003},0.41300000000000003,null,{"$f":"[1]AllCountiesData!DV32","v":0.73528768322030191},{"$f":"AllCountiesData!FK32","v":0.23134154847709834},null,{"$f":"AllCountiesData!GD32","v":0.4580152671755725},null,{"$f":"AllCountiesData!GW32","v":0.12745901639344262},null,{"$f":"AllCountiesData!HP32","v":0.22766393442622951},null,0.10595796113454886]
[null,{"$f":"AllCountiesData!A25","v":"Contra Costa"},"Medium",{"$f":"AllCountiesData!C25","v":"CalWIN"},{"$f":"AllCountiesData!AL25","v":0.55604114791387682},null,{"$f":"AllCountiesData!W25","v":69736},{"$f":"AllCountiesData!W25-AllCountiesData!S25","v":-1587},46,{"$f":"AllCountiesData!AC25","v":-2.2250886810706225E-2},{"$f":"AllCountiesData!AD25","v":4.2080095636580994E-2},null,{"$f":"AllCountiesData!IL25-AllCountiesData!IH25","v":-2.0000000000000018E-3},{"$f":"AllCountiesData!BG25","v":0.23657645668009317},0.23657645668009317,50,null,null,0.4,{"$f":"AllCountiesData!CB25","v":0.93411876511117631},0.93411876511117631,38,null,null,0.9,{"$f":"AllCountiesData!CV25","v":11.3},null,{"$f":"AllCountiesData!DQ25","v":3.5000000000000031E-2},3.5000000000000031E-2,null,{"$f":"AllCountiesData!EO25","v":1.6000000000000014E-2},1.6000000000000014E-2,null,{"$f":"[1]AllCountiesData!DV25","v":0.51636562671045427},{"$f":"AllCountiesData!FK25","v":0.23366670996233277},null,{"$f":"AllCountiesData!GD25","v":0.59978928356411798},null,{"$f":"AllCountiesData!GW25","v":9.7171381031613976E-2},null,{"$f":"AllCountiesData!HP25","v":0.17903494176372711},null,0.14015078856109212]
[null,{"$f":"AllCountiesData!A28","v":"San Francisco"},"Medium",{"$f":"AllCountiesData!C28","v":"CalWIN"},{"$f":"AllCountiesData!AL28","v":0.50698302103297233},null,{"$f":"AllCountiesData!W28","v":52749},{"$f":"AllCountiesData!W28-AllCountiesData!S28","v":1300},4,{"$f":"AllCountiesData!AC28","v":2.5267740869599022E-2},{"$f":"AllCountiesData!AD28","v":2.6904432807055113E-2},null,{"$f":"AllCountiesData!IL28-AllCountiesData!IH28","v":-2.0000000000000004E-2},{"$f":"AllCountiesData!BG28","v":0.2139902793169344},0.2139902793169344,55,null,null,0.4,{"$f":"AllCountiesData!CB28","v":0.90092026230230893},0.90092026230230893,56,null,null,0.9,{"$f":"AllCountiesData!CV28","v":7.7},null,{"$f":"AllCountiesData!DQ28","v":1.8000000000000016E-2},1.8000000000000016E-2,null,{"$f":"AllCountiesData!EO28","v":9.9999999999999978E-2},9.9999999999999978E-2,null,{"$f":"[1]AllCountiesData!DV27","v":0.68345618345618342},{"$f":"AllCountiesData!FK28","v":0.24650971803996716},null,{"$f":"AllCountiesData!GD28","v":0.38157894736842107},null,{"$f":"AllCountiesData!GW28","v":0.10044278722908413},null,{"$f":"AllCountiesData!HP28","v":0.1846888837100909},null,9.4062918725776948E-2]
[null,{"$f":"AllCountiesData!A34","v":"San Mateo"},"Medium",{"$f":"AllCountiesData!C34","v":"CalWIN"},{"$f":"AllCountiesData!AL34","v":0.44253944353777569},null,{"$f":"AllCountiesData!W34","v":30014},{"$f":"AllCountiesData!W34-AllCountiesData!S34","v":-1933},49,{"$f":"AllCountiesData!AC34","v":-6.0506463830719628E-2},{"$f":"AllCountiesData!AD34","v":0.19525307634104574},null,{"$f":"AllCountiesData!IL34-AllCountiesData!IH34","v":-1.3999999999999999E-2},{"$f":"AllCountiesData!BG34","v":0.175441001451831},0.175441001451831,57,null,null,0.4,{"$f":"AllCountiesData!CB34","v":0.92801582069874755},0.92801582069874755,43,null,null,0.9,{"$f":"AllCountiesData!CV34","v":9.6999999999999993},null,{"$f":"AllCountiesData!DQ34","v":1.9000000000000017E-2},1.9000000000000017E-2,null,{"$f":"AllCountiesData!EO34","v":0.11499999999999999},0.11499999999999999,null,{"$f":"[1]AllCountiesData!DV34","v":0.91528200327638665},{"$f":"AllCountiesData!FK34","v":0.25071225071225073},null,{"$f":"AllCountiesData!GD34","v":0.72077635641817384},null,{"$f":"AllCountiesData!GW34","v":0.11359925355726615},null,{"$f":"AllCountiesData!HP34","v":0.21600186610683461},null,0.18070746257777578]
["Small Counties (Participation < 20k)",{"$f":"AllCountiesData!A55","v":"Del Norte"},"Small",{"$f":"AllCountiesData!C55","v":"C-IV"},{"$f":"AllCountiesData!AL55","v":0.90731769369194393},null,{"$f":"AllCountiesData!W55","v":5369},{"$f":"AllCountiesData!W55-AllCountiesData!S55","v":223},11,{"$f":"AllCountiesData!AC55","v":4.3334628837932376E-2},{"$f":"AllCountiesData!AD55","v":3.1904670382471648E-2},null,{"$f":"AllCountiesData!IL55-AllCountiesData!IH55","v":-1.9000000000000003E-2},{"$f":"AllCountiesData!BG55","v":0.42710872745002437},0.42710872745002437,4,null,null,0.4,{"$f":"AllCountiesData!CB55","v":0.97387437465258475},0.97387437465258475,2,null,null,0.9,{"$f":"AllCountiesData!CV55","v":14},null,{"$f":"AllCountiesData!DQ55","v":1.100000000000001E-2},1.100000000000001E-2,null,{"$f":"AllCountiesData!EO55","v":6.4999999999999947E-2},6.4999999999999947E-2,null,{"$f":"[1]AllCountiesData!DV54","v":0.81879194630872487},{"$f":"AllCountiesData!FK55","v":0.34293552812071332},null,{"$f":"AllCountiesData!GD55","v":0.60755813953488369},null,{"$f":"AllCountiesData!GW55","v":0.16923076923076924},null,{"$f":"AllCountiesData!HP55","v":0.22905982905982905},null,0.20835327144543336]
[null,{"$f":"AllCountiesData!A61","v":"Mariposa"},"Small",{"$f":"AllCountiesData!C61","v":"C-IV"},{"$f":"AllCountiesData!AL61","v":0.68894049645505728},null,{"$f":"AllCountiesData!W61","v":2101},{"$f":"AllCountiesData!W61-AllCountiesData!S61","v":-26},22,{"$f":"AllCountiesData!AC61","v":-1.2223789374706159E-2},{"$f":"AllCountiesData!AD61","v":0.232981220657277},null,{"$f":"AllCountiesData!IL61-AllCountiesData!IH61","v":-1.9000000000000003E-2},{"$f":"AllCountiesData!BG61","v":0.41209906617945596},0.41209906617945596,7,null,null,0.4,{"$f":"AllCountiesData!CB61","v":0.96026490066225167},0.96026490066225167,14,null,null,0.9,{"$f":"AllCountiesData!CV61","v":15.3},null,{"$f":"AllCountiesData!DQ61","v":2.5000000000000022E-2},2.5000000000000022E-2,null,{"$f":"AllCountiesData!EO61","v":3.5000000000000031E-2},3.5000000000000031E-2,null,{"$f":"[1]AllCountiesData!DV60","v":0.90604026845637586},{"$f":"AllCountiesData!FK61","v":0.41065830721003133},null,{"$f":"AllCountiesData!GD61","v":0.66458658346333854},null,{"$f":"AllCountiesData!GW61","v":8.8028169014084501E-2},null,{"$f":"AllCountiesData!HP61","v":0.15140845070422534},null,0.2729180013595528]
[null,{"$f":"AllCountiesData!A43","v":"Yuba"},{"$f":"IF(G41>100000,\"Large\",(IF(G41>20000,\"Medium\",\"Small\")))","v":"Small"},{"$f":"AllCountiesData!C43","v":"C-IV"},{"$f":"AllCountiesData!AL43","v":0.72442693271347103},null,{"$f":"AllCountiesData!W43","v":13507},{"$f":"AllCountiesData!W43-AllCountiesData!S43","v":-10},{"$f":"RANK(H41,H$9:H$66,0)","v":20},{"$f":"AllCountiesData!AC43","v":-7.3980912924465493E-4},{"$f":"AllCountiesData!AD43","v":3.7643082123377122E-2},null,{"$f":"AllCountiesData!IL43-AllCountiesData!IH43","v":-1.4999999999999999E-2},{"$f":"AllCountiesData!BG43","v":0.39978691019786911},{"$f":"N41","v":0.39978691019786911},{"$f":"RANK(N41,N$9:N$66,0)","v":10},null,null,0.4,{"$f":"AllCountiesData!CB43","v":0.9579139314369074},{"$f":"T41","v":0.9579139314369074},{"$f":"RANK(T41,T$9:T$66,0)","v":18},null,null,0.9,{"$f":"AllCountiesData!CV43","v":10.7},null,{"$f":"AllCountiesData!DQ43","v":4.0000000000000036E-3},{"$f":"AB41","v":4.0000000000000036E-3},null,{"$f":"AllCountiesData!EO43","v":2.0000000000000018E-2},{"$f":"AE41","v":2.0000000000000018E-2},null,{"$f":"[1]AllCountiesData!DV45","v":0.96022031823745413},{"$f":"AllCountiesData!FK43","v":0.40845070422535212},null,{"$f":"AllCountiesData!GD43","v":0.53888847776215498},null,{"$f":"AllCountiesData!GW43","v":0.20111042566317089},null,{"$f":"AllCountiesData!HP43","v":0.28809376927822333},null,{"$f":"AK41*AI41","v":0.2201093782408802}]
[null,{"$f":"AllCountiesData!A56","v":"Calaveras"},"Small",{"$f":"AllCountiesData!C56","v":"C-IV"},{"$f":"AllCountiesData!AL56","v":0.83412168219338856},null,{"$f":"AllCountiesData!W56","v":5156},{"$f":"AllCountiesData!W56-AllCountiesData!S56","v":-353},39,{"$f":"AllCountiesData!AC56","v":-6.4076964966418584E-2},{"$f":"AllCountiesData!AD56","v":8.0016757436112279E-2},null,{"$f":"AllCountiesData!IL56-AllCountiesData!IH56","v":-1.0000000000000009E-2},{"$f":"AllCountiesData!BG56","v":0.38926228196511442},0.38926228196511442,12,null,null,0.4,{"$f":"AllCountiesData!CB56","v":0.93163538873994634},0.93163538873994634,40,null,null,0.9,{"$f":"AllCountiesData!CV56","v":11.3},null,{"$f":"AllCountiesData!DQ56","v":9.000000000000008E-3},9.000000000000008E-3,null,{"$f":"AllCountiesData!EO56","v":3.6000000000000032E-2},3.6000000000000032E-2,null,{"$f":"[1]AllCountiesData!DV56","v":0.63698630136986301},{"$f":"AllCountiesData!FK56","v":0.43823845327604727},null,{"$f":"AllCountiesData!GD56","v":0.10714285714285714},null,{"$f":"AllCountiesData!GW56","v":9.7643097643097643E-2},null,{"$f":"AllCountiesData!HP56","v":0.21885521885521886},null,4.6954119993862203E-2]
[null,{"$f":"AllCountiesData!A68","v":"Alpine"},"Small",{"$f":"AllCountiesData!C68","v":"C-IV"},{"$f":"AllCountiesData!AL68","v":0.66597195415907617},null,{"$f":"AllCountiesData!W68","v":155},{"$f":"AllCountiesData!W68-AllCountiesData!S68","v":-8},19,{"$f":"AllCountiesData!AC68","v":-4.9079754601226995E-2},{"$f":"AllCountiesData!AD68","v":7.6388888888888895E-2},null,{"$f":"AllCountiesData!IL68-AllCountiesData!IH68","v":-2.0000000000000004E-2},{"$f":"AllCountiesData!BG68","v":0.38918918918918921},0.38918918918918921,13,null,null,0.4,{"$f":"AllCountiesData!CB68","v":0.95364238410596025},0.95364238410596025,21,null,null,0.9,{"$f":"AllCountiesData!CV68","v":8},null,{"$f":"AllCountiesData!DQ68","v":0},0,null,{"$f":"AllCountiesData!EO68","v":0.36399999999999999},0.36399999999999999,null,{"$f":"[1]AllCountiesData!DV68","v":0.96296296296296291},{"$f":"AllCountiesData!FK68","v":0.70588235294117652},null,{"$f":"AllCountiesData!GD68","v":0.79840848806366049},null,{"$f":"AllCountiesData!GW68","v":0},null,{"$f":"AllCountiesData!HP68","v":0},null,0.5635824621625839]
[null,{"$f":"AllCountiesData!A47","v":"Lake"},"Small",{"$f":"AllCountiesData!C47","v":"C-IV"},{"$f":"AllCountiesData!AL47","v":0.83474883738835326},null,{"$f":"AllCountiesData!W47","v":12649},{"$f":"AllCountiesData!W47-AllCountiesData!S47","v":692},6,{"$f":"AllCountiesData!AC47","v":5.7874048674416659E-2},{"$f":"AllCountiesData!AD47","v":0.28246983676366216},null,{"$f":"AllCountiesData!IL47-AllCountiesData!IH47","v":-1.2000000000000004E-2},{"$f":"AllCountiesData!BG47","v":0.37938677502770596},0.37938677502770596,15,null,null,0.4,{"$f":"AllCountiesData!CB47","v":0.96288772560356273},0.96288772560356273,12,null,null,0.9,{"$f":"AllCountiesData!CV47","v":11},null,{"$f":"AllCountiesData!DQ47","v":4.7000000000000042E-2},4.7000000000000042E-2,null,{"$f":"AllCountiesData!EO47","v":6.5999999999999948E-2},6.5999999999999948E-2,null,{"$f":"[1]AllCountiesData!DV47","v":0.5208955223880597},{"$f":"AllCountiesData!FK47","v":0.40331491712707185},null,{"$f":"AllCountiesData!GD47","v":0.63166978282755648},null,{"$f":"AllCountiesData!GW47","v":8.027522935779817E-2},null,{"$f":"AllCountiesData!HP47","v":0.1743119266055046},null,0.25476184611277142]
[null,{"$f":"AllCountiesData!A59","v":"Lassen"},"Small",{"$f":"AllCountiesData!C59","v":"C-IV"},{"$f":"AllCountiesData!AL59","v":0.85393368079206677},null,{"$f":"AllCountiesData!W59","v":3154},{"$f":"AllCountiesData!W59-AllCountiesData!S59","v":-58},26,{"$f":"AllCountiesData!AC59","v":-1.8057285180572851E-2},{"$f":"AllCountiesData!AD59","v":5.8389261744966441E-2},null,{"$f":"AllCountiesData!IL59-AllCountiesData!IH59","v":-1.1000000000000003E-2},{"$f":"AllCountiesData!BG59","v":0.37634674922600619},0.37634674922600619,16,null,null,0.4,{"$f":"AllCountiesData!CB59","v":0.93767355754396786},0.93767355754396786,34,null,null,0.9,{"$f":"AllCountiesData!CV59","v":15},null,{"$f":"AllCountiesData!DQ59","v":6.2000000000000055E-2},6.2000000000000055E-2,null,{"$f":"AllCountiesData!EO59","v":0.247},0.247,null,{"$f":"[1]AllCountiesData!DV59","v":0.95546558704453444},{"$f":"AllCountiesData!FK59","v":0.47401247401247404},null,{"$f":"AllCountiesData!GD59","v":0.58693467336683414},null,{"$f":"AllCountiesData!GW59","v":5.2486187845303865E-2},null,{"$f":"AllCountiesData!HP59","v":0.15745856353591159},null,0.27821435660631638]
[null,{"$f":"AllCountiesData!A58","v":"Amador"},"Small",{"$f":"AllCountiesData!C58","v":"C-IV"},{"$f":"AllCountiesData!AL58","v":0.73183059517474591},null,{"$f":"AllCountiesData!W58","v":3415},{"$f":"AllCountiesData!W58-AllCountiesData!S58","v":-23},21,{"$f":"AllCountiesData!AC58","v":-6.6899360093077374E-3},{"$f":"AllCountiesData!AD58","v":0.12631926121372031},null,{"$f":"AllCountiesData!IL58-AllCountiesData!IH58","v":-1.3999999999999999E-2},{"$f":"AllCountiesData!BG58","v":0.37625398324088283},0.37625398324088283,17,null,null,0.4,{"$f":"AllCountiesData!CB58","v":0.91979226774379685},0.91979226774379685,49,null,null,0.9,{"$f":"AllCountiesData!CV58","v":10.3},null,{"$f":"AllCountiesData!DQ58","v":1.100000000000001E-2},1.100000000000001E-2,null,{"$f":"AllCountiesData!EO58","v":4.1000000000000036E-2},4.1000000000000036E-2,null,{"$f":"[1]AllCountiesData!DV58","v":1.0124777183600713},{"$f":"AllCountiesData!FK58","v":0.39150943396226418},null,{"$f":"AllCountiesData!GD58","v":0.20414428242517269},null,{"$f":"AllCountiesData!GW58","v":0.13071895424836602},null,{"$f":"AllCountiesData!HP58","v":0.24183006535947713},null,7.992441245891195E-2]
[null,{"$f":"AllCountiesData!A52","v":"Siskiyou"},"Small",{"$f":"AllCountiesData!C52","v":"C-IV"},{"$f":"AllCountiesData!AL52","v":0.61723183482887178},null,{"$f":"AllCountiesData!W52","v":6942},{"$f":"AllCountiesData!W52-AllCountiesData!S52","v":-190},35,{"$f":"AllCountiesData!AC52","v":-2.6640493550196299E-2},{"$f":"AllCountiesData!AD52","v":0.20020746887966806},null,{"$f":"AllCountiesData!IL52-AllCountiesData!IH52","v":-8.0000000000000002E-3},{"$f":"AllCountiesData!BG52","v":0.36471599763555268},0.36471599763555268,19,null,null,0.4,{"$f":"AllCountiesData!CB52","v":0.96269503546099289},0.96269503546099289,13,null,null,0.9,{"$f":"AllCountiesData!CV52","v":19.3},null,{"$f":"AllCountiesData!DQ52","v":7.2999999999999954E-2},7.2999999999999954E-2,null,{"$f":"AllCountiesData!EO52","v":0.11899999999999999},0.11899999999999999,null,{"$f":"[1]AllCountiesData!DV52","v":0.82994454713493526},{"$f":"AllCountiesData!FK52","v":0.40531561461794019},null,{"$f":"AllCountiesData!GD52","v":0.61635220125786161},null,{"$f":"AllCountiesData!GW52","v":0.14388489208633093},null,{"$f":"AllCountiesData!HP52","v":0.22541966426858512},null,0.24981717127395053]
[null,{"$f":"AllCountiesData!A49","v":"Tehama"},"Small",{"$f":"AllCountiesData!C49","v":"C-IV"},{"$f":"AllCountiesData!AL49","v":0.69554949293710311},null,{"$f":"AllCountiesData!W49","v":10196},{"$f":"AllCountiesData!W49-AllCountiesData!S49","v":-175},34,{"$f":"AllCountiesData!AC49","v":-1.6873975508629832E-2},{"$f":"AllCountiesData!AD49","v":0.10084215072338588},null,{"$f":"AllCountiesData!IL49-AllCountiesData!IH49","v":-1.7000000000000001E-2},{"$f":"AllCountiesData!BG49","v":0.35921985815602836},0.35921985815602836,22,null,null,0.4,{"$f":"AllCountiesData!CB49","v":0.96863645056416137},0.96863645056416137,7,null,null,0.9,{"$f":"AllCountiesData!CV49","v":14.3},null,{"$f":"AllCountiesData!DQ49","v":2.300000000000002E-2},2.300000000000002E-2,null,{"$f":"AllCountiesData!EO49","v":4.6000000000000041E-2},4.6000000000000041E-2,null,{"$f":"[1]AllCountiesData!DV49","v":0.50985027580772257},{"$f":"AllCountiesData!FK49","v":0.43096774193548387},null,{"$f":"AllCountiesData!GD49","v":0.59316646801748107},null,{"$f":"AllCountiesData!GW49","v":0.15},null,{"$f":"AllCountiesData!HP49","v":0.24918032786885247},null,0.25563561331334023]
[null,{"$f":"AllCountiesData!A54","v":"Tuolumne"},"Small",{"$f":"AllCountiesData!C54","v":"C-IV"},{"$f":"AllCountiesData!AL54","v":0.61887154616755258},null,{"$f":"AllCountiesData!W54","v":5493},{"$f":"AllCountiesData!W54-AllCountiesData!S54","v":-66},30,{"$f":"AllCountiesData!AC54","v":-1.1872638963842417E-2},{"$f":"AllCountiesData!AD54","v":8.2791247782377286E-2},null,{"$f":"AllCountiesData!IL54-AllCountiesData!IH54","v":-1.1999999999999997E-2},{"$f":"AllCountiesData!BG54","v":0.35314615023788781},0.35314615023788781,24,null,null,0.4,{"$f":"AllCountiesData!CB54","v":0.93788930414664529},0.93788930414664529,33,null,null,0.9,{"$f":"AllCountiesData!CV54","v":13.3},null,{"$f":"AllCountiesData!DQ54","v":1.6000000000000014E-2},1.6000000000000014E-2,null,{"$f":"AllCountiesData!EO54","v":1.5000000000000013E-2},1.5000000000000013E-2,null,{"$f":"[1]AllCountiesData!DV55","v":0.92964244521337946},{"$f":"AllCountiesData!FK54","v":0.4402061855670103},null,{"$f":"AllCountiesData!GD54","v":0.20954003407155025},null,{"$f":"AllCountiesData!GW54","v":0.13325471698113209},null,{"$f":"AllCountiesData!HP54","v":0.22287735849056603},null,9.2240819122218515E-2]
[null,{"$f":"AllCountiesData!A62","v":"Inyo"},"Small",{"$f":"AllCountiesData!C62","v":"C-IV"},{"$f":"AllCountiesData!AL62","v":0.80302969461806784},null,{"$f":"AllCountiesData!W62","v":2089},{"$f":"AllCountiesData!W62-AllCountiesData!S62","v":16},17,{"$f":"AllCountiesData!AC62","v":7.7182826821032323E-3},{"$f":"AllCountiesData!AD62","v":0.1365614798694233},null,{"$f":"AllCountiesData!IL62-AllCountiesData!IH62","v":-1.7000000000000001E-2},{"$f":"AllCountiesData!BG62","v":0.34191430545957152},0.34191430545957152,26,null,null,0.4,{"$f":"AllCountiesData!CB62","v":0.94688995215311},0.94688995215311,29,null,null,0.9,{"$f":"AllCountiesData!CV62","v":7.3},null,{"$f":"AllCountiesData!DQ62","v":1.9000000000000017E-2},1.9000000000000017E-2,null,{"$f":"AllCountiesData!EO62","v":0.10799999999999998},0.10799999999999998,null,{"$f":"[1]AllCountiesData!DV62","v":0.82222222222222219},{"$f":"AllCountiesData!FK62","v":0.402555910543131},null,{"$f":"AllCountiesData!GD62","v":0.5913173652694611},null,{"$f":"AllCountiesData!GW62","v":0.13973799126637554},null,{"$f":"AllCountiesData!HP62","v":0.2183406113537118},null,0.23803830039601309]
[null,{"$f":"AllCountiesData!A63","v":"Trinity"},"Small",{"$f":"AllCountiesData!C63","v":"C-IV"},{"$f":"AllCountiesData!AL63","v":0.56469445800616525},null,{"$f":"AllCountiesData!W63","v":1757},{"$f":"AllCountiesData!W63-AllCountiesData!S63","v":-51},24,{"$f":"AllCountiesData!AC63","v":-2.820796460176991E-2},{"$f":"AllCountiesData!AD63","v":0.20095693779904306},null,{"$f":"AllCountiesData!IL63-AllCountiesData!IH63","v":-2.1000000000000005E-2},{"$f":"AllCountiesData!BG63","v":0.34001966568338249},0.34001966568338249,27,null,null,0.4,{"$f":"AllCountiesData!CB63","v":0.94584245076586437},0.94584245076586437,30,null,null,0.9,{"$f":"AllCountiesData!CV63","v":12.7},null,{"$f":"AllCountiesData!DQ63","v":1.7000000000000015E-2},1.7000000000000015E-2,null,{"$f":"AllCountiesData!EO63","v":0.27800000000000002},0.27800000000000002,null,{"$f":"[1]AllCountiesData!DV63","v":0.99173553719008267},{"$f":"AllCountiesData!FK63","v":0.51351351351351349},null,{"$f":"AllCountiesData!GD63","v":0.55263157894736847},null,{"$f":"AllCountiesData!GW63","v":0.12863070539419086},null,{"$f":"AllCountiesData!HP63","v":0.22821576763485477},null,0.28378378378378377]
[null,{"$f":"AllCountiesData!A65","v":"Modoc"},"Small",{"$f":"AllCountiesData!C65","v":"C-IV"},{"$f":"AllCountiesData!AL65","v":0.49576448172215082},null,{"$f":"AllCountiesData!W65","v":1050},{"$f":"AllCountiesData!W65-AllCountiesData!S65","v":38},16,{"$f":"AllCountiesData!AC65","v":3.7549407114624504E-2},{"$f":"AllCountiesData!AD65","v":0.05},null,{"$f":"AllCountiesData!IL65-AllCountiesData!IH65","v":-1.6E-2},{"$f":"AllCountiesData!BG65","v":0.32510159424820256},0.32510159424820256,29,null,null,0.4,{"$f":"AllCountiesData!CB65","v":0.94890510948905105},0.94890510948905105,25,null,null,0.9,{"$f":"AllCountiesData!CV65","v":11.3},null,{"$f":"AllCountiesData!DQ65","v":0},0,null,{"$f":"AllCountiesData!EO65","v":0.13300000000000001},0.13300000000000001,null,{"$f":"[1]AllCountiesData!DV65","v":0.92178770949720668},{"$f":"AllCountiesData!FK65","v":0.44525547445255476},null,{"$f":"AllCountiesData!GD65","v":0.41451990632318503},null,{"$f":"AllCountiesData!GW65","v":0.14556962025316456},null,{"$f":"AllCountiesData!HP65","v":0.20886075949367089},null,0.18456725755995831]
[null,{"$f":"AllCountiesData!A60","v":"Plumas"},"Small",{"$f":"AllCountiesData!C60","v":"C-IV"},{"$f":"AllCountiesData!AL60","v":0.59469382647241054},null,{"$f":"AllCountiesData!W60","v":2239},{"$f":"AllCountiesData!W60-AllCountiesData!S60","v":88},15,{"$f":"AllCountiesData!AC60","v":4.0911204091120409E-2},{"$f":"AllCountiesData!AD60","v":0.47886393659180976},null,{"$f":"AllCountiesData!IL60-AllCountiesData!IH60","v":-1.7000000000000001E-2},{"$f":"AllCountiesData!BG60","v":0.32379898862199746},0.32379898862199746,30,null,null,0.4,{"$f":"AllCountiesData!CB60","v":0.90905057675244005},0.90905057675244005,53,null,null,0.9,{"$f":"AllCountiesData!CV60","v":16},null,{"$f":"AllCountiesData!DQ60","v":0},0,null,{"$f":"AllCountiesData!EO60","v":0.11499999999999999},0.11499999999999999,null,{"$f":"[1]AllCountiesData!DV61","v":0.90068493150684936},{"$f":"AllCountiesData!FK60","v":0.42342342342342343},null,{"$f":"AllCountiesData!GD60","v":0.55124255493941265},null,{"$f":"AllCountiesData!GW60","v":0.11411411411411411},null,{"$f":"AllCountiesData!HP60","v":0.1891891891891892},null,0.23340900974912068]
[null,{"$f":"AllCountiesData!A45","v":"El Dorado"},"Small",{"$f":"AllCountiesData!C45","v":"C-IV"},{"$f":"AllCountiesData!AL45","v":0.65409556790410273},null,{"$f":"AllCountiesData!W45","v":12850},{"$f":"AllCountiesData!W45-AllCountiesData!S45","v":-411},40,{"$f":"AllCountiesData!AC45","v":-3.0993137772415354E-2},{"$f":"AllCountiesData!AD45","v":0.13878057426444523},null,{"$f":"AllCountiesData!IL45-AllCountiesData!IH45","v":-1.7000000000000001E-2},{"$f":"AllCountiesData!BG45","v":0.31143490332934254},0.31143490332934254,34,null,null,0.4,{"$f":"AllCountiesData!CB45","v":0.92959245742092456},0.92959245742092456,41,null,null,0.9,{"$f":"AllCountiesData!CV45","v":10},null,{"$f":"AllCountiesData!DQ45","v":1.5000000000000013E-2},1.5000000000000013E-2,null,{"$f":"AllCountiesData!EO45","v":1.4000000000000012E-2},1.4000000000000012E-2,null,{"$f":"[1]AllCountiesData!DV46","v":0.74629418472063858},{"$f":"AllCountiesData!FK45","v":0.4743362831858407},null,{"$f":"AllCountiesData!GD45","v":0.70096463022508038},null,{"$f":"AllCountiesData!GW45","v":0.1180773249738767},null,{"$f":"AllCountiesData!HP45","v":0.19905956112852666},null,0.33249295734570183]
[null,{"$f":"AllCountiesData!A44","v":"Sutter"},"Small",{"$f":"AllCountiesData!C44","v":"C-IV"},{"$f":"AllCountiesData!AL44","v":0.59198717459615158},null,{"$f":"AllCountiesData!W44","v":13467},{"$f":"AllCountiesData!W44-AllCountiesData!S44","v":307},9,{"$f":"AllCountiesData!AC44","v":2.3328267477203648E-2},{"$f":"AllCountiesData!AD44","v":0.19610977884359179},null,{"$f":"AllCountiesData!IL44-AllCountiesData!IH44","v":-1.2999999999999998E-2},{"$f":"AllCountiesData!BG44","v":0.30370866123560497},0.30370866123560497,35,null,null,0.4,{"$f":"AllCountiesData!CB44","v":0.96516318298496517},0.96516318298496517,10,null,null,0.9,{"$f":"AllCountiesData!CV44","v":15.7},null,{"$f":"AllCountiesData!DQ44","v":4.2000000000000037E-2},4.2000000000000037E-2,null,{"$f":"AllCountiesData!EO44","v":9.9999999999999978E-2},9.9999999999999978E-2,null,{"$f":"[1]AllCountiesData!DV43","v":0.89965986394557829},{"$f":"AllCountiesData!FK44","v":0.3882495457298607},null,{"$f":"AllCountiesData!GD44","v":0.71017514595496245},null,{"$f":"AllCountiesData!GW44","v":0.17094017094017094},null,{"$f":"AllCountiesData!HP44","v":0.24786324786324787},null,0.2757251778056517]
[null,{"$f":"AllCountiesData!A67","v":"Sierra"},"Small",{"$f":"AllCountiesData!C67","v":"C-IV"},{"$f":"AllCountiesData!AL67","v":0.60385382870597404},null,{"$f":"AllCountiesData!W67","v":271},{"$f":"AllCountiesData!W67-AllCountiesData!S67","v":-53},25,{"$f":"AllCountiesData!AC67","v":-0.16358024691358025},{"$f":"AllCountiesData!AD67","v":0.13389121338912133},null,{"$f":"AllCountiesData!IL67-AllCountiesData!IH67","v":-1.2999999999999998E-2},{"$f":"AllCountiesData!BG67","v":0.30072463768115942},0.30072463768115942,36,null,null,0.4,{"$f":"AllCountiesData!CB67","v":0.92222222222222228},0.92222222222222228,47,null,null,0.9,{"$f":"AllCountiesData!CV67","v":4.7},null,{"$f":"AllCountiesData!DQ67","v":0},0,null,{"$f":"AllCountiesData!EO67","v":0},0,null,{"$f":"[1]AllCountiesData!DV67","v":1.1621621621621621},{"$f":"AllCountiesData!FK67","v":0.47457627118644069},null,{"$f":"AllCountiesData!GD67","v":0.61284046692607008},null,{"$f":"AllCountiesData!GW67","v":6.4516129032258063E-2},null,{"$f":"AllCountiesData!HP67","v":0.16129032258064516},null,0.29083954362593156]
[null,{"$f":"AllCountiesData!A53","v":"San Benito"},"Small",{"$f":"AllCountiesData!C53","v":"C-IV"},{"$f":"AllCountiesData!AL53","v":0.78347499663269027},null,{"$f":"AllCountiesData!W53","v":5850},{"$f":"AllCountiesData!W53-AllCountiesData!S53","v":-433},41,{"$f":"AllCountiesData!AC53","v":-6.8916122871239854E-2},{"$f":"AllCountiesData!AD53","v":-4.4897959183673466E-2},null,{"$f":"AllCountiesData!IL53-AllCountiesData!IH53","v":-9.999999999999995E-3},{"$f":"AllCountiesData!BG53","v":0.29604301524326582},0.29604301524326582,37,null,null,0.4,{"$f":"AllCountiesData!CB53","v":0.95423186942621574},0.95423186942621574,20,null,null,0.9,{"$f":"AllCountiesData!CV53","v":12.7},null,{"$f":"AllCountiesData!DQ53","v":3.3000000000000029E-2},3.3000000000000029E-2,null,{"$f":"AllCountiesData!EO53","v":6.6999999999999948E-2},6.6999999999999948E-2,null,{"$f":"[1]AllCountiesData!DV53","v":0.91971544715447151},{"$f":"AllCountiesData!FK53","v":0.41970310391363025},null,{"$f":"AllCountiesData!GD53","v":0.1995575221238938},null,{"$f":"AllCountiesData!GW53","v":0.15946348733233978},null,{"$f":"AllCountiesData!HP53","v":0.25931445603576753},null,8.3754911444711172E-2]
[null,{"$f":"AllCountiesData!A57","v":"Glenn"},"Small",{"$f":"AllCountiesData!C57","v":"C-IV"},{"$f":"AllCountiesData!AL57","v":0.55587898296053628},null,{"$f":"AllCountiesData!W57","v":3655},{"$f":"AllCountiesData!W57-AllCountiesData!S57","v":-27},23,{"$f":"AllCountiesData!AC57","v":-7.3329712112982079E-3},{"$f":"AllCountiesData!AD57","v":0.1235782354749462},null,{"$f":"AllCountiesData!IL57-AllCountiesData!IH57","v":-1.9000000000000003E-2},{"$f":"AllCountiesData!BG57","v":0.29452880212099303},0.29452880212099303,38,null,null,0.4,{"$f":"AllCountiesData!CB57","v":0.97344662772172064},0.97344662772172064,3,null,null,0.9,{"$f":"AllCountiesData!CV57","v":8.3000000000000007},null,{"$f":"AllCountiesData!DQ57","v":0},0,null,{"$f":"AllCountiesData!EO57","v":1.4000000000000012E-2},1.4000000000000012E-2,null,{"$f":"[1]AllCountiesData!DV57","v":0.55051546391752582},{"$f":"AllCountiesData!FK57","v":0.36739130434782608},null,{"$f":"AllCountiesData!GD57","v":0.65027322404371579},null,{"$f":"AllCountiesData!GW57","v":0.14868105515587529},null,{"$f":"AllCountiesData!HP57","v":0.23741007194244604},null,0.23890472796388687]
[null,{"$f":"AllCountiesData!A46","v":"Mendocino"},"Small",{"$f":"AllCountiesData!C46","v":"C-IV"},{"$f":"AllCountiesData!AL46","v":0.68801460976166073},null,{"$f":"AllCountiesData!W46","v":12720},{"$f":"AllCountiesData!W46-AllCountiesData!S46","v":-288},37,{"$f":"AllCountiesData!AC46","v":-2.2140221402214021E-2},{"$f":"AllCountiesData!AD46","v":-3.796702465587657E-2},null,{"$f":"AllCountiesData!IL46-AllCountiesData!IH46","v":-1.6E-2},{"$f":"AllCountiesData!BG46","v":0.28717276260946939},0.28717276260946939,42,null,null,0.4,{"$f":"AllCountiesData!CB46","v":0.94724646636286403},0.94724646636286403,28,null,null,0.9,{"$f":"AllCountiesData!CV46","v":10.7},null,{"$f":"AllCountiesData!DQ46","v":6.9999999999999951E-2},6.9999999999999951E-2,null,{"$f":"AllCountiesData!EO46","v":2.6000000000000023E-2},2.6000000000000023E-2,null,{"$f":"[1]AllCountiesData!DV44","v":0.71040723981900455},{"$f":"AllCountiesData!FK46","v":0.44213923467035499},null,{"$f":"AllCountiesData!GD46","v":0.59846431797651312},null,{"$f":"AllCountiesData!GW46","v":0.21376370280146162},null,{"$f":"AllCountiesData!HP46","v":0.32825822168087698},null,0.2646045555276515]
[null,{"$f":"AllCountiesData!A50","v":"Nevada"},"Small",{"$f":"AllCountiesData!C50","v":"C-IV"},{"$f":"AllCountiesData!AL50","v":0.42800062583066384},null,{"$f":"AllCountiesData!W50","v":7768},{"$f":"AllCountiesData!W50-AllCountiesData!S50","v":93},14,{"$f":"AllCountiesData!AC50","v":1.2117263843648208E-2},{"$f":"AllCountiesData!AD50","v":0.22427107959022852},null,{"$f":"AllCountiesData!IL50-AllCountiesData!IH50","v":-1.0000000000000002E-2},{"$f":"AllCountiesData!BG50","v":0.28374624196065001},0.28374624196065001,43,null,null,0.4,{"$f":"AllCountiesData!CB50","v":0.93586042425003135},0.93586042425003135,37,null,null,0.9,{"$f":"AllCountiesData!CV50","v":12.3},null,{"$f":"AllCountiesData!DQ50","v":6.2000000000000055E-2},6.2000000000000055E-2,null,{"$f":"AllCountiesData!EO50","v":0.129},0.129,null,{"$f":"[1]AllCountiesData!DV50","v":0.83028919330289197},{"$f":"AllCountiesData!FK50","v":0.43080531665363564},null,{"$f":"AllCountiesData!GD50","v":0.46072186836518048},null,{"$f":"AllCountiesData!GW50","v":0.10957642725598526},null,{"$f":"AllCountiesData!HP50","v":0.18139963167587478},null,0.19848143039031621]
[null,{"$f":"AllCountiesData!A41","v":"San Luis Obispo"},"Small",{"$f":"AllCountiesData!C41","v":"CalWIN"},{"$f":"AllCountiesData!AL41","v":0.40872986695625607},null,{"$f":"AllCountiesData!W41","v":18513},{"$f":"AllCountiesData!W41-AllCountiesData!S41","v":-65},29,{"$f":"AllCountiesData!AC41","v":-3.4987619765313813E-3},{"$f":"AllCountiesData!AD41","v":8.1240509286298335E-2},null,{"$f":"AllCountiesData!IL41-AllCountiesData!IH41","v":-1.2999999999999998E-2},{"$f":"AllCountiesData!BG41","v":0.28093967572346507},0.28093967572346507,44,null,null,0.4,{"$f":"AllCountiesData!CB41","v":0.93944673212965901},0.93944673212965901,32,null,null,0.9,{"$f":"AllCountiesData!CV41","v":11.3},null,{"$f":"AllCountiesData!DQ41","v":2.5000000000000022E-2},2.5000000000000022E-2,null,{"$f":"AllCountiesData!EO41","v":2.200000000000002E-2},2.200000000000002E-2,null,{"$f":"[1]AllCountiesData!DV42","v":0.38241758241758239},{"$f":"AllCountiesData!FK41","v":0.21785383903792785},null,{"$f":"AllCountiesData!GD41","v":0.60348162475822054},null,{"$f":"AllCountiesData!GW41","v":7.7710386656557995E-2},null,{"$f":"AllCountiesData!HP41","v":0.1683093252463988},null,0.13147078874242454]
[null,{"$f":"AllCountiesData!A42","v":"Placer"},"Small",{"$f":"AllCountiesData!C42","v":"CalWIN"},{"$f":"AllCountiesData!AL42","v":0.47371604310456833},null,{"$f":"AllCountiesData!W42","v":17795},{"$f":"AllCountiesData!W42-AllCountiesData!S42","v":-530},42,{"$f":"AllCountiesData!AC42","v":-2.8922237380627557E-2},{"$f":"AllCountiesData!AD42","v":-5.8103804681825799E-3},null,{"$f":"AllCountiesData!IL42-AllCountiesData!IH42","v":-1.3000000000000012E-2},{"$f":"AllCountiesData!BG42","v":0.24247214463304584},0.24247214463304584,49,null,null,0.4,{"$f":"AllCountiesData!CB42","v":0.89502605937004309},0.89502605937004309,58,null,null,0.9,{"$f":"AllCountiesData!CV42","v":9},null,{"$f":"AllCountiesData!DQ42","v":2.4000000000000021E-2},2.4000000000000021E-2,null,{"$f":"AllCountiesData!EO42","v":8.4999999999999964E-2},8.4999999999999964E-2,null,{"$f":"[1]AllCountiesData!DV41","v":0.58558238636363635},{"$f":"AllCountiesData!FK42","v":0.22825607064017661},null,{"$f":"AllCountiesData!GD42","v":0.44680851063829785},null,{"$f":"AllCountiesData!GW42","v":0.10252043596730245},null,{"$f":"AllCountiesData!HP42","v":0.19005449591280654},null,0.10198675496688742]
[null,{"$f":"AllCountiesData!A51","v":"Napa"},"Small",{"$f":"AllCountiesData!C51","v":"C-IV"},{"$f":"AllCountiesData!AL51","v":0.38161673999826451},null,{"$f":"AllCountiesData!W51","v":7533},{"$f":"AllCountiesData!W51-AllCountiesData!S51","v":-120},31,{"$f":"AllCountiesData!AC51","v":-1.5680125441003528E-2},{"$f":"AllCountiesData!AD51","v":7.7220077220077218E-2},null,{"$f":"AllCountiesData!IL51-AllCountiesData!IH51","v":-8.0000000000000002E-3},{"$f":"AllCountiesData!BG51","v":0.22106909725355714},0.22106909725355714,52,null,null,0.4,{"$f":"AllCountiesData!CB51","v":0.94997414684591519},0.94997414684591519,24,null,null,0.9,{"$f":"AllCountiesData!CV51","v":14.3},null,{"$f":"AllCountiesData!DQ51","v":1.3000000000000012E-2},1.3000000000000012E-2,null,{"$f":"AllCountiesData!EO51","v":3.9000000000000035E-2},3.9000000000000035E-2,null,{"$f":"[1]AllCountiesData!DV51","v":0.95577211394302852},{"$f":"AllCountiesData!FK51","v":0.44911297852474324},null,{"$f":"AllCountiesData!GD51","v":0.55909090909090908},null,{"$f":"AllCountiesData!GW51","v":0.10357815442561205},null,{"$f":"AllCountiesData!HP51","v":0.18173258003766479},null,0.25109498344792464]
[null,{"$f":"AllCountiesData!A48","v":"Marin"},"Small",{"$f":"AllCountiesData!C48","v":"C-IV"},{"$f":"AllCountiesData!AL48","v":0.44650733867359088},null,{"$f":"AllCountiesData!W48","v":10351},{"$f":"AllCountiesData!W48-AllCountiesData!S48","v":-134},32,{"$f":"AllCountiesData!AC48","v":-1.2780162136385312E-2},{"$f":"AllCountiesData!AD48","v":0.15075041689827681},null,{"$f":"AllCountiesData!IL48-AllCountiesData!IH48","v":-8.0000000000000002E-3},{"$f":"AllCountiesData!BG48","v":0.21679734161544642},0.21679734161544642,54,null,null,0.4,{"$f":"AllCountiesData!CB48","v":0.94840855106888367},0.94840855106888367,26,null,null,0.9,{"$f":"AllCountiesData!CV48","v":10.7},null,{"$f":"AllCountiesData!DQ48","v":1.4000000000000012E-2},1.4000000000000012E-2,null,{"$f":"AllCountiesData!EO48","v":6.7999999999999949E-2},6.7999999999999949E-2,null,{"$f":"[1]AllCountiesData!DV48","v":0.9057498518079431},{"$f":"AllCountiesData!FK48","v":0.41199606686332352},null,{"$f":"AllCountiesData!GD48","v":0.59244863964464189},null,{"$f":"AllCountiesData!GW48","v":0.1864406779661017},null,{"$f":"AllCountiesData!HP48","v":0.27809165097300692},null,0.24408650935211895]
[null,{"$f":"AllCountiesData!A66","v":"Mono"},"Small",{"$f":"AllCountiesData!C66","v":"C-IV"},{"$f":"AllCountiesData!AL66","v":0.69164149189032076},null,{"$f":"AllCountiesData!W66","v":790},{"$f":"AllCountiesData!W66-AllCountiesData!S66","v":-62},27,{"$f":"AllCountiesData!AC66","v":-7.2769953051643188E-2},{"$f":"AllCountiesData!AD66","v":0.38596491228070173},null,{"$f":"AllCountiesData!IL66-AllCountiesData!IH66","v":-1.0000000000000002E-2},{"$f":"AllCountiesData!BG66","v":0.19694173477458476},0.19694173477458476,56,null,null,0.4,{"$f":"AllCountiesData!CB66","v":0.9154411764705882},0.9154411764705882,52,null,null,0.9,{"$f":"AllCountiesData!CV66","v":10},null,{"$f":"AllCountiesData!DQ66","v":3.3000000000000029E-2},3.3000000000000029E-2,null,{"$f":"AllCountiesData!EO66","v":1.3000000000000012E-2},1.3000000000000012E-2,null,{"$f":"[1]AllCountiesData!DV66","v":1.1728395061728396},{"$f":"AllCountiesData!FK66","v":0.6292134831460674},null,{"$f":"AllCountiesData!GD66","v":0.76706003078501794},null,{"$f":"AllCountiesData!GW66","v":5.9322033898305086E-2},null,{"$f":"AllCountiesData!HP66","v":0.11864406779661017},null,0.48264451375237083]
[null,{"$f":"AllCountiesData!A64","v":"Colusa"},"Small",{"$f":"AllCountiesData!C64","v":"C-IV"},{"$f":"AllCountiesData!AL64","v":0.39781260650221328},null,{"$f":"AllCountiesData!W64","v":1434},{"$f":"AllCountiesData!W64-AllCountiesData!S64","v":-291},38,{"$f":"AllCountiesData!AC64","v":-0.16869565217391305},{"$f":"AllCountiesData!AD64","v":-0.11916461916461916},null,{"$f":"AllCountiesData!IL64-AllCountiesData!IH64","v":-1.4999999999999999E-2},{"$f":"AllCountiesData!BG64","v":0.15525698443164854},0.15525698443164854,58,null,null,0.4,{"$f":"AllCountiesData!CB64","v":0.97652582159624413},0.97652582159624413,1,null,null,0.9,{"$f":"AllCountiesData!CV64","v":27},null,{"$f":"AllCountiesData!DQ64","v":0.16700000000000004},0.16700000000000004,null,{"$f":"AllCountiesData!EO64","v":1.3000000000000012E-2},1.3000000000000012E-2,null,{"$f":"[1]AllCountiesData!DV64","v":1.0188679245283019},{"$f":"AllCountiesData!FK64","v":0.53535353535353536},null,{"$f":"AllCountiesData!GD64","v":0.95514511873350927},null,{"$f":"AllCountiesData!GW64","v":0.10454545454545454},null,{"$f":"AllCountiesData!HP64","v":0.18636363636363637},null,0.51134031608965647]
[null,null,null,null,null,null,null,null,"Green arrow = top 10"]
[null,null,null,null,null,null,null,null,"Grey arrow = next 10"]

{"sheet":"StatewideCharts","index":12,"n_rows":37,"n_cols":22,"rows_kept":37,"cut":false,"hidden":true,"merged":[[17,19,17,20],[17,11,17,14],[17,0,18,0],[17,3,17,6],[17,7,17,10],[17,15,17,18]]}
[]
["Update Reference points (best rates for large, medium and small counties - hard code)."]
["Reference points:",null,null,null,null,null,null,null,null,null,null,null,null,null,null,null,null,null,null,null,null,"Best county, most recent quarter"]
["Target - Medi-Cal on CalFresh",null,0.6,0.6,0.6,0.6,0.6,0.6,0.6,0.6,0.6,0.6,0.6,0.6,0.6,0.6,0.6,0.6]
["Target - CalFresh on Medi-Cal",null,0.9,0.9,0.9,0.9,0.9,0.9,0.9,0.9,0.9,0.9,0.9,0.9,0.9,0.9,0.9,0.9]
["Best Large County - Medi-Cal on CalFresh",null,{"$f":"#REF!","v":{"$error":"#REF!"}},{"$f":"#REF!","v":{"$error":"#REF!"}},{"$f":"#REF!","v":{"$error":"#REF!"}},{"$f":"#REF!","v":{"$error":"#REF!"}},{"$f":"#REF!","v":{"$error":"#REF!"}},{"$f":"#REF!","v":{"$error":"#REF!"}},{"$f":"#REF!","v":{"$error":"#REF!"}},{"$f":"#REF!","v":{"$error":"#REF!"}},{"$f":"#REF!","v":{"$error":"#REF!"}},{"$f":"#REF!","v":{"$error":"#REF!"}},{"$f":"#REF!","v":{"$error":"#REF!"}}]
["Best Medium County - Medi-Cal on CalFresh",null,{"$f":"#REF!","v":{"$error":"#REF!"}},{"$f":"#REF!","v":{"$error":"#REF!"}},{"$f":"#REF!","v":{"$error":"#REF!"}},{"$f":"#REF!","v":{"$error":"#REF!"}},{"$f":"#REF!","v":{"$error":"#REF!"}},{"$f":"#REF!","v":{"$error":"#REF!"}},{"$f":"#REF!","v":{"$error":"#REF!"}},{"$f":"#REF!","v":{"$error":"#REF!"}},{"$f":"#REF!","v":{"$error":"#REF!"}},{"$f":"#REF!","v":{"$error":"#REF!"}},{"$f":"#REF!","v":{"$error":"#REF!"}}]
["Best Small County - Medi-Cal on CalFresh",null,{"$f":"#REF!","v":{"$error":"#REF!"}},{"$f":"#REF!","v":{"$error":"#REF!"}},{"$f":"#REF!","v":{"$error":"#REF!"}},{"$f":"#REF!","v":{"$error":"#REF!"}},{"$f":"#REF!","v":{"$error":"#REF!"}},{"$f":"#REF!","v":{"$error":"#REF!"}},{"$f":"#REF!","v":{"$error":"#REF!"}},{"$f":"#REF!","v":{"$error":"#REF!"}},{"$f":"#REF!","v":{"$error":"#REF!"}},{"$f":"#REF!","v":{"$error":"#REF!"}},{"$f":"#REF!","v":{"$error":"#REF!"}}]
["Best Large County - CalFresh on Medi-Cal",null,{"$f":"#REF!","v":{"$error":"#REF!"}},{"$f":"#REF!","v":{"$error":"#REF!"}},{"$f":"#REF!","v":{"$error":"#REF!"}},{"$f":"#REF!","v":{"$error":"#REF!"}},{"$f":"#REF!","v":{"$error":"#REF!"}},{"$f":"#REF!","v":{"$error":"#REF!"}},{"$f":"#REF!","v":{"$error":"#REF!"}},{"$f":"#REF!","v":{"$error":"#REF!"}},{"$f":"#REF!","v":{"$error":"#REF!"}},{"$f":"#REF!","v":{"$error":"#REF!"}},{"$f":"#REF!","v":{"$error":"#REF!"}}]
["Best Medium County - CalFresh on Medi-Cal",null,{"$f":"#REF!","v":{"$error":"#REF!"}},{"$f":"#REF!","v":{"$error":"#REF!"}},{"$f":"#REF!","v":{"$error":"#REF!"}},{"$f":"#REF!","v":{"$error":"#REF!"}},{"$f":"#REF!","v":{"$error":"#REF!"}},{"$f":"#REF!","v":{"$error":"#REF!"}},{"$f":"#REF!","v":{"$error":"#REF!"}},{"$f":"#REF!","v":{"$error":"#REF!"}},{"$f":"#REF!","v":{"$error":"#REF!"}},{"$f":"#REF!","v":{"$error":"#REF!"}},{"$f":"#REF!","v":{"$error":"#REF!"}}]
["Best Small County - CalFresh on Medi-Cal",null,{"$f":"#REF!","v":{"$error":"#REF!"}},{"$f":"#REF!","v":{"$error":"#REF!"}},{"$f":"#REF!","v":{"$error":"#REF!"}},{"$f":"#REF!","v":{"$error":"#REF!"}},{"$f":"#REF!","v":{"$error":"#REF!"}},{"$f":"#REF!","v":{"$error":"#REF!"}},{"$f":"#REF!","v":{"$error":"#REF!"}},{"$f":"#REF!","v":{"$error":"#REF!"}},{"$f":"#REF!","v":{"$error":"#REF!"}},{"$f":"#REF!","v":{"$error":"#REF!"}},{"$f":"#REF!","v":{"$error":"#REF!"}}]
["Best Large County - Average Days",null,null,null,null,null,{"$f":"#REF!","v":{"$error":"#REF!"}},{"$f":"#REF!","v":{"$error":"#REF!"}},{"$f":"#REF!","v":{"$error":"#REF!"}},{"$f":"#REF!","v":{"$error":"#REF!"}},{"$f":"#REF!","v":{"$error":"#REF!"}},null,null,null,null,null,null,null,null,null,null,{"$f":"Timely!T397","v":"Tulare"}]
["Best Medium County - Average Days",null,null,null,null,null,{"$f":"#REF!","v":{"$error":"#REF!"}},{"$f":"#REF!","v":{"$error":"#REF!"}},{"$f":"#REF!","v":{"$error":"#REF!"}},{"$f":"#REF!","v":{"$error":"#REF!"}},{"$f":"#REF!","v":{"$error":"#REF!"}},null,null,null,null,null,null,null,null,null,null,{"$f":"Timely!T398","v":"San Francisco"}]
["Best Small County - Average Days",null,null,null,null,null,{"$f":"#REF!","v":{"$error":"#REF!"}},{"$f":"#REF!","v":{"$error":"#REF!"}},{"$f":"#REF!","v":{"$error":"#REF!"}},{"$f":"#REF!","v":{"$error":"#REF!"}},{"$f":"#REF!","v":{"$error":"#REF!"}},null,null,null,null,null,null,null,null,null,null,{"$f":"Timely!T399","v":"Sierra"}]
[null,null,0,1,2,3,4,5,6,7,8,9,10]
[]
[null,null,"Q4","Q1","Q2","Q3","Q4","Q1","Q2","Q3","Q4","Q1","Q2","Q3","Q4","Q1","Q2","Q3","Q4","Q1","Q2"]
["California",2010,2011,2012,null,null,null,2013,null,null,null,2014,null,null,null,2015,null,null,null,2016]
[]
["Persons Participating",null,{"$f":"AllCountiesData!E10","v":3905210},{"$f":"AllCountiesData!F10","v":3956654},{"$f":"AllCountiesData!G10","v":3996483},{"$f":"AllCountiesData!H10","v":4074650},{"$f":"AllCountiesData!I10","v":4147355},{"$f":"AllCountiesData!J10","v":4194682},{"$f":"AllCountiesData!K10","v":4202850},{"$f":"AllCountiesData!L10","v":4221057},{"$f":"AllCountiesData!M10","v":4285622},{"$f":"AllCountiesData!N10","v":4351103},{"$f":"AllCountiesData!O10","v":4393812},{"$f":"AllCountiesData!P10","v":4476030},{"$f":"AllCountiesData!Q10","v":4477428},{"$f":"AllCountiesData!R10","v":4445534},{"$f":"AllCountiesData!S10","v":4462799},{"$f":"AllCountiesData!T10","v":4480570},{"$f":"AllCountiesData!U10","v":4483272},{"$f":"AllCountiesData!V10","v":4431790},{"$f":"AllCountiesData!W10","v":4369738}]
["Persons Participating, % change over prior year",null,null,null,null,null,{"$f":"(G20-C20)/C20","v":6.2005628378499489E-2},{"$f":"(H20-D20)/D20","v":6.0158912050434533E-2},5.1637151965865991E-2,3.5931184273495884E-2,3.3338597732771848E-2,3.729031187584661E-2,4.5436311074627929E-2,6.040501229905211E-2,4.4755697072676966E-2,2.1702772837140376E-2,1.5700944874291391E-2,1.0142916825847906E-3,{"$f":"(S20-O20)/O20","v":1.3052136181754346E-3},{"$f":"(T20-P20)/P20","v":-3.0916420839431215E-3},{"$f":"(U20-Q20)/Q20","v":-2.0852608419066151E-2}]
["% Medi-Cal on CalFresh",null,{"$f":"AllCountiesData!AO10","v":0},{"$f":"AllCountiesData!AP10","v":0},{"$f":"AllCountiesData!AQ10","v":0},{"$f":"AllCountiesData!AR10","v":0},{"$f":"AllCountiesData!AS10","v":0},{"$f":"AllCountiesData!AT10","v":0},{"$f":"AllCountiesData!AU10","v":0},{"$f":"AllCountiesData!AV10","v":0},{"$f":"AllCountiesData!AW10","v":0},{"$f":"AllCountiesData!AX10","v":0},{"$f":"AllCountiesData!AY10","v":0},{"$f":"AllCountiesData!AZ10","v":0},{"$f":"AllCountiesData!BA10","v":0},{"$f":"AllCountiesData!BB10","v":0},{"$f":"AllCountiesData!BC10","v":0},{"$f":"AllCountiesData!BH10","v":0}]
["% CalFresh on Medi-Cal",null,{"$f":"AllCountiesData!BJ10","v":0},{"$f":"AllCountiesData!BK10","v":0},{"$f":"AllCountiesData!BL10","v":0},{"$f":"AllCountiesData!BM10","v":0},{"$f":"AllCountiesData!BN10","v":0},{"$f":"AllCountiesData!BO10","v":0},{"$f":"AllCountiesData!BP10","v":0},{"$f":"AllCountiesData!BQ10","v":0},{"$f":"AllCountiesData!BR10","v":0},{"$f":"AllCountiesData!BS10","v":0},{"$f":"AllCountiesData!BT10","v":0},{"$f":"AllCountiesData!BU10","v":0},{"$f":"AllCountiesData!BV10","v":0},{"$f":"AllCountiesData!BW10","v":0},{"$f":"AllCountiesData!BX10","v":0},{"$f":"AllCountiesData!CC10","v":0}]
["Avg Days to Approval",null,null,{"$f":"AllCountiesData!CF10","v":14.4},{"$f":"AllCountiesData!CG10","v":13.2},{"$f":"AllCountiesData!CH10","v":14},{"$f":"AllCountiesData!CI10","v":13.9},{"$f":"AllCountiesData!CJ10","v":13.3},{"$f":"AllCountiesData!CK10","v":13.3},{"$f":"AllCountiesData!CL10","v":14.9},{"$f":"AllCountiesData!CM10","v":14.6},{"$f":"AllCountiesData!CN10","v":14.1},{"$f":"AllCountiesData!CO10","v":13.2},{"$f":"AllCountiesData!CP10","v":13.7},{"$f":"AllCountiesData!CQ10","v":13.5},{"$f":"AllCountiesData!CR10","v":12.7},{"$f":"AllCountiesData!CS10","v":11.5},{"$f":"AllCountiesData!CT10","v":12.1},{"$f":"AllCountiesData!CU10","v":12.1},{"$f":"AllCountiesData!CV10","v":11.4}]
["% of Approvals <=30 Days",null,{"$f":"AllCountiesData!CY10","v":4.2000000000000037E-2},{"$f":"AllCountiesData!CZ10","v":3.9000000000000035E-2},{"$f":"AllCountiesData!DA10","v":2.5000000000000022E-2},{"$f":"AllCountiesData!DB10","v":2.300000000000002E-2},{"$f":"AllCountiesData!DC10","v":2.300000000000002E-2},{"$f":"AllCountiesData!DD10","v":3.400000000000003E-2},{"$f":"AllCountiesData!DE10","v":2.9000000000000026E-2},{"$f":"AllCountiesData!DF10","v":2.7000000000000024E-2},{"$f":"AllCountiesData!DG10","v":3.5000000000000031E-2},{"$f":"AllCountiesData!DH10","v":4.0000000000000036E-2},{"$f":"AllCountiesData!DI10","v":4.1000000000000036E-2},{"$f":"AllCountiesData!DJ10","v":3.0000000000000027E-2},{"$f":"AllCountiesData!DK10","v":3.3000000000000029E-2},{"$f":"AllCountiesData!DL10","v":3.2000000000000028E-2},{"$f":"AllCountiesData!DM10","v":2.8000000000000025E-2},{"$f":"AllCountiesData!DN10","v":2.9000000000000026E-2},{"$f":"AllCountiesData!DO10","v":2.8000000000000025E-2},{"$f":"AllCountiesData!DP10","v":2.4000000000000021E-2},{"$f":"AllCountiesData!DQ10","v":2.300000000000002E-2}]
["% ES entitled that receive CF in 1-3 days",null,{"$f":"AllCountiesData!DW10","v":7.6999999999999957E-2},{"$f":"AllCountiesData!DX10","v":7.2999999999999954E-2},{"$f":"AllCountiesData!DY10","v":6.0000000000000053E-2},{"$f":"AllCountiesData!DZ10","v":5.8000000000000052E-2},{"$f":"AllCountiesData!EA10","v":6.1000000000000054E-2},{"$f":"AllCountiesData!EB10","v":6.2999999999999945E-2},{"$f":"AllCountiesData!EC10","v":5.7000000000000051E-2},{"$f":"AllCountiesData!ED10","v":8.0999999999999961E-2},{"$f":"AllCountiesData!EE10","v":7.5999999999999956E-2},{"$f":"AllCountiesData!EF10","v":9.3999999999999972E-2},{"$f":"AllCountiesData!EG10","v":7.5999999999999956E-2},{"$f":"AllCountiesData!EH10","v":7.1999999999999953E-2},{"$f":"AllCountiesData!EI10","v":6.6999999999999948E-2},{"$f":"AllCountiesData!EJ10","v":6.3999999999999946E-2},{"$f":"AllCountiesData!EK10","v":5.3000000000000047E-2},{"$f":"AllCountiesData!EL10","v":5.8000000000000052E-2},{"$f":"AllCountiesData!EM10","v":6.2999999999999945E-2},{"$f":"AllCountiesData!EN10","v":6.5999999999999948E-2},{"$f":"AllCountiesData!EO10","v":7.4999999999999956E-2}]
["% of All Approvals not timely (>30 days)",null,{"$f":"1-C25","v":0.95799999999999996},{"$f":"1-D25","v":0.96099999999999997},0.97499999999999998,0.97699999999999998,0.97699999999999998,0.96599999999999997,0.97099999999999997,0.97299999999999998,0.96499999999999997,0.96,0.95899999999999996,0.97,0.96699999999999997,0.96799999999999997,0.97199999999999998,0.97099999999999997,0.97199999999999998,0.97599999999999998,0.97699999999999998]
["% ES entitled not timely (> 3 days)",null,{"$f":"1-C26","v":0.92300000000000004},{"$f":"1-D26","v":0.92700000000000005},0.94,0.94199999999999995,0.93899999999999995,0.93700000000000006,0.94299999999999995,0.91900000000000004,0.92400000000000004,0.90600000000000003,0.92400000000000004,0.92800000000000005,0.93300000000000005,0.93600000000000005,0.94699999999999995,0.94199999999999995,0.93700000000000006,0.93400000000000005,0.92500000000000004]
[{"$f":"AllCountiesData!ET5","v":"% of Recerts without CF in Following Month"},null,{"$f":"AllCountiesData!ET10","v":0.2185732271221448},{"$f":"AllCountiesData!EU10","v":0.17902674733900528},{"$f":"AllCountiesData!EV10","v":0.18139228198261259},{"$f":"AllCountiesData!EW10","v":0.18710675901179558},{"$f":"AllCountiesData!EX10","v":0.17981334022170059},{"$f":"AllCountiesData!EY10","v":0.20469640134329894},{"$f":"AllCountiesData!EZ10","v":0.20364592061192413},{"$f":"AllCountiesData!FA10","v":0.20923328500967492},{"$f":"AllCountiesData!FB10","v":0.22003124743031},{"$f":"AllCountiesData!FC10","v":0.21933378448168397},{"$f":"AllCountiesData!FD10","v":0.2265365141948987},{"$f":"AllCountiesData!FE10","v":0.22633206934467839},{"$f":"AllCountiesData!FF10","v":0.25492482967556573},{"$f":"AllCountiesData!FG10","v":0.24722582063089202},{"$f":"AllCountiesData!FH10","v":0.25460008259499922},{"$f":"AllCountiesData!FI10","v":0.26374442793462111},{"$f":"AllCountiesData!FJ10","v":0.28839309717183326},{"$f":"AllCountiesData!FK10","v":0.30950194567662226}]
[{"$f":"AllCountiesData!FM5","v":"% of Unsuccessful Recerts that Reapply within 90 Days"},null,{"$f":"AllCountiesData!FM10","v":0.57054693617529562},{"$f":"AllCountiesData!FN10","v":0.70166953852391367},{"$f":"AllCountiesData!FO10","v":0.70346517049271007},{"$f":"AllCountiesData!FP10","v":0.70147427374663196},{"$f":"AllCountiesData!FQ10","v":0.71755858691850294},{"$f":"AllCountiesData!FR10","v":0.52368929154908661},{"$f":"AllCountiesData!FS10","v":0.53716993906567367},{"$f":"AllCountiesData!FT10","v":0.54965551516805211},{"$f":"AllCountiesData!FU10","v":0.66094252186262048},{"$f":"AllCountiesData!FV10","v":0.6645285699786867},{"$f":"AllCountiesData!FW10","v":0.64186313973548015},{"$f":"AllCountiesData!FX10","v":0.67836873314384827},{"$f":"AllCountiesData!FY10","v":0.60572608220881385},{"$f":"AllCountiesData!FZ10","v":0.58482066536738808},{"$f":"AllCountiesData!GA10","v":0.56770310932798396},{"$f":"AllCountiesData!GB10","v":0.54024304136162626},{"$f":"AllCountiesData!GC10","v":0.63053424669249392},{"$f":"AllCountiesData!GD10","v":0.47598503253190361}]
["Unemployment Rate",null,{"$f":"AllCountiesData!HR10","v":0.124},{"$f":"AllCountiesData!HS10","v":0.11799999999999999},{"$f":"AllCountiesData!HT10","v":0.11799999999999999},{"$f":"AllCountiesData!HU10","v":0.11799999999999999},{"$f":"AllCountiesData!HV10","v":0.11799999999999999},{"$f":"AllCountiesData!HW10","v":0.105},{"$f":"AllCountiesData!HX10","v":0.105},{"$f":"AllCountiesData!HY10","v":0.105},{"$f":"AllCountiesData!HZ10","v":0.105},{"$f":"AllCountiesData!IA10","v":8.8999999999999996E-2},{"$f":"AllCountiesData!IB10","v":8.8999999999999996E-2},{"$f":"AllCountiesData!IC10","v":8.8999999999999996E-2},{"$f":"AllCountiesData!ID10","v":8.8999999999999996E-2},{"$f":"AllCountiesData!IE10","v":7.4999999999999997E-2},{"$f":"AllCountiesData!IF10","v":7.4999999999999997E-2},{"$f":"AllCountiesData!IG10","v":7.4999999999999997E-2},{"$f":"AllCountiesData!IH10","v":7.4999999999999997E-2},{"$f":"AllCountiesData!II10","v":6.2E-2},{"$f":"AllCountiesData!IJ10","v":6.2E-2}]
["% of Apps on CF in previous 30 days",null,{"$f":"AllCountiesData!GF10","v":9.9810733787282183E-2},{"$f":"AllCountiesData!GG10","v":0.10048220291837934},{"$f":"AllCountiesData!GH10","v":9.3212231692573075E-2},{"$f":"AllCountiesData!GI10","v":8.1711948208492327E-2},{"$f":"AllCountiesData!GJ10","v":8.8814387818270987E-2},{"$f":"AllCountiesData!GK10","v":0.13528277569118735},{"$f":"AllCountiesData!GL10","v":0.13006286965779959},{"$f":"AllCountiesData!GM10","v":0.12030811725156842},{"$f":"AllCountiesData!GN10","v":0.13944409359698837},{"$f":"AllCountiesData!GO10","v":0.12870095861217493},{"$f":"AllCountiesData!GP10","v":0.11958471375213657},{"$f":"AllCountiesData!GQ10","v":0.12553890511189991},{"$f":"AllCountiesData!GR10","v":0.1423959934757705},{"$f":"AllCountiesData!GS10","v":0.13005035849174532},{"$f":"AllCountiesData!GT10","v":0.12770698701456557},{"$f":"AllCountiesData!GU10","v":0.12801793515750748},{"$f":"AllCountiesData!GV10","v":0.15174374047527461},{"$f":"AllCountiesData!GW10","v":0.11668217184451216}]
["% of Apps on CF in previous 90 days",null,{"$f":"AllCountiesData!GY10","v":0.19211608327713359},{"$f":"AllCountiesData!GZ10","v":0.19473881821952518},{"$f":"AllCountiesData!HA10","v":0.18309121793399044},{"$f":"AllCountiesData!HB10","v":0.1671994445675889},{"$f":"AllCountiesData!HC10","v":0.18311184004244954},{"$f":"AllCountiesData!HD10","v":0.22205693420785719},{"$f":"AllCountiesData!HE10","v":0.21764115310967982},{"$f":"AllCountiesData!HF10","v":0.20552569784953142},{"$f":"AllCountiesData!HG10","v":0.22410745774110738},{"$f":"AllCountiesData!HH10","v":0.20414350086109953},{"$f":"AllCountiesData!HI10","v":0.2004283694528266},{"$f":"AllCountiesData!HJ10","v":0.2023835197522445},{"$f":"AllCountiesData!HK10","v":0.23410570784909099},{"$f":"AllCountiesData!HL10","v":0.21515531666026769},{"$f":"AllCountiesData!HM10","v":0.21216070516153573},{"$f":"AllCountiesData!HN10","v":0.21022925661923134},{"$f":"AllCountiesData!HO10","v":0.24921526540032476},{"$f":"AllCountiesData!HP10","v":0.1979727624481534}]
["Persons Participating, % change over prior quarter",null,null,{"$f":"(D20-C20)/C20","v":1.3173171225106972E-2},1.0066333826510987E-2,1.9558947204329408E-2,1.7843250340520044E-2,1.1411369414964477E-2,1.9472274656338669E-3,4.3320603875941326E-3,1.5295931800968336E-2,1.5279229012731408E-2,9.8156720261506104E-3,1.87122252841041E-2,3.1233034631135181E-4,-7.1232859579204843E-3,3.8836729175842541E-3,3.9820301115958837E-3,6.0304827287599569E-4,-1.1483131070343267E-2,-1.4001565958675841E-2]
["PRI",{"$f":"AllCountiesData!AG10","v":0.50900000000000001},{"$f":"AllCountiesData!AH10","v":0.55200000000000005},{"$f":"AllCountiesData!$AI10","v":0.56999999999999995},{"$f":"AllCountiesData!$AI10","v":0.56999999999999995},{"$f":"AllCountiesData!$AI10","v":0.56999999999999995},{"$f":"AllCountiesData!$AI10","v":0.56999999999999995},{"$f":"AllCountiesData!$AJ10","v":0.58399999999999996},{"$f":"AllCountiesData!$AJ10","v":0.58399999999999996},{"$f":"AllCountiesData!$AJ10","v":0.58399999999999996},{"$f":"AllCountiesData!$AJ10","v":0.58399999999999996},{"$f":"AllCountiesData!$AK10","v":0.63400000000000001},{"$f":"AllCountiesData!$AK10","v":0.63400000000000001},{"$f":"AllCountiesData!$AK10","v":0.63400000000000001},{"$f":"AllCountiesData!$AK10","v":0.63400000000000001},{"$f":"PRI_both_methods!$J3","v":0.67277677227828037},{"$f":"PRI_both_methods!$J3","v":0.67277677227828037},{"$f":"PRI_both_methods!$J3","v":0.67277677227828037},{"$f":"PRI_both_methods!$J3","v":0.67277677227828037}]
["PRI (New Method)",null,null,null,null,null,null,null,null,null,null,null,null,null,null,{"$f":"PRI_both_methods!$K3","v":0.69733016424114824},{"$f":"PRI_both_methods!$K3","v":0.69733016424114824},{"$f":"PRI_both_methods!$K3","v":0.69733016424114824},{"$f":"PRI_both_methods!$K3","v":0.69733016424114824}]
["Share that reapply within 90 days (estimate)",null,{"$f":"C30*C29","v":0.12470628506448675},{"$f":"D30*D29","v":0.12561761518879713},0.1276031525709603,0.13125057789088537,0.12902660631857948,0.10719731340211973,0.1093924667660803,0.11500622906229674,0.14542800756516733,0.14575356614962692,0.14540543826586885,0.1535365991511751,0.15441461833712961,0.1445827689173568,0.1445372585243426,0.14248609188958197,0.18184172427655709,0.14731829368157451]

{"sheet":"AllCountiesData","index":13,"n_rows":73,"n_cols":246,"rows_kept":73,"cut":false,"hidden":true,"merged":[[7,238,7,241],[7,242,7,245],[7,115,7,118],[7,119,7,122],[7,139,7,142],[7,143,7,146],[7,234,7,237],[7,215,7,218],[7,188,7,191],[7,192,7,195],[7,196,7,199],[7,207,7,210],[7,211,7,214],[7,226,7,229],[7,230,7,233],[7,173,7,176],[7,5,7,8],[7,9,7,12],[7,41,7,44],[7,13,7,16],[7,33,7,35],[7,17,7,20],[7,21,7,24],[7,83,7,86],[7,45,7,48],[7,49,7,52],[7,103,7,106],[7,169,7,172],[7,70,7,73],[7,91,7,94],[7,62,7,65],[7,66,7,69],[7,87,7,90],[7,95,7,98],[7,181,7,184],[7,200,7,203],[7,219,7,222],[7,177,7,180],[7,107,7,110],[7,154,7,157],[7,158,7,161],[7,111,7,112],[7,127,7,130],[7,131,7,134],[7,135,7,137],[7,150,7,153],[7,162,7,165]]}
[1,2,3,4,5,6,7,8,9,10,11,12,13,14,15,16,17,18,19,20,21,22,23,24,25,26,27,28,29,30,31,32,33,34,35,36,37,38,39,40,41,42,43,44,45,46,47,48,49,50,51,52,53,54,55,56,57,58,59,60,61,62,63,64,65,66,67,68,69,70,71,72,73,74,75,76,77,78,79,80,81,82,83,84,85,86,87,88,89,90,91,92,93,94,95,96,97,98,99,100,101,102,103,104,105,106,107,108,109,110,111,112,113,114,115,116,117,118,119,120,121,122,123,124,125,126,127,128,129,130,131,132,133,134,135,136,137,138,139,140,141,142,143,144,145,146,147,148,149,150,151,152,153,154,155,156,157,158,159,160,161,162,163,164,165,166,167,168,169,170,171,172,173,174,175,176,177,178,179,180,181,182,183,184,185,186,187,188,189,190,191,192,193,194,195,196,197,198,199,200,201,202,203,204,205,206,207,208,209,210,211,212,213,214,215,216,217,218,219,220,221,222,223,224,225,226,227,228,229,230,231,232,233,234,235,236,237,238,239,240,241,242,243,244,245,246]
["OVERALL:",null,null,null,"PARTICIPATION",null,null,null,null,null,null,null,null,null,null,null,null,null,null,null,null,null,null,null,null,null,null,null,null,null,null,null,null,null,null,null,null,null,null,null,null,null,null,null,"PROVIDING ONE STOP FOR HEALTH & NUTRITION/HORIZONTAL INTEGRATION & ACA",null,null,null,null,null,null,null,null,null,null,null,null,null,null,null,null,null,null,null,null,null,null,null,null,null,null,null,null,null,null,null,null,null,null,null,null,"#2","PROVIDING SAME DAY SERVICE",null,null,null,null,null,null,null,null,null,null,null,null,null,null,null,null,null,null,null,"PROVIDING SAME DAY SERVICE",null,null,null,null,null,null,null,null,null,null,null,null,null,null,null,null,null,null,null,null,null,null,null,null,null,null,null,null,null,null,null,null,null,null,null,null,null,null,null,null,null,null,null,null,null,null,"PROVIDING CONTINUOUS SERVICE/REDUCING CHURN"]
[]
[null,null,null,null,"A",null,null,null,null,null,null,null,null,null,null,null,null,null,null,null,null,null,null,null,null,null,null,null,null,null,null,null,"B",null,null,null,null,null,null,null,null,null,null,null,"D",null,null,null,null,null,null,null,null,null,null,null,null,null,null,null,null,null,null,null,null,"E",null,null,null,null,null,null,null,null,null,null,null,null,null,null,null,null,"F",null,null,null,null,null,null,null,null,null,null,null,null,null,null,null,null,null,null,null,"G",null,null,null,null,null,null,null,null,null,null,null,null,null,null,null,null,null,null,null,null,null,null,null,"H",null,null,null,null,null,null,null,null,null,null,null,null,null,null,null,null,null,null,null,null,null,null,"J",null,null,null,null,null,null,null,null,null,null,null,null,null,null,null,null,null,null,"K",null,null,null,null,null,null,null,null,null,null,null,null,null,null,null,null,null,null,null,null,null,null,null,null,null,null,null,null,null,null,null,null,null,null,null,null,null,"K"]
[null,null,null,null,"Persons Participating",null,null,null,null,null,null,null,null,null,null,null,null,null,null,null,null,null,null,null,null,null,null,null,null,null,null,null,"Adjusted Eligibles - PRI",null,null,null,null,null,null,null,"Dual Participation:  MediCal on CalFresh (ALL MC)",null,null,null,null,null,null,null,null,null,null,null,null,null,null,null,null,null,null,null,null,"Dual Participation: CalFresh on MediCal - Goal = More than 90%",null,null,null,null,null,null,null,null,null,null,null,null,null,null,null,null,null,null,null,null,"Timeliness:  Avg Days to Approve Benefits**",null,null,null,null,null,null,null,null,null,null,null,null,null,null,null,null,null,null,null,"Timeliness NON-COMPLIANCE: Approvals > 30 days",null,null,null,null,null,null,null,null,null,null,null,null,null,null,null,null,null,null,null,null,null,null,null,"Timeliness NON-COMPLIANCE: % of those entitled to ES who received benefits in > 1-3 days",null,null,null,null,null,null,null,null,null,null,null,null,null,null,null,null,null,null,null,null,null,null,"% of Recerts without CF in Following Month",null,null,null,null,null,null,null,null,null,null,null,null,null,null,null,null,null,null,"% of Unsuccessful Recerts that Reapply within 90 Days",null,null,null,null,null,null,null,null,null,null,null,null,null,null,null,null,null,null,"Churn:  % of all Apps that were on CF in previous 30 days",null,null,null,null,null,null,null,null,null,null,null,null,null,null,null,null,null,null,"Churn:  % of all apps that were on CF in previous 90 days",null,null,null,null,null,null,null,null,null,null,null,null,null,null,null,null,null,null,"Unemployment Rate"]
[null,null,null,null,"Number",null,null,null,null,null,null,null,null,null,null,null,null,null,null,null,null,null,null,null,null,null,null,null,null,null,null,null,null,null,null,null,null,null,null,null,"%","Rank#",null,null,null,null,null,null,null,null,null,null,null,null,null,null,null,null,null,null,null,"%","Rank",null,null,null,null,null,null,null,null,null,null,null,null,null,null,null,null,null,null,null,"Avg Days",null,null,null,null,null,null,null,null,null,null,null,null,null,null,null,null,null,null,null,"%","Rank",null,null,null,null,null,null,null,null,null,null,null,null,null,null,null,null,null,null,null,null,null,null,"%",null,null,null,null,null,null,null,null,null,null,null,null,null,null,null,null,null,null,null,null,null,null,"% of Apps","Rank",null,null,null,null,null,null,null,null,null,null,null,null,null,null,null,null,null,"% of Apps","Rank",null,null,null,null,null,null,null,null,null,null,null,null,null,null,null,null,null,"% of Apps",null,null,null,null,null,null,null,null,null,null,null,null,null,null,null,null,null,null,"% of Apps","Rank",null,null,null,null,null,null,null,null,null,null,null,null,null,null,null,null,null,"<Annual rates provided, pasted into all quarters for the year>"]
[null,null,null,null,"% of State",null,null,null,null,null,null,null,null,null,null,null,null,null,null,null,null,null,null,null,null,null,null,null,null,null,null,null,null,null,null,null,null,null,null,null,"Data Dashboard was updated 1/20/2017, but dual enrollment methodology not quite finalized. Waiting to pull in updated numbers until it is."]
["Year",null,null,null,2011,2012,null,null,null,2013,null,null,null,2014,null,null,null,2015,null,null,null,2016,null,null,null,null,null,null,null,null,null,null,null,null,null,null,null,null,null,null,2011,2012,null,null,null,2013,null,null,null,2014,null,null,null,2015,null,null,null,2016,null,null,null,2011,2012,null,null,null,2013,null,null,null,2014,null,null,null,2015,null,null,null,2016,null,null,null,2011,2012,null,null,null,2013,null,null,null,2014,null,null,null,2015,null,null,null,2016,null,null,2011,2012,null,null,null,2013,null,null,null,2014,null,null,null,2015,null,null,null,2016,null,null,null,null,null,null,2011,2012,null,null,null,2013,null,null,null,2014,null,null,null,2015,null,null,null,2016,null,null,null,null,null,2011,2012,null,null,null,2013,null,null,null,2014,null,null,null,2015,null,null,null,2016,null,2011,2012,null,null,null,2013,null,null,null,2014,null,null,null,2015,null,null,null,2016,null,2011,2012,null,null,null,2013,null,null,null,2014,null,null,null,2015,null,null,null,2016,null,2011,2012,null,null,null,2013,null,null,null,2014,null,null,null,2015,null,null,null,2016,null,2010,2011,null,null,null,2012,null,null,null,2013,null,null,null,2014,null,null,null,2015]
["County","Date:","Consortium","Current Size Group","Q4","Q1","Q2","Q3","Q4","Q1","Q2","Q3","Q4","Q1","Q2","Q3","Q4","Q1","Q2","Q3","Q4","Q1","Q2","Q3","Q4",null,"% of last quarter's annual growth","Trend 2011 to June 2016","annual growth (2016 Q2)","Growth 2011 Q4  - 2016 Q2","quarterly growth (2016 Q2)","Blank",2010,2011,2012,2013,2014,2015,"Trend since 2011","Blank","Q4","Q1","Q2","Q3","Q4","Q1","Q2","Q3","Q4","Q1","Q2","Q3","Q4","Q1","Q2","Q3","Q4","Q1","Q2","Trend since 2011","Blank","Q4","Q1","Q2","Q3","Q4","Q1","Q2","Q3","Q4","Q1","Q2","Q3","Q4","Q1","Q2","Q3","Q4","Q1","Q2","Trend since 2011","Blank","Q4","Q1","Q2","Q3","Q4","Q1","Q2","Q3","Q4_Timely1","Q1","Q2","Q3","Q4_Timely1","Q1","Q2","Q3","Q4_Timely1","Q1","Trend since 2012Q4","Blank","Q4","Q1","Q2","Q3","Q4","Q1","Q2","Q3","Q4","Q1","Q2","Q3","Q4","Q1","Q2","Q3","Q4","Q1","Q2","Q3","Q4",null,"Trend since 2011","Blank","Q4","Q1","Q2","Q3","Q4","Q1","Q2","Q3","Q4","Q1","Q2","Q3","Q4","Q1","Q2","Q3","Q4","Q1","Q2","Q3","Q4","Trend since 2011","Blank","Q4","Q1","Q2","Q3","Q4","Q1","Q2","Q3","Q4","Q1","Q2","Q3","Q4","Q1","Q2","Q3","Q4","Q1","Trend since 2011","Q4","Q1","Q2","Q3","Q4","Q1","Q2","Q3","Q4","Q1","Q2","Q3","Q4","Q1","Q2","Q3","Q4","Q1_Churn2","Trend since 2011","Q4","Q1","Q2","Q3","Q4","Q1","Q2","Q3","Q4","Q1","Q2","Q3","Q4","Q1","Q2","Q3","Q4","Q1_Churn3","Trend since 2011","Q4","Q1","Q2","Q3","Q4","Q1","Q2","Q3","Q4","Q1","Q2","Q3","Q4","Q1","Q2","Q3","Q4","Q1_Churn4","Trend since 2011","Q4","Q1","Q2","Q3","Q4","Q1","Q2","Q3","Q4_Unemployment","Q1","Q2","Q3","Q4","Q1","Q2","Q3","Q4","Q1","Q2","Q3","Q4"]
["California","current (2016 Q2 % of state","State","State",{"$f":"Participation!B6","v":3905210},{"$f":"Participation!C6","v":3956654},{"$f":"Participation!D6","v":3996483},{"$f":"Participation!E6","v":4074650},{"$f":"Participation!F6","v":4147355},{"$f":"Participation!I6","v":4194682},{"$f":"Participation!J6","v":4202850},{"$f":"Participation!K6","v":4221057},{"$f":"Participation!L6","v":4285622},{"$f":"Participation!M6","v":4351103},{"$f":"Participation!N6","v":4393812},{"$f":"Participation!O6","v":4476030},{"$f":"Participation!P6","v":4477428},{"$f":"Participation!Q6","v":4445534},{"$f":"Participation!R6","v":4462799},{"$f":"Participation!S6","v":4480570},{"$f":"Participation!T6","v":4483272},{"$f":"Participation!U6","v":4431790},{"$f":"Participation!V6","v":4369738},null,null,null,null,null,{"$f":"(W10-S10)/S10","v":-2.0852608419066151E-2},{"$f":"(W10-E10)/E10","v":0.11895083747096827},{"$f":"(W10-V10)/V10","v":-1.4001565958675841E-2},null,{"$f":"PRI!B5","v":0.50900000000000001},{"$f":"PRI!C5","v":0.55200000000000005},{"$f":"PRI!F5","v":0.56999999999999995},{"$f":"PRI!G5","v":0.58399999999999996},{"$f":"PRI!H5","v":0.63400000000000001},{"$f":"PRI!I5","v":0.69733016424114824},null,null,null,null,null,null,null,null,null,null,null,null,null,null,null,null,null,null,null,null,{"$f":"DD_Jun2016!J5","v":0.32388732073561671},null,null,null,null,null,null,null,null,null,null,null,null,null,null,null,null,null,null,null,null,{"$f":"DD_Jun2016!P5","v":0.94226950176340263},null,null,{"$f":"Timely!C262","v":14.9},{"$f":"Timely!D262","v":14.4},{"$f":"Timely!E262","v":13.2},{"$f":"Timely!F262","v":14},{"$f":"Timely!G262","v":13.9},{"$f":"Timely!H262","v":13.3},{"$f":"Timely!I262","v":13.3},{"$f":"Timely!J262","v":14.9},{"$f":"Timely!K262","v":14.6},{"$f":"Timely!L262","v":14.1},{"$f":"Timely!M262","v":13.2},{"$f":"Timely!N262","v":13.7},{"$f":"Timely!O262","v":13.5},{"$f":"Timely!P262","v":12.7},{"$f":"Timely!Q262","v":11.5},{"$f":"Timely!R262","v":12.1},{"$f":"Timely!S262","v":12.1},{"$f":"Timely!T262","v":11.4},null,null,{"$f":"Timely!C70","v":4.2000000000000037E-2},{"$f":"Timely!D70","v":3.9000000000000035E-2},{"$f":"Timely!E70","v":2.5000000000000022E-2},{"$f":"Timely!F70","v":2.300000000000002E-2},{"$f":"Timely!G70","v":2.300000000000002E-2},{"$f":"Timely!J70","v":3.400000000000003E-2},{"$f":"Timely!K70","v":2.9000000000000026E-2},{"$f":"Timely!L70","v":2.7000000000000024E-2},{"$f":"Timely!M70","v":3.5000000000000031E-2},{"$f":"Timely!N70","v":4.0000000000000036E-2},{"$f":"Timely!O70","v":4.1000000000000036E-2},{"$f":"Timely!P70","v":3.0000000000000027E-2},{"$f":"Timely!Q70","v":3.3000000000000029E-2},{"$f":"Timely!R70","v":3.2000000000000028E-2},{"$f":"Timely!S70","v":2.8000000000000025E-2},{"$f":"Timely!T70","v":2.9000000000000026E-2},{"$f":"Timely!U70","v":2.8000000000000025E-2},{"$f":"Timely!V70","v":2.4000000000000021E-2},{"$f":"Timely!W70","v":2.300000000000002E-2},null,null,null,null,null,{"$f":"Timely!C197","v":7.6999999999999957E-2},{"$f":"Timely!D197","v":7.2999999999999954E-2},{"$f":"Timely!E197","v":6.0000000000000053E-2},{"$f":"Timely!F197","v":5.8000000000000052E-2},{"$f":"Timely!G197","v":6.1000000000000054E-2},{"$f":"Timely!J197","v":6.2999999999999945E-2},{"$f":"Timely!K197","v":5.7000000000000051E-2},{"$f":"Timely!L197","v":8.0999999999999961E-2},{"$f":"Timely!M197","v":7.5999999999999956E-2},{"$f":"Timely!N197","v":9.3999999999999972E-2},{"$f":"Timely!O197","v":7.5999999999999956E-2},{"$f":"Timely!P197","v":7.1999999999999953E-2},{"$f":"Timely!Q197","v":6.6999999999999948E-2},{"$f":"Timely!R197","v":6.3999999999999946E-2},{"$f":"Timely!S197","v":5.3000000000000047E-2},{"$f":"Timely!T197","v":5.8000000000000052E-2},{"$f":"Timely!U197","v":6.2999999999999945E-2},{"$f":"Timely!V197","v":6.5999999999999948E-2},{"$f":"Timely!W197","v":7.4999999999999956E-2},null,null,null,null,{"$f":"Churn!B5","v":0.2185732271221448},{"$f":"Churn!C5","v":0.17902674733900528},{"$f":"Churn!D5","v":0.18139228198261259},{"$f":"Churn!E5","v":0.18710675901179558},{"$f":"Churn!F5","v":0.17981334022170059},{"$f":"Churn!G5","v":0.20469640134329894},{"$f":"Churn!H5","v":0.20364592061192413},{"$f":"Churn!I5","v":0.20923328500967492},{"$f":"Churn!J5","v":0.22003124743031},{"$f":"Churn!K5","v":0.21933378448168397},{"$f":"Churn!L5","v":0.2265365141948987},{"$f":"Churn!M5","v":0.22633206934467839},{"$f":"Churn!N5","v":0.25492482967556573},{"$f":"Churn!O5","v":0.24722582063089202},{"$f":"Churn!P5","v":0.25460008259499922},{"$f":"Churn!Q5","v":0.26374442793462111},{"$f":"Churn!R5","v":0.28839309717183326},{"$f":"Churn!S5","v":0.30950194567662226},null,{"$f":"Churn!B70","v":0.57054693617529562},{"$f":"Churn!C70","v":0.70166953852391367},{"$f":"Churn!D70","v":0.70346517049271007},{"$f":"Churn!E70","v":0.70147427374663196},{"$f":"Churn!F70","v":0.71755858691850294},{"$f":"Churn!G70","v":0.52368929154908661},{"$f":"Churn!H70","v":0.53716993906567367},{"$f":"Churn!I70","v":0.54965551516805211},{"$f":"Churn!J70","v":0.66094252186262048},{"$f":"Churn!K70","v":0.6645285699786867},{"$f":"Churn!L70","v":0.64186313973548015},{"$f":"Churn!M70","v":0.67836873314384827},{"$f":"Churn!N70","v":0.60572608220881385},{"$f":"Churn!O70","v":0.58482066536738808},{"$f":"Churn!P70","v":0.56770310932798396},{"$f":"Churn!Q70","v":0.54024304136162626},{"$f":"Churn!R70","v":0.63053424669249392},{"$f":"Churn!S70","v":0.47598503253190361},null,{"$f":"Churn!B134","v":9.9810733787282183E-2},{"$f":"Churn!C134","v":0.10048220291837934},{"$f":"Churn!D134","v":9.3212231692573075E-2},{"$f":"Churn!E134","v":8.1711948208492327E-2},{"$f":"Churn!F134","v":8.8814387818270987E-2},{"$f":"Churn!G134","v":0.13528277569118735},{"$f":"Churn!H134","v":0.13006286965779959},{"$f":"Churn!I134","v":0.12030811725156842},{"$f":"Churn!J134","v":0.13944409359698837},{"$f":"Churn!K134","v":0.12870095861217493},{"$f":"Churn!L134","v":0.11958471375213657},{"$f":"Churn!M134","v":0.12553890511189991},{"$f":"Churn!N134","v":0.1423959934757705},{"$f":"Churn!O134","v":0.13005035849174532},{"$f":"Churn!P134","v":0.12770698701456557},{"$f":"Churn!Q134","v":0.12801793515750748},{"$f":"Churn!R134","v":0.15174374047527461},{"$f":"Churn!S134","v":0.11668217184451216},null,{"$f":"Churn!B198","v":0.19211608327713359},{"$f":"Churn!C198","v":0.19473881821952518},{"$f":"Churn!D198","v":0.18309121793399044},{"$f":"Churn!E198","v":0.1671994445675889},{"$f":"Churn!F198","v":0.18311184004244954},{"$f":"Churn!G198","v":0.22205693420785719},{"$f":"Churn!H198","v":0.21764115310967982},{"$f":"Churn!I198","v":0.20552569784953142},{"$f":"Churn!J198","v":0.22410745774110738},{"$f":"Churn!K198","v":0.20414350086109953},{"$f":"Churn!L198","v":0.2004283694528266},{"$f":"Churn!M198","v":0.2023835197522445},{"$f":"Churn!N198","v":0.23410570784909099},{"$f":"Churn!O198","v":0.21515531666026769},{"$f":"Churn!P198","v":0.21216070516153573},{"$f":"Churn!Q198","v":0.21022925661923134},{"$f":"Churn!R198","v":0.24921526540032476},{"$f":"Churn!S198","v":0.1979727624481534},null,{"$f":"Unemp!B6","v":0.124},{"$f":"Unemp!C6","v":0.11799999999999999},{"$f":"Unemp!D6","v":0.11799999999999999},{"$f":"Unemp!E6","v":0.11799999999999999},{"$f":"Unemp!F6","v":0.11799999999999999},{"$f":"Unemp!$I6","v":0.105},{"$f":"Unemp!$I6","v":0.105},{"$f":"Unemp!$I6","v":0.105},{"$f":"Unemp!$I6","v":0.105},{"$f":"Unemp!J6","v":8.8999999999999996E-2},{"$f":"Unemp!K6","v":8.8999999999999996E-2},{"$f":"Unemp!L6","v":8.8999999999999996E-2},{"$f":"Unemp!M6","v":8.8999999999999996E-2},{"$f":"Unemp!N6","v":7.4999999999999997E-2},{"$f":"Unemp!O6","v":7.4999999999999997E-2},{"$f":"Unemp!P6","v":7.4999999999999997E-2},{"$f":"Unemp!Q6","v":7.4999999999999997E-2},{"$f":"Unemp!R6","v":6.2E-2},{"$f":"Unemp!S6","v":6.2E-2},{"$f":"Unemp!T6","v":6.2E-2},{"$f":"Unemp!U6","v":6.2E-2}]
["Los Angeles",{"$f":"Participation!V25/Participation!V$6","v":0.25532400340706923},"LRS",{"$f":"IF(W11>100000,\"Large\",(IF(W11>20000,\"Medium\",\"Small\")))","v":"Large"},{"$f":"Participation!B25","v":1055754},{"$f":"Participation!C25","v":1058962},{"$f":"Participation!D25","v":1059973},{"$f":"Participation!E25","v":1093422},{"$f":"Participation!F25","v":1124832},{"$f":"Participation!I25","v":1133944},{"$f":"Participation!J25","v":1134472},{"$f":"Participation!K25","v":1148512},{"$f":"Participation!L25","v":1169214},{"$f":"Participation!M25","v":1177757},{"$f":"Participation!N25","v":1180079},{"$f":"Participation!O25","v":1193453},{"$f":"Participation!P25","v":1190842},{"$f":"Participation!Q25","v":1185400},{"$f":"Participation!R25","v":1178282},{"$f":"Participation!S25","v":1183107},{"$f":"Participation!T25","v":1171844},{"$f":"Participation!U25","v":1148399},{"$f":"Participation!V25","v":1115699},null,null,null,{"$f":"(W11-S11)/(W$10-S$10)","v":0.67249438540312267},null,{"$f":"(W11-S11)/S11","v":-5.311377072721131E-2},{"$f":"(W11-E11)/E11","v":5.6779325486808481E-2},{"$f":"(W11-V11)/V11","v":-2.8474423958920202E-2},null,{"$f":"PRI!B24","v":0.47399999999999998},{"$f":"PRI!C24","v":0.52100000000000002},{"$f":"PRI!F24","v":0.53900000000000003},{"$f":"PRI!G24","v":0.54200000000000004},{"$f":"PRI!H24","v":0.58334051625028915},{"$f":"PRI!I24","v":0.66276061455130608},null,null,null,null,null,null,null,null,null,null,null,null,null,null,null,null,null,null,null,null,{"$f":"DD_Jun2016!J24","v":0.22263104668721556},null,null,null,null,null,null,null,null,null,null,null,null,null,null,null,null,null,null,null,null,{"$f":"DD_Jun2016!P24","v":0.89782243272624529},null,null,{"$f":"Timely!C281","v":13.7},{"$f":"Timely!D281","v":13.7},{"$f":"Timely!E281","v":13.3},{"$f":"Timely!F281","v":13.3},{"$f":"Timely!G281","v":13},{"$f":"Timely!H281","v":13.3},{"$f":"Timely!I281","v":13.3},{"$f":"Timely!J281","v":13},{"$f":"Timely!K281","v":13.3},{"$f":"Timely!L281","v":13},{"$f":"Timely!M281","v":12.7},{"$f":"Timely!N281","v":12.7},{"$f":"Timely!O281","v":14},{"$f":"Timely!P281","v":14.3},{"$f":"Timely!Q281","v":12},{"$f":"Timely!R281","v":11.7},{"$f":"Timely!S281","v":0},{"$f":"Timely!T281","v":15.7},null,null,{"$f":"Timely!C89","v":3.2000000000000028E-2},{"$f":"Timely!D89","v":3.8000000000000034E-2},{"$f":"Timely!E89","v":2.5000000000000022E-2},{"$f":"Timely!F89","v":2.300000000000002E-2},{"$f":"Timely!G89","v":2.8000000000000025E-2},{"$f":"Timely!J89","v":4.3000000000000038E-2},{"$f":"Timely!K89","v":3.3000000000000029E-2},{"$f":"Timely!L89","v":2.5000000000000022E-2},{"$f":"Timely!M89","v":3.6000000000000032E-2},{"$f":"Timely!N89","v":3.1000000000000028E-2},{"$f":"Timely!O89","v":3.7000000000000033E-2},{"$f":"Timely!P89","v":2.8000000000000025E-2},{"$f":"Timely!Q89","v":3.5000000000000031E-2},{"$f":"Timely!R89","v":3.3000000000000029E-2},{"$f":"Timely!S89","v":2.9000000000000026E-2},{"$f":"Timely!T89","v":4.0000000000000036E-2},{"$f":"Timely!U89","v":3.5000000000000031E-2},{"$f":"Timely!V89","v":3.2000000000000028E-2},{"$f":"Timely!W89","v":3.6000000000000032E-2},null,null,null,null,null,{"$f":"Timely!C216","v":8.5999999999999965E-2},{"$f":"Timely!D216","v":6.9999999999999951E-2},{"$f":"Timely!E216","v":5.2000000000000046E-2},{"$f":"Timely!F216","v":4.1000000000000036E-2},{"$f":"Timely!G216","v":5.1000000000000045E-2},{"$f":"Timely!J216","v":4.9000000000000044E-2},{"$f":"Timely!K216","v":3.9000000000000035E-2},{"$f":"Timely!L216","v":4.3000000000000038E-2},{"$f":"Timely!M216","v":5.1000000000000045E-2},{"$f":"Timely!N216","v":6.1000000000000054E-2},{"$f":"Timely!O216","v":5.5000000000000049E-2},{"$f":"Timely!P216","v":6.4999999999999947E-2},{"$f":"Timely!Q216","v":7.0999999999999952E-2},{"$f":"Timely!R216","v":5.2000000000000046E-2},{"$f":"Timely!S216","v":5.1000000000000045E-2},{"$f":"Timely!T216","v":5.8000000000000052E-2},{"$f":"Timely!U216","v":7.7999999999999958E-2},{"$f":"Timely!V216","v":0.10499999999999998},{"$f":"Timely!W216","v":0.17100000000000004},null,null,null,null,{"$f":"Churn!B24","v":0.23060565347759163},{"$f":"Churn!C24","v":1.1533142680683664E-2},{"$f":"Churn!D24","v":1.0104954845008543E-2},{"$f":"Churn!E24","v":8.5804084656843412E-3},{"$f":"Churn!F24","v":7.630571675515496E-3},{"$f":"Churn!G24","v":3.3380035026269704E-2},{"$f":"Churn!H24","v":3.0741990929611298E-2},{"$f":"Churn!I24","v":2.4479952985520758E-2},{"$f":"Churn!J24","v":1.5496319204006858E-2},{"$f":"Churn!K24","v":1.9465730668238573E-2},{"$f":"Churn!L24","v":1.4986293024672555E-2},{"$f":"Churn!M24","v":1.286398343470946E-2},{"$f":"Churn!N24","v":0.16250618768121067},{"$f":"Churn!O24","v":0.1244704147546576},{"$f":"Churn!P24","v":0.16471375303759236},{"$f":"Churn!Q24","v":0.17464204191741026},{"$f":"Churn!R24","v":{"$error":"#DIV/0!"}},{"$f":"Churn!S24","v":0.41201818229590897},null,{"$f":"Churn!B71","v":0.49817992719708787},{"$f":"Churn!C71","v":0.48711111111111111},{"$f":"Churn!D71","v":0.48088113050706566},{"$f":"Churn!E71","v":0.49168821573697818},{"$f":"Churn!F71","v":0.50181028240405501},{"$f":"Churn!G71","v":0.51972982580874516},{"$f":"Churn!H71","v":0.48259705488621152},{"$f":"Churn!I71","v":0.49397993311036792},{"$f":"Churn!J71","v":0.51326412918108422},{"$f":"Churn!K71","v":0.47458085451595455},{"$f":"Churn!L71","v":0.47458085451595455},{"$f":"Churn!M71","v":0.4942765567765568},{"$f":"Churn!N71","v":0.53416294904907258},{"$f":"Churn!O71","v":0.49200913242009131},{"$f":"Churn!P71","v":0.51145038167938928},{"$f":"Churn!Q71","v":0.42925659472422062},{"$f":"Churn!R71","v":0.47681644359464626},{"$f":"Churn!S71","v":0.46504339440694309},null,{"$f":"Churn!B153","v":0.1128530370656428},{"$f":"Churn!C153","v":0.12192351382052254},{"$f":"Churn!D153","v":0.11781038190380271},{"$f":"Churn!E153","v":0.10445225184974581},{"$f":"Churn!F153","v":0.10741341355456846},{"$f":"Churn!G153","v":0.11308609945731152},{"$f":"Churn!H153","v":9.6210364695208481E-2},{"$f":"Churn!I153","v":7.8040629186173369E-2},{"$f":"Churn!J153","v":0.10418639893919303},{"$f":"Churn!K153","v":0.10400724364778564},{"$f":"Churn!L153","v":9.4577263310204218E-2},{"$f":"Churn!M153","v":9.0515471902714847E-2},{"$f":"Churn!N153","v":0.12181136074245623},{"$f":"Churn!O153","v":8.2493158150390364E-2},{"$f":"Churn!P153","v":8.1588576927811282E-2},{"$f":"Churn!Q153","v":7.9996042520914176E-2},{"$f":"Churn!R153","v":{"$error":"#DIV/0!"}},{"$f":"Churn!S153","v":7.7562707144398033E-3},null,{"$f":"Churn!B217","v":0.20103525357771457},{"$f":"Churn!C217","v":0.22115154278295945},{"$f":"Churn!D217","v":0.20925089147181317},{"$f":"Churn!E217","v":0.17737928420083535},{"$f":"Churn!F217","v":0.18226828675957915},{"$f":"Churn!G217","v":0.19366015057347641},{"$f":"Churn!H217","v":0.1786952239893918},{"$f":"Churn!I217","v":0.15353330295120907},{"$f":"Churn!J217","v":0.18344555614871963},{"$f":"Churn!K217","v":0.17506550533257478},{"$f":"Churn!L217","v":0.17512085237922984},{"$f":"Churn!M217","v":0.15677161999922543},{"$f":"Churn!N217","v":0.20996094584547545},{"$f":"Churn!O217","v":0.15608894996860451},{"$f":"Churn!P217","v":0.15224421740541388},{"$f":"Churn!Q217","v":0.14581111831763166},{"$f":"Churn!R217","v":{"$error":"#DIV/0!"}},{"$f":"Churn!S217","v":3.3545135416053813E-2},null,{"$f":"Unemp!B25","v":0.126},{"$f":"Unemp!C25","v":0.123},{"$f":"Unemp!D25","v":0.123},{"$f":"Unemp!E25","v":0.123},{"$f":"Unemp!F25","v":0.123},{"$f":"Unemp!$I25","v":0.109},{"$f":"Unemp!$I25","v":0.109},{"$f":"Unemp!$I25","v":0.109},{"$f":"Unemp!$I25","v":0.109},{"$f":"Unemp!J25","v":9.8000000000000004E-2},{"$f":"Unemp!K25","v":9.8000000000000004E-2},{"$f":"Unemp!L25","v":9.8000000000000004E-2},{"$f":"Unemp!M25","v":9.8000000000000004E-2},{"$f":"Unemp!N7","v":5.8999999999999997E-2},{"$f":"Unemp!O7","v":5.8999999999999997E-2},{"$f":"Unemp!P7","v":5.8999999999999997E-2},{"$f":"Unemp!Q7","v":5.8999999999999997E-2},{"$f":"Unemp!R7","v":4.7E-2},{"$f":"Unemp!S7","v":4.7E-2},{"$f":"Unemp!T7","v":4.7E-2},{"$f":"Unemp!U7","v":4.7E-2}]
["San Bernardino",{"$f":"Participation!V42/Participation!V$6","v":8.9723914797637749E-2},"C-IV","Large",{"$f":"Participation!B42","v":342917},{"$f":"Participation!C42","v":346744},{"$f":"Participation!D42","v":350194},{"$f":"Participation!E42","v":361404},{"$f":"Participation!F42","v":368935},{"$f":"Participation!I42","v":368618},{"$f":"Participation!J42","v":369163},{"$f":"Participation!K42","v":373620},{"$f":"Participation!L42","v":378592},{"$f":"Participation!M42","v":382585},{"$f":"Participation!N42","v":385964},{"$f":"Participation!O42","v":392265},{"$f":"Participation!P42","v":399898},{"$f":"Participation!Q42","v":398410},{"$f":"Participation!R42","v":398523},{"$f":"Participation!S42","v":403228},{"$f":"Participation!T42","v":405834},{"$f":"Participation!U42","v":396730},{"$f":"Participation!V42","v":392070},null,null,null,6.9341614639859883E-2,null,-1.6192290030939242E-2,0.143337892259643,-1.1746023744108084E-2,null,{"$f":"PRI!B41","v":0.69699999999999995},{"$f":"PRI!C41","v":0.78800000000000003},{"$f":"PRI!F41","v":0.75600000000000001},{"$f":"PRI!G41","v":0.84199999999999997},{"$f":"PRI!H41","v":0.85480513964161331},{"$f":"PRI!I41","v":0.92665518793589696},null,null,null,null,null,null,null,null,null,null,null,null,null,null,null,null,null,null,null,null,{"$f":"DD_Jun2016!J41","v":0.41169535218311037},null,null,null,null,null,null,null,null,null,null,null,null,null,null,null,null,null,null,null,null,{"$f":"DD_Jun2016!P41","v":0.91688823039922063},null,null,{"$f":"Timely!C298","v":11},{"$f":"Timely!D298","v":11},{"$f":"Timely!E298","v":10.7},{"$f":"Timely!F298","v":11.7},{"$f":"Timely!G298","v":10.7},{"$f":"Timely!H298","v":10.3},{"$f":"Timely!I298","v":10.7},{"$f":"Timely!J298","v":12},{"$f":"Timely!K298","v":10},{"$f":"Timely!L298","v":9.6999999999999993},{"$f":"Timely!M298","v":8.3000000000000007},{"$f":"Timely!N298","v":8.3000000000000007},{"$f":"Timely!O298","v":8},{"$f":"Timely!P298","v":8.6999999999999993},{"$f":"Timely!Q298","v":8},{"$f":"Timely!R298","v":8},{"$f":"Timely!S298","v":8},{"$f":"Timely!T298","v":8.3000000000000007},null,null,{"$f":"Timely!C106","v":0},{"$f":"Timely!D106","v":1.0000000000000009E-3},{"$f":"Timely!E106","v":1.0000000000000009E-3},{"$f":"Timely!F106","v":1.0000000000000009E-3},{"$f":"Timely!G106","v":1.0000000000000009E-3},{"$f":"Timely!J106","v":1.0000000000000009E-3},{"$f":"Timely!K106","v":0},{"$f":"Timely!L106","v":3.0000000000000027E-3},{"$f":"Timely!M106","v":2.0000000000000018E-3},{"$f":"Timely!N106","v":3.0000000000000027E-3},{"$f":"Timely!O106","v":1.0000000000000009E-3},{"$f":"Timely!P106","v":0},{"$f":"Timely!Q106","v":0},{"$f":"Timely!R106","v":0},{"$f":"Timely!S106","v":0},{"$f":"Timely!T106","v":0},{"$f":"Timely!U106","v":1.0000000000000009E-3},{"$f":"Timely!V106","v":1.0000000000000009E-3},{"$f":"Timely!W106","v":5.0000000000000044E-3},null,null,null,null,null,{"$f":"Timely!C233","v":6.4999999999999947E-2},{"$f":"Timely!D233","v":6.5999999999999948E-2},{"$f":"Timely!E233","v":4.7000000000000042E-2},{"$f":"Timely!F233","v":6.7999999999999949E-2},{"$f":"Timely!G233","v":6.3999999999999946E-2},{"$f":"Timely!J233","v":7.2999999999999954E-2},{"$f":"Timely!K233","v":6.7999999999999949E-2},{"$f":"Timely!L233","v":0.13800000000000001},{"$f":"Timely!M233","v":0.10499999999999998},{"$f":"Timely!N233","v":0.13600000000000001},{"$f":"Timely!O233","v":9.3999999999999972E-2},{"$f":"Timely!P233","v":5.2000000000000046E-2},{"$f":"Timely!Q233","v":3.7000000000000033E-2},{"$f":"Timely!R233","v":4.3000000000000038E-2},{"$f":"Timely!S233","v":3.8000000000000034E-2},{"$f":"Timely!T233","v":4.3000000000000038E-2},{"$f":"Timely!U233","v":4.8000000000000043E-2},{"$f":"Timely!V233","v":5.0000000000000044E-2},{"$f":"Timely!W233","v":3.9000000000000035E-2},null,null,null,null,{"$f":"Churn!B41","v":0.31817933446259766},{"$f":"Churn!C41","v":0.28197312269727254},{"$f":"Churn!D41","v":0.28698443489908088},{"$f":"Churn!E41","v":0.31009917283790223},{"$f":"Churn!F41","v":0.29146084942449951},{"$f":"Churn!G41","v":0.35175769371122734},{"$f":"Churn!H41","v":0.32729316192128716},{"$f":"Churn!I41","v":0.33089676256173084},{"$f":"Churn!J41","v":0.32798179120856791},{"$f":"Churn!K41","v":0.32831586747115488},{"$f":"Churn!L41","v":0.34885140496876715},{"$f":"Churn!M41","v":0.33661675338602692},{"$f":"Churn!N41","v":0.35132200791927448},{"$f":"Churn!O41","v":0.35225571251871624},{"$f":"Churn!P41","v":0.35482462234749984},{"$f":"Churn!Q41","v":0.35374520568549295},{"$f":"Churn!R41","v":0.36619103994018321},{"$f":"Churn!S41","v":0.3668827806201711},null,{"$f":"Churn!B72","v":1},{"$f":"Churn!C72","v":0.33333333333333331},{"$f":"Churn!D72","v":0.25},{"$f":"Churn!E72","v":0.33333333333333331},{"$f":"Churn!F72","v":1},{"$f":"Churn!G72","v":0.14285714285714285},{"$f":"Churn!H72","v":0.21428571428571427},{"$f":"Churn!I72","v":0.38461538461538464},{"$f":"Churn!J72","v":0.36363636363636365},{"$f":"Churn!K72","v":0.16666666666666666},{"$f":"Churn!L72","v":0},{"$f":"Churn!M72","v":9.0909090909090912E-2},{"$f":"Churn!N72","v":0.14285714285714285},{"$f":"Churn!O72","v":0},{"$f":"Churn!P72","v":0.11764705882352941},{"$f":"Churn!Q72","v":0},{"$f":"Churn!R72","v":0.1},{"$f":"Churn!S72","v":8.3333333333333329E-2},null,{"$f":"Churn!B170","v":4.0016049217600644E-2},{"$f":"Churn!C170","v":3.5703577853288024E-2},{"$f":"Churn!D170","v":3.2863318470905102E-2},{"$f":"Churn!E170","v":3.3436017358846944E-2},{"$f":"Churn!F170","v":4.3750323214562757E-2},{"$f":"Churn!G170","v":0.2177957482697889},{"$f":"Churn!H170","v":0.21047769539321745},{"$f":"Churn!I170","v":0.19157235117334867},{"$f":"Churn!J170","v":0.21090348105202916},{"$f":"Churn!K170","v":0.20042648919716924},{"$f":"Churn!L170","v":0.19805219900548784},{"$f":"Churn!M170","v":0.19376947040498443},{"$f":"Churn!N170","v":0.21927636557271377},{"$f":"Churn!O170","v":0.21677751781066801},{"$f":"Churn!P170","v":0.21357305646999239},{"$f":"Churn!Q170","v":0.20797543068285426},{"$f":"Churn!R170","v":0.23679801247977814},{"$f":"Churn!S170","v":0.22998088360237892},null,{"$f":"Churn!B234","v":0.12970442690918818},{"$f":"Churn!C234","v":0.12445032980211873},{"$f":"Churn!D234","v":0.11753389312631556},{"$f":"Churn!E234","v":0.11391181166100781},{"$f":"Churn!F234","v":0.13272482804985261},{"$f":"Churn!G234","v":0.28586312107756801},{"$f":"Churn!H234","v":0.28450224869332685},{"$f":"Churn!I234","v":0.26126990216765777},{"$f":"Churn!J234","v":0.28701883599990047},{"$f":"Churn!K234","v":0.26526690725031637},{"$f":"Churn!L234","v":0.27227990621698916},{"$f":"Churn!M234","v":0.265875868679607},{"$f":"Churn!N234","v":0.29629214427846751},{"$f":"Churn!O234","v":0.30021819711348879},{"$f":"Churn!P234","v":0.29602430995188656},{"$f":"Churn!Q234","v":0.28753778972119581},{"$f":"Churn!R234","v":0.32649641784146061},{"$f":"Churn!S234","v":0.32710280373831774},null,{"$f":"Unemp!B42","v":0.14199999999999999},{"$f":"Unemp!C42","v":0.13400000000000001},{"$f":"Unemp!D42","v":0.13400000000000001},{"$f":"Unemp!E42","v":0.13400000000000001},{"$f":"Unemp!F42","v":0.13400000000000001},{"$f":"Unemp!$I42","v":0.12},{"$f":"Unemp!$I42","v":0.12},{"$f":"Unemp!$I42","v":0.12},{"$f":"Unemp!$I42","v":0.12},{"$f":"Unemp!J42","v":9.8000000000000004E-2},{"$f":"Unemp!K42","v":9.8000000000000004E-2},{"$f":"Unemp!L42","v":9.8000000000000004E-2},{"$f":"Unemp!M42","v":9.8000000000000004E-2},{"$f":"Unemp!N8","v":8.7999999999999995E-2},{"$f":"Unemp!O8","v":8.7999999999999995E-2},{"$f":"Unemp!P8","v":8.7999999999999995E-2},{"$f":"Unemp!Q8","v":8.7999999999999995E-2},{"$f":"Unemp!R8","v":7.9000000000000001E-2},{"$f":"Unemp!S8","v":7.9000000000000001E-2},{"$f":"Unemp!T8","v":7.9000000000000001E-2},{"$f":"Unemp!U8","v":7.9000000000000001E-2}]
["Riverside",{"$f":"Participation!V39/Participation!V$6","v":6.5832093365780733E-2},"C-IV","Large",{"$f":"Participation!B39","v":253780},{"$f":"Participation!C39","v":259798},{"$f":"Participation!D39","v":259750},{"$f":"Participation!E39","v":267997},{"$f":"Participation!F39","v":276481},{"$f":"Participation!I39","v":276891},{"$f":"Participation!J39","v":274951},{"$f":"Participation!K39","v":278117},{"$f":"Participation!L39","v":284797},{"$f":"Participation!M39","v":287272},{"$f":"Participation!N39","v":285410},{"$f":"Participation!O39","v":289618},{"$f":"Participation!P39","v":296194},{"$f":"Participation!Q39","v":292785},{"$f":"Participation!R39","v":290231},{"$f":"Participation!S39","v":295239},{"$f":"Participation!T39","v":299730},{"$f":"Participation!U39","v":293265},{"$f":"Participation!V39","v":287669},null,null,null,2.7530329568777469E-2,null,-8.8274512371180197E-3,0.13353692174324217,-1.9081717900192658E-2,null,{"$f":"PRI!B38","v":0.47799999999999998},{"$f":"PRI!C38","v":0.55400000000000005},{"$f":"PRI!F38","v":0.55400000000000005},{"$f":"PRI!G38","v":0.59099999999999997},{"$f":"PRI!H38","v":0.63751163857777993},{"$f":"PRI!I38","v":0.69484033727327177},null,null,null,null,null,null,null,null,null,null,null,null,null,null,null,null,null,null,null,null,{"$f":"DD_Jun2016!J38","v":0.31165091684687618},null,null,null,null,null,null,null,null,null,null,null,null,null,null,null,null,null,null,null,null,{"$f":"DD_Jun2016!P38","v":0.90672780238911965},null,null,{"$f":"Timely!C295","v":12.7},{"$f":"Timely!D295","v":12.7},{"$f":"Timely!E295","v":11.7},{"$f":"Timely!F295","v":12},{"$f":"Timely!G295","v":11.3},{"$f":"Timely!H295","v":11.7},{"$f":"Timely!I295","v":11.7},{"$f":"Timely!J295","v":12.3},{"$f":"Timely!K295","v":11.3},{"$f":"Timely!L295","v":11.3},{"$f":"Timely!M295","v":11},{"$f":"Timely!N295","v":12.3},{"$f":"Timely!O295","v":11.3},{"$f":"Timely!P295","v":11.7},{"$f":"Timely!Q295","v":10},{"$f":"Timely!R295","v":11},{"$f":"Timely!S295","v":10.7},{"$f":"Timely!T295","v":9.6999999999999993},null,null,{"$f":"Timely!C103","v":1.0000000000000009E-3},{"$f":"Timely!D103","v":1.0000000000000009E-3},{"$f":"Timely!E103","v":0},{"$f":"Timely!F103","v":0},{"$f":"Timely!G103","v":1.0000000000000009E-3},{"$f":"Timely!J103","v":3.0000000000000027E-3},{"$f":"Timely!K103","v":1.0000000000000009E-3},{"$f":"Timely!L103","v":4.0000000000000036E-3},{"$f":"Timely!M103","v":3.0000000000000027E-3},{"$f":"Timely!N103","v":3.0000000000000027E-3},{"$f":"Timely!O103","v":4.0000000000000036E-3},{"$f":"Timely!P103","v":3.0000000000000027E-3},{"$f":"Timely!Q103","v":6.0000000000000053E-3},{"$f":"Timely!R103","v":5.0000000000000044E-3},{"$f":"Timely!S103","v":3.0000000000000027E-3},{"$f":"Timely!T103","v":1.0000000000000009E-3},{"$f":"Timely!U103","v":5.0000000000000044E-3},{"$f":"Timely!V103","v":3.0000000000000027E-3},{"$f":"Timely!W103","v":6.0000000000000053E-3},null,null,null,null,null,{"$f":"Timely!C230","v":8.5999999999999965E-2},{"$f":"Timely!D230","v":6.1000000000000054E-2},{"$f":"Timely!E230","v":5.2000000000000046E-2},{"$f":"Timely!F230","v":5.3000000000000047E-2},{"$f":"Timely!G230","v":5.8000000000000052E-2},{"$f":"Timely!J230","v":4.2000000000000037E-2},{"$f":"Timely!K230","v":4.2000000000000037E-2},{"$f":"Timely!L230","v":5.7000000000000051E-2},{"$f":"Timely!M230","v":4.8000000000000043E-2},{"$f":"Timely!N230","v":0.121},{"$f":"Timely!O230","v":0.11599999999999999},{"$f":"Timely!P230","v":0.126},{"$f":"Timely!Q230","v":0.11399999999999999},{"$f":"Timely!R230","v":9.6999999999999975E-2},{"$f":"Timely!S230","v":7.8999999999999959E-2},{"$f":"Timely!T230","v":7.999999999999996E-2},{"$f":"Timely!U230","v":6.7999999999999949E-2},{"$f":"Timely!V230","v":5.8000000000000052E-2},{"$f":"Timely!W230","v":5.4000000000000048E-2},null,null,null,null,{"$f":"Churn!B38","v":0.34539292188854731},{"$f":"Churn!C38","v":0.30304138031876005},{"$f":"Churn!D38","v":0.30580812766747079},{"$f":"Churn!E38","v":0.32601756913255941},{"$f":"Churn!F38","v":0.31362838515546637},{"$f":"Churn!G38","v":0.38433652307390836},{"$f":"Churn!H38","v":0.36981521135696727},{"$f":"Churn!I38","v":0.36725808481187872},{"$f":"Churn!J38","v":0.36521042084168337},{"$f":"Churn!K38","v":0.35406431442608305},{"$f":"Churn!L38","v":0.38157791030659693},{"$f":"Churn!M38","v":0.37633723892002036},{"$f":"Churn!N38","v":0.37192387304507818},{"$f":"Churn!O38","v":0.38589519262137073},{"$f":"Churn!P38","v":0.38389890374401509},{"$f":"Churn!Q38","v":0.37766300839251132},{"$f":"Churn!R38","v":0.38078577573845712},{"$f":"Churn!S38","v":0.3886172782698723},null,{"$f":"Churn!B73","v":0.92307692307692313},{"$f":"Churn!C73","v":0.71069182389937102},{"$f":"Churn!D73","v":0.66666666666666663},{"$f":"Churn!E73","v":0.6470588235294118},{"$f":"Churn!F73","v":0.70175438596491224},{"$f":"Churn!G73","v":0.46413502109704641},{"$f":"Churn!H73","v":0.39361702127659576},{"$f":"Churn!I73","v":0.46387832699619774},{"$f":"Churn!J73","v":0.3281853281853282},{"$f":"Churn!K73","v":0.44029850746268656},{"$f":"Churn!L73","v":0.449438202247191},{"$f":"Churn!M73","v":0.55601659751037347},{"$f":"Churn!N73","v":0.56224899598393574},{"$f":"Churn!O73","v":0.59259259259259256},{"$f":"Churn!P73","v":0.60165975103734437},{"$f":"Churn!Q73","v":0.64978902953586493},{"$f":"Churn!R73","v":0.74117647058823533},{"$f":"Churn!S73","v":0.61847389558232935},null,{"$f":"Churn!B167","v":2.8753797526621046E-2},{"$f":"Churn!C167","v":2.9175514726248731E-2},{"$f":"Churn!D167","v":2.7289048473967684E-2},{"$f":"Churn!E167","v":2.5659460531535106E-2},{"$f":"Churn!F167","v":3.2706386524611629E-2},{"$f":"Churn!G167","v":0.18241758241758241},{"$f":"Churn!H167","v":0.1759853345554537},{"$f":"Churn!I167","v":0.17173995631114067},{"$f":"Churn!J167","v":0.19440452799202323},{"$f":"Churn!K167","v":0.17361880870427629},{"$f":"Churn!L167","v":0.1598360655737705},{"$f":"Churn!M167","v":0.15554011438345181},{"$f":"Churn!N167","v":0.17564495403775823},{"$f":"Churn!O167","v":0.17026113865294137},{"$f":"Churn!P167","v":0.16996497110864944},{"$f":"Churn!Q167","v":0.15384403795901527},{"$f":"Churn!R167","v":0.17343881501430736},{"$f":"Churn!S167","v":0.17666720752880091},null,{"$f":"Churn!B231","v":0.11805321140332034},{"$f":"Churn!C231","v":0.11842550703228388},{"$f":"Churn!D231","v":0.11559176909266676},{"$f":"Churn!E231","v":0.10955474018246728},{"$f":"Churn!F231","v":0.12296887090054164},{"$f":"Churn!G231","v":0.25789473684210529},{"$f":"Churn!H231","v":0.25522873093908843},{"$f":"Churn!I231","v":0.24681831133061069},{"$f":"Churn!J231","v":0.27314584005396053},{"$f":"Churn!K231","v":0.24765182894813606},{"$f":"Churn!L231","v":0.24037776193870278},{"$f":"Churn!M231","v":0.23026350954086269},{"$f":"Churn!N231","v":0.25600474448947319},{"$f":"Churn!O231","v":0.25561274432410241},{"$f":"Churn!P231","v":0.25654920511361934},{"$f":"Churn!Q231","v":0.23163251272177143},{"$f":"Churn!R231","v":0.25696010772597205},{"$f":"Churn!S231","v":0.27275677429823136},null,{"$f":"Unemp!B39","v":0.14499999999999999},{"$f":"Unemp!C39","v":0.13700000000000001},{"$f":"Unemp!D39","v":0.13700000000000001},{"$f":"Unemp!E39","v":0.13700000000000001},{"$f":"Unemp!F39","v":0.13700000000000001},{"$f":"Unemp!$I39","v":0.122},{"$f":"Unemp!$I39","v":0.122},{"$f":"Unemp!$I39","v":0.122},{"$f":"Unemp!$I39","v":0.122},{"$f":"Unemp!J39","v":9.9000000000000005E-2},{"$f":"Unemp!K39","v":9.9000000000000005E-2},{"$f":"Unemp!L39","v":9.9000000000000005E-2},{"$f":"Unemp!M39","v":9.9000000000000005E-2},{"$f":"Unemp!N9","v":8.3000000000000004E-2},{"$f":"Unemp!O9","v":8.3000000000000004E-2},{"$f":"Unemp!P9","v":8.3000000000000004E-2},{"$f":"Unemp!Q9","v":8.3000000000000004E-2},{"$f":"Unemp!R9","v":6.6000000000000003E-2},{"$f":"Unemp!S9","v":6.6000000000000003E-2},{"$f":"Unemp!T9","v":6.6000000000000003E-2},{"$f":"Unemp!U9","v":6.6000000000000003E-2}]
["San Diego",{"$f":"Participation!V43/Participation!V$6","v":6.5768702837561421E-2},"CalWIN","Large",{"$f":"Participation!B43","v":235332},{"$f":"Participation!C43","v":240771},{"$f":"Participation!D43","v":243130},{"$f":"Participation!E43","v":246971},{"$f":"Participation!F43","v":253631},{"$f":"Participation!I43","v":253991},{"$f":"Participation!J43","v":256921},{"$f":"Participation!K43","v":260576},{"$f":"Participation!L43","v":270406},{"$f":"Participation!M43","v":272951},{"$f":"Participation!N43","v":276963},{"$f":"Participation!O43","v":300896},{"$f":"Participation!P43","v":285499},{"$f":"Participation!Q43","v":287399},{"$f":"Participation!R43","v":289089},{"$f":"Participation!S43","v":291188},{"$f":"Participation!T43","v":293435},{"$f":"Participation!U43","v":291088},{"$f":"Participation!V43","v":287392},null,null,null,1.8235351006329181E-2,null,-5.8701645514011259E-3,0.22121938367922764,-1.2697191227395151E-2,null,{"$f":"PRI!B42","v":0.33700000000000002},{"$f":"PRI!C42","v":0.41199999999999998},{"$f":"PRI!F42","v":0.438},{"$f":"PRI!G42","v":0.46600000000000003},{"$f":"PRI!H42","v":0.5173190533272255},{"$f":"PRI!I42","v":0.57292109557354953},null,null,null,null,null,null,null,null,null,null,null,null,null,null,null,null,null,null,null,null,{"$f":"DD_Jun2016!J42","v":0.290918814168041},null,null,null,null,null,null,null,null,null,null,null,null,null,null,null,null,null,null,null,null,{"$f":"DD_Jun2016!P42","v":0.90807458080725323},null,null,{"$f":"Timely!C299","v":8.3000000000000007},{"$f":"Timely!D299","v":7},{"$f":"Timely!E299","v":7.7},{"$f":"Timely!F299","v":8.6999999999999993},{"$f":"Timely!G299","v":9.6999999999999993},{"$f":"Timely!H299","v":10},{"$f":"Timely!I299","v":10.7},{"$f":"Timely!J299","v":11.7},{"$f":"Timely!K299","v":11},{"$f":"Timely!L299","v":11.3},{"$f":"Timely!M299","v":11.3},{"$f":"Timely!N299","v":11},{"$f":"Timely!O299","v":10.3},{"$f":"Timely!P299","v":11.7},{"$f":"Timely!Q299","v":11.3},{"$f":"Timely!R299","v":11.3},{"$f":"Timely!S299","v":10.3},{"$f":"Timely!T299","v":11.3},null,null,{"$f":"Timely!C107","v":4.8000000000000043E-2},{"$f":"Timely!D107","v":2.300000000000002E-2},{"$f":"Timely!E107","v":1.7000000000000015E-2},{"$f":"Timely!F107","v":2.8000000000000025E-2},{"$f":"Timely!G107","v":2.1000000000000019E-2},{"$f":"Timely!J107","v":3.1000000000000028E-2},{"$f":"Timely!K107","v":3.5000000000000031E-2},{"$f":"Timely!L107","v":3.7000000000000033E-2},{"$f":"Timely!M107","v":2.1000000000000019E-2},{"$f":"Timely!N107","v":2.6000000000000023E-2},{"$f":"Timely!O107","v":9.7999999999999976E-2},{"$f":"Timely!P107","v":6.4999999999999947E-2},{"$f":"Timely!Q107","v":6.5999999999999948E-2},{"$f":"Timely!R107","v":6.3999999999999946E-2},{"$f":"Timely!S107","v":6.2000000000000055E-2},{"$f":"Timely!T107","v":1.3000000000000012E-2},{"$f":"Timely!U107","v":1.2000000000000011E-2},{"$f":"Timely!V107","v":1.7000000000000015E-2},{"$f":"Timely!W107","v":9.000000000000008E-3},null,null,null,null,null,{"$f":"Timely!C234","v":5.7000000000000051E-2},{"$f":"Timely!D234","v":5.2000000000000046E-2},{"$f":"Timely!E234","v":6.1000000000000054E-2},{"$f":"Timely!F234","v":0.11499999999999999},{"$f":"Timely!G234","v":0.10799999999999998},{"$f":"Timely!J234","v":8.5999999999999965E-2},{"$f":"Timely!K234","v":0.10399999999999998},{"$f":"Timely!L234","v":8.8999999999999968E-2},{"$f":"Timely!M234","v":4.8000000000000043E-2},{"$f":"Timely!N234","v":3.6000000000000032E-2},{"$f":"Timely!O234","v":3.2000000000000028E-2},{"$f":"Timely!P234","v":2.6000000000000023E-2},{"$f":"Timely!Q234","v":2.4000000000000021E-2},{"$f":"Timely!R234","v":2.200000000000002E-2},{"$f":"Timely!S234","v":1.7000000000000015E-2},{"$f":"Timely!T234","v":2.1000000000000019E-2},{"$f":"Timely!U234","v":1.8000000000000016E-2},{"$f":"Timely!V234","v":1.8000000000000016E-2},{"$f":"Timely!W234","v":2.0000000000000018E-2},null,null,null,null,{"$f":"Churn!B42","v":0.19364724545716758},{"$f":"Churn!C42","v":0.20076167848782361},{"$f":"Churn!D42","v":0.20016637870352594},{"$f":"Churn!E42","v":0.19382312697215939},{"$f":"Churn!F42","v":0.1805980989673793},{"$f":"Churn!G42","v":0.10530213915392324},{"$f":"Churn!H42","v":0.10973033428606935},{"$f":"Churn!I42","v":0.17538285569041112},{"$f":"Churn!J42","v":0.22367827838057167},{"$f":"Churn!K42","v":0.19970440229440123},{"$f":"Churn!L42","v":0.19970440229440123},{"$f":"Churn!M42","v":0.17766351650245599},{"$f":"Churn!N42","v":0.21094813714568636},{"$f":"Churn!O42","v":0.20717517776341307},{"$f":"Churn!P42","v":0.20898255633496804},{"$f":"Churn!Q42","v":0.22189468816831398},{"$f":"Churn!R42","v":0.22699461203616328},{"$f":"Churn!S42","v":0.22151777749458393},null,{"$f":"Churn!B74","v":0.95284697508896798},{"$f":"Churn!C74","v":0.75109717868338555},{"$f":"Churn!D74","v":0.76706392199349949},{"$f":"Churn!E74","v":0.72606689734717411},{"$f":"Churn!F74","v":0.72933251684017142},{"$f":"Churn!G74","v":0.58768328445747797},{"$f":"Churn!H74","v":0.62629161882893225},{"$f":"Churn!I74","v":0.53692393114936143},{"$f":"Churn!J74","v":0.69768637532133682},{"$f":"Churn!K74","v":0.73927392739273923},{"$f":"Churn!L74","v":0.70461699895068208},{"$f":"Churn!M74","v":0.72233820459290188},{"$f":"Churn!N74","v":0.77424749163879603},{"$f":"Churn!O74","v":0.6977730646871686},{"$f":"Churn!P74","v":0.71187308085977485},{"$f":"Churn!Q74","v":0.60760712566201247},{"$f":"Churn!R74","v":0.60964467005076139},{"$f":"Churn!S74","v":0.63391038696537683},null,{"$f":"Churn!B171","v":0.16156673786697134},{"$f":"Churn!C171","v":0.17261889885787118},{"$f":"Churn!D171","v":0.16987310683585755},{"$f":"Churn!E171","v":0.15742236168150986},{"$f":"Churn!F171","v":0.1691313502916475},{"$f":"Churn!G171","v":0.11581208053691275},{"$f":"Churn!H171","v":0.12039164205229187},{"$f":"Churn!I171","v":0.11783093231856483},{"$f":"Churn!J171","v":0.15225355922201186},{"$f":"Churn!K171","v":0.14599663028349572},{"$f":"Churn!L171","v":0.12199984857279862},{"$f":"Churn!M171","v":0.14003544610792407},{"$f":"Churn!N171","v":0.1515973092564647},{"$f":"Churn!O171","v":0.13373576756968983},{"$f":"Churn!P171","v":0.1278694450899889},{"$f":"Churn!Q171","v":0.13175041958732353},{"$f":"Churn!R171","v":0.14085501656798305},{"$f":"Churn!S171","v":0.13390631491483174},null,{"$f":"Churn!B235","v":0.24742933783716656},{"$f":"Churn!C235","v":0.27093694549271485},{"$f":"Churn!D235","v":0.27003924779080685},{"$f":"Churn!E235","v":0.25515666097549722},{"$f":"Churn!F235","v":0.27584287339351843},{"$f":"Churn!G235","v":0.22689932885906039},{"$f":"Churn!H235","v":0.21956022317033147},{"$f":"Churn!I235","v":0.21171967020023558},{"$f":"Churn!J235","v":0.23472423713393495},{"$f":"Churn!K235","v":0.22926281346909871},{"$f":"Churn!L235","v":0.20483052772379678},{"$f":"Churn!M235","v":0.22389347511776503},{"$f":"Churn!N235","v":0.24191114407755071},{"$f":"Churn!O235","v":0.22489693757361601},{"$f":"Churn!P235","v":0.216799648823818},{"$f":"Churn!Q235","v":0.21976503109882514},{"$f":"Churn!R235","v":0.23952957792384161},{"$f":"Churn!S235","v":0.23332987120897383},null,{"$f":"Unemp!B43","v":0.105},{"$f":"Unemp!C43","v":0.1},{"$f":"Unemp!D43","v":0.1},{"$f":"Unemp!E43","v":0.1},{"$f":"Unemp!F43","v":0.1},{"$f":"Unemp!$I43","v":8.8999999999999996E-2},{"$f":"Unemp!$I43","v":8.8999999999999996E-2},{"$f":"Unemp!$I43","v":8.8999999999999996E-2},{"$f":"Unemp!$I43","v":8.8999999999999996E-2},{"$f":"Unemp!J43","v":7.8E-2},{"$f":"Unemp!K43","v":7.8E-2},{"$f":"Unemp!L43","v":7.8E-2},{"$f":"Unemp!M43","v":7.8E-2},{"$f":"Unemp!N10","v":8.6999999999999994E-2},{"$f":"Unemp!O10","v":8.6999999999999994E-2},{"$f":"Unemp!P10","v":8.6999999999999994E-2},{"$f":"Unemp!Q10","v":8.6999999999999994E-2},{"$f":"Unemp!R10","v":7.1999999999999995E-2},{"$f":"Unemp!S10","v":7.1999999999999995E-2},{"$f":"Unemp!T10","v":7.1999999999999995E-2},{"$f":"Unemp!U10","v":7.1999999999999995E-2}]
["Orange",{"$f":"Participation!V36/Participation!V$6","v":5.8263905067077251E-2},"CalWIN","Large",{"$f":"Participation!B36","v":205059},{"$f":"Participation!C36","v":209924},{"$f":"Participation!D36","v":213200},{"$f":"Participation!E36","v":218827},{"$f":"Participation!F36","v":225212},{"$f":"Participation!I36","v":227792},{"$f":"Participation!J36","v":230478},{"$f":"Participation!K36","v":232862},{"$f":"Participation!L36","v":240817},{"$f":"Participation!M36","v":245759},{"$f":"Participation!N36","v":248563},{"$f":"Participation!O36","v":270245},{"$f":"Participation!P36","v":273208},{"$f":"Participation!Q36","v":253714},{"$f":"Participation!R36","v":254662},{"$f":"Participation!S36","v":257750},{"$f":"Participation!T36","v":260178},{"$f":"Participation!U36","v":257551},{"$f":"Participation!V36","v":254598},null,null,null,6.8772095722160738E-4,null,-2.5131350574486967E-4,0.24158412944567173,-1.1465690290466743E-2,null,{"$f":"PRI!B35","v":0.39500000000000002},{"$f":"PRI!C35","v":0.45},{"$f":"PRI!F35","v":0.48199999999999998},{"$f":"PRI!G35","v":0.51800000000000002},{"$f":"PRI!H35","v":0.58262619430581397},{"$f":"PRI!I35","v":0.61073927765205804},null,null,null,null,null,null,null,null,null,null,null,null,null,null,null,null,null,null,null,null,{"$f":"DD_Jun2016!J35","v":0.26037018093817954},null,null,null,null,null,null,null,null,null,null,null,null,null,null,null,null,null,null,null,null,{"$f":"DD_Jun2016!P35","v":0.92857197948401526},null,null,{"$f":"Timely!C292","v":5},{"$f":"Timely!D292","v":5},{"$f":"Timely!E292","v":5},{"$f":"Timely!F292","v":5},{"$f":"Timely!G292","v":5},{"$f":"Timely!H292","v":5},{"$f":"Timely!I292","v":5.3},{"$f":"Timely!J292","v":5.3},{"$f":"Timely!K292","v":6},{"$f":"Timely!L292","v":6},{"$f":"Timely!M292","v":6},{"$f":"Timely!N292","v":9},{"$f":"Timely!O292","v":5.7},{"$f":"Timely!P292","v":6},{"$f":"Timely!Q292","v":5.7},{"$f":"Timely!R292","v":6},{"$f":"Timely!S292","v":6},{"$f":"Timely!T292","v":5.7},null,null,{"$f":"Timely!C100","v":3.0000000000000027E-3},{"$f":"Timely!D100","v":4.0000000000000036E-3},{"$f":"Timely!E100","v":1.0000000000000009E-3},{"$f":"Timely!F100","v":2.0000000000000018E-3},{"$f":"Timely!G100","v":4.0000000000000036E-3},{"$f":"Timely!J100","v":2.0000000000000018E-3},{"$f":"Timely!K100","v":2.0000000000000018E-3},{"$f":"Timely!L100","v":2.0000000000000018E-3},{"$f":"Timely!M100","v":5.0000000000000044E-3},{"$f":"Timely!N100","v":1.6000000000000014E-2},{"$f":"Timely!O100","v":2.300000000000002E-2},{"$f":"Timely!P100","v":1.8000000000000016E-2},{"$f":"Timely!Q100","v":1.5000000000000013E-2},{"$f":"Timely!R100","v":1.4000000000000012E-2},{"$f":"Timely!S100","v":1.2000000000000011E-2},{"$f":"Timely!T100","v":1.3000000000000012E-2},{"$f":"Timely!U100","v":1.3000000000000012E-2},{"$f":"Timely!V100","v":2.1000000000000019E-2},{"$f":"Timely!W100","v":1.3000000000000012E-2},null,null,null,null,null,{"$f":"Timely!C227","v":5.0000000000000044E-3},{"$f":"Timely!D227","v":6.0000000000000053E-3},{"$f":"Timely!E227","v":5.0000000000000044E-3},{"$f":"Timely!F227","v":5.0000000000000044E-3},{"$f":"Timely!G227","v":6.0000000000000053E-3},{"$f":"Timely!J227","v":7.0000000000000062E-3},{"$f":"Timely!K227","v":4.0000000000000036E-3},{"$f":"Timely!L227","v":4.0000000000000036E-3},{"$f":"Timely!M227","v":5.0000000000000044E-3},{"$f":"Timely!N227","v":1.2000000000000011E-2},{"$f":"Timely!O227","v":5.0000000000000044E-3},{"$f":"Timely!P227","v":5.0000000000000044E-3},{"$f":"Timely!Q227","v":4.0000000000000036E-3},{"$f":"Timely!R227","v":5.0000000000000044E-3},{"$f":"Timely!S227","v":3.0000000000000027E-3},{"$f":"Timely!T227","v":6.0000000000000053E-3},{"$f":"Timely!U227","v":1.2000000000000011E-2},{"$f":"Timely!V227","v":6.0000000000000053E-3},{"$f":"Timely!W227","v":5.0000000000000044E-3},null,null,null,null,{"$f":"Churn!B35","v":0.11307306010043738},{"$f":"Churn!C35","v":0.13406431922229131},{"$f":"Churn!D35","v":0.13192899174207584},{"$f":"Churn!E35","v":0.12976394566794144},{"$f":"Churn!F35","v":0.13421558546072337},{"$f":"Churn!G35","v":0.12890697244312926},{"$f":"Churn!H35","v":0.1391607510396102},{"$f":"Churn!I35","v":0.13374125874125875},{"$f":"Churn!J35","v":0.15173652205852345},{"$f":"Churn!K35","v":0.17542976939203353},{"$f":"Churn!L35","v":0.17542976939203353},{"$f":"Churn!M35","v":0.17022330866807611},{"$f":"Churn!N35","v":0.19194141973669235},{"$f":"Churn!O35","v":0.193245008397089},{"$f":"Churn!P35","v":0.19243357381664614},{"$f":"Churn!Q35","v":0.19323348488900777},{"$f":"Churn!R35","v":0.2015637949050553},{"$f":"Churn!S35","v":0.19881283620849563},null,{"$f":"Churn!B75","v":0.9576271186440678},{"$f":"Churn!C75","v":0.69230769230769229},{"$f":"Churn!D75","v":0.67647058823529416},{"$f":"Churn!E75","v":0.68076923076923079},{"$f":"Churn!F75","v":0.59615384615384615},{"$f":"Churn!G75","v":0.37216828478964403},{"$f":"Churn!H75","v":0.40061162079510704},{"$f":"Churn!I75","v":0.43390804597701149},{"$f":"Churn!J75","v":0.33692722371967654},{"$f":"Churn!K75","v":0.42942942942942941},{"$f":"Churn!L75","v":0.42592592592592593},{"$f":"Churn!M75","v":0.41741741741741739},{"$f":"Churn!N75","v":0.49855072463768119},{"$f":"Churn!O75","v":0.60797342192691028},{"$f":"Churn!P75","v":0.47383720930232559},{"$f":"Churn!Q75","v":0.45888594164456231},{"$f":"Churn!R75","v":0.51912568306010931},{"$f":"Churn!S75","v":0.55882352941176472},null,{"$f":"Churn!B164","v":0.11255047106325707},{"$f":"Churn!C164","v":0.11618394413915631},{"$f":"Churn!D164","v":0.10599208592425099},{"$f":"Churn!E164","v":8.3418147655210204E-2},{"$f":"Churn!F164","v":8.5532417165500377E-2},{"$f":"Churn!G164","v":8.7114494571564519E-2},{"$f":"Churn!H164","v":9.0236119974473519E-2},{"$f":"Churn!I164","v":8.3179565107275949E-2},{"$f":"Churn!J164","v":8.0945347119645489E-2},{"$f":"Churn!K164","v":9.4332372718539864E-2},{"$f":"Churn!L164","v":9.2676907365644018E-2},{"$f":"Churn!M164","v":0.1106722341345973},{"$f":"Churn!N164","v":0.1098924366900991},{"$f":"Churn!O164","v":0.11194151760189495},{"$f":"Churn!P164","v":0.10844651086912191},{"$f":"Churn!Q164","v":0.10691008880588482},{"$f":"Churn!R164","v":0.10987165130502197},{"$f":"Churn!S164","v":0.10741856912851422},null,{"$f":"Churn!B228","v":0.18493438761776582},{"$f":"Churn!C228","v":0.19067884146593397},{"$f":"Churn!D228","v":0.18271016716466124},{"$f":"Churn!E228","v":0.16264777264542393},{"$f":"Churn!F228","v":0.17140207402411264},{"$f":"Churn!G228","v":0.17704052943466414},{"$f":"Churn!H228","v":0.18132312273984258},{"$f":"Churn!I228","v":0.17004956763992909},{"$f":"Churn!J228","v":0.14910318632622915},{"$f":"Churn!K228","v":0.16553314121037463},{"$f":"Churn!L228","v":0.17331177396706524},{"$f":"Churn!M228","v":0.18963247188052515},{"$f":"Churn!N228","v":0.19780638604217837},{"$f":"Churn!O228","v":0.19758229192191457},{"$f":"Churn!P228","v":0.19911089359272402},{"$f":"Churn!Q228","v":0.18954148721271488},{"$f":"Churn!R228","v":0.2026875699888018},{"$f":"Churn!S228","v":0.20769516575155844},null,{"$f":"Unemp!B36","v":9.5000000000000001E-2},{"$f":"Unemp!C36","v":8.7999999999999995E-2},{"$f":"Unemp!D36","v":8.7999999999999995E-2},{"$f":"Unemp!E36","v":8.7999999999999995E-2},{"$f":"Unemp!F36","v":8.7999999999999995E-2},{"$f":"Unemp!$I36","v":7.5999999999999998E-2},{"$f":"Unemp!$I36","v":7.5999999999999998E-2},{"$f":"Unemp!$I36","v":7.5999999999999998E-2},{"$f":"Unemp!$I36","v":7.5999999999999998E-2},{"$f":"Unemp!J36","v":6.5000000000000002E-2},{"$f":"Unemp!K36","v":6.5000000000000002E-2},{"$f":"Unemp!L36","v":6.5000000000000002E-2},{"$f":"Unemp!M36","v":6.5000000000000002E-2},{"$f":"Unemp!N11","v":8.1000000000000003E-2},{"$f":"Unemp!O11","v":8.1000000000000003E-2},{"$f":"Unemp!P11","v":8.1000000000000003E-2},{"$f":"Unemp!Q11","v":8.1000000000000003E-2},{"$f":"Unemp!R11","v":6.5000000000000002E-2},{"$f":"Unemp!S11","v":6.5000000000000002E-2},{"$f":"Unemp!T11","v":6.5000000000000002E-2},{"$f":"Unemp!U11","v":6.5000000000000002E-2}]
["Fresno",{"$f":"Participation!V16/Participation!V$6","v":5.1460751193778666E-2},"CalWIN","Large",{"$f":"Participation!B16","v":208200},{"$f":"Participation!C16","v":211602},{"$f":"Participation!D16","v":213832},{"$f":"Participation!E16","v":215016},{"$f":"Participation!F16","v":215286},{"$f":"Participation!I16","v":219915},{"$f":"Participation!J16","v":220493},{"$f":"Participation!K16","v":217757},{"$f":"Participation!L16","v":220916},{"$f":"Participation!M16","v":226573},{"$f":"Participation!N16","v":230446},{"$f":"Participation!O16","v":224430},{"$f":"Participation!P16","v":223686},{"$f":"Participation!Q16","v":227846},{"$f":"Participation!R16","v":229388},{"$f":"Participation!S16","v":227770},{"$f":"Participation!T16","v":227643},{"$f":"Participation!U16","v":226870},{"$f":"Participation!V16","v":224870},null,null,null,4.8548801323862842E-2,null,-1.9695886445672835E-2,8.0067243035542746E-2,-8.8156212809097721E-3,null,{"$f":"PRI!B15","v":0.78300000000000003},{"$f":"PRI!C15","v":0.78900000000000003},{"$f":"PRI!F15","v":0.75800000000000001},{"$f":"PRI!G15","v":0.78300000000000003},{"$f":"PRI!H15","v":0.80626906421255717},{"$f":"PRI!I15","v":0.87322270167921334},null,null,null,null,null,null,null,null,null,null,null,null,null,null,null,null,null,null,null,null,{"$f":"DD_Jun2016!J15","v":0.45862364756055124},null,null,null,null,null,null,null,null,null,null,null,null,null,null,null,null,null,null,null,null,{"$f":"DD_Jun2016!P15","v":0.94778871319748137},null,null,{"$f":"Timely!C272","v":7.3},{"$f":"Timely!D272","v":7.3},{"$f":"Timely!E272","v":7},{"$f":"Timely!F272","v":6.3},{"$f":"Timely!G272","v":7},{"$f":"Timely!H272","v":7.3},{"$f":"Timely!I272","v":10.3},{"$f":"Timely!J272","v":10.7},{"$f":"Timely!K272","v":9},{"$f":"Timely!L272","v":9},{"$f":"Timely!M272","v":9},{"$f":"Timely!N272","v":10.7},{"$f":"Timely!O272","v":8.6999999999999993},{"$f":"Timely!P272","v":8.6999999999999993},{"$f":"Timely!Q272","v":7.3},{"$f":"Timely!R272","v":8},{"$f":"Timely!S272","v":8},{"$f":"Timely!T272","v":7.7},null,null,{"$f":"Timely!C80","v":0},{"$f":"Timely!D80","v":0},{"$f":"Timely!E80","v":0},{"$f":"Timely!F80","v":3.2000000000000028E-2},{"$f":"Timely!G80","v":1.6000000000000014E-2},{"$f":"Timely!J80","v":3.1000000000000028E-2},{"$f":"Timely!K80","v":4.0000000000000036E-2},{"$f":"Timely!L80","v":8.0999999999999961E-2},{"$f":"Timely!M80","v":7.4999999999999956E-2},{"$f":"Timely!N80","v":9.4999999999999973E-2},{"$f":"Timely!O80","v":8.6999999999999966E-2},{"$f":"Timely!P80","v":5.2000000000000046E-2},{"$f":"Timely!Q80","v":4.3000000000000038E-2},{"$f":"Timely!R80","v":4.2000000000000037E-2},{"$f":"Timely!S80","v":5.9000000000000052E-2},{"$f":"Timely!T80","v":5.600000000000005E-2},{"$f":"Timely!U80","v":6.4999999999999947E-2},{"$f":"Timely!V80","v":4.1000000000000036E-2},{"$f":"Timely!W80","v":5.1000000000000045E-2},null,null,null,null,null,{"$f":"Timely!C207","v":4.8000000000000043E-2},{"$f":"Timely!D207","v":5.0000000000000044E-2},{"$f":"Timely!E207","v":2.9000000000000026E-2},{"$f":"Timely!F207","v":2.7000000000000024E-2},{"$f":"Timely!G207","v":3.0000000000000027E-2},{"$f":"Timely!J207","v":2.9000000000000026E-2},{"$f":"Timely!K207","v":6.6999999999999948E-2},{"$f":"Timely!L207","v":0.16500000000000004},{"$f":"Timely!M207","v":8.7999999999999967E-2},{"$f":"Timely!N207","v":7.6999999999999957E-2},{"$f":"Timely!O207","v":3.0000000000000027E-2},{"$f":"Timely!P207","v":2.300000000000002E-2},{"$f":"Timely!Q207","v":3.6000000000000032E-2},{"$f":"Timely!R207","v":7.3999999999999955E-2},{"$f":"Timely!S207","v":2.7000000000000024E-2},{"$f":"Timely!T207","v":7.6999999999999957E-2},{"$f":"Timely!U207","v":5.0000000000000044E-2},{"$f":"Timely!V207","v":8.9999999999999969E-2},{"$f":"Timely!W207","v":3.1000000000000028E-2},null,null,null,null,{"$f":"Churn!B15","v":0.12926097627488412},{"$f":"Churn!C15","v":0.12311843226356149},{"$f":"Churn!D15","v":0.13192137320044298},{"$f":"Churn!E15","v":0.12276906435911303},{"$f":"Churn!F15","v":9.6555886029570243E-2},{"$f":"Churn!G15","v":7.7333207511559879E-2},{"$f":"Churn!H15","v":0.12084539914422786},{"$f":"Churn!I15","v":0.13402555910543132},{"$f":"Churn!J15","v":0.13245273873000485},{"$f":"Churn!K15","v":0.12508059316569956},{"$f":"Churn!L15","v":0.12508059316569956},{"$f":"Churn!M15","v":0.14093984545420934},{"$f":"Churn!N15","v":0.14009455898310338},{"$f":"Churn!O15","v":0.13403171711316303},{"$f":"Churn!P15","v":0.14229016032694122},{"$f":"Churn!Q15","v":0.15064632496618066},{"$f":"Churn!R15","v":0.14801611350753985},{"$f":"Churn!S15","v":0.14873457174915847},null,{"$f":"Churn!B76","v":0.94117647058823528},{"$f":"Churn!C76","v":0.56818181818181823},{"$f":"Churn!D76","v":0.6071428571428571},{"$f":"Churn!E76","v":0.676056338028169},{"$f":"Churn!F76","v":0.63157894736842102},{"$f":"Churn!G76","v":0.48},{"$f":"Churn!H76","v":0.39449541284403672},{"$f":"Churn!I76","v":0.55963302752293576},{"$f":"Churn!J76","v":0.39370078740157483},{"$f":"Churn!K76","v":0.63461538461538458},{"$f":"Churn!L76","v":0.55782312925170063},{"$f":"Churn!M76","v":0.84761904761904761},{"$f":"Churn!N76","v":0.7589285714285714},{"$f":"Churn!O76","v":0.75652173913043474},{"$f":"Churn!P76","v":0.65734265734265729},{"$f":"Churn!Q76","v":0.64166666666666672},{"$f":"Churn!R76","v":0.57931034482758625},{"$f":"Churn!S76","v":0.58490566037735847},null,{"$f":"Churn!B144","v":0.20372382457526669},{"$f":"Churn!C144","v":0.20593805989250064},{"$f":"Churn!D144","v":0.17152938698125131},{"$f":"Churn!E144","v":0.15703265349254994},{"$f":"Churn!F144","v":0.16002095886822112},{"$f":"Churn!G144","v":0.1284361015865636},{"$f":"Churn!H144","v":0.15717907351924407},{"$f":"Churn!I144","v":0.16488378877759408},{"$f":"Churn!J144","v":0.14043993231810489},{"$f":"Churn!K144","v":0.12917144573706921},{"$f":"Churn!L144","v":0.13151494093120222},{"$f":"Churn!M144","v":0.1487758945386064},{"$f":"Churn!N144","v":0.1517095149748211},{"$f":"Churn!O144","v":0.13062123319425128},{"$f":"Churn!P144","v":0.14080146763744769},{"$f":"Churn!Q144","v":0.13925822253324002},{"$f":"Churn!R144","v":0.16483516483516483},{"$f":"Churn!S144","v":0.15292302417280987},null,{"$f":"Churn!B208","v":0.32447649150533386},{"$f":"Churn!C208","v":0.32219093933964676},{"$f":"Churn!D208","v":0.28281019591320833},{"$f":"Churn!E208","v":0.27190108844975164},{"$f":"Churn!F208","v":0.29719675137542573},{"$f":"Churn!G208","v":0.24710873481722556},{"$f":"Churn!H208","v":0.27857801336713528},{"$f":"Churn!I208","v":0.29427209958183409},{"$f":"Churn!J208","v":0.25629230118443319},{"$f":"Churn!K208","v":0.22742913321317385},{"$f":"Churn!L208","v":0.22677785499189251},{"$f":"Churn!M208","v":0.24519774011299436},{"$f":"Churn!N208","v":0.27574874105486352},{"$f":"Churn!O208","v":0.24362540565600371},{"$f":"Churn!P208","v":0.25064495786275298},{"$f":"Churn!Q208","v":0.25068633256176992},{"$f":"Churn!R208","v":0.28857367122673244},{"$f":"Churn!S208","v":0.27190125150008571},null,{"$f":"Unemp!B16","v":0.16900000000000001},{"$f":"Unemp!C16","v":0.16500000000000001},{"$f":"Unemp!D16","v":0.16500000000000001},{"$f":"Unemp!E16","v":0.16500000000000001},{"$f":"Unemp!F16","v":0.16500000000000001},{"$f":"Unemp!$I16","v":0.152},{"$f":"Unemp!$I16","v":0.152},{"$f":"Unemp!$I16","v":0.152},{"$f":"Unemp!$I16","v":0.152},{"$f":"Unemp!J16","v":0.13200000000000001},{"$f":"Unemp!K16","v":0.13200000000000001},{"$f":"Unemp!L16","v":0.13200000000000001},{"$f":"Unemp!M16","v":0.13200000000000001},{"$f":"Unemp!N12","v":0.17499999999999999},{"$f":"Unemp!O12","v":0.17499999999999999},{"$f":"Unemp!P12","v":0.17499999999999999},{"$f":"Unemp!Q12","v":0.17499999999999999},{"$f":"Unemp!R12","v":0.153},{"$f":"Unemp!S12","v":0.153},{"$f":"Unemp!T12","v":0.153},{"$f":"Unemp!U12","v":0.153}]
["Sacramento",{"$f":"Participation!V40/Participation!V$6","v":4.9406623463466227E-2},"CalWIN","Large",{"$f":"Participation!B40","v":199285},{"$f":"Participation!C40","v":200011},{"$f":"Participation!D40","v":200900},{"$f":"Participation!E40","v":204104},{"$f":"Participation!F40","v":208709},{"$f":"Participation!I40","v":210145},{"$f":"Participation!J40","v":209287},{"$f":"Participation!K40","v":210033},{"$f":"Participation!L40","v":213386},{"$f":"Participation!M40","v":213072},{"$f":"Participation!N40","v":215919},{"$f":"Participation!O40","v":217077},{"$f":"Participation!P40","v":220147},{"$f":"Participation!Q40","v":219747},{"$f":"Participation!R40","v":219096},{"$f":"Participation!S40","v":219932},{"$f":"Participation!T40","v":220373},{"$f":"Participation!U40","v":218604},{"$f":"Participation!V40","v":215894},null,null,null,3.4407539140993544E-2,null,-1.4614598167013547E-2,8.3342951050003763E-2,-1.2396845437411942E-2,null,{"$f":"PRI!B39","v":0.69},{"$f":"PRI!C39","v":0.70299999999999996},{"$f":"PRI!F39","v":0.65800000000000003},{"$f":"PRI!G39","v":0.68100000000000005},{"$f":"PRI!H39","v":0.7368741653264238},{"$f":"PRI!I39","v":0.83260287264778898},null,null,null,null,null,null,null,null,null,null,null,null,null,null,null,null,null,null,null,null,{"$f":"DD_Jun2016!J39","v":0.36168336815268581},null,null,null,null,null,null,null,null,null,null,null,null,null,null,null,null,null,null,null,null,{"$f":"DD_Jun2016!P39","v":0.9368167143590872},null,null,{"$f":"Timely!C296","v":11.3},{"$f":"Timely!D296","v":9.6999999999999993},{"$f":"Timely!E296","v":10},{"$f":"Timely!F296","v":10.3},{"$f":"Timely!G296","v":9.6999999999999993},{"$f":"Timely!H296","v":10.7},{"$f":"Timely!I296","v":10},{"$f":"Timely!J296","v":11},{"$f":"Timely!K296","v":10.7},{"$f":"Timely!L296","v":9.3000000000000007},{"$f":"Timely!M296","v":9.3000000000000007},{"$f":"Timely!N296","v":6.7},{"$f":"Timely!O296","v":6},{"$f":"Timely!P296","v":6.7},{"$f":"Timely!Q296","v":7},{"$f":"Timely!R296","v":8},{"$f":"Timely!S296","v":7},{"$f":"Timely!T296","v":6.7},null,null,{"$f":"Timely!C104","v":3.5000000000000031E-2},{"$f":"Timely!D104","v":8.9999999999999969E-2},{"$f":"Timely!E104","v":9.000000000000008E-3},{"$f":"Timely!F104","v":3.0000000000000027E-2},{"$f":"Timely!G104","v":1.3000000000000012E-2},{"$f":"Timely!J104","v":1.0000000000000009E-2},{"$f":"Timely!K104","v":1.100000000000001E-2},{"$f":"Timely!L104","v":1.2000000000000011E-2},{"$f":"Timely!M104","v":2.1000000000000019E-2},{"$f":"Timely!N104","v":2.4000000000000021E-2},{"$f":"Timely!O104","v":2.5000000000000022E-2},{"$f":"Timely!P104","v":1.100000000000001E-2},{"$f":"Timely!Q104","v":1.4000000000000012E-2},{"$f":"Timely!R104","v":1.100000000000001E-2},{"$f":"Timely!S104","v":8.0000000000000071E-3},{"$f":"Timely!T104","v":1.100000000000001E-2},{"$f":"Timely!U104","v":1.8000000000000016E-2},{"$f":"Timely!V104","v":8.0000000000000071E-3},{"$f":"Timely!W104","v":7.0000000000000062E-3},null,null,null,null,null,{"$f":"Timely!C231","v":0.13400000000000001},{"$f":"Timely!D231","v":7.6999999999999957E-2},{"$f":"Timely!E231","v":3.5000000000000031E-2},{"$f":"Timely!F231","v":1.5000000000000013E-2},{"$f":"Timely!G231","v":2.6000000000000023E-2},{"$f":"Timely!J231","v":4.4000000000000039E-2},{"$f":"Timely!K231","v":1.6000000000000014E-2},{"$f":"Timely!L231","v":1.6000000000000014E-2},{"$f":"Timely!M231","v":2.0000000000000018E-2},{"$f":"Timely!N231","v":2.9000000000000026E-2},{"$f":"Timely!O231","v":1.9000000000000017E-2},{"$f":"Timely!P231","v":1.8000000000000016E-2},{"$f":"Timely!Q231","v":1.6000000000000014E-2},{"$f":"Timely!R231","v":2.5000000000000022E-2},{"$f":"Timely!S231","v":1.3000000000000012E-2},{"$f":"Timely!T231","v":1.3000000000000012E-2},{"$f":"Timely!U231","v":1.2000000000000011E-2},{"$f":"Timely!V231","v":1.0000000000000009E-2},{"$f":"Timely!W231","v":8.0000000000000071E-3},null,null,null,null,{"$f":"Churn!B39","v":0.14218200680076076},{"$f":"Churn!C39","v":0.13719066284443923},{"$f":"Churn!D39","v":0.13874400166910078},{"$f":"Churn!E39","v":0.11980069324090122},{"$f":"Churn!F39","v":0.11338988057560029},{"$f":"Churn!G39","v":0.11231961632338458},{"$f":"Churn!H39","v":0.12032686414708886},{"$f":"Churn!I39","v":0.12264643301617889},{"$f":"Churn!J39","v":0.14564750578130162},{"$f":"Churn!K39","v":0.15367226630025266},{"$f":"Churn!L39","v":0.15367226630025266},{"$f":"Churn!M39","v":0.16204657056866784},{"$f":"Churn!N39","v":0.18726291831745764},{"$f":"Churn!O39","v":0.18866016904598212},{"$f":"Churn!P39","v":0.18520481562807603},{"$f":"Churn!Q39","v":0.20028022417934346},{"$f":"Churn!R39","v":0.20732366266262106},{"$f":"Churn!S39","v":0.20378160186955599},null,{"$f":"Churn!B77","v":0.65944734876773714},{"$f":"Churn!C77","v":0.84484038604305867},{"$f":"Churn!D77","v":0.67683508102955192},{"$f":"Churn!E77","v":0.63107822410147996},{"$f":"Churn!F77","v":0.61488439306358378},{"$f":"Churn!G77","v":0.57378174330816745},{"$f":"Churn!H77","v":0.55270655270655267},{"$f":"Churn!I77","v":0.48702742772424018},{"$f":"Churn!J77","v":0.62033898305084745},{"$f":"Churn!K77","v":0.56346541302887843},{"$f":"Churn!L77","v":0.56346541302887843},{"$f":"Churn!M77","v":0.58678160919540234},{"$f":"Churn!N77","v":0.54055555555555557},{"$f":"Churn!O77","v":0.49924050632911393},{"$f":"Churn!P77","v":0.54540626659585767},{"$f":"Churn!Q77","v":0.52207001522070018},{"$f":"Churn!R77","v":0.52494061757719712},{"$f":"Churn!S77","v":0.50027793218454697},null,{"$f":"Churn!B168","v":0.12373617863442757},{"$f":"Churn!C168","v":0.12394493157420307},{"$f":"Churn!D168","v":0.10147637411865529},{"$f":"Churn!E168","v":7.9866701613809113E-2},{"$f":"Churn!F168","v":9.000216872695728E-2},{"$f":"Churn!G168","v":9.4445172850836936E-2},{"$f":"Churn!H168","v":9.6389574530393679E-2},{"$f":"Churn!I168","v":8.604354383386828E-2},{"$f":"Churn!J168","v":0.10077145612343298},{"$f":"Churn!K168","v":9.9955413238214913E-2},{"$f":"Churn!L168","v":9.7969376893474167E-2},{"$f":"Churn!M168","v":0.10452295229522952},{"$f":"Churn!N168","v":0.11754084643502004},{"$f":"Churn!O168","v":0.12337770382695508},{"$f":"Churn!P168","v":0.12193516537765345},{"$f":"Churn!Q168","v":0.11827829723438671},{"$f":"Churn!R168","v":0.12620247366010079},{"$f":"Churn!S168","v":0.12790697674418605},null,{"$f":"Churn!B232","v":0.19498343587316611},{"$f":"Churn!C232","v":0.20433499959026469},{"$f":"Churn!D232","v":0.17580148806045731},{"$f":"Churn!E232","v":0.15475343542891376},{"$f":"Churn!F232","v":0.17232704402515722},{"$f":"Churn!G232","v":0.18146060049822998},{"$f":"Churn!H232","v":0.1804794377274819},{"$f":"Churn!I232","v":0.169921497351019},{"$f":"Churn!J232","v":0.17322696589813272},{"$f":"Churn!K232","v":0.17599610879169875},{"$f":"Churn!L232","v":0.17227544419880456},{"$f":"Churn!M232","v":0.17533003300330033},{"$f":"Churn!N232","v":0.19698771304003171},{"$f":"Churn!O232","v":0.21039933444259568},{"$f":"Churn!P232","v":0.20725687016620042},{"$f":"Churn!Q232","v":0.20408726871030103},{"$f":"Churn!R232","v":0.22139257901969767},{"$f":"Churn!S232","v":0.22225660977982137},null,{"$f":"Unemp!B40","v":0.127},{"$f":"Unemp!C40","v":0.121},{"$f":"Unemp!D40","v":0.121},{"$f":"Unemp!E40","v":0.121},{"$f":"Unemp!F40","v":0.121},{"$f":"Unemp!$I40","v":0.106},{"$f":"Unemp!$I40","v":0.106},{"$f":"Unemp!$I40","v":0.106},{"$f":"Unemp!$I40","v":0.106},{"$f":"Unemp!J40","v":8.8999999999999996E-2},{"$f":"Unemp!K40","v":8.8999999999999996E-2},{"$f":"Unemp!L40","v":8.8999999999999996E-2},{"$f":"Unemp!M40","v":8.8999999999999996E-2},{"$f":"Unemp!N13","v":6.2E-2},{"$f":"Unemp!O13","v":6.2E-2},{"$f":"Unemp!P13","v":6.2E-2},{"$f":"Unemp!Q13","v":6.2E-2},{"$f":"Unemp!R13","v":0.05},{"$f":"Unemp!S13","v":0.05},{"$f":"Unemp!T13","v":0.05},{"$f":"Unemp!U13","v":0.05}]
["Kern",{"$f":"Participation!V21/Participation!V$6","v":3.7892889688123176E-2},"C-IV","Large",{"$f":"Participation!B21","v":134045},{"$f":"Participation!C21","v":136622},{"$f":"Participation!D21","v":138799},{"$f":"Participation!E21","v":140798},{"$f":"Participation!F21","v":140403},{"$f":"Participation!I21","v":144045},{"$f":"Participation!J21","v":144678},{"$f":"Participation!K21","v":144653},{"$f":"Participation!L21","v":142748},{"$f":"Participation!M21","v":147170},{"$f":"Participation!N21","v":147731},{"$f":"Participation!O21","v":148150},{"$f":"Participation!P21","v":147285},{"$f":"Participation!Q21","v":149749},{"$f":"Participation!R21","v":157116},{"$f":"Participation!S21","v":160254},{"$f":"Participation!T21","v":161315},{"$f":"Participation!U21","v":163371},{"$f":"Participation!V21","v":165582},null,null,null,-9.0972587872470742E-2,null,5.388375467807225E-2,0.23527173710321161,1.3533613676845952E-2,null,{"$f":"PRI!B20","v":0.59599999999999997},{"$f":"PRI!C20","v":0.626},{"$f":"PRI!F20","v":0.65400000000000003},{"$f":"PRI!G20","v":0.64},{"$f":"PRI!H20","v":0.6560986851203231},{"$f":"PRI!I20","v":0.76605508020541824},null,null,null,null,null,null,null,null,null,null,null,null,null,null,null,null,null,null,null,null,{"$f":"DD_Jun2016!J20","v":0.3922669700564958},null,null,null,null,null,null,null,null,null,null,null,null,null,null,null,null,null,null,null,null,{"$f":"DD_Jun2016!P20","v":0.95851390608629394},null,null,{"$f":"Timely!C277","v":14},{"$f":"Timely!D277","v":15},{"$f":"Timely!E277","v":14.3},{"$f":"Timely!F277","v":15.3},{"$f":"Timely!G277","v":15.7},{"$f":"Timely!H277","v":14.7},{"$f":"Timely!I277","v":14.7},{"$f":"Timely!J277","v":15},{"$f":"Timely!K277","v":16},{"$f":"Timely!L277","v":16},{"$f":"Timely!M277","v":15},{"$f":"Timely!N277","v":14.3},{"$f":"Timely!O277","v":14.7},{"$f":"Timely!P277","v":14},{"$f":"Timely!Q277","v":12.3},{"$f":"Timely!R277","v":12.3},{"$f":"Timely!S277","v":12.7},{"$f":"Timely!T277","v":12.7},null,null,{"$f":"Timely!C85","v":1.3000000000000012E-2},{"$f":"Timely!D85","v":1.2000000000000011E-2},{"$f":"Timely!E85","v":1.3000000000000012E-2},{"$f":"Timely!F85","v":1.100000000000001E-2},{"$f":"Timely!G85","v":1.4000000000000012E-2},{"$f":"Timely!J85","v":2.5000000000000022E-2},{"$f":"Timely!K85","v":9.000000000000008E-3},{"$f":"Timely!L85","v":8.0000000000000071E-3},{"$f":"Timely!M85","v":1.6000000000000014E-2},{"$f":"Timely!N85","v":2.300000000000002E-2},{"$f":"Timely!O85","v":1.6000000000000014E-2},{"$f":"Timely!P85","v":6.0000000000000053E-3},{"$f":"Timely!Q85","v":5.0000000000000044E-3},{"$f":"Timely!R85","v":7.0000000000000062E-3},{"$f":"Timely!S85","v":6.0000000000000053E-3},{"$f":"Timely!T85","v":8.0000000000000071E-3},{"$f":"Timely!U85","v":4.0000000000000036E-3},{"$f":"Timely!V85","v":5.0000000000000044E-3},{"$f":"Timely!W85","v":1.4000000000000012E-2},null,null,null,null,null,{"$f":"Timely!C212","v":1.8000000000000016E-2},{"$f":"Timely!D212","v":2.300000000000002E-2},{"$f":"Timely!E212","v":3.1000000000000028E-2},{"$f":"Timely!F212","v":4.9000000000000044E-2},{"$f":"Timely!G212","v":3.7000000000000033E-2},{"$f":"Timely!J212","v":4.4000000000000039E-2},{"$f":"Timely!K212","v":4.8000000000000043E-2},{"$f":"Timely!L212","v":9.7999999999999976E-2},{"$f":"Timely!M212","v":9.5999999999999974E-2},{"$f":"Timely!N212","v":0.11599999999999999},{"$f":"Timely!O212","v":9.1999999999999971E-2},{"$f":"Timely!P212","v":7.999999999999996E-2},{"$f":"Timely!Q212","v":7.999999999999996E-2},{"$f":"Timely!R212","v":8.4999999999999964E-2},{"$f":"Timely!S212","v":5.3000000000000047E-2},{"$f":"Timely!T212","v":6.2000000000000055E-2},{"$f":"Timely!U212","v":5.3000000000000047E-2},{"$f":"Timely!V212","v":6.0000000000000053E-2},{"$f":"Timely!W212","v":5.5000000000000049E-2},null,null,null,null,{"$f":"Churn!B20","v":0.30347349177330896},{"$f":"Churn!C20","v":0.24468152663999493},{"$f":"Churn!D20","v":0.24268221574344023},{"$f":"Churn!E20","v":0.27462720939605045},{"$f":"Churn!F20","v":0.28075830419580422},{"$f":"Churn!G20","v":0.35253233409887585},{"$f":"Churn!H20","v":0.32474779995707231},{"$f":"Churn!I20","v":0.34040733415299085},{"$f":"Churn!J20","v":0.34932042632247973},{"$f":"Churn!K20","v":0.33890214797136037},{"$f":"Churn!L20","v":0.35767679483732184},{"$f":"Churn!M20","v":0.3589148571744295},{"$f":"Churn!N20","v":0.34354082116692142},{"$f":"Churn!O20","v":0.3302757619738752},{"$f":"Churn!P20","v":0.32339686159526526},{"$f":"Churn!Q20","v":0.33361499867969369},{"$f":"Churn!R20","v":0.34270650263620389},{"$f":"Churn!S20","v":0.34309320939839916},null,{"$f":"Churn!B78","v":0.91743119266055051},{"$f":"Churn!C78","v":0.76548672566371678},{"$f":"Churn!D78","v":0.70422535211267601},{"$f":"Churn!E78","v":0.75720164609053497},{"$f":"Churn!F78","v":0.77470355731225293},{"$f":"Churn!G78","v":0.50852272727272729},{"$f":"Churn!H78","v":0.46078431372549017},{"$f":"Churn!I78","v":0.47142857142857142},{"$f":"Churn!J78","v":0.59810126582278478},{"$f":"Churn!K78","v":0.65957446808510634},{"$f":"Churn!L78","v":0.75247524752475248},{"$f":"Churn!M78","v":0.61963190184049077},{"$f":"Churn!N78","v":0.69687500000000002},{"$f":"Churn!O78","v":0.83805668016194335},{"$f":"Churn!P78","v":0.98496240601503759},{"$f":"Churn!Q78","v":0.79003558718861211},{"$f":"Churn!R78","v":0.79061371841155237},{"$f":"Churn!S78","v":0.95199999999999996},null,{"$f":"Churn!B149","v":5.8813433262772469E-2},{"$f":"Churn!C149","v":5.8243987250072446E-2},{"$f":"Churn!D149","v":5.1108739475868609E-2},{"$f":"Churn!E149","v":5.4005866451946855E-2},{"$f":"Churn!F149","v":6.2539737587422692E-2},{"$f":"Churn!G149","v":0.22932330827067668},{"$f":"Churn!H149","v":0.20930373605046093},{"$f":"Churn!I149","v":0.20589021326634241},{"$f":"Churn!J149","v":0.22732426303854875},{"$f":"Churn!K149","v":0.20564926978376544},{"$f":"Churn!L149","v":0.19932182490752157},{"$f":"Churn!M149","v":0.17724852244133654},{"$f":"Churn!N149","v":0.21138211382113822},{"$f":"Churn!O149","v":0.17853206964954815},{"$f":"Churn!P149","v":0.17792894085900607},{"$f":"Churn!Q149","v":0.19003336797768175},{"$f":"Churn!R149","v":0.20463342121501094},{"$f":"Churn!S149","v":0.19581220350073614},null,{"$f":"Churn!B213","v":0.19537730991475485},{"$f":"Churn!C213","v":0.17450014488554041},{"$f":"Churn!D213","v":0.15243685521166844},{"$f":"Churn!E213","v":0.15868177373900041},{"$f":"Churn!F213","v":0.17866019305242473},{"$f":"Churn!G213","v":0.31003289473684209},{"$f":"Churn!H213","v":0.29475982532751094},{"$f":"Churn!I213","v":0.29290715698327008},{"$f":"Churn!J213","v":0.32919501133786849},{"$f":"Churn!K213","v":0.28393524283935245},{"$f":"Churn!L213","v":0.28939580764488287},{"$f":"Churn!M213","v":0.26484873310316576},{"$f":"Churn!N213","v":0.30964496695326665},{"$f":"Churn!O213","v":0.26212254793916684},{"$f":"Churn!P213","v":0.26062514054418712},{"$f":"Churn!Q213","v":0.2701712160166293},{"$f":"Churn!R213","v":0.30661356369551801},{"$f":"Churn!S213","v":0.29232782594470802},null,{"$f":"Unemp!B21","v":0.159},{"$f":"Unemp!C21","v":0.14899999999999999},{"$f":"Unemp!D21","v":0.14899999999999999},{"$f":"Unemp!E21","v":0.14899999999999999},{"$f":"Unemp!F21","v":0.14899999999999999},{"$f":"Unemp!$I21","v":0.13300000000000001},{"$f":"Unemp!$I21","v":0.13300000000000001},{"$f":"Unemp!$I21","v":0.13300000000000001},{"$f":"Unemp!$I21","v":0.13300000000000001},{"$f":"Unemp!J21","v":0.11700000000000001},{"$f":"Unemp!K21","v":0.11700000000000001},{"$f":"Unemp!L21","v":0.11700000000000001},{"$f":"Unemp!M21","v":0.11700000000000001},{"$f":"Unemp!N14","v":0.10199999999999999},{"$f":"Unemp!O14","v":0.10199999999999999},{"$f":"Unemp!P14","v":0.10199999999999999},{"$f":"Unemp!Q14","v":0.10199999999999999},{"$f":"Unemp!R14","v":8.5999999999999993E-2},{"$f":"Unemp!S14","v":8.5999999999999993E-2},{"$f":"Unemp!T14","v":8.5999999999999993E-2},{"$f":"Unemp!U14","v":8.5999999999999993E-2}]
["Tulare",{"$f":"Participation!V60/Participation!V$6","v":2.863604179472545E-2},"CalWIN","Large",{"$f":"Participation!B60","v":105927},{"$f":"Participation!C60","v":108269},{"$f":"Participation!D60","v":109820},{"$f":"Participation!E60","v":110086},{"$f":"Participation!F60","v":110559},{"$f":"Participation!I60","v":114115},{"$f":"Participation!J60","v":115236},{"$f":"Participation!K60","v":114774},{"$f":"Participation!L60","v":116505},{"$f":"Participation!M60","v":120087},{"$f":"Participation!N60","v":123505},{"$f":"Participation!O60","v":132774},{"$f":"Participation!P60","v":133499},{"$f":"Participation!Q60","v":123898},{"$f":"Participation!R60","v":125269},{"$f":"Participation!S60","v":123955},{"$f":"Participation!T60","v":125031},{"$f":"Participation!U60","v":125618},{"$f":"Participation!V60","v":125132},null,null,null,1.4721526740525033E-3,null,-1.0936464727905547E-3,0.18130410565766991,-3.8688722953716826E-3,null,{"$f":"PRI!B59","v":0.78300000000000003},{"$f":"PRI!C59","v":0.80200000000000005},{"$f":"PRI!F59","v":0.57199999999999995},{"$f":"PRI!G59","v":0.77500000000000002},{"$f":"PRI!H59","v":0.90358518151528189},{"$f":"PRI!I59","v":0.91335509939391257},null,null,null,null,null,null,null,null,null,null,null,null,null,null,null,null,null,null,null,null,{"$f":"DD_Jun2016!J59","v":0.46894287840906923},null,null,null,null,null,null,null,null,null,null,null,null,null,null,null,null,null,null,null,null,{"$f":"DD_Jun2016!P59","v":0.966274460454288},null,null,{"$f":"Timely!C316","v":9},{"$f":"Timely!D316","v":8.3000000000000007},{"$f":"Timely!E316","v":7},{"$f":"Timely!F316","v":6.3},{"$f":"Timely!G316","v":5.3},{"$f":"Timely!H316","v":4.7},{"$f":"Timely!I316","v":5.7},{"$f":"Timely!J316","v":9.3000000000000007},{"$f":"Timely!K316","v":7.7},{"$f":"Timely!L316","v":5.7},{"$f":"Timely!M316","v":5.7},{"$f":"Timely!N316","v":6.7},{"$f":"Timely!O316","v":5.7},{"$f":"Timely!P316","v":5.7},{"$f":"Timely!Q316","v":4.7},{"$f":"Timely!R316","v":5},{"$f":"Timely!S316","v":6},{"$f":"Timely!T316","v":5.3},null,null,{"$f":"Timely!C124","v":0},{"$f":"Timely!D124","v":0},{"$f":"Timely!E124","v":0},{"$f":"Timely!F124","v":0},{"$f":"Timely!G124","v":0},{"$f":"Timely!J124","v":0},{"$f":"Timely!K124","v":0},{"$f":"Timely!L124","v":0},{"$f":"Timely!M124","v":0},{"$f":"Timely!N124","v":0},{"$f":"Timely!O124","v":0},{"$f":"Timely!P124","v":9.000000000000008E-3},{"$f":"Timely!Q124","v":1.7000000000000015E-2},{"$f":"Timely!R124","v":2.300000000000002E-2},{"$f":"Timely!S124","v":1.5000000000000013E-2},{"$f":"Timely!T124","v":9.000000000000008E-3},{"$f":"Timely!U124","v":1.8000000000000016E-2},{"$f":"Timely!V124","v":3.400000000000003E-2},{"$f":"Timely!W124","v":9.000000000000008E-3},null,null,null,null,null,{"$f":"Timely!C251","v":4.500000000000004E-2},{"$f":"Timely!D251","v":6.1000000000000054E-2},{"$f":"Timely!E251","v":2.8000000000000025E-2},{"$f":"Timely!F251","v":3.0000000000000027E-2},{"$f":"Timely!G251","v":2.200000000000002E-2},{"$f":"Timely!J251","v":1.7000000000000015E-2},{"$f":"Timely!K251","v":2.300000000000002E-2},{"$f":"Timely!L251","v":4.500000000000004E-2},{"$f":"Timely!M251","v":2.1000000000000019E-2},{"$f":"Timely!N251","v":2.6000000000000023E-2},{"$f":"Timely!O251","v":1.8000000000000016E-2},{"$f":"Timely!P251","v":3.3000000000000029E-2},{"$f":"Timely!Q251","v":1.7000000000000015E-2},{"$f":"Timely!R251","v":2.200000000000002E-2},{"$f":"Timely!S251","v":1.4000000000000012E-2},{"$f":"Timely!T251","v":1.8000000000000016E-2},{"$f":"Timely!U251","v":2.1000000000000019E-2},{"$f":"Timely!V251","v":2.0000000000000018E-2},{"$f":"Timely!W251","v":1.3000000000000012E-2},null,null,null,null,{"$f":"Churn!B59","v":0.11737845823260812},{"$f":"Churn!C59","v":0.11718832332174096},{"$f":"Churn!D59","v":0.11720026920488415},{"$f":"Churn!E59","v":0.1158703071672355},{"$f":"Churn!F59","v":0.10177643317042898},{"$f":"Churn!G59","v":0.10698728001393971},{"$f":"Churn!H59","v":0.11466243845447717},{"$f":"Churn!I59","v":0.11620426216324889},{"$f":"Churn!J59","v":0.12307917459388262},{"$f":"Churn!K59","v":0.12344233503387138},{"$f":"Churn!L59","v":0.12344233503387138},{"$f":"Churn!M59","v":0.13191888576170888},{"$f":"Churn!N59","v":0.13445674398928295},{"$f":"Churn!O59","v":0.13877118644067796},{"$f":"Churn!P59","v":0.14233920672902617},{"$f":"Churn!Q59","v":0.14000889415950193},{"$f":"Churn!R59","v":0.13806879739978331},{"$f":"Churn!S59","v":0.14614020205136113},null,{"$f":"Churn!B79","v":0.9278688524590164},{"$f":"Churn!C79","v":0.69067103109656303},{"$f":"Churn!D79","v":0.65651438240270732},{"$f":"Churn!E79","v":0.66827697262479868},{"$f":"Churn!F79","v":0.72768532526475038},{"$f":"Churn!G79","v":0.43723849372384938},{"$f":"Churn!H79","v":0.46274509803921571},{"$f":"Churn!I79","v":0.42081447963800905},{"$f":"Churn!J79","v":0.44},{"$f":"Churn!K79","v":0.44432773109243695},{"$f":"Churn!L79","v":0.4567669172932331},{"$f":"Churn!M79","v":0.54935622317596566},{"$f":"Churn!N79","v":0.45349952061361459},{"$f":"Churn!O79","v":0.54891864057672501},{"$f":"Churn!P79","v":0.52400835073068897},{"$f":"Churn!Q79","v":0.5186274509803922},{"$f":"Churn!R79","v":0.43336275375110328},{"$f":"Churn!S79","v":0.45429104477611942},null,{"$f":"Churn!B188","v":0.25424192665571976},{"$f":"Churn!C188","v":0.23424506562468692},{"$f":"Churn!D188","v":0.20861415332771693},{"$f":"Churn!E188","v":0.16458053170580325},{"$f":"Churn!F188","v":0.18154700678872659},{"$f":"Churn!G188","v":0.17166182062178484},{"$f":"Churn!H188","v":0.19120395821880154},{"$f":"Churn!I188","v":0.17465921349416494},{"$f":"Churn!J188","v":0.21552502256543979},{"$f":"Churn!K188","v":0.18239970757561913},{"$f":"Churn!L188","v":0.1675891078149214},{"$f":"Churn!M188","v":0.21135584924131179},{"$f":"Churn!N188","v":0.21512519161982627},{"$f":"Churn!O188","v":0.20132719683185271},{"$f":"Churn!P188","v":0.20630500167093685},{"$f":"Churn!Q188","v":0.19916590377377683},{"$f":"Churn!R188","v":0.23154893886601205},{"$f":"Churn!S188","v":0.21367884451996602},null,{"$f":"Churn!B252","v":0.38149972632731255},{"$f":"Churn!C252","v":0.35196874060715361},{"$f":"Churn!D252","v":0.32455770850884585},{"$f":"Churn!E252","v":0.2872659563463329},{"$f":"Churn!F252","v":0.32606459576218882},{"$f":"Churn!G252","v":0.2957951241333035},{"$f":"Churn!H252","v":0.3273227047828477},{"$f":"Churn!I252","v":0.30499166421496521},{"$f":"Churn!J252","v":0.3359743255440778},{"$f":"Churn!K252","v":0.27560997898199763},{"$f":"Churn!L252","v":0.27197254815142796},{"$f":"Churn!M252","v":0.32618697993147333},{"$f":"Churn!N252","v":0.34133878385283595},{"$f":"Churn!O252","v":0.30910842341860217},{"$f":"Churn!P252","v":0.32081987300880027},{"$f":"Churn!Q252","v":0.31278608483368936},{"$f":"Churn!R252","v":0.3519163763066202},{"$f":"Churn!S252","v":0.32986406117247241},null,{"$f":"Unemp!B60","v":0.16900000000000001},{"$f":"Unemp!C60","v":0.16700000000000001},{"$f":"Unemp!D60","v":0.16700000000000001},{"$f":"Unemp!E60","v":0.16700000000000001},{"$f":"Unemp!F60","v":0.16700000000000001},{"$f":"Unemp!$I60","v":0.158},{"$f":"Unemp!$I60","v":0.158},{"$f":"Unemp!$I60","v":0.158},{"$f":"Unemp!$I60","v":0.158},{"$f":"Unemp!J60","v":0.14399999999999999},{"$f":"Unemp!K60","v":0.14399999999999999},{"$f":"Unemp!L60","v":0.14399999999999999},{"$f":"Unemp!M60","v":0.14399999999999999},{"$f":"Unemp!N15","v":7.0000000000000007E-2},{"$f":"Unemp!O15","v":7.0000000000000007E-2},{"$f":"Unemp!P15","v":7.0000000000000007E-2},{"$f":"Unemp!Q15","v":7.0000000000000007E-2},{"$f":"Unemp!R15","v":5.7000000000000002E-2},{"$f":"Unemp!S15","v":5.7000000000000002E-2},{"$f":"Unemp!T15","v":5.7000000000000002E-2},{"$f":"Unemp!U15","v":5.7000000000000002E-2}]
["San Joaquin",{"$f":"Participation!V45/Participation!V$6","v":2.701214580828416E-2},"C-IV","Large",{"$f":"Participation!B45","v":102770},{"$f":"Participation!C45","v":104725},{"$f":"Participation!D45","v":106481},{"$f":"Participation!E45","v":107532},{"$f":"Participation!F45","v":108719},{"$f":"Participation!I45","v":110995},{"$f":"Participation!J45","v":112172},{"$f":"Participation!K45","v":113230},{"$f":"Participation!L45","v":113328},{"$f":"Participation!M45","v":114754},{"$f":"Participation!N45","v":116685},{"$f":"Participation!O45","v":118029},{"$f":"Participation!P45","v":119161},{"$f":"Participation!Q45","v":120014},{"$f":"Participation!R45","v":122470},{"$f":"Participation!S45","v":122077},{"$f":"Participation!T45","v":121228},{"$f":"Participation!U45","v":119261},{"$f":"Participation!V45","v":118036},null,null,null,4.764616756750948E-2,null,-3.6204784845268227E-2,0.1485452953196458,-1.0271589203511625E-2,null,{"$f":"PRI!B44","v":0.63},{"$f":"PRI!C44","v":0.72399999999999998},{"$f":"PRI!F44","v":0.77600000000000002},{"$f":"PRI!G44","v":0.71299999999999997},{"$f":"PRI!H44","v":0.75448405858440615},{"$f":"PRI!I44","v":0.92455081561557007},null,null,null,null,null,null,null,null,null,null,null,null,null,null,null,null,null,null,null,null,{"$f":"DD_Jun2016!J44","v":0.3804511926842945},null,null,null,null,null,null,null,null,null,null,null,null,null,null,null,null,null,null,null,null,{"$f":"DD_Jun2016!P44","v":0.95995579481426285},null,null,{"$f":"Timely!C301","v":20.7},{"$f":"Timely!D301","v":21.7},{"$f":"Timely!E301","v":21.3},{"$f":"Timely!F301","v":21.7},{"$f":"Timely!G301","v":17.3},{"$f":"Timely!H301","v":16.3},{"$f":"Timely!I301","v":17.7},{"$f":"Timely!J301","v":19.3},{"$f":"Timely!K301","v":17.3},{"$f":"Timely!L301","v":20},{"$f":"Timely!M301","v":18},{"$f":"Timely!N301","v":18},{"$f":"Timely!O301","v":15.7},{"$f":"Timely!P301","v":14},{"$f":"Timely!Q301","v":12.7},{"$f":"Timely!R301","v":12.7},{"$f":"Timely!S301","v":13.7},{"$f":"Timely!T301","v":12.3},null,null,{"$f":"Timely!C109","v":9.000000000000008E-3},{"$f":"Timely!D109","v":1.5000000000000013E-2},{"$f":"Timely!E109","v":2.0000000000000018E-2},{"$f":"Timely!F109","v":1.9000000000000017E-2},{"$f":"Timely!G109","v":1.4000000000000012E-2},{"$f":"Timely!J109","v":1.3000000000000012E-2},{"$f":"Timely!K109","v":1.7000000000000015E-2},{"$f":"Timely!L109","v":2.200000000000002E-2},{"$f":"Timely!M109","v":1.8000000000000016E-2},{"$f":"Timely!N109","v":9.000000000000008E-3},{"$f":"Timely!O109","v":1.7000000000000015E-2},{"$f":"Timely!P109","v":2.0000000000000018E-2},{"$f":"Timely!Q109","v":2.200000000000002E-2},{"$f":"Timely!R109","v":1.3000000000000012E-2},{"$f":"Timely!S109","v":6.0000000000000053E-3},{"$f":"Timely!T109","v":8.0000000000000071E-3},{"$f":"Timely!U109","v":6.0000000000000053E-3},{"$f":"Timely!V109","v":3.0000000000000027E-3},{"$f":"Timely!W109","v":1.6000000000000014E-2},null,null,null,null,null,{"$f":"Timely!C236","v":6.2999999999999945E-2},{"$f":"Timely!D236","v":4.6000000000000041E-2},{"$f":"Timely!E236","v":5.8000000000000052E-2},{"$f":"Timely!F236","v":7.2999999999999954E-2},{"$f":"Timely!G236","v":3.7000000000000033E-2},{"$f":"Timely!J236","v":2.5000000000000022E-2},{"$f":"Timely!K236","v":2.6000000000000023E-2},{"$f":"Timely!L236","v":8.2999999999999963E-2},{"$f":"Timely!M236","v":6.2999999999999945E-2},{"$f":"Timely!N236","v":0.11699999999999999},{"$f":"Timely!O236","v":0.11399999999999999},{"$f":"Timely!P236","v":0.10999999999999999},{"$f":"Timely!Q236","v":0.10799999999999998},{"$f":"Timely!R236","v":0.11099999999999999},{"$f":"Timely!S236","v":9.6999999999999975E-2},{"$f":"Timely!T236","v":8.5999999999999965E-2},{"$f":"Timely!U236","v":8.8999999999999968E-2},{"$f":"Timely!V236","v":9.3999999999999972E-2},{"$f":"Timely!W236","v":9.2999999999999972E-2},null,null,null,null,{"$f":"Churn!B44","v":0.29944787268593698},{"$f":"Churn!C44","v":0.24737114290639545},{"$f":"Churn!D44","v":0.24491636602164643},{"$f":"Churn!E44","v":0.2560315496442932},{"$f":"Churn!F44","v":0.24858668341708542},{"$f":"Churn!G44","v":0.30209481808158767},{"$f":"Churn!H44","v":0.28390846349436977},{"$f":"Churn!I44","v":0.2865105122054466},{"$f":"Churn!J44","v":0.30127904640728587},{"$f":"Churn!K44","v":0.28947918845429826},{"$f":"Churn!L44","v":0.30953203843229421},{"$f":"Churn!M44","v":0.30250279642058164},{"$f":"Churn!N44","v":0.3022058311878088},{"$f":"Churn!O44","v":0.31230639256547449},{"$f":"Churn!P44","v":0.31453744493392072},{"$f":"Churn!Q44","v":0.31723736164153021},{"$f":"Churn!R44","v":0.33517915309446256},{"$f":"Churn!S44","v":0.33544345971879791},null,{"$f":"Churn!B80","v":0.85056258790436001},{"$f":"Churn!C80","v":0.90465205690119188},{"$f":"Churn!D80","v":0.85344526058062264},{"$f":"Churn!E80","v":0.95526940020332096},{"$f":"Churn!F80","v":0.97008928571428577},{"$f":"Churn!G80","v":0.92068334350213543},{"$f":"Churn!H80","v":0.94527896995708149},{"$f":"Churn!I80","v":0.88945172824791419},{"$f":"Churn!J80","v":0.86032326928941749},{"$f":"Churn!K80","v":0.73367697594501713},{"$f":"Churn!L80","v":0.73367697594501713},{"$f":"Churn!M80","v":0.79407135362014691},{"$f":"Churn!N80","v":0.86251728907330572},{"$f":"Churn!O80","v":0.74513438368860052},{"$f":"Churn!P80","v":0.78873239436619713},{"$f":"Churn!Q80","v":0.75854327762534302},{"$f":"Churn!R80","v":0.85211946050096343},{"$f":"Churn!S80","v":0.72673931265716685},null,{"$f":"Churn!B173","v":5.3043399144754796E-2},{"$f":"Churn!C173","v":4.8183184510653343E-2},{"$f":"Churn!D173","v":4.9779239892649985E-2},{"$f":"Churn!E173","v":4.7780701009929559E-2},{"$f":"Churn!F173","v":5.6103801169590642E-2},{"$f":"Churn!G173","v":0.19806719653179192},{"$f":"Churn!H173","v":0.16848390446521289},{"$f":"Churn!I173","v":0.18806932688432085},{"$f":"Churn!J173","v":0.19079726651480639},{"$f":"Churn!K173","v":0.14145670306991143},{"$f":"Churn!L173","v":0.13278048780487806},{"$f":"Churn!M173","v":0.13405114401076715},{"$f":"Churn!N173","v":0.15459224069675376},{"$f":"Churn!O173","v":0.16168540352801389},{"$f":"Churn!P173","v":0.15223615361832363},{"$f":"Churn!Q173","v":0.16122895462760392},{"$f":"Churn!R173","v":0.17954006393730021},{"$f":"Churn!S173","v":0.1821992591148372},null,{"$f":"Churn!B237","v":0.14366299699754345},{"$f":"Churn!C237","v":0.12969675537087791},{"$f":"Churn!D237","v":0.12414509566271319},{"$f":"Churn!E237","v":0.13035729440719682},{"$f":"Churn!F237","v":0.14638157894736842},{"$f":"Churn!G237","v":0.25957369942196534},{"$f":"Churn!H237","v":0.23641398407753547},{"$f":"Churn!I237","v":0.2596533655783958},{"$f":"Churn!J237","v":0.26824601366742595},{"$f":"Churn!K237","v":0.20457476997162266},{"$f":"Churn!L237","v":0.20565853658536584},{"$f":"Churn!M237","v":0.20107671601615074},{"$f":"Churn!N237","v":0.2328780680918448},{"$f":"Churn!O237","v":0.23782104012430308},{"$f":"Churn!P237","v":0.22874913614374567},{"$f":"Churn!Q237","v":0.24093978883287359},{"$f":"Churn!R237","v":0.26998040631123027},{"$f":"Churn!S237","v":0.2707155390914408},null,{"$f":"Unemp!B45","v":0.17299999999999999},{"$f":"Unemp!C45","v":0.16800000000000001},{"$f":"Unemp!D45","v":0.16800000000000001},{"$f":"Unemp!E45","v":0.16800000000000001},{"$f":"Unemp!F45","v":0.16800000000000001},{"$f":"Unemp!$I45","v":0.152},{"$f":"Unemp!$I45","v":0.152},{"$f":"Unemp!$I45","v":0.152},{"$f":"Unemp!$I45","v":0.152},{"$f":"Unemp!J45","v":0.124},{"$f":"Unemp!K45","v":0.124},{"$f":"Unemp!L45","v":0.124},{"$f":"Unemp!M45","v":0.124},{"$f":"Unemp!N16","v":0.11600000000000001},{"$f":"Unemp!O16","v":0.11600000000000001},{"$f":"Unemp!P16","v":0.11600000000000001},{"$f":"Unemp!Q16","v":0.11600000000000001},{"$f":"Unemp!R16","v":0.10199999999999999},{"$f":"Unemp!S16","v":0.10199999999999999},{"$f":"Unemp!T16","v":0.10199999999999999},{"$f":"Unemp!U16","v":0.10199999999999999}]
["Alameda",{"$f":"Participation!V7/Participation!V$6","v":2.6843256964147508E-2},"CalWIN","Large",{"$f":"Participation!B7","v":120874},{"$f":"Participation!C7","v":122112},{"$f":"Participation!D7","v":123210},{"$f":"Participation!E7","v":124622},{"$f":"Participation!F7","v":126571},{"$f":"Participation!I7","v":126482},{"$f":"Participation!J7","v":126214},{"$f":"Participation!K7","v":125835},{"$f":"Participation!L7","v":129167},{"$f":"Participation!M7","v":128065},{"$f":"Participation!N7","v":127457},{"$f":"Participation!O7","v":125434},{"$f":"Participation!P7","v":123955},{"$f":"Participation!Q7","v":121684},{"$f":"Participation!R7","v":119790},{"$f":"Participation!S7","v":121577},{"$f":"Participation!T7","v":121539},{"$f":"Participation!U7","v":118228},{"$f":"Participation!V7","v":117298},null,null,null,2.6778134771816335E-2,null,-2.0803072042741465E-2,-2.9584526035375681E-2,-7.866156917143147E-3,null,{"$f":"PRI!B6","v":0.47199999999999998},{"$f":"PRI!C6","v":0.52500000000000002},{"$f":"PRI!F6","v":0.56499999999999995},{"$f":"PRI!G6","v":0.56699999999999995},{"$f":"PRI!H6","v":0.58770588854592853},{"$f":"PRI!I6","v":0.6372229790855547},null,null,null,null,null,null,null,null,null,null,null,null,null,null,null,null,null,null,null,null,{"$f":"DD_Jun2016!J6","v":0.2455275366029141},null,null,null,null,null,null,null,null,null,null,null,null,null,null,null,null,null,null,null,null,{"$f":"DD_Jun2016!P6","v":0.92574100887047117},null,null,{"$f":"Timely!C263","v":13.7},{"$f":"Timely!D263","v":13.7},{"$f":"Timely!E263","v":14},{"$f":"Timely!F263","v":14},{"$f":"Timely!G263","v":14.3},{"$f":"Timely!H263","v":14.7},{"$f":"Timely!I263","v":14},{"$f":"Timely!J263","v":13.7},{"$f":"Timely!K263","v":16.3},{"$f":"Timely!L263","v":15.3},{"$f":"Timely!M263","v":15.3},{"$f":"Timely!N263","v":17.3},{"$f":"Timely!O263","v":16.7},{"$f":"Timely!P263","v":20},{"$f":"Timely!Q263","v":17.3},{"$f":"Timely!R263","v":16},{"$f":"Timely!S263","v":13.7},{"$f":"Timely!T263","v":10.3},null,null,{"$f":"Timely!C71","v":0.15600000000000003},{"$f":"Timely!D71","v":9.099999999999997E-2},{"$f":"Timely!E71","v":8.4999999999999964E-2},{"$f":"Timely!F71","v":8.8999999999999968E-2},{"$f":"Timely!G71","v":7.2999999999999954E-2},{"$f":"Timely!J71","v":9.9999999999999978E-2},{"$f":"Timely!K71","v":8.5999999999999965E-2},{"$f":"Timely!L71","v":0.11299999999999999},{"$f":"Timely!M71","v":9.3999999999999972E-2},{"$f":"Timely!N71","v":0.15500000000000003},{"$f":"Timely!O71","v":0.14200000000000002},{"$f":"Timely!P71","v":0.11599999999999999},{"$f":"Timely!Q71","v":0.13600000000000001},{"$f":"Timely!R71","v":0.14800000000000002},{"$f":"Timely!S71","v":0.16500000000000004},{"$f":"Timely!T71","v":0.21499999999999997},{"$f":"Timely!U71","v":0.14400000000000002},{"$f":"Timely!V71","v":7.8999999999999959E-2},{"$f":"Timely!W71","v":4.0000000000000036E-2},null,null,null,null,null,{"$f":"Timely!C198","v":0.129},{"$f":"Timely!D198","v":0.13},{"$f":"Timely!E198","v":0.127},{"$f":"Timely!F198","v":0.123},{"$f":"Timely!G198","v":0.14500000000000002},{"$f":"Timely!J198","v":0.13400000000000001},{"$f":"Timely!K198","v":0.13800000000000001},{"$f":"Timely!L198","v":0.129},{"$f":"Timely!M198","v":0.13500000000000001},{"$f":"Timely!N198","v":0.123},{"$f":"Timely!O198","v":0.10099999999999998},{"$f":"Timely!P198","v":0.13100000000000001},{"$f":"Timely!Q198","v":0.13200000000000001},{"$f":"Timely!R198","v":0.14600000000000002},{"$f":"Timely!S198","v":0.10399999999999998},{"$f":"Timely!T198","v":0.11599999999999999},{"$f":"Timely!U198","v":0.17000000000000004},{"$f":"Timely!V198","v":0.10199999999999998},{"$f":"Timely!W198","v":6.7999999999999949E-2},null,null,null,null,{"$f":"Churn!B6","v":0.15653235653235653},{"$f":"Churn!C6","v":0.15693659761456372},{"$f":"Churn!D6","v":0.16345108695652175},{"$f":"Churn!E6","v":0.1668310119561198},{"$f":"Churn!F6","v":0.17858528384844174},{"$f":"Churn!G6","v":0.16589997640953055},{"$f":"Churn!H6","v":0.17612732095490716},{"$f":"Churn!I6","v":0.18040304090744538},{"$f":"Churn!J6","v":0.21537697180474474},{"$f":"Churn!K6","v":0.21532549202282519},{"$f":"Churn!L6","v":0.21532549202282519},{"$f":"Churn!M6","v":0.25927464830533625},{"$f":"Churn!N6","v":0.2818103619400516},{"$f":"Churn!O6","v":0.2616800095590871},{"$f":"Churn!P6","v":0.24481552929828793},{"$f":"Churn!Q6","v":0.26759930693704675},{"$f":"Churn!R6","v":0.27804359383306754},{"$f":"Churn!S6","v":0.26045460253673236},null,{"$f":"Churn!B81","v":0.94029850746268662},{"$f":"Churn!C81","v":0.6404494382022472},{"$f":"Churn!D81","v":0.70833333333333337},{"$f":"Churn!E81","v":0.63917525773195871},{"$f":"Churn!F81","v":0.75912408759124084},{"$f":"Churn!G81","v":0.43258426966292135},{"$f":"Churn!H81","v":0.26108374384236455},{"$f":"Churn!I81","v":0.27777777777777779},{"$f":"Churn!J81","v":0.3888888888888889},{"$f":"Churn!K81","v":0.375},{"$f":"Churn!L81","v":0.33505154639175255},{"$f":"Churn!M81","v":0.39790575916230364},{"$f":"Churn!N81","v":0.45945945945945948},{"$f":"Churn!O81","v":0.37073170731707317},{"$f":"Churn!P81","v":0.34615384615384615},{"$f":"Churn!Q81","v":0.36574074074074076},{"$f":"Churn!R81","v":0.35714285714285715},{"$f":"Churn!S81","v":0.53846153846153844},null,{"$f":"Churn!B135","v":0.11983176965383371},{"$f":"Churn!C135","v":0.11549208320397392},{"$f":"Churn!D135","v":8.8227974116475857E-2},{"$f":"Churn!E135","v":7.791730474732006E-2},{"$f":"Churn!F135","v":8.4568320870156352E-2},{"$f":"Churn!G135","v":8.2275597214085797E-2},{"$f":"Churn!H135","v":9.890688792308705E-2},{"$f":"Churn!I135","v":8.1060781141668592E-2},{"$f":"Churn!J135","v":0.10106160078223216},{"$f":"Churn!K135","v":0.10676539459527878},{"$f":"Churn!L135","v":0.10036762155788305},{"$f":"Churn!M135","v":0.12322246682929731},{"$f":"Churn!N135","v":0.1167600470360379},{"$f":"Churn!O135","v":0.11457564575645757},{"$f":"Churn!P135","v":0.10358260425314515},{"$f":"Churn!Q135","v":0.10392169325621306},{"$f":"Churn!R135","v":0.11118843269156421},{"$f":"Churn!S135","v":0.1100371747211896},null,{"$f":"Churn!B199","v":0.1968295050145584},{"$f":"Churn!C199","v":0.20490530891027631},{"$f":"Churn!D199","v":0.17875808860129416},{"$f":"Churn!E199","v":0.16147013782542113},{"$f":"Churn!F199","v":0.18341264445955133},{"$f":"Churn!G199","v":0.18394844756883422},{"$f":"Churn!H199","v":0.20262083497958647},{"$f":"Churn!I199","v":0.17743240120175641},{"$f":"Churn!J199","v":0.18543092610699818},{"$f":"Churn!K199","v":0.19441807480539205},{"$f":"Churn!L199","v":0.19615731428175071},{"$f":"Churn!M199","v":0.21169750699113465},{"$f":"Churn!N199","v":0.22805561319775888},{"$f":"Churn!O199","v":0.22361623616236162},{"$f":"Churn!P199","v":0.19873555144006641},{"$f":"Churn!Q199","v":0.1965295874912604},{"$f":"Churn!R199","v":0.20923219670610066},{"$f":"Churn!S199","v":0.2085839810746874},null,{"$f":"Unemp!B7","v":0.113},{"$f":"Unemp!C7","v":0.104},{"$f":"Unemp!D7","v":0.104},{"$f":"Unemp!E7","v":0.104},{"$f":"Unemp!F7","v":0.104},{"$f":"Unemp!$I7","v":0.09},{"$f":"Unemp!$I7","v":0.09},{"$f":"Unemp!$I7","v":0.09},{"$f":"Unemp!$I7","v":0.09},{"$f":"Unemp!J7","v":7.2999999999999995E-2},{"$f":"Unemp!K7","v":7.2999999999999995E-2},{"$f":"Unemp!L7","v":7.2999999999999995E-2},{"$f":"Unemp!M7","v":7.2999999999999995E-2},{"$f":"Unemp!N17","v":0.107},{"$f":"Unemp!O17","v":0.107},{"$f":"Unemp!P17","v":0.107},{"$f":"Unemp!Q17","v":0.107},{"$f":"Unemp!R17","v":8.6999999999999994E-2},{"$f":"Unemp!S17","v":8.6999999999999994E-2},{"$f":"Unemp!T17","v":8.6999999999999994E-2},{"$f":"Unemp!U17","v":8.6999999999999994E-2}]
["Santa Clara",{"$f":"Participation!V49/Participation!V$6","v":2.409778343690171E-2},"CalWIN","Large",{"$f":"Participation!B49","v":99799},{"$f":"Participation!C49","v":100983},{"$f":"Participation!D49","v":103487},{"$f":"Participation!E49","v":105676},{"$f":"Participation!F49","v":108071},{"$f":"Participation!I49","v":108748},{"$f":"Participation!J49","v":110071},{"$f":"Participation!K49","v":110622},{"$f":"Participation!L49","v":112280},{"$f":"Participation!M49","v":112246},{"$f":"Participation!N49","v":113186},{"$f":"Participation!O49","v":113439},{"$f":"Participation!P49","v":113741},{"$f":"Participation!Q49","v":112449},{"$f":"Participation!R49","v":111985},{"$f":"Participation!S49","v":110974},{"$f":"Participation!T49","v":109453},{"$f":"Participation!U49","v":106496},{"$f":"Participation!V49","v":105301},null,null,null,7.1823857469831609E-2,null,-5.9686565164977452E-2,5.5130812933997332E-2,-1.1221078725961538E-2,null,{"$f":"PRI!B48","v":0.433},{"$f":"PRI!C48","v":0.48},{"$f":"PRI!F48","v":0.47699999999999998},{"$f":"PRI!G48","v":0.503},{"$f":"PRI!H48","v":0.65194601619115522},{"$f":"PRI!I48","v":0.68854903421894531},null,null,null,null,null,null,null,null,null,null,null,null,null,null,null,null,null,null,null,null,{"$f":"DD_Jun2016!J48","v":0.22050302914186426},null,null,null,null,null,null,null,null,null,null,null,null,null,null,null,null,null,null,null,null,{"$f":"DD_Jun2016!P48","v":0.9500170784469999},null,null,{"$f":"Timely!C305","v":31},{"$f":"Timely!D305","v":27},{"$f":"Timely!E305","v":25},{"$f":"Timely!F305","v":23},{"$f":"Timely!G305","v":15.7},{"$f":"Timely!H305","v":13.7},{"$f":"Timely!I305","v":14},{"$f":"Timely!J305","v":16.7},{"$f":"Timely!K305","v":16},{"$f":"Timely!L305","v":14.3},{"$f":"Timely!M305","v":14.3},{"$f":"Timely!N305","v":10.3},{"$f":"Timely!O305","v":10.7},{"$f":"Timely!P305","v":10.7},{"$f":"Timely!Q305","v":9.6999999999999993},{"$f":"Timely!R305","v":9.6999999999999993},{"$f":"Timely!S305","v":8},{"$f":"Timely!T305","v":7.7},null,null,{"$f":"Timely!C113","v":0.33299999999999996},{"$f":"Timely!D113","v":0.251},{"$f":"Timely!E113","v":0.20599999999999996},{"$f":"Timely!F113","v":0.19099999999999995},{"$f":"Timely!G113","v":0.125},{"$f":"Timely!J113","v":0.122},{"$f":"Timely!K113","v":2.300000000000002E-2},{"$f":"Timely!L113","v":4.0000000000000036E-2},{"$f":"Timely!M113","v":0.11399999999999999},{"$f":"Timely!N113","v":5.5000000000000049E-2},{"$f":"Timely!O113","v":3.2000000000000028E-2},{"$f":"Timely!P113","v":2.8000000000000025E-2},{"$f":"Timely!Q113","v":2.8000000000000025E-2},{"$f":"Timely!R113","v":4.0000000000000036E-2},{"$f":"Timely!S113","v":3.3000000000000029E-2},{"$f":"Timely!T113","v":2.0000000000000018E-2},{"$f":"Timely!U113","v":1.8000000000000016E-2},{"$f":"Timely!V113","v":1.7000000000000015E-2},{"$f":"Timely!W113","v":1.4000000000000012E-2},null,null,null,null,null,{"$f":"Timely!C240","v":0.60299999999999998},{"$f":"Timely!D240","v":0.745},{"$f":"Timely!E240","v":0.52300000000000002},{"$f":"Timely!F240","v":0.13600000000000001},{"$f":"Timely!G240","v":0.14900000000000002},{"$f":"Timely!J240","v":0.13},{"$f":"Timely!K240","v":0.11199999999999999},{"$f":"Timely!L240","v":0.15800000000000003},{"$f":"Timely!M240","v":7.7999999999999958E-2},{"$f":"Timely!N240","v":0.11599999999999999},{"$f":"Timely!O240","v":6.5999999999999948E-2},{"$f":"Timely!P240","v":3.5000000000000031E-2},{"$f":"Timely!Q240","v":5.600000000000005E-2},{"$f":"Timely!R240","v":2.8000000000000025E-2},{"$f":"Timely!S240","v":2.7000000000000024E-2},{"$f":"Timely!T240","v":1.6000000000000014E-2},{"$f":"Timely!U240","v":1.6000000000000014E-2},{"$f":"Timely!V240","v":2.6000000000000023E-2},{"$f":"Timely!W240","v":1.2000000000000011E-2},null,null,null,null,{"$f":"Churn!B48","v":0.14469914040114612},{"$f":"Churn!C48","v":0.14455747711088504},{"$f":"Churn!D48","v":0.14564831261101244},{"$f":"Churn!E48","v":0.12811051999313541},{"$f":"Churn!F48","v":0.11984797297297298},{"$f":"Churn!G48","v":0.12627816111064927},{"$f":"Churn!H48","v":0.1265642059292853},{"$f":"Churn!I48","v":0.13978064206228485},{"$f":"Churn!J48","v":0.16158386620757501},{"$f":"Churn!K48","v":0.17834192780642602},{"$f":"Churn!L48","v":0.17834192780642602},{"$f":"Churn!M48","v":0.17861739986370864},{"$f":"Churn!N48","v":0.19041429731925263},{"$f":"Churn!O48","v":0.19018873691449531},{"$f":"Churn!P48","v":0.19026340545625589},{"$f":"Churn!Q48","v":0.20243998425816609},{"$f":"Churn!R48","v":0.20532660042352174},{"$f":"Churn!S48","v":0.18503356803667922},null,{"$f":"Churn!B82","v":0.90845070422535212},{"$f":"Churn!C82","v":0.64679313459801269},{"$f":"Churn!D82","v":0.67054610564010741},{"$f":"Churn!E82","v":0.65201465201465203},{"$f":"Churn!F82","v":0.69991755976916736},{"$f":"Churn!G82","v":0.55991735537190079},{"$f":"Churn!H82","v":0.60064153969526868},{"$f":"Churn!I82","v":0.59067357512953367},{"$f":"Churn!J82","v":0.54395191585274227},{"$f":"Churn!K82","v":0.55801594331266613},{"$f":"Churn!L82","v":0.59729944400317714},{"$f":"Churn!M82","v":0.68551236749116606},{"$f":"Churn!N82","v":0.66693100713719267},{"$f":"Churn!O82","v":0.65059288537549409},{"$f":"Churn!P82","v":0.58053691275167785},{"$f":"Churn!Q82","v":0.65063907486305539},{"$f":"Churn!R82","v":0.64178168130489333},{"$f":"Churn!S82","v":0.69041450777202074},null,{"$f":"Churn!B177","v":9.3470604172311025E-2},{"$f":"Churn!C177","v":9.6296915489425733E-2},{"$f":"Churn!D177","v":9.3864580787093616E-2},{"$f":"Churn!E177","v":8.0637254901960789E-2},{"$f":"Churn!F177","v":6.4749502622535718E-2},{"$f":"Churn!G177","v":5.7128018696442483E-2},{"$f":"Churn!H177","v":5.264005151320026E-2},{"$f":"Churn!I177","v":3.9252618096888417E-2},{"$f":"Churn!J177","v":4.3897118967554306E-2},{"$f":"Churn!K177","v":4.360927429480204E-2},{"$f":"Churn!L177","v":3.4328486621354209E-2},{"$f":"Churn!M177","v":3.7358459376807998E-2},{"$f":"Churn!N177","v":3.4380670423073252E-2},{"$f":"Churn!O177","v":2.5130697973034945E-2},{"$f":"Churn!P177","v":2.4763155426320231E-2},{"$f":"Churn!Q177","v":2.3369565217391305E-2},{"$f":"Churn!R177","v":2.513386515134958E-2},{"$f":"Churn!S177","v":2.3337692385071926E-2},null,{"$f":"Churn!B241","v":0.17032421204732232},{"$f":"Churn!C241","v":0.16960628604865},{"$f":"Churn!D241","v":0.15864091909068687},{"$f":"Churn!E241","v":0.147140522875817},{"$f":"Churn!F241","v":0.14261168384879724},{"$f":"Churn!G241","v":0.13572232320609365},{"$f":"Churn!H241","v":0.13530264005151321},{"$f":"Churn!I241","v":0.12725080991486476},{"$f":"Churn!J241","v":0.12142143051894938},{"$f":"Churn!K241","v":0.12614045367037749},{"$f":"Churn!L241","v":0.11657919642088961},{"$f":"Churn!M241","v":0.11562939085874865},{"$f":"Churn!N241","v":0.14162926177060453},{"$f":"Churn!O241","v":0.11987526368889297},{"$f":"Churn!P241","v":0.11509239283369289},{"$f":"Churn!Q241","v":0.12038043478260869},{"$f":"Churn!R241","v":0.12490438203475029},{"$f":"Churn!S241","v":0.12785434060959661},null,{"$f":"Unemp!B49","v":0.11},{"$f":"Unemp!C49","v":9.8000000000000004E-2},{"$f":"Unemp!D49","v":9.8000000000000004E-2},{"$f":"Unemp!E49","v":9.8000000000000004E-2},{"$f":"Unemp!F49","v":9.8000000000000004E-2},{"$f":"Unemp!$I49","v":8.4000000000000005E-2},{"$f":"Unemp!$I49","v":8.4000000000000005E-2},{"$f":"Unemp!$I49","v":8.4000000000000005E-2},{"$f":"Unemp!$I49","v":8.4000000000000005E-2},{"$f":"Unemp!J49","v":6.5000000000000002E-2},{"$f":"Unemp!K49","v":6.5000000000000002E-2},{"$f":"Unemp!L49","v":6.5000000000000002E-2},{"$f":"Unemp!M49","v":6.5000000000000002E-2},{"$f":"Unemp!N18","v":6.8000000000000005E-2},{"$f":"Unemp!O18","v":6.8000000000000005E-2},{"$f":"Unemp!P18","v":6.8000000000000005E-2},{"$f":"Unemp!Q18","v":6.8000000000000005E-2},{"$f":"Unemp!R18","v":5.6000000000000001E-2},{"$f":"Unemp!S18","v":5.6000000000000001E-2},{"$f":"Unemp!T18","v":5.6000000000000001E-2},{"$f":"Unemp!U18","v":5.6000000000000001E-2}]
["Stanislaus",{"$f":"Participation!V56/Participation!V$6","v":2.0389323112735822E-2},"C-IV","Medium",{"$f":"Participation!B56","v":84867},{"$f":"Participation!C56","v":85530},{"$f":"Participation!D56","v":86863},{"$f":"Participation!E56","v":88848},{"$f":"Participation!F56","v":89458},{"$f":"Participation!I56","v":90507},{"$f":"Participation!J56","v":90467},{"$f":"Participation!K56","v":91048},{"$f":"Participation!L56","v":90962},{"$f":"Participation!M56","v":92065},{"$f":"Participation!N56","v":92163},{"$f":"Participation!O56","v":92778},{"$f":"Participation!P56","v":91500},{"$f":"Participation!Q56","v":91585},{"$f":"Participation!R56","v":92704},{"$f":"Participation!S56","v":92572},{"$f":"Participation!T56","v":92379},{"$f":"Participation!U56","v":90153},{"$f":"Participation!V56","v":89096},null,null,null,3.8770268963368111E-2,null,-3.8919571971004485E-2,4.9830911897439524E-2,-1.1724512772730802E-2,null,{"$f":"PRI!B55","v":0.63100000000000001},{"$f":"PRI!C55","v":0.65},{"$f":"PRI!F55","v":0.75},{"$f":"PRI!G55","v":0.72199999999999998},{"$f":"PRI!H55","v":0.79497781177320248},{"$f":"PRI!I55","v":0.87422444234218655},null,null,null,null,null,null,null,null,null,null,null,null,null,null,null,null,null,null,null,null,{"$f":"DD_Jun2016!J55","v":0.3526503415504631},null,null,null,null,null,null,null,null,null,null,null,null,null,null,null,null,null,null,null,null,{"$f":"DD_Jun2016!P55","v":0.95636730933590841},null,null,{"$f":"Timely!C312","v":14},{"$f":"Timely!D312","v":12},{"$f":"Timely!E312","v":9.6999999999999993},{"$f":"Timely!F312","v":9},{"$f":"Timely!G312","v":9.3000000000000007},{"$f":"Timely!H312","v":8.3000000000000007},{"$f":"Timely!I312","v":8.6999999999999993},{"$f":"Timely!J312","v":10},{"$f":"Timely!K312","v":11.3},{"$f":"Timely!L312","v":15},{"$f":"Timely!M312","v":14},{"$f":"Timely!N312","v":11.3},{"$f":"Timely!O312","v":13.7},{"$f":"Timely!P312","v":12.7},{"$f":"Timely!Q312","v":9},{"$f":"Timely!R312","v":9.3000000000000007},{"$f":"Timely!S312","v":9},{"$f":"Timely!T312","v":8},null,null,{"$f":"Timely!C120","v":0},{"$f":"Timely!D120","v":0},{"$f":"Timely!E120","v":0},{"$f":"Timely!F120","v":0},{"$f":"Timely!G120","v":0},{"$f":"Timely!J120","v":1.4000000000000012E-2},{"$f":"Timely!K120","v":6.0000000000000053E-3},{"$f":"Timely!L120","v":1.6000000000000014E-2},{"$f":"Timely!M120","v":3.8000000000000034E-2},{"$f":"Timely!N120","v":4.7000000000000042E-2},{"$f":"Timely!O120","v":8.4999999999999964E-2},{"$f":"Timely!P120","v":3.5000000000000031E-2},{"$f":"Timely!Q120","v":1.5000000000000013E-2},{"$f":"Timely!R120","v":3.7000000000000033E-2},{"$f":"Timely!S120","v":1.4000000000000012E-2},{"$f":"Timely!T120","v":8.0000000000000071E-3},{"$f":"Timely!U120","v":9.000000000000008E-3},{"$f":"Timely!V120","v":2.0000000000000018E-3},{"$f":"Timely!W120","v":1.0000000000000009E-2},null,null,null,null,null,{"$f":"Timely!C247","v":2.200000000000002E-2},{"$f":"Timely!D247","v":2.9000000000000026E-2},{"$f":"Timely!E247","v":3.3000000000000029E-2},{"$f":"Timely!F247","v":4.0000000000000036E-2},{"$f":"Timely!G247","v":4.3000000000000038E-2},{"$f":"Timely!J247","v":3.3000000000000029E-2},{"$f":"Timely!K247","v":3.0000000000000027E-2},{"$f":"Timely!L247","v":6.3999999999999946E-2},{"$f":"Timely!M247","v":7.1999999999999953E-2},{"$f":"Timely!N247","v":0.122},{"$f":"Timely!O247","v":0.14700000000000002},{"$f":"Timely!P247","v":0.15400000000000003},{"$f":"Timely!Q247","v":0.14400000000000002},{"$f":"Timely!R247","v":0.10599999999999998},{"$f":"Timely!S247","v":8.1999999999999962E-2},{"$f":"Timely!T247","v":9.8999999999999977E-2},{"$f":"Timely!U247","v":9.4999999999999973E-2},{"$f":"Timely!V247","v":8.4999999999999964E-2},{"$f":"Timely!W247","v":7.4999999999999956E-2},null,null,null,null,{"$f":"Churn!B55","v":0.28582739509105304},{"$f":"Churn!C55","v":0.26325104797391707},{"$f":"Churn!D55","v":0.28483375292994184},{"$f":"Churn!E55","v":0.32251100224196627},{"$f":"Churn!F55","v":0.28386428386428386},{"$f":"Churn!G55","v":0.35642544424414113},{"$f":"Churn!H55","v":0.33020848957552124},{"$f":"Churn!I55","v":0.33333333333333331},{"$f":"Churn!J55","v":0.35131173970394253},{"$f":"Churn!K55","v":0.33589624106865484},{"$f":"Churn!L55","v":0.36292229085640204},{"$f":"Churn!M55","v":0.36927429838648007},{"$f":"Churn!N55","v":0.36713145804787622},{"$f":"Churn!O55","v":0.36229205175600737},{"$f":"Churn!P55","v":0.3652737183031835},{"$f":"Churn!Q55","v":0.38214741903974753},{"$f":"Churn!R55","v":0.40078100095632768},{"$f":"Churn!S55","v":0.39444264419961117},null,{"$f":"Churn!B83","v":0.85906040268456374},{"$f":"Churn!C83","v":0.68421052631578949},{"$f":"Churn!D83","v":0.67354965585054083},{"$f":"Churn!E83","v":0.68659420289855078},{"$f":"Churn!F83","v":0.66091954022988508},{"$f":"Churn!G83","v":0.44129235618597323},{"$f":"Churn!H83","v":0.42370475514549327},{"$f":"Churn!I83","v":0.46262626262626261},{"$f":"Churn!J83","v":0.60756302521008398},{"$f":"Churn!K83","v":0.69741985926505079},{"$f":"Churn!L83","v":0.69639210347174951},{"$f":"Churn!M83","v":0.79250520471894514},{"$f":"Churn!N83","v":0.67455621301775148},{"$f":"Churn!O83","v":0.73106646058732616},{"$f":"Churn!P83","v":0.67019167217448772},{"$f":"Churn!Q83","v":0.630859375},{"$f":"Churn!R83","v":0.58114812189936216},{"$f":"Churn!S83","v":0.66990291262135926},null,{"$f":"Churn!B184","v":2.3653906006847185E-2},{"$f":"Churn!C184","v":1.8205341465668608E-2},{"$f":"Churn!D184","v":2.569152269268642E-2},{"$f":"Churn!E184","v":2.1487310991245911E-2},{"$f":"Churn!F184","v":3.7479740680713129E-2},{"$f":"Churn!G184","v":0.19527272727272726},{"$f":"Churn!H184","v":0.19901405879130912},{"$f":"Churn!I184","v":0.19162586527097755},{"$f":"Churn!J184","v":0.2108326293062987},{"$f":"Churn!K184","v":0.17479970866715222},{"$f":"Churn!L184","v":0.16012801982242411},{"$f":"Churn!M184","v":0.1764092846991947},{"$f":"Churn!N184","v":0.17848127892301219},{"$f":"Churn!O184","v":0.17810965220006014},{"$f":"Churn!P184","v":0.18538746908491344},{"$f":"Churn!Q184","v":0.1814690350456073},{"$f":"Churn!R184","v":0.17193426042983564},{"$f":"Churn!S184","v":0.18591465234258431},null,{"$f":"Churn!B248","v":0.13144517066085692},{"$f":"Churn!C248","v":0.12891599667313558},{"$f":"Churn!D248","v":0.12953182347148867},{"$f":"Churn!E248","v":0.12759748872579363},{"$f":"Churn!F248","v":0.15792139384116693},{"$f":"Churn!G248","v":0.28709090909090906},{"$f":"Churn!H248","v":0.2903049114478729},{"$f":"Churn!I248","v":0.27384771230795207},{"$f":"Churn!J248","v":0.32084858725241716},{"$f":"Churn!K248","v":0.25591769847050255},{"$f":"Churn!L248","v":0.25108403881891389},{"$f":"Churn!M248","v":0.26328754144954997},{"$f":"Churn!N248","v":0.28050063104753892},{"$f":"Churn!O248","v":0.27192542848551671},{"$f":"Churn!P248","v":0.27957543281121189},{"$f":"Churn!Q248","v":0.27690830532885263},{"$f":"Churn!R248","v":0.28729456384323643},{"$f":"Churn!S248","v":0.29006266786034018},null,{"$f":"Unemp!B56","v":0.17299999999999999},{"$f":"Unemp!C56","v":0.16700000000000001},{"$f":"Unemp!D56","v":0.16700000000000001},{"$f":"Unemp!E56","v":0.16700000000000001},{"$f":"Unemp!F56","v":0.16700000000000001},{"$f":"Unemp!$I56","v":0.152},{"$f":"Unemp!$I56","v":0.152},{"$f":"Unemp!$I56","v":0.152},{"$f":"Unemp!$I56","v":0.152},{"$f":"Unemp!J56","v":0.129},{"$f":"Unemp!K56","v":0.129},{"$f":"Unemp!L56","v":0.129},{"$f":"Unemp!M56","v":0.129},{"$f":"Unemp!N19","v":0.23599999999999999},{"$f":"Unemp!O19","v":0.23599999999999999},{"$f":"Unemp!P19","v":0.23599999999999999},{"$f":"Unemp!Q19","v":0.23599999999999999},{"$f":"Unemp!R19","v":0.24},{"$f":"Unemp!S19","v":0.24},{"$f":"Unemp!T19","v":0.24},{"$f":"Unemp!U19","v":0.24}]
["Ventura",{"$f":"Participation!V62/Participation!V$6","v":1.7308818057283983E-2},"CalWIN","Medium",{"$f":"Participation!B62","v":62970},{"$f":"Participation!C62","v":63349},{"$f":"Participation!D62","v":64668},{"$f":"Participation!E62","v":64382},{"$f":"Participation!F62","v":66179},{"$f":"Participation!I62","v":66999},{"$f":"Participation!J62","v":67793},{"$f":"Participation!K62","v":66971},{"$f":"Participation!L62","v":69194},{"$f":"Participation!M62","v":69753},{"$f":"Participation!N62","v":71740},{"$f":"Participation!O62","v":77031},{"$f":"Participation!P62","v":78777},{"$f":"Participation!Q62","v":74220},{"$f":"Participation!R62","v":75528},{"$f":"Participation!S62","v":75003},{"$f":"Participation!T62","v":76720},{"$f":"Participation!U62","v":76144},{"$f":"Participation!V62","v":75635},null,null,null,-1.1497834753548747E-3,null,1.4166931469124034E-3,0.20112752104176593,-6.684702668627863E-3,null,{"$f":"PRI!B61","v":0.57699999999999996},{"$f":"PRI!C61","v":0.60099999999999998},{"$f":"PRI!F61","v":0.61499999999999999},{"$f":"PRI!G61","v":0.60099999999999998},{"$f":"PRI!H61","v":0.64997993128460252},{"$f":"PRI!I61","v":0.8310954940650721},null,null,null,null,null,null,null,null,null,null,null,null,null,null,null,null,null,null,null,null,{"$f":"DD_Jun2016!J61","v":0.2943079310613102},null,null,null,null,null,null,null,null,null,null,null,null,null,null,null,null,null,null,null,null,{"$f":"DD_Jun2016!P61","v":0.92775454357703424},null,null,{"$f":"Timely!C318","v":10.3},{"$f":"Timely!D318","v":9},{"$f":"Timely!E318","v":8.3000000000000007},{"$f":"Timely!F318","v":10},{"$f":"Timely!G318","v":10},{"$f":"Timely!H318","v":9.3000000000000007},{"$f":"Timely!I318","v":10},{"$f":"Timely!J318","v":11},{"$f":"Timely!K318","v":11.3},{"$f":"Timely!L318","v":10.3},{"$f":"Timely!M318","v":10.3},{"$f":"Timely!N318","v":9.3000000000000007},{"$f":"Timely!O318","v":9.3000000000000007},{"$f":"Timely!P318","v":9},{"$f":"Timely!Q318","v":8.6999999999999993},{"$f":"Timely!R318","v":9.6999999999999993},{"$f":"Timely!S318","v":9.3000000000000007},{"$f":"Timely!T318","v":9},null,null,{"$f":"Timely!C126","v":1.4000000000000012E-2},{"$f":"Timely!D126","v":2.0000000000000018E-2},{"$f":"Timely!E126","v":1.0000000000000009E-2},{"$f":"Timely!F126","v":1.3000000000000012E-2},{"$f":"Timely!G126","v":1.3000000000000012E-2},{"$f":"Timely!J126","v":1.9000000000000017E-2},{"$f":"Timely!K126","v":7.0000000000000062E-3},{"$f":"Timely!L126","v":1.6000000000000014E-2},{"$f":"Timely!M126","v":5.5000000000000049E-2},{"$f":"Timely!N126","v":7.4999999999999956E-2},{"$f":"Timely!O126","v":3.5000000000000031E-2},{"$f":"Timely!P126","v":2.300000000000002E-2},{"$f":"Timely!Q126","v":2.300000000000002E-2},{"$f":"Timely!R126","v":5.600000000000005E-2},{"$f":"Timely!S126","v":1.6000000000000014E-2},{"$f":"Timely!T126","v":2.200000000000002E-2},{"$f":"Timely!U126","v":1.4000000000000012E-2},{"$f":"Timely!V126","v":2.4000000000000021E-2},{"$f":"Timely!W126","v":1.3000000000000012E-2},null,null,null,null,null,{"$f":"Timely!C253","v":4.8000000000000043E-2},{"$f":"Timely!D253","v":4.4000000000000039E-2},{"$f":"Timely!E253","v":3.0000000000000027E-2},{"$f":"Timely!F253","v":3.6000000000000032E-2},{"$f":"Timely!G253","v":4.6000000000000041E-2},{"$f":"Timely!J253","v":5.9000000000000052E-2},{"$f":"Timely!K253","v":4.7000000000000042E-2},{"$f":"Timely!L253","v":6.2000000000000055E-2},{"$f":"Timely!M253","v":6.7999999999999949E-2},{"$f":"Timely!N253","v":7.8999999999999959E-2},{"$f":"Timely!O253","v":5.3000000000000047E-2},{"$f":"Timely!P253","v":6.4999999999999947E-2},{"$f":"Timely!Q253","v":6.0000000000000053E-2},{"$f":"Timely!R253","v":4.3000000000000038E-2},{"$f":"Timely!S253","v":4.500000000000004E-2},{"$f":"Timely!T253","v":3.6000000000000032E-2},{"$f":"Timely!U253","v":3.9000000000000035E-2},{"$f":"Timely!V253","v":3.3000000000000029E-2},{"$f":"Timely!W253","v":3.2000000000000028E-2},null,null,null,null,{"$f":"Churn!B61","v":0.19747899159663865},{"$f":"Churn!C61","v":0.19296157769466168},{"$f":"Churn!D61","v":0.1886577835554111},{"$f":"Churn!E61","v":0.17221644120707597},{"$f":"Churn!F61","v":0.18485869847031372},{"$f":"Churn!G61","v":0.18285152960987933},{"$f":"Churn!H61","v":0.19134641225477023},{"$f":"Churn!I61","v":0.18742999377722463},{"$f":"Churn!J61","v":0.21349009900990099},{"$f":"Churn!K61","v":0.20948876330661059},{"$f":"Churn!L61","v":0.20948876330661059},{"$f":"Churn!M61","v":0.20731064995259665},{"$f":"Churn!N61","v":0.21018593371059013},{"$f":"Churn!O61","v":0.20910026294729622},{"$f":"Churn!P61","v":0.22345554434353626},{"$f":"Churn!Q61","v":0.21245840266222962},{"$f":"Churn!R61","v":0.22494261667941851},{"$f":"Churn!S61","v":0.23785696851354649},null,{"$f":"Churn!B84","v":0.8666666666666667},{"$f":"Churn!C84","v":0.7192982456140351},{"$f":"Churn!D84","v":0.60493827160493829},{"$f":"Churn!E84","v":0.64179104477611937},{"$f":"Churn!F84","v":0.8271604938271605},{"$f":"Churn!G84","v":0.34042553191489361},{"$f":"Churn!H84","v":0.52903225806451615},{"$f":"Churn!I84","v":0.34682080924855491},{"$f":"Churn!J84","v":0.5},{"$f":"Churn!K84","v":0.51655629139072845},{"$f":"Churn!L84","v":0.43352601156069365},{"$f":"Churn!M84","v":0.49664429530201343},{"$f":"Churn!N84","v":0.55428571428571427},{"$f":"Churn!O84","v":0.55128205128205132},{"$f":"Churn!P84","v":0.56617647058823528},{"$f":"Churn!Q84","v":0.70454545454545459},{"$f":"Churn!R84","v":0.58666666666666667},{"$f":"Churn!S84","v":0.65873015873015872},null,{"$f":"Churn!B190","v":0.1232321017432299},{"$f":"Churn!C190","v":0.12512820512820513},{"$f":"Churn!D190","v":0.11081141829624634},{"$f":"Churn!E190","v":9.2483234911420284E-2},{"$f":"Churn!F190","v":8.8404255319148931E-2},{"$f":"Churn!G190","v":0.10370687808013714},{"$f":"Churn!H190","v":0.11135196805476326},{"$f":"Churn!I190","v":9.8813860091528913E-2},{"$f":"Churn!J190","v":0.12161572052401746},{"$f":"Churn!K190","v":0.13201899256812552},{"$f":"Churn!L190","v":0.11789838337182448},{"$f":"Churn!M190","v":0.13777560019598237},{"$f":"Churn!N190","v":0.13523641573900586},{"$f":"Churn!O190","v":0.1354188759278897},{"$f":"Churn!P190","v":0.13614280872217829},{"$f":"Churn!Q190","v":0.1463129145532579},{"$f":"Churn!R190","v":0.1471355643788996},{"$f":"Churn!S190","v":0.16058718861209964},null,{"$f":"Churn!B254","v":0.23199210612871396},{"$f":"Churn!C254","v":0.23651282051282052},{"$f":"Churn!D254","v":0.223308608676107},{"$f":"Churn!E254","v":0.21529376438794914},{"$f":"Churn!F254","v":0.20925531914893616},{"$f":"Churn!G254","v":0.2303406899507178},{"$f":"Churn!H254","v":0.23251568739304052},{"$f":"Churn!I254","v":0.2279816942187354},{"$f":"Churn!J254","v":0.22936681222707422},{"$f":"Churn!K254","v":0.23286540049545829},{"$f":"Churn!L254","v":0.21755196304849886},{"$f":"Churn!M254","v":0.24723174914257717},{"$f":"Churn!N254","v":0.24787832029097323},{"$f":"Churn!O254","v":0.23626723223753976},{"$f":"Churn!P254","v":0.23590554739577449},{"$f":"Churn!Q254","v":0.25799843932891142},{"$f":"Churn!R254","v":0.25501985252410664},{"$f":"Churn!S254","v":0.2745774021352313},null,{"$f":"Unemp!B62","v":0.108},{"$f":"Unemp!C62","v":0.10100000000000001},{"$f":"Unemp!D62","v":0.10100000000000001},{"$f":"Unemp!E62","v":0.10100000000000001},{"$f":"Unemp!F62","v":0.10100000000000001},{"$f":"Unemp!$I62","v":0.09},{"$f":"Unemp!$I62","v":0.09},{"$f":"Unemp!$I62","v":0.09},{"$f":"Unemp!$I62","v":0.09},{"$f":"Unemp!J62","v":7.9000000000000001E-2},{"$f":"Unemp!K62","v":7.9000000000000001E-2},{"$f":"Unemp!L62","v":7.9000000000000001E-2},{"$f":"Unemp!M62","v":7.9000000000000001E-2},{"$f":"Unemp!N20","v":7.0000000000000007E-2},{"$f":"Unemp!O20","v":7.0000000000000007E-2},{"$f":"Unemp!P20","v":7.0000000000000007E-2},{"$f":"Unemp!Q20","v":7.0000000000000007E-2},{"$f":"Unemp!R20","v":5.8000000000000003E-2},{"$f":"Unemp!S20","v":5.8000000000000003E-2},{"$f":"Unemp!T20","v":5.8000000000000003E-2},{"$f":"Unemp!U20","v":5.8000000000000003E-2}]
["Contra Costa",{"$f":"Participation!V13/Participation!V$6","v":1.5958851537552138E-2},"CalWIN","Medium",{"$f":"Participation!B13","v":66920},{"$f":"Participation!C13","v":67029},{"$f":"Participation!D13","v":67462},{"$f":"Participation!E13","v":68789},{"$f":"Participation!F13","v":70227},{"$f":"Participation!I13","v":68857},{"$f":"Participation!J13","v":68625},{"$f":"Participation!K13","v":67763},{"$f":"Participation!L13","v":70212},{"$f":"Participation!M13","v":71039},{"$f":"Participation!N13","v":71884},{"$f":"Participation!O13","v":76061},{"$f":"Participation!P13","v":77345},{"$f":"Participation!Q13","v":72012},{"$f":"Participation!R13","v":71323},{"$f":"Participation!S13","v":72362},{"$f":"Participation!T13","v":71977},{"$f":"Participation!U13","v":70493},{"$f":"Participation!V13","v":69736},null,null,null,1.7053330611104544E-2,null,-2.2250886810706225E-2,4.2080095636580994E-2,-1.0738654901905153E-2,null,{"$f":"PRI!B12","v":0.48499999999999999},{"$f":"PRI!C12","v":0.432},{"$f":"PRI!F12","v":0.50700000000000001},{"$f":"PRI!G12","v":0.47099999999999997},{"$f":"PRI!H12","v":0.57143348851746278},{"$f":"PRI!I12","v":0.55604114791387682},null,null,null,null,null,null,null,null,null,null,null,null,null,null,null,null,null,null,null,null,{"$f":"DD_Jun2016!J12","v":0.23657645668009317},null,null,null,null,null,null,null,null,null,null,null,null,null,null,null,null,null,null,null,null,{"$f":"DD_Jun2016!P12","v":0.93411876511117631},null,null,{"$f":"Timely!C269","v":15.7},{"$f":"Timely!D269","v":14},{"$f":"Timely!E269","v":13.3},{"$f":"Timely!F269","v":16.3},{"$f":"Timely!G269","v":15.3},{"$f":"Timely!H269","v":15},{"$f":"Timely!I269","v":16},{"$f":"Timely!J269","v":15.7},{"$f":"Timely!K269","v":18},{"$f":"Timely!L269","v":13},{"$f":"Timely!M269","v":13},{"$f":"Timely!N269","v":15.7},{"$f":"Timely!O269","v":14},{"$f":"Timely!P269","v":13},{"$f":"Timely!Q269","v":11.7},{"$f":"Timely!R269","v":12.7},{"$f":"Timely!S269","v":13},{"$f":"Timely!T269","v":11.3},null,null,{"$f":"Timely!C77","v":0.13500000000000001},{"$f":"Timely!D77","v":3.6000000000000032E-2},{"$f":"Timely!E77","v":4.0000000000000036E-2},{"$f":"Timely!F77","v":3.5000000000000031E-2},{"$f":"Timely!G77","v":5.9000000000000052E-2},{"$f":"Timely!J77","v":5.4000000000000048E-2},{"$f":"Timely!K77","v":5.0000000000000044E-2},{"$f":"Timely!L77","v":5.0000000000000044E-2},{"$f":"Timely!M77","v":7.7999999999999958E-2},{"$f":"Timely!N77","v":8.9999999999999969E-2},{"$f":"Timely!O77","v":4.8000000000000043E-2},{"$f":"Timely!P77","v":6.4999999999999947E-2},{"$f":"Timely!Q77","v":7.4999999999999956E-2},{"$f":"Timely!R77","v":6.5999999999999948E-2},{"$f":"Timely!S77","v":3.2000000000000028E-2},{"$f":"Timely!T77","v":3.400000000000003E-2},{"$f":"Timely!U77","v":4.6000000000000041E-2},{"$f":"Timely!V77","v":4.2000000000000037E-2},{"$f":"Timely!W77","v":3.5000000000000031E-2},null,null,null,null,null,{"$f":"Timely!C204","v":0.16900000000000004},{"$f":"Timely!D204","v":0.17900000000000005},{"$f":"Timely!E204","v":0.10899999999999999},{"$f":"Timely!F204","v":0.15400000000000003},{"$f":"Timely!G204","v":0.125},{"$f":"Timely!J204","v":9.2999999999999972E-2},{"$f":"Timely!K204","v":6.2999999999999945E-2},{"$f":"Timely!L204","v":0.20799999999999996},{"$f":"Timely!M204","v":0.28400000000000003},{"$f":"Timely!N204","v":0.14500000000000002},{"$f":"Timely!O204","v":0.14200000000000002},{"$f":"Timely!P204","v":0.17300000000000004},{"$f":"Timely!Q204","v":5.9000000000000052E-2},{"$f":"Timely!R204","v":7.4999999999999956E-2},{"$f":"Timely!S204","v":3.0000000000000027E-2},{"$f":"Timely!T204","v":3.2000000000000028E-2},{"$f":"Timely!U204","v":3.1000000000000028E-2},{"$f":"Timely!V204","v":2.1000000000000019E-2},{"$f":"Timely!W204","v":1.6000000000000014E-2},null,null,null,null,{"$f":"Churn!B12","v":0.19177885992552277},{"$f":"Churn!C12","v":0.19229122055674519},{"$f":"Churn!D12","v":0.15367711690594785},{"$f":"Churn!E12","v":0.13337092908501338},{"$f":"Churn!F12","v":0.17964693665628245},{"$f":"Churn!G12","v":0.17776964372864812},{"$f":"Churn!H12","v":0.17305558979415753},{"$f":"Churn!I12","v":0.17392986075296546},{"$f":"Churn!J12","v":0.19158332250941681},{"$f":"Churn!K12","v":0.18276666257518104},{"$f":"Churn!L12","v":0.18276666257518104},{"$f":"Churn!M12","v":0.19627749576988154},{"$f":"Churn!N12","v":0.21937842778793418},{"$f":"Churn!O12","v":0.23497917906008328},{"$f":"Churn!P12","v":0.22799370383823708},{"$f":"Churn!Q12","v":0.22828353022932593},{"$f":"Churn!R12","v":0.25546116504854371},{"$f":"Churn!S12","v":0.23366670996233277},null,{"$f":"Churn!B85","v":0.8369191049913941},{"$f":"Churn!C85","v":0.70983649104593827},{"$f":"Churn!D85","v":0.66386352715040842},{"$f":"Churn!E85","v":0.66163522012578613},{"$f":"Churn!F85","v":0.67736913796458453},{"$f":"Churn!G85","v":0.4294531116063775},{"$f":"Churn!H85","v":0.40284203569068078},{"$f":"Churn!I85","v":0.4316896984924623},{"$f":"Churn!J85","v":0.65696291112666205},{"$f":"Churn!K85","v":0.62804097311139562},{"$f":"Churn!L85","v":0.59133964817320706},{"$f":"Churn!M85","v":0.61868842364532017},{"$f":"Churn!N85","v":0.65556919300398897},{"$f":"Churn!O85","v":0.59043768676393038},{"$f":"Churn!P85","v":0.60896574882471455},{"$f":"Churn!Q85","v":0.59616906759537758},{"$f":"Churn!R85","v":0.62678062678062674},{"$f":"Churn!S85","v":0.59978928356411798},null,{"$f":"Churn!B141","v":0.11262488646684832},{"$f":"Churn!C141","v":0.10786873018832743},{"$f":"Churn!D141","v":0.110370987140346},{"$f":"Churn!E141","v":8.7816531294792166E-2},{"$f":"Churn!F141","v":0.10435610065552971},{"$f":"Churn!G141","v":0.11462797039345539},{"$f":"Churn!H141","v":0.1148846960167715},{"$f":"Churn!I141","v":9.2482873541936683E-2},{"$f":"Churn!J141","v":9.4033935413245756E-2},{"$f":"Churn!K141","v":9.4279877425944847E-2},{"$f":"Churn!L141","v":7.9991112098655712E-2},{"$f":"Churn!M141","v":8.7000711454416096E-2},{"$f":"Churn!N141","v":9.2015921329899317E-2},{"$f":"Churn!O141","v":9.0822382365409071E-2},{"$f":"Churn!P141","v":8.8257866462010739E-2},{"$f":"Churn!Q141","v":8.5246901036374723E-2},{"$f":"Churn!R141","v":0.10620412029363012},{"$f":"Churn!S141","v":9.7171381031613976E-2},null,{"$f":"Churn!B205","v":0.18599253204157837},{"$f":"Churn!C205","v":0.18562371806824537},{"$f":"Churn!D205","v":0.18364326024609123},{"$f":"Churn!E205","v":0.1597706641184902},{"$f":"Churn!F205","v":0.18005920913512372},{"$f":"Churn!G205","v":0.20929100116867938},{"$f":"Churn!H205","v":0.20419287211740042},{"$f":"Churn!I205","v":0.17820773930753564},{"$f":"Churn!J205","v":0.16310892172961139},{"$f":"Churn!K205","v":0.16343207354443309},{"$f":"Churn!L205","v":0.14420619931118764},{"$f":"Churn!M205","v":0.15712978961276552},{"$f":"Churn!N205","v":0.16822758136267854},{"$f":"Churn!O205","v":0.16500635862653668},{"$f":"Churn!P205","v":0.17125315206665936},{"$f":"Churn!Q205","v":0.15718349928876243},{"$f":"Churn!R205","v":0.18517641487094483},{"$f":"Churn!S205","v":0.17903494176372711},null,{"$f":"Unemp!B13","v":0.111},{"$f":"Unemp!C13","v":0.104},{"$f":"Unemp!D13","v":0.104},{"$f":"Unemp!E13","v":0.104},{"$f":"Unemp!F13","v":0.104},{"$f":"Unemp!$I13","v":0.09},{"$f":"Unemp!$I13","v":0.09},{"$f":"Unemp!$I13","v":0.09},{"$f":"Unemp!$I13","v":0.09},{"$f":"Unemp!J13","v":7.4999999999999997E-2},{"$f":"Unemp!K13","v":7.4999999999999997E-2},{"$f":"Unemp!L13","v":7.4999999999999997E-2},{"$f":"Unemp!M13","v":7.4999999999999997E-2},{"$f":"Unemp!N21","v":0.104},{"$f":"Unemp!O21","v":0.104},{"$f":"Unemp!P21","v":0.104},{"$f":"Unemp!Q21","v":0.104},{"$f":"Unemp!R21","v":0.10199999999999999},{"$f":"Unemp!S21","v":0.10199999999999999},{"$f":"Unemp!T21","v":0.10199999999999999},{"$f":"Unemp!U21","v":0.10199999999999999}]
["Merced",{"$f":"Participation!V30/Participation!V$6","v":1.3207885690171813E-2},"C-IV","Medium",{"$f":"Participation!B30","v":51481},{"$f":"Participation!C30","v":52771},{"$f":"Participation!D30","v":53475},{"$f":"Participation!E30","v":53940},{"$f":"Participation!F30","v":53540},{"$f":"Participation!I30","v":55147},{"$f":"Participation!J30","v":55780},{"$f":"Participation!K30","v":55568},{"$f":"Participation!L30","v":54349},{"$f":"Participation!M30","v":55842},{"$f":"Participation!N30","v":57288},{"$f":"Participation!O30","v":57733},{"$f":"Participation!P30","v":57128},{"$f":"Participation!Q30","v":57836},{"$f":"Participation!R30","v":58981},{"$f":"Participation!S30","v":58778},{"$f":"Participation!T30","v":57934},{"$f":"Participation!U30","v":58122},{"$f":"Participation!V30","v":57715},null,null,null,1.3603980185039921E-2,null,-2.1464539427951373E-2,0.12109321885744255,-7.0025119576064138E-3,null,{"$f":"PRI!B29","v":0.77500000000000002},{"$f":"PRI!C29","v":0.63200000000000001},{"$f":"PRI!F29","v":0.79},{"$f":"PRI!G29","v":0.78600000000000003},{"$f":"PRI!H29","v":0.76763611001397902},{"$f":"PRI!I29","v":0.73586842548148068},null,null,null,null,null,null,null,null,null,null,null,null,null,null,null,null,null,null,null,null,{"$f":"DD_Jun2016!J29","v":0.40021368882096131},null,null,null,null,null,null,null,null,null,null,null,null,null,null,null,null,null,null,null,null,{"$f":"DD_Jun2016!P29","v":0.97299203523077182},null,null,{"$f":"Timely!C286","v":15.3},{"$f":"Timely!D286","v":15},{"$f":"Timely!E286","v":15},{"$f":"Timely!F286","v":14},{"$f":"Timely!G286","v":13},{"$f":"Timely!H286","v":12},{"$f":"Timely!I286","v":11.3},{"$f":"Timely!J286","v":14.7},{"$f":"Timely!K286","v":18},{"$f":"Timely!L286","v":18},{"$f":"Timely!M286","v":14.3},{"$f":"Timely!N286","v":14},{"$f":"Timely!O286","v":15.3},{"$f":"Timely!P286","v":12.3},{"$f":"Timely!Q286","v":12},{"$f":"Timely!R286","v":11.7},{"$f":"Timely!S286","v":12.7},{"$f":"Timely!T286","v":12},null,null,{"$f":"Timely!C94","v":7.0000000000000062E-3},{"$f":"Timely!D94","v":2.6000000000000023E-2},{"$f":"Timely!E94","v":6.0000000000000053E-3},{"$f":"Timely!F94","v":3.0000000000000027E-3},{"$f":"Timely!G94","v":4.0000000000000036E-3},{"$f":"Timely!J94","v":1.4000000000000012E-2},{"$f":"Timely!K94","v":2.0000000000000018E-3},{"$f":"Timely!L94","v":3.0000000000000027E-3},{"$f":"Timely!M94","v":1.6000000000000014E-2},{"$f":"Timely!N94","v":3.9000000000000035E-2},{"$f":"Timely!O94","v":2.8000000000000025E-2},{"$f":"Timely!P94","v":1.7000000000000015E-2},{"$f":"Timely!Q94","v":1.100000000000001E-2},{"$f":"Timely!R94","v":2.300000000000002E-2},{"$f":"Timely!S94","v":3.0000000000000027E-3},{"$f":"Timely!T94","v":2.0000000000000018E-3},{"$f":"Timely!U94","v":4.0000000000000036E-3},{"$f":"Timely!V94","v":5.0000000000000044E-3},{"$f":"Timely!W94","v":1.4000000000000012E-2},null,null,null,null,null,{"$f":"Timely!C221","v":2.8000000000000025E-2},{"$f":"Timely!D221","v":2.6000000000000023E-2},{"$f":"Timely!E221","v":1.6000000000000014E-2},{"$f":"Timely!F221","v":2.300000000000002E-2},{"$f":"Timely!G221","v":1.4000000000000012E-2},{"$f":"Timely!J221","v":9.000000000000008E-3},{"$f":"Timely!K221","v":8.0000000000000071E-3},{"$f":"Timely!L221","v":5.2000000000000046E-2},{"$f":"Timely!M221","v":5.2000000000000046E-2},{"$f":"Timely!N221","v":7.6999999999999957E-2},{"$f":"Timely!O221","v":5.600000000000005E-2},{"$f":"Timely!P221","v":5.0000000000000044E-2},{"$f":"Timely!Q221","v":5.0000000000000044E-2},{"$f":"Timely!R221","v":5.2000000000000046E-2},{"$f":"Timely!S221","v":3.400000000000003E-2},{"$f":"Timely!T221","v":4.7000000000000042E-2},{"$f":"Timely!U221","v":4.6000000000000041E-2},{"$f":"Timely!V221","v":3.7000000000000033E-2},{"$f":"Timely!W221","v":4.2000000000000037E-2},null,null,null,null,{"$f":"Churn!B29","v":0.39317106152805947},{"$f":"Churn!C29","v":0.29097510373443985},{"$f":"Churn!D29","v":0.31172890278006249},{"$f":"Churn!E29","v":0.3141377687117527},{"$f":"Churn!F29","v":0.29903025039803155},{"$f":"Churn!G29","v":0.31265346210509087},{"$f":"Churn!H29","v":0.28679637605822073},{"$f":"Churn!I29","v":0.30839782172542274},{"$f":"Churn!J29","v":0.3098628009319182},{"$f":"Churn!K29","v":0.29572674848440039},{"$f":"Churn!L29","v":0.30880144187443676},{"$f":"Churn!M29","v":0.32572431957857773},{"$f":"Churn!N29","v":0.31766867944342347},{"$f":"Churn!O29","v":0.31148517801281095},{"$f":"Churn!P29","v":0.31538461538461537},{"$f":"Churn!Q29","v":0.32610851395381785},{"$f":"Churn!R29","v":0.32963345379452763},{"$f":"Churn!S29","v":0.33186941882594057},null,{"$f":"Churn!B86","v":0.85797101449275359},{"$f":"Churn!C86","v":0.69686985172981875},{"$f":"Churn!D86","v":0.67567567567567566},{"$f":"Churn!E86","v":0.65793304221251825},{"$f":"Churn!F86","v":0.73277074542897325},{"$f":"Churn!G86","v":0.55031446540880502},{"$f":"Churn!H86","v":0.50882079851439188},{"$f":"Churn!I86","v":0.50695652173913042},{"$f":"Churn!J86","v":0.92197452229299359},{"$f":"Churn!K86","v":0.93983591613491335},{"$f":"Churn!L86","v":0.85648994515539301},{"$f":"Churn!M86","v":0.80964912280701751},{"$f":"Churn!N86","v":0.840034965034965},{"$f":"Churn!O86","v":0.90102040816326534},{"$f":"Churn!P86","v":0.80039138943248533},{"$f":"Churn!Q86","v":0.66222222222222227},{"$f":"Churn!R86","v":0.70239149689991143},{"$f":"Churn!S86","v":0.55603079555175361},null,{"$f":"Churn!B158","v":6.5506101938262742E-2},{"$f":"Churn!C158","v":4.9799056438930629E-2},{"$f":"Churn!D158","v":5.086705202312139E-2},{"$f":"Churn!E158","v":4.9267172876567192E-2},{"$f":"Churn!F158","v":6.1653860226856934E-2},{"$f":"Churn!G158","v":0.2035364212954065},{"$f":"Churn!H158","v":0.17797484017323159},{"$f":"Churn!I158","v":0.17021663935918441},{"$f":"Churn!J158","v":0.20841086713807219},{"$f":"Churn!K158","v":0.16489648964896489},{"$f":"Churn!L158","v":0.14477898782831519},{"$f":"Churn!M158","v":0.14247466054694971},{"$f":"Churn!N158","v":0.17353951890034364},{"$f":"Churn!O158","v":0.16986525112290732},{"$f":"Churn!P158","v":0.1585619285120532},{"$f":"Churn!Q158","v":0.18818466353677621},{"$f":"Churn!R158","v":0.200273544353263},{"$f":"Churn!S158","v":0.18744769874476988},null,{"$f":"Churn!B222","v":0.18987796123474515},{"$f":"Churn!C222","v":0.16162851651231872},{"$f":"Churn!D222","v":0.14335260115606938},{"$f":"Churn!E222","v":0.15557125198657956},{"$f":"Churn!F222","v":0.19575557994877424},{"$f":"Churn!G222","v":0.29579088987122815},{"$f":"Churn!H222","v":0.26438440915652711},{"$f":"Churn!I222","v":0.25578008374294559},{"$f":"Churn!J222","v":0.30777819129140305},{"$f":"Churn!K222","v":0.24122412241224123},{"$f":"Churn!L222","v":0.21780909673286356},{"$f":"Churn!M222","v":0.21897112258558041},{"$f":"Churn!N222","v":0.28904161893852615},{"$f":"Churn!O222","v":0.24173131890567578},{"$f":"Churn!P222","v":0.23753117206982544},{"$f":"Churn!Q222","v":0.27053990610328638},{"$f":"Churn!R222","v":0.31516217272372021},{"$f":"Churn!S222","v":0.28974895397489542},null,{"$f":"Unemp!B30","v":0.188},{"$f":"Unemp!C30","v":0.183},{"$f":"Unemp!D30","v":0.183},{"$f":"Unemp!E30","v":0.183},{"$f":"Unemp!F30","v":0.183},{"$f":"Unemp!$I30","v":0.17},{"$f":"Unemp!$I30","v":0.17},{"$f":"Unemp!$I30","v":0.17},{"$f":"Unemp!$I30","v":0.17},{"$f":"Unemp!J30","v":0.14499999999999999},{"$f":"Unemp!K30","v":0.14499999999999999},{"$f":"Unemp!L30","v":0.14499999999999999},{"$f":"Unemp!M30","v":0.14499999999999999},{"$f":"Unemp!N22","v":0.121},{"$f":"Unemp!O22","v":0.121},{"$f":"Unemp!P22","v":0.121},{"$f":"Unemp!Q22","v":0.121},{"$f":"Unemp!R22","v":0.105},{"$f":"Unemp!S22","v":0.105},{"$f":"Unemp!T22","v":0.105},{"$f":"Unemp!U22","v":0.105}]
["Monterey",{"$f":"Participation!V33/Participation!V$6","v":1.2698244151022327E-2},"C-IV","Medium",{"$f":"Participation!B33","v":39133},{"$f":"Participation!C33","v":44819},{"$f":"Participation!D33","v":47110},{"$f":"Participation!E33","v":44518},{"$f":"Participation!F33","v":41994},{"$f":"Participation!I33","v":48096},{"$f":"Participation!J33","v":50064},{"$f":"Participation!K33","v":46145},{"$f":"Participation!L33","v":43325},{"$f":"Participation!M33","v":51281},{"$f":"Participation!N33","v":53709},{"$f":"Participation!O33","v":49132},{"$f":"Participation!P33","v":45843},{"$f":"Participation!Q33","v":52560},{"$f":"Participation!R33","v":54990},{"$f":"Participation!S33","v":50601},{"$f":"Participation!T33","v":48021},{"$f":"Participation!U33","v":54487},{"$f":"Participation!V33","v":55488},null,null,null,-5.3513286983806318E-3,null,9.0561920349154397E-3,0.41793371323435463,1.8371354635050564E-2,null,{"$f":"PRI!B32","v":0.439},{"$f":"PRI!C32","v":0.47599999999999998},{"$f":"PRI!F32","v":0.55600000000000005},{"$f":"PRI!G32","v":0.56499999999999995},{"$f":"PRI!H32","v":0.65190822926998127},{"$f":"PRI!I32","v":0.75962434950577884},null,null,null,null,null,null,null,null,null,null,null,null,null,null,null,null,null,null,null,null,{"$f":"DD_Jun2016!J32","v":0.29318495812106038},null,null,null,null,null,null,null,null,null,null,null,null,null,null,null,null,null,null,null,null,{"$f":"DD_Jun2016!P32","v":0.97003785443896862},null,null,{"$f":"Timely!C289","v":18.3},{"$f":"Timely!D289","v":14},{"$f":"Timely!E289","v":12.7},{"$f":"Timely!F289","v":15.3},{"$f":"Timely!G289","v":19.3},{"$f":"Timely!H289","v":12},{"$f":"Timely!I289","v":9.6999999999999993},{"$f":"Timely!J289","v":12.7},{"$f":"Timely!K289","v":14.3},{"$f":"Timely!L289","v":12.7},{"$f":"Timely!M289","v":11.3},{"$f":"Timely!N289","v":11.3},{"$f":"Timely!O289","v":14.3},{"$f":"Timely!P289","v":12.7},{"$f":"Timely!Q289","v":11.3},{"$f":"Timely!R289","v":13},{"$f":"Timely!S289","v":15},{"$f":"Timely!T289","v":11},null,null,{"$f":"Timely!C97","v":0},{"$f":"Timely!D97","v":1.0000000000000009E-3},{"$f":"Timely!E97","v":0},{"$f":"Timely!F97","v":0},{"$f":"Timely!G97","v":0},{"$f":"Timely!J97","v":2.0000000000000018E-3},{"$f":"Timely!K97","v":0},{"$f":"Timely!L97","v":0},{"$f":"Timely!M97","v":0},{"$f":"Timely!N97","v":0},{"$f":"Timely!O97","v":0},{"$f":"Timely!P97","v":0},{"$f":"Timely!Q97","v":0},{"$f":"Timely!R97","v":0},{"$f":"Timely!S97","v":0},{"$f":"Timely!T97","v":0},{"$f":"Timely!U97","v":0},{"$f":"Timely!V97","v":2.0000000000000018E-3},{"$f":"Timely!W97","v":2.0000000000000018E-3},null,null,null,null,null,{"$f":"Timely!C224","v":6.0000000000000053E-3},{"$f":"Timely!D224","v":6.0000000000000053E-3},{"$f":"Timely!E224","v":9.000000000000008E-3},{"$f":"Timely!F224","v":6.0000000000000053E-3},{"$f":"Timely!G224","v":7.0000000000000062E-3},{"$f":"Timely!J224","v":5.0000000000000044E-3},{"$f":"Timely!K224","v":5.0000000000000044E-3},{"$f":"Timely!L224","v":8.0000000000000071E-3},{"$f":"Timely!M224","v":2.200000000000002E-2},{"$f":"Timely!N224","v":4.4000000000000039E-2},{"$f":"Timely!O224","v":2.9000000000000026E-2},{"$f":"Timely!P224","v":4.2000000000000037E-2},{"$f":"Timely!Q224","v":4.6000000000000041E-2},{"$f":"Timely!R224","v":5.0000000000000044E-2},{"$f":"Timely!S224","v":4.0000000000000036E-2},{"$f":"Timely!T224","v":2.8000000000000025E-2},{"$f":"Timely!U224","v":3.8000000000000034E-2},{"$f":"Timely!V224","v":4.0000000000000036E-2},{"$f":"Timely!W224","v":2.9000000000000026E-2},null,null,null,null,{"$f":"Churn!B32","v":0.30795847750865052},{"$f":"Churn!C32","v":0.21670783741298003},{"$f":"Churn!D32","v":0.24913174345913405},{"$f":"Churn!E32","v":0.25149384885764497},{"$f":"Churn!F32","v":0.17146240378922439},{"$f":"Churn!G32","v":0.35531516538381525},{"$f":"Churn!H32","v":0.35157375025714871},{"$f":"Churn!I32","v":0.38784810126582281},{"$f":"Churn!J32","v":0.35086158977209558},{"$f":"Churn!K32","v":0.32230370237882311},{"$f":"Churn!L32","v":0.37527287160150824},{"$f":"Churn!M32","v":0.41502741051273784},{"$f":"Churn!N32","v":0.3561401684517001},{"$f":"Churn!O32","v":0.3731819794253281},{"$f":"Churn!P32","v":0.38928713659896458},{"$f":"Churn!Q32","v":0.3991603172134971},{"$f":"Churn!R32","v":0.36051070674575247},{"$f":"Churn!S32","v":0.40628657415147967},null,{"$f":"Churn!B87","v":0.97520661157024791},{"$f":"Churn!C87","v":0.76345840130505704},{"$f":"Churn!D87","v":0.70930232558139539},{"$f":"Churn!E87","v":0.66464339908952963},{"$f":"Churn!F87","v":0.73297491039426521},{"$f":"Churn!G87","v":0.59090909090909094},{"$f":"Churn!H87","v":0.51126516464471405},{"$f":"Churn!I87","v":0.45746388443017655},{"$f":"Churn!J87","v":0.71949286846275751},{"$f":"Churn!K87","v":0.95706618962432921},{"$f":"Churn!L87","v":0.75786163522012584},{"$f":"Churn!M87","v":0.83215547703180215},{"$f":"Churn!N87","v":0.75590551181102361},{"$f":"Churn!O87","v":0.80673758865248224},{"$f":"Churn!P87","v":0.73170731707317072},{"$f":"Churn!Q87","v":0.71269177126917715},{"$f":"Churn!R87","v":0.70588235294117652},{"$f":"Churn!S87","v":0.65479452054794518},null,{"$f":"Churn!B161","v":1.9649915302089215E-2},{"$f":"Churn!C161","v":2.2964169381107492E-2},{"$f":"Churn!D161","v":2.6426426426426425E-2},{"$f":"Churn!E161","v":2.4983454665784249E-2},{"$f":"Churn!F161","v":3.7835459744830623E-2},{"$f":"Churn!G161","v":0.16838487972508592},{"$f":"Churn!H161","v":0.17910144338280137},{"$f":"Churn!I161","v":0.24032807180439492},{"$f":"Churn!J161","v":0.23423423423423423},{"$f":"Churn!K161","v":0.13229338533073345},{"$f":"Churn!L161","v":0.12596732588134135},{"$f":"Churn!M161","v":0.20785867591216775},{"$f":"Churn!N161","v":0.22831142568250759},{"$f":"Churn!O161","v":0.15099540581929555},{"$f":"Churn!P161","v":0.14263565891472868},{"$f":"Churn!Q161","v":0.2481536189069424},{"$f":"Churn!R161","v":0.20545394808892783},{"$f":"Churn!S161","v":0.15262475696694749},null,{"$f":"Churn!B225","v":0.12173913043478261},{"$f":"Churn!C225","v":0.10407166123778501},{"$f":"Churn!D225","v":0.11771771771771772},{"$f":"Churn!E225","v":0.1214427531436135},{"$f":"Churn!F225","v":0.13682358117025956},{"$f":"Churn!G225","v":0.22369497627229587},{"$f":"Churn!H225","v":0.25005082333807682},{"$f":"Churn!I225","v":0.32776230269266482},{"$f":"Churn!J225","v":0.3487919737919738},{"$f":"Churn!K225","v":0.19814009299535024},{"$f":"Churn!L225","v":0.20120378331900257},{"$f":"Churn!M225","v":0.29915799900941059},{"$f":"Churn!N225","v":0.35247724974721939},{"$f":"Churn!O225","v":0.23491577335375191},{"$f":"Churn!P225","v":0.22131782945736433},{"$f":"Churn!Q225","v":0.34958148695224028},{"$f":"Churn!R225","v":0.33457452633884571},{"$f":"Churn!S225","v":0.24076474400518472},null,{"$f":"Unemp!B33","v":0.127},{"$f":"Unemp!C33","v":0.125},{"$f":"Unemp!D33","v":0.125},{"$f":"Unemp!E33","v":0.125},{"$f":"Unemp!F33","v":0.125},{"$f":"Unemp!$I33","v":0.114},{"$f":"Unemp!$I33","v":0.114},{"$f":"Unemp!$I33","v":0.114},{"$f":"Unemp!$I33","v":0.114},{"$f":"Unemp!J33","v":0.10299999999999999},{"$f":"Unemp!K33","v":0.10299999999999999},{"$f":"Unemp!L33","v":0.10299999999999999},{"$f":"Unemp!M33","v":0.10299999999999999},{"$f":"Unemp!N23","v":8.8999999999999996E-2},{"$f":"Unemp!O23","v":8.8999999999999996E-2},{"$f":"Unemp!P23","v":8.8999999999999996E-2},{"$f":"Unemp!Q23","v":8.8999999999999996E-2},{"$f":"Unemp!R23","v":7.6999999999999999E-2},{"$f":"Unemp!S23","v":7.6999999999999999E-2},{"$f":"Unemp!T23","v":7.6999999999999999E-2},{"$f":"Unemp!U23","v":7.6999999999999999E-2}]
["San Francisco",{"$f":"Participation!V44/Participation!V$6","v":1.2071433115669635E-2},"CalWIN","Medium",{"$f":"Participation!B44","v":51367},{"$f":"Participation!C44","v":50905},{"$f":"Participation!D44","v":50876},{"$f":"Participation!E44","v":50894},{"$f":"Participation!F44","v":50994},{"$f":"Participation!I44","v":50440},{"$f":"Participation!J44","v":50482},{"$f":"Participation!K44","v":50124},{"$f":"Participation!L44","v":50731},{"$f":"Participation!M44","v":50484},{"$f":"Participation!N44","v":51155},{"$f":"Participation!O44","v":53900},{"$f":"Participation!P44","v":54246},{"$f":"Participation!Q44","v":50987},{"$f":"Participation!R44","v":51449},{"$f":"Participation!S44","v":52180},{"$f":"Participation!T44","v":52684},{"$f":"Participation!U44","v":52672},{"$f":"Participation!V44","v":52749},null,null,null,-1.3969331943563899E-2,null,2.5267740869599022E-2,2.6904432807055113E-2,1.4618772782503038E-3,null,{"$f":"PRI!B43","v":0.39400000000000002},{"$f":"PRI!C43","v":0.42599999999999999},{"$f":"PRI!F43","v":0.42},{"$f":"PRI!G43","v":0.40600000000000003},{"$f":"PRI!H43","v":0.51877955213904448},{"$f":"PRI!I43","v":0.50698302103297233},null,null,null,null,null,null,null,null,null,null,null,null,null,null,null,null,null,null,null,null,{"$f":"DD_Jun2016!J43","v":0.2139902793169344},null,null,null,null,null,null,null,null,null,null,null,null,null,null,null,null,null,null,null,null,{"$f":"DD_Jun2016!P43","v":0.90092026230230893},null,null,{"$f":"Timely!C300","v":7},{"$f":"Timely!D300","v":7},{"$f":"Timely!E300","v":6.3},{"$f":"Timely!F300","v":8},{"$f":"Timely!G300","v":7.3},{"$f":"Timely!H300","v":9.6999999999999993},{"$f":"Timely!I300","v":9.3000000000000007},{"$f":"Timely!J300","v":9.3000000000000007},{"$f":"Timely!K300","v":10.7},{"$f":"Timely!L300","v":10},{"$f":"Timely!M300","v":10},{"$f":"Timely!N300","v":9},{"$f":"Timely!O300","v":8.6999999999999993},{"$f":"Timely!P300","v":8},{"$f":"Timely!Q300","v":7.3},{"$f":"Timely!R300","v":8.3000000000000007},{"$f":"Timely!S300","v":8},{"$f":"Timely!T300","v":7.7},null,null,{"$f":"Timely!C108","v":2.6000000000000023E-2},{"$f":"Timely!D108","v":1.2000000000000011E-2},{"$f":"Timely!E108","v":1.100000000000001E-2},{"$f":"Timely!F108","v":2.4000000000000021E-2},{"$f":"Timely!G108","v":1.8000000000000016E-2},{"$f":"Timely!J108","v":2.4000000000000021E-2},{"$f":"Timely!K108","v":2.300000000000002E-2},{"$f":"Timely!L108","v":2.5000000000000022E-2},{"$f":"Timely!M108","v":3.0000000000000027E-2},{"$f":"Timely!N108","v":3.400000000000003E-2},{"$f":"Timely!O108","v":2.9000000000000026E-2},{"$f":"Timely!P108","v":2.300000000000002E-2},{"$f":"Timely!Q108","v":2.7000000000000024E-2},{"$f":"Timely!R108","v":2.7000000000000024E-2},{"$f":"Timely!S108","v":3.0000000000000027E-2},{"$f":"Timely!T108","v":3.3000000000000029E-2},{"$f":"Timely!U108","v":4.6000000000000041E-2},{"$f":"Timely!V108","v":2.7000000000000024E-2},{"$f":"Timely!W108","v":1.8000000000000016E-2},null,null,null,null,null,{"$f":"Timely!C235","v":4.2000000000000037E-2},{"$f":"Timely!D235","v":7.8999999999999959E-2},{"$f":"Timely!E235","v":3.3000000000000029E-2},{"$f":"Timely!F235","v":6.7999999999999949E-2},{"$f":"Timely!G235","v":8.6999999999999966E-2},{"$f":"Timely!J235","v":0.247},{"$f":"Timely!K235","v":0.10199999999999998},{"$f":"Timely!L235","v":0.18300000000000005},{"$f":"Timely!M235","v":0.30600000000000005},{"$f":"Timely!N235","v":0.24399999999999999},{"$f":"Timely!O235","v":9.9999999999999978E-2},{"$f":"Timely!P235","v":0.16600000000000004},{"$f":"Timely!Q235","v":0.13500000000000001},{"$f":"Timely!R235","v":0.13800000000000001},{"$f":"Timely!S235","v":0.10599999999999998},{"$f":"Timely!T235","v":0.13600000000000001},{"$f":"Timely!U235","v":0.16100000000000003},{"$f":"Timely!V235","v":0.124},{"$f":"Timely!W235","v":9.9999999999999978E-2},null,null,null,null,{"$f":"Churn!B43","v":0.21464487743557512},{"$f":"Churn!C43","v":0.22144954411991963},{"$f":"Churn!D43","v":0.22374154770848986},{"$f":"Churn!E43","v":0.23657598632673407},{"$f":"Churn!F43","v":0.2358231707317073},{"$f":"Churn!G43","v":0.23006932409012132},{"$f":"Churn!H43","v":0.2250347705146036},{"$f":"Churn!I43","v":0.23955586398334489},{"$f":"Churn!J43","v":0.25279094662792478},{"$f":"Churn!K43","v":0.2595828635851184},{"$f":"Churn!L43","v":0.2595828635851184},{"$f":"Churn!M43","v":0.23758912955737926},{"$f":"Churn!N43","v":0.27313455893712346},{"$f":"Churn!O43","v":0.25392103839913466},{"$f":"Churn!P43","v":0.24115886833514691},{"$f":"Churn!Q43","v":0.25658536585365854},{"$f":"Churn!R43","v":0.24787775891341257},{"$f":"Churn!S43","v":0.24650971803996716},null,{"$f":"Churn!B88","v":0.94285714285714284},{"$f":"Churn!C88","v":0.79032258064516125},{"$f":"Churn!D88","v":0.68695652173913047},{"$f":"Churn!E88","v":0.65408805031446537},{"$f":"Churn!F88","v":0.60544217687074831},{"$f":"Churn!G88","v":0.42660550458715596},{"$f":"Churn!H88","v":0.34170854271356782},{"$f":"Churn!I88","v":0.48416289592760181},{"$f":"Churn!J88","v":0.51515151515151514},{"$f":"Churn!K88","v":0.63076923076923075},{"$f":"Churn!L88","v":0.53092783505154639},{"$f":"Churn!M88","v":0.45414847161572053},{"$f":"Churn!N88","v":0.39215686274509803},{"$f":"Churn!O88","v":0.50869565217391299},{"$f":"Churn!P88","v":0.58910891089108908},{"$f":"Churn!Q88","v":0.56302521008403361},{"$f":"Churn!R88","v":0.4933920704845815},{"$f":"Churn!S88","v":0.38157894736842107},null,{"$f":"Churn!B172","v":9.7730430754979156E-2},{"$f":"Churn!C172","v":0.1079646017699115},{"$f":"Churn!D172","v":0.11266992930940729},{"$f":"Churn!E172","v":8.6370064179266834E-2},{"$f":"Churn!F172","v":8.7230750922289657E-2},{"$f":"Churn!G172","v":0.1028237147035662},{"$f":"Churn!H172","v":0.11379897785349233},{"$f":"Churn!I172","v":9.647979139504563E-2},{"$f":"Churn!J172","v":0.10094195519348269},{"$f":"Churn!K172","v":0.107943199467495},{"$f":"Churn!L172","v":0.11697877652933833},{"$f":"Churn!M172","v":0.13777936281502615},{"$f":"Churn!N172","v":0.11973484325369424},{"$f":"Churn!O172","v":0.11993879472693032},{"$f":"Churn!P172","v":0.10325422069977978},{"$f":"Churn!Q172","v":0.11468881556491069},{"$f":"Churn!R172","v":0.10197495804827675},{"$f":"Churn!S172","v":0.10044278722908413},null,{"$f":"Churn!B236","v":0.19187123668364983},{"$f":"Churn!C236","v":0.20551795939614784},{"$f":"Churn!D236","v":0.2039151712887439},{"$f":"Churn!E236","v":0.18307407810290438},{"$f":"Churn!F236","v":0.19112221825538497},{"$f":"Churn!G236","v":0.20530993362582967},{"$f":"Churn!H236","v":0.21908006814310052},{"$f":"Churn!I236","v":0.19947848761408082},{"$f":"Churn!J236","v":0.18800916496945011},{"$f":"Churn!K236","v":0.19303305968493453},{"$f":"Churn!L236","v":0.19600499375780275},{"$f":"Churn!M236","v":0.22075606276747503},{"$f":"Churn!N236","v":0.20024858444966165},{"$f":"Churn!O236","v":0.20056497175141244},{"$f":"Churn!P236","v":0.19354049425006117},{"$f":"Churn!Q236","v":0.19387871202639664},{"$f":"Churn!R236","v":0.1946559958693688},{"$f":"Churn!S236","v":0.1846888837100909},null,{"$f":"Unemp!B44","v":9.6000000000000002E-2},{"$f":"Unemp!C44","v":8.5999999999999993E-2},{"$f":"Unemp!D44","v":8.5999999999999993E-2},{"$f":"Unemp!E44","v":8.5999999999999993E-2},{"$f":"Unemp!F44","v":8.5999999999999993E-2},{"$f":"Unemp!$I44","v":7.2999999999999995E-2},{"$f":"Unemp!$I44","v":7.2999999999999995E-2},{"$f":"Unemp!$I44","v":7.2999999999999995E-2},{"$f":"Unemp!$I44","v":7.2999999999999995E-2},{"$f":"Unemp!J44","v":5.5E-2},{"$f":"Unemp!K44","v":5.5E-2},{"$f":"Unemp!L44","v":5.5E-2},{"$f":"Unemp!M44","v":5.5E-2},{"$f":"Unemp!N24","v":9.2999999999999999E-2},{"$f":"Unemp!O24","v":9.2999999999999999E-2},{"$f":"Unemp!P24","v":9.2999999999999999E-2},{"$f":"Unemp!Q24","v":9.2999999999999999E-2},{"$f":"Unemp!R24","v":7.2999999999999995E-2},{"$f":"Unemp!S24","v":7.2999999999999995E-2},{"$f":"Unemp!T24","v":7.2999999999999995E-2},{"$f":"Unemp!U24","v":7.2999999999999995E-2}]
["Solano",{"$f":"Participation!V54/Participation!V$6","v":9.8010452800602697E-3},"CalWIN","Medium",{"$f":"Participation!B54","v":38995},{"$f":"Participation!C54","v":39019},{"$f":"Participation!D54","v":39399},{"$f":"Participation!E54","v":40161},{"$f":"Participation!F54","v":41119},{"$f":"Participation!I54","v":41335},{"$f":"Participation!J54","v":41065},{"$f":"Participation!K54","v":41287},{"$f":"Participation!L54","v":41998},{"$f":"Participation!M54","v":42499},{"$f":"Participation!N54","v":43407},{"$f":"Participation!O54","v":43531},{"$f":"Participation!P54","v":43554},{"$f":"Participation!Q54","v":43385},{"$f":"Participation!R54","v":43830},{"$f":"Participation!S54","v":44119},{"$f":"Participation!T54","v":44388},{"$f":"Participation!U54","v":43644},{"$f":"Participation!V54","v":42828},null,null,null,1.076713123650079E-2,null,-2.2861054072553046E-2,9.8294653160661619E-2,-1.8696728072587297E-2,null,{"$f":"PRI!B53","v":0.65300000000000002},{"$f":"PRI!C53","v":0.65400000000000003},{"$f":"PRI!F53","v":0.61699999999999999},{"$f":"PRI!G53","v":0.66800000000000004},{"$f":"PRI!H53","v":0.76925949545071659},{"$f":"PRI!I53","v":0.67496232970642456},null,null,null,null,null,null,null,null,null,null,null,null,null,null,null,null,null,null,null,null,{"$f":"DD_Jun2016!J53","v":0.32158870006897849},null,null,null,null,null,null,null,null,null,null,null,null,null,null,null,null,null,null,null,null,{"$f":"DD_Jun2016!P53","v":0.93359881670269651},null,null,{"$f":"Timely!C310","v":14.7},{"$f":"Timely!D310","v":14.7},{"$f":"Timely!E310","v":14},{"$f":"Timely!F310","v":13.7},{"$f":"Timely!G310","v":12.3},{"$f":"Timely!H310","v":13.3},{"$f":"Timely!I310","v":11.3},{"$f":"Timely!J310","v":13.7},{"$f":"Timely!K310","v":13.3},{"$f":"Timely!L310","v":13.3},{"$f":"Timely!M310","v":13.3},{"$f":"Timely!N310","v":12.7},{"$f":"Timely!O310","v":13},{"$f":"Timely!P310","v":11.7},{"$f":"Timely!Q310","v":10},{"$f":"Timely!R310","v":11.3},{"$f":"Timely!S310","v":12},{"$f":"Timely!T310","v":11.7},null,null,{"$f":"Timely!C118","v":0.14900000000000002},{"$f":"Timely!D118","v":7.6999999999999957E-2},{"$f":"Timely!E118","v":7.0999999999999952E-2},{"$f":"Timely!F118","v":6.4999999999999947E-2},{"$f":"Timely!G118","v":5.1000000000000045E-2},{"$f":"Timely!J118","v":7.3999999999999955E-2},{"$f":"Timely!K118","v":6.3999999999999946E-2},{"$f":"Timely!L118","v":5.8000000000000052E-2},{"$f":"Timely!M118","v":8.9999999999999969E-2},{"$f":"Timely!N118","v":6.0000000000000053E-2},{"$f":"Timely!O118","v":5.5000000000000049E-2},{"$f":"Timely!P118","v":6.0000000000000053E-2},{"$f":"Timely!Q118","v":6.7999999999999949E-2},{"$f":"Timely!R118","v":6.899999999999995E-2},{"$f":"Timely!S118","v":5.5000000000000049E-2},{"$f":"Timely!T118","v":2.5000000000000022E-2},{"$f":"Timely!U118","v":4.3000000000000038E-2},{"$f":"Timely!V118","v":5.1000000000000045E-2},{"$f":"Timely!W118","v":1.2000000000000011E-2},null,null,null,null,null,{"$f":"Timely!C245","v":4.0000000000000036E-2},{"$f":"Timely!D245","v":5.3000000000000047E-2},{"$f":"Timely!E245","v":4.0000000000000036E-2},{"$f":"Timely!F245","v":4.4000000000000039E-2},{"$f":"Timely!G245","v":3.6000000000000032E-2},{"$f":"Timely!J245","v":4.9000000000000044E-2},{"$f":"Timely!K245","v":3.8000000000000034E-2},{"$f":"Timely!L245","v":5.2000000000000046E-2},{"$f":"Timely!M245","v":3.9000000000000035E-2},{"$f":"Timely!N245","v":4.1000000000000036E-2},{"$f":"Timely!O245","v":2.8000000000000025E-2},{"$f":"Timely!P245","v":2.6000000000000023E-2},{"$f":"Timely!Q245","v":2.8000000000000025E-2},{"$f":"Timely!R245","v":2.8000000000000025E-2},{"$f":"Timely!S245","v":1.5000000000000013E-2},{"$f":"Timely!T245","v":2.300000000000002E-2},{"$f":"Timely!U245","v":3.3000000000000029E-2},{"$f":"Timely!V245","v":2.8000000000000025E-2},"NA",null,null,null,null,{"$f":"Churn!B53","v":0.21599815583218074},{"$f":"Churn!C53","v":0.20620437956204379},{"$f":"Churn!D53","v":0.197265625},{"$f":"Churn!E53","v":0.18254725988161161},{"$f":"Churn!F53","v":0.19781667607754563},{"$f":"Churn!G53","v":0.1816359992712698},{"$f":"Churn!H53","v":0.1821628452789312},{"$f":"Churn!I53","v":0.19850719744090989},{"$f":"Churn!J53","v":0.23026315789473684},{"$f":"Churn!K53","v":0.21027868259138618},{"$f":"Churn!L53","v":0.21027868259138618},{"$f":"Churn!M53","v":0.1966798418972332},{"$f":"Churn!N53","v":0.24995814498576929},{"$f":"Churn!O53","v":0.23373451944880516},{"$f":"Churn!P53","v":0.18861583700903173},{"$f":"Churn!Q53","v":0.21209677419354839},{"$f":"Churn!R53","v":0.25153697523274199},{"$f":"Churn!S53","v":0.24045026757704374},null,{"$f":"Churn!B89","v":0.101203796589243},{"$f":"Churn!C89","v":0.46565774155995343},{"$f":"Churn!D89","v":0.53260869565217395},{"$f":"Churn!E89","v":0.59470752089136492},{"$f":"Churn!F89","v":0.75242718446601942},{"$f":"Churn!G89","v":0.68380552640783487},{"$f":"Churn!H89","v":0.67396429774334787},{"$f":"Churn!I89","v":0.7504139072847682},{"$f":"Churn!J89","v":0.92118582791033987},{"$f":"Churn!K89","v":1.1713695801789401},{"$f":"Churn!L89","v":0.88699186991869916},{"$f":"Churn!M89","v":0.97786720321931586},{"$f":"Churn!N89","v":8.1685938082804929E-2},{"$f":"Churn!O89","v":9.0442931659446557E-2},{"$f":"Churn!P89","v":7.1018994146458014E-2},{"$f":"Churn!Q89","v":6.2143536121673004E-2},{"$f":"Churn!R89","v":{"$error":"#DIV/0!"}},{"$f":"Churn!S89","v":8.9375677571583448E-2},null,{"$f":"Churn!B182","v":7.1501706484641644E-2},{"$f":"Churn!C182","v":7.8631647211413747E-2},{"$f":"Churn!D182","v":5.1844628636437511E-2},{"$f":"Churn!E182","v":2.9760000000000002E-2},{"$f":"Churn!F182","v":2.5304933551793193E-2},{"$f":"Churn!G182","v":3.1417350946090682E-2},{"$f":"Churn!H182","v":4.1260058209210748E-2},{"$f":"Churn!I182","v":2.9802347127856701E-2},{"$f":"Churn!J182","v":3.1452535264963784E-2},{"$f":"Churn!K182","v":2.5566231983527796E-2},{"$f":"Churn!L182","v":1.765921472853654E-2},{"$f":"Churn!M182","v":2.3629148629148628E-2},{"$f":"Churn!N182","v":1.8365662401981016E-2},{"$f":"Churn!O182","v":1.3424087729249386E-2},{"$f":"Churn!P182","v":1.2482095355023532E-2},{"$f":"Churn!Q182","v":1.3637212777881562E-2},{"$f":"Churn!R182","v":1.420389461626575E-2},{"$f":"Churn!S182","v":1.2908598792421403E-2},null,{"$f":"Churn!B246","v":0.16279863481228668},{"$f":"Churn!C246","v":0.18109597924773022},{"$f":"Churn!D246","v":0.15342109540061757},{"$f":"Churn!E246","v":0.13056000000000001},{"$f":"Churn!F246","v":0.1363553613690151},{"$f":"Churn!G246","v":0.15423063191717243},{"$f":"Churn!H246","v":0.15802088683444615},{"$f":"Churn!I246","v":0.14407041383570104},{"$f":"Churn!J246","v":0.13229126953869616},{"$f":"Churn!K246","v":0.12199725463280714},{"$f":"Churn!L246","v":0.11346984783017096},{"$f":"Churn!M246","v":0.10876623376623376},{"$f":"Churn!N246","v":0.12628972348328518},{"$f":"Churn!O246","v":0.1191151446398185},{"$f":"Churn!P246","v":0.11561285041948026},{"$f":"Churn!Q246","v":0.10050439006164767},{"$f":"Churn!R246","v":0.12623138602520045},{"$f":"Churn!S246","v":0.12138246929002706},null,{"$f":"Unemp!B54","v":0.12},{"$f":"Unemp!C54","v":0.115},{"$f":"Unemp!D54","v":0.115},{"$f":"Unemp!E54","v":0.115},{"$f":"Unemp!F54","v":0.115},{"$f":"Unemp!$I54","v":0.10100000000000001},{"$f":"Unemp!$I54","v":0.10100000000000001},{"$f":"Unemp!$I54","v":0.10100000000000001},{"$f":"Unemp!$I54","v":0.10100000000000001},{"$f":"Unemp!J54","v":0.09},{"$f":"Unemp!K54","v":0.09},{"$f":"Unemp!L54","v":0.09},{"$f":"Unemp!M54","v":0.09},{"$f":"Unemp!N25","v":8.3000000000000004E-2},{"$f":"Unemp!O25","v":8.3000000000000004E-2},{"$f":"Unemp!P25","v":8.3000000000000004E-2},{"$f":"Unemp!Q25","v":8.3000000000000004E-2},{"$f":"Unemp!R25","v":6.7000000000000004E-2},{"$f":"Unemp!S25","v":6.7000000000000004E-2},{"$f":"Unemp!T25","v":6.7000000000000004E-2},{"$f":"Unemp!U25","v":6.7000000000000004E-2}]
["Imperial",{"$f":"Participation!V19/Participation!V$6","v":9.7104219978406021E-3},"C-IV","Medium",{"$f":"Participation!B19","v":35463},{"$f":"Participation!C19","v":35317},{"$f":"Participation!D19","v":35099},{"$f":"Participation!E19","v":36091},{"$f":"Participation!F19","v":37524},{"$f":"Participation!I19","v":36983},{"$f":"Participation!J19","v":36277},{"$f":"Participation!K19","v":37083},{"$f":"Participation!L19","v":38207},{"$f":"Participation!M19","v":38782},{"$f":"Participation!N19","v":38209},{"$f":"Participation!O19","v":40394},{"$f":"Participation!P19","v":42202},{"$f":"Participation!Q19","v":42073},{"$f":"Participation!R19","v":42432},{"$f":"Participation!S19","v":43485},{"$f":"Participation!T19","v":44547},{"$f":"Participation!U19","v":43457},{"$f":"Participation!V19","v":42432},null,null,null,0,null,0,0.19651467726926655,-2.3586533815035553E-2,null,{"$f":"PRI!B18","v":0.70699999999999996},{"$f":"PRI!C18","v":0.65100000000000002},{"$f":"PRI!F18","v":0.80800000000000005},{"$f":"PRI!G18","v":0.81499999999999995},{"$f":"PRI!H18","v":0.89508144333471995},{"$f":"PRI!I18","v":0.90733457568972442},null,null,null,null,null,null,null,null,null,null,null,null,null,null,null,null,null,null,null,null,{"$f":"DD_Jun2016!J18","v":0.43725153167213254},null,null,null,null,null,null,null,null,null,null,null,null,null,null,null,null,null,null,null,null,{"$f":"DD_Jun2016!P18","v":0.9660997204100652},null,null,{"$f":"Timely!C275","v":15},{"$f":"Timely!D275","v":15.3},{"$f":"Timely!E275","v":14.7},{"$f":"Timely!F275","v":16.7},{"$f":"Timely!G275","v":14.3},{"$f":"Timely!H275","v":15},{"$f":"Timely!I275","v":16.7},{"$f":"Timely!J275","v":18.3},{"$f":"Timely!K275","v":14.3},{"$f":"Timely!L275","v":14.7},{"$f":"Timely!M275","v":16},{"$f":"Timely!N275","v":16.3},{"$f":"Timely!O275","v":15},{"$f":"Timely!P275","v":13.7},{"$f":"Timely!Q275","v":12.7},{"$f":"Timely!R275","v":12},{"$f":"Timely!S275","v":10.3},{"$f":"Timely!T275","v":10},null,null,{"$f":"Timely!C83","v":0},{"$f":"Timely!D83","v":0},{"$f":"Timely!E83","v":0},{"$f":"Timely!F83","v":0},{"$f":"Timely!G83","v":2.0000000000000018E-3},{"$f":"Timely!J83","v":0},{"$f":"Timely!K83","v":0},{"$f":"Timely!L83","v":6.899999999999995E-2},{"$f":"Timely!M83","v":0.11799999999999999},{"$f":"Timely!N83","v":4.7000000000000042E-2},{"$f":"Timely!O83","v":5.5000000000000049E-2},{"$f":"Timely!P83","v":8.4999999999999964E-2},{"$f":"Timely!Q83","v":8.4999999999999964E-2},{"$f":"Timely!R83","v":6.0000000000000053E-2},{"$f":"Timely!S83","v":5.1000000000000045E-2},{"$f":"Timely!T83","v":2.4000000000000021E-2},{"$f":"Timely!U83","v":2.4000000000000021E-2},{"$f":"Timely!V83","v":2.1000000000000019E-2},{"$f":"Timely!W83","v":3.0000000000000027E-2},null,null,null,null,null,{"$f":"Timely!C210","v":9.000000000000008E-3},{"$f":"Timely!D210","v":2.300000000000002E-2},{"$f":"Timely!E210","v":1.3000000000000012E-2},{"$f":"Timely!F210","v":1.6000000000000014E-2},{"$f":"Timely!G210","v":1.2000000000000011E-2},{"$f":"Timely!J210","v":1.3000000000000012E-2},{"$f":"Timely!K210","v":1.100000000000001E-2},{"$f":"Timely!L210","v":8.5999999999999965E-2},{"$f":"Timely!M210","v":1.8000000000000016E-2},{"$f":"Timely!N210","v":0.10599999999999998},{"$f":"Timely!O210","v":0.11699999999999999},{"$f":"Timely!P210","v":0.17400000000000004},{"$f":"Timely!Q210","v":0.10499999999999998},{"$f":"Timely!R210","v":0.11899999999999999},{"$f":"Timely!S210","v":0.16400000000000003},{"$f":"Timely!T210","v":9.8999999999999977E-2},{"$f":"Timely!U210","v":5.7000000000000051E-2},{"$f":"Timely!V210","v":6.2999999999999945E-2},{"$f":"Timely!W210","v":6.3999999999999946E-2},null,null,null,null,{"$f":"Churn!B18","v":0.25268513284341437},{"$f":"Churn!C18","v":0.24642668078348332},{"$f":"Churn!D18","v":0.23767235335358727},{"$f":"Churn!E18","v":0.23829052449816535},{"$f":"Churn!F18","v":0.2452085682074408},{"$f":"Churn!G18","v":0.32765298218435324},{"$f":"Churn!H18","v":0.30223080223080223},{"$f":"Churn!I18","v":0.30511608793918227},{"$f":"Churn!J18","v":0.29295913343180702},{"$f":"Churn!K18","v":0.29751104908118164},{"$f":"Churn!L18","v":0.30828961175236097},{"$f":"Churn!M18","v":0.29105231266410825},{"$f":"Churn!N18","v":0.29442508710801396},{"$f":"Churn!O18","v":0.30685321318472847},{"$f":"Churn!P18","v":0.29510434952213771},{"$f":"Churn!Q18","v":0.28518380987746006},{"$f":"Churn!R18","v":0.3278345724907063},{"$f":"Churn!S18","v":0.31505352851212587},null,{"$f":"Churn!B90","v":0.87636363636363634},{"$f":"Churn!C90","v":0.7315716272600834},{"$f":"Churn!D90","v":0.6975476839237057},{"$f":"Churn!E90","v":0.64910313901345296},{"$f":"Churn!F90","v":0.76845298281092012},{"$f":"Churn!G90","v":0.49643221202854232},{"$f":"Churn!H90","v":0.48598130841121495},{"$f":"Churn!I90","v":0.54553651938683501},{"$f":"Churn!J90","v":0.58873002523128681},{"$f":"Churn!K90","v":0.6964285714285714},{"$f":"Churn!L90","v":0.62309368191721137},{"$f":"Churn!M90","v":0.6470588235294118},{"$f":"Churn!N90","v":0.62781015820149877},{"$f":"Churn!O90","v":0.58538993089832181},{"$f":"Churn!P90","v":0.59142857142857141},{"$f":"Churn!Q90","v":0.54754098360655734},{"$f":"Churn!R90","v":0.46687948922585792},{"$f":"Churn!S90","v":0.43812375249500995},null,{"$f":"Churn!B147","v":3.8729198184568832E-2},{"$f":"Churn!C147","v":3.7545787545787544E-2},{"$f":"Churn!D147","v":3.651609413037598E-2},{"$f":"Churn!E147","v":3.4406488080609483E-2},{"$f":"Churn!F147","v":6.1966487511855836E-2},{"$f":"Churn!G147","v":0.19325346784363179},{"$f":"Churn!H147","v":0.19188767550702029},{"$f":"Churn!I147","v":0.16340310600945307},{"$f":"Churn!J147","v":0.17728365384615385},{"$f":"Churn!K147","v":0.16193751791344224},{"$f":"Churn!L147","v":0.13267326732673268},{"$f":"Churn!M147","v":0.1308454273208938},{"$f":"Churn!N147","v":0.14745616556481747},{"$f":"Churn!O147","v":0.15916352018588439},{"$f":"Churn!P147","v":0.15169936446532192},{"$f":"Churn!Q147","v":0.13707088169918499},{"$f":"Churn!R147","v":0.16465490560198082},{"$f":"Churn!S147","v":0.17396630934150076},null,{"$f":"Churn!B211","v":0.12586989409984872},{"$f":"Churn!C211","v":0.1221001221001221},{"$f":"Churn!D211","v":0.13605626183391939},{"$f":"Churn!E211","v":0.12115999016957484},{"$f":"Churn!F211","v":0.14859310780904206},{"$f":"Churn!G211","v":0.27459016393442626},{"$f":"Churn!H211","v":0.28029121164846593},{"$f":"Churn!I211","v":0.23857753769975243},{"$f":"Churn!J211","v":0.25901442307692307},{"$f":"Churn!K211","v":0.24304958440813987},{"$f":"Churn!L211","v":0.22153465346534654},{"$f":"Churn!M211","v":0.20340935268371343},{"$f":"Churn!N211","v":0.21759126185685543},{"$f":"Churn!O211","v":0.2381643915190241},{"$f":"Churn!P211","v":0.23459519204200055},{"$f":"Churn!Q211","v":0.21363299580143244},{"$f":"Churn!R211","v":0.23831631073970908},{"$f":"Churn!S211","v":0.26278713629402756},null,{"$f":"Unemp!B19","v":0.29899999999999999},{"$f":"Unemp!C19","v":0.29699999999999999},{"$f":"Unemp!D19","v":0.29699999999999999},{"$f":"Unemp!E19","v":0.29699999999999999},{"$f":"Unemp!F19","v":0.29699999999999999},{"$f":"Unemp!$I19","v":0.28299999999999997},{"$f":"Unemp!$I19","v":0.28299999999999997},{"$f":"Unemp!$I19","v":0.28299999999999997},{"$f":"Unemp!$I19","v":0.28299999999999997},{"$f":"Unemp!J19","v":0.249},{"$f":"Unemp!K19","v":0.249},{"$f":"Unemp!L19","v":0.249},{"$f":"Unemp!M19","v":0.249},{"$f":"Unemp!N26","v":0.11},{"$f":"Unemp!O26","v":0.11},{"$f":"Unemp!P26","v":0.11},{"$f":"Unemp!Q26","v":0.11},{"$f":"Unemp!R26","v":0.105},{"$f":"Unemp!S26","v":0.105},{"$f":"Unemp!T26","v":0.105},{"$f":"Unemp!U26","v":0.105}]
["Santa Barbara",{"$f":"Participation!V48/Participation!V$6","v":9.2037554654306498E-3},"CalWIN","Medium",{"$f":"Participation!B48","v":30550},{"$f":"Participation!C48","v":31120},{"$f":"Participation!D48","v":33118},{"$f":"Participation!E48","v":32030},{"$f":"Participation!F48","v":31696},{"$f":"Participation!I48","v":33164},{"$f":"Participation!J48","v":34310},{"$f":"Participation!K48","v":32221},{"$f":"Participation!L48","v":32271},{"$f":"Participation!M48","v":34841},{"$f":"Participation!N48","v":36132},{"$f":"Participation!O48","v":34497},{"$f":"Participation!P48","v":34829},{"$f":"Participation!Q48","v":37090},{"$f":"Participation!R48","v":37966},{"$f":"Participation!S48","v":36443},{"$f":"Participation!T48","v":36809},{"$f":"Participation!U48","v":39696},{"$f":"Participation!V48","v":40218},null,null,null,-2.4199181182235307E-2,null,5.9316230311331195E-2,0.31646481178396074,1.314993954050786E-2,null,{"$f":"PRI!B47","v":0.32900000000000001},{"$f":"PRI!C47","v":0.47799999999999998},{"$f":"PRI!F47","v":0.41799999999999998},{"$f":"PRI!G47","v":0.41399999999999998},{"$f":"PRI!H47","v":0.42200119780622236},{"$f":"PRI!I47","v":0.50750380291810415},null,null,null,null,null,null,null,null,null,null,null,null,null,null,null,null,null,null,null,null,{"$f":"DD_Jun2016!J47","v":0.26904453061862044},null,null,null,null,null,null,null,null,null,null,null,null,null,null,null,null,null,null,null,null,{"$f":"DD_Jun2016!P47","v":0.95943425928168369},null,null,{"$f":"Timely!C304","v":25.7},{"$f":"Timely!D304","v":21},{"$f":"Timely!E304","v":12.7},{"$f":"Timely!F304","v":14.7},{"$f":"Timely!G304","v":18.7},{"$f":"Timely!H304","v":15.3},{"$f":"Timely!I304","v":13.3},{"$f":"Timely!J304","v":16},{"$f":"Timely!K304","v":21.7},{"$f":"Timely!L304","v":19.3},{"$f":"Timely!M304","v":19.3},{"$f":"Timely!N304","v":14.7},{"$f":"Timely!O304","v":16.7},{"$f":"Timely!P304","v":12.7},{"$f":"Timely!Q304","v":11.3},{"$f":"Timely!R304","v":12},{"$f":"Timely!S304","v":15.3},{"$f":"Timely!T304","v":11.3},null,null,{"$f":"Timely!C112","v":0.26},{"$f":"Timely!D112","v":0.36699999999999999},{"$f":"Timely!E112","v":0.11799999999999999},{"$f":"Timely!F112","v":4.0000000000000036E-2},{"$f":"Timely!G112","v":4.9000000000000044E-2},{"$f":"Timely!J112","v":4.6000000000000041E-2},{"$f":"Timely!K112","v":6.9999999999999951E-2},{"$f":"Timely!L112","v":5.600000000000005E-2},{"$f":"Timely!M112","v":7.5999999999999956E-2},{"$f":"Timely!N112","v":0.374},{"$f":"Timely!O112","v":0.20399999999999996},{"$f":"Timely!P112","v":0.125},{"$f":"Timely!Q112","v":0.11099999999999999},{"$f":"Timely!R112","v":0.14500000000000002},{"$f":"Timely!S112","v":4.7000000000000042E-2},{"$f":"Timely!T112","v":3.5000000000000031E-2},{"$f":"Timely!U112","v":4.2000000000000037E-2},{"$f":"Timely!V112","v":0.10499999999999998},{"$f":"Timely!W112","v":1.2000000000000011E-2},null,null,null,null,null,{"$f":"Timely!C239","v":0.16500000000000004},{"$f":"Timely!D239","v":0.16200000000000003},{"$f":"Timely!E239","v":0.11099999999999999},{"$f":"Timely!F239","v":5.5000000000000049E-2},{"$f":"Timely!G239","v":6.6999999999999948E-2},{"$f":"Timely!J239","v":7.7999999999999958E-2},{"$f":"Timely!K239","v":6.0000000000000053E-2},{"$f":"Timely!L239","v":0.13500000000000001},{"$f":"Timely!M239","v":0.15300000000000002},{"$f":"Timely!N239","v":0.18300000000000005},{"$f":"Timely!O239","v":0.11399999999999999},{"$f":"Timely!P239","v":8.6999999999999966E-2},{"$f":"Timely!Q239","v":0.13600000000000001},{"$f":"Timely!R239","v":9.5999999999999974E-2},{"$f":"Timely!S239","v":7.8999999999999959E-2},{"$f":"Timely!T239","v":7.999999999999996E-2},{"$f":"Timely!U239","v":7.5999999999999956E-2},{"$f":"Timely!V239","v":7.1999999999999953E-2},{"$f":"Timely!W239","v":6.899999999999995E-2},null,null,null,null,{"$f":"Churn!B47","v":0.13173483779971792},{"$f":"Churn!C47","v":0.15651015651015651},{"$f":"Churn!D47","v":0.16919525065963062},{"$f":"Churn!E47","v":0.18179332968835429},{"$f":"Churn!F47","v":0.15646100116414435},{"$f":"Churn!G47","v":0.14847401704701677},{"$f":"Churn!H47","v":0.18806404657933043},{"$f":"Churn!I47","v":0.19546666666666668},{"$f":"Churn!J47","v":0.1737426518615284},{"$f":"Churn!K47","v":0.18071680969207471},{"$f":"Churn!L47","v":0.18071680969207471},{"$f":"Churn!M47","v":0.19351351351351351},{"$f":"Churn!N47","v":0.19592147894034687},{"$f":"Churn!O47","v":0.21018651362984217},{"$f":"Churn!P47","v":0.21018633540372672},{"$f":"Churn!Q47","v":0.18590373280943026},{"$f":"Churn!R47","v":0.16842314575462319},{"$f":"Churn!S47","v":0.21098726114649682},null,{"$f":"Churn!B91","v":0.8482142857142857},{"$f":"Churn!C91","v":0.57232704402515722},{"$f":"Churn!D91","v":0.55627705627705626},{"$f":"Churn!E91","v":0.58134920634920639},{"$f":"Churn!F91","v":0.58517034068136276},{"$f":"Churn!G91","v":0.44511278195488724},{"$f":"Churn!H91","v":0.44764795144157815},{"$f":"Churn!I91","v":0.44149765990639628},{"$f":"Churn!J91","v":0.51367781155015202},{"$f":"Churn!K91","v":0.59940209267563527},{"$f":"Churn!L91","v":0.48533333333333334},{"$f":"Churn!M91","v":0.56000000000000005},{"$f":"Churn!N91","v":0.5864197530864198},{"$f":"Churn!O91","v":0.73988439306358378},{"$f":"Churn!P91","v":0.64846870838881487},{"$f":"Churn!Q91","v":0.6182519280205655},{"$f":"Churn!R91","v":0.5719557195571956},{"$f":"Churn!S91","v":0.74582338902147971},null,{"$f":"Churn!B176","v":0.15136054421768708},{"$f":"Churn!C176","v":0.15056929721240675},{"$f":"Churn!D176","v":0.10055595842397873},{"$f":"Churn!E176","v":8.1916537867078823E-2},{"$f":"Churn!F176","v":0.11153916712529811},{"$f":"Churn!G176","v":9.8401494706248704E-2},{"$f":"Churn!H176","v":9.1466289486091465E-2},{"$f":"Churn!I176","v":8.9380011734793666E-2},{"$f":"Churn!J176","v":9.7322348094747685E-2},{"$f":"Churn!K176","v":9.7615651110658244E-2},{"$f":"Churn!L176","v":7.7324714072600692E-2},{"$f":"Churn!M176","v":8.6466964096027193E-2},{"$f":"Churn!N176","v":9.0402821607573791E-2},{"$f":"Churn!O176","v":8.6054631341137805E-2},{"$f":"Churn!P176","v":8.5555297936471139E-2},{"$f":"Churn!Q176","v":7.0480081716036772E-2},{"$f":"Churn!R176","v":7.3110720562390152E-2},{"$f":"Churn!S176","v":9.7040905134899907E-2},null,{"$f":"Churn!B240","v":0.26003401360544215},{"$f":"Churn!C240","v":0.23085983510011779},{"$f":"Churn!D240","v":0.17041334300217548},{"$f":"Churn!E240","v":0.18591300507838374},{"$f":"Churn!F240","v":0.22032654558796552},{"$f":"Churn!G240","v":0.186838281087814},{"$f":"Churn!H240","v":0.17421027817067422},{"$f":"Churn!I240","v":0.19323293565421476},{"$f":"Churn!J240","v":0.19292825266048746},{"$f":"Churn!K240","v":0.17322192785816182},{"$f":"Churn!L240","v":0.1419691695673794},{"$f":"Churn!M240","v":0.16146165285744635},{"$f":"Churn!N240","v":0.19138667161685538},{"$f":"Churn!O240","v":0.17252002464571781},{"$f":"Churn!P240","v":0.16879202411314631},{"$f":"Churn!Q240","v":0.15648621041879468},{"$f":"Churn!R240","v":0.16344463971880491},{"$f":"Churn!S240","v":0.18298520452567449},null,{"$f":"Unemp!B48","v":9.4E-2},{"$f":"Unemp!C48","v":8.8999999999999996E-2},{"$f":"Unemp!D48","v":8.8999999999999996E-2},{"$f":"Unemp!E48","v":8.8999999999999996E-2},{"$f":"Unemp!F48","v":8.8999999999999996E-2},{"$f":"Unemp!$I48","v":0.08},{"$f":"Unemp!$I48","v":0.08},{"$f":"Unemp!$I48","v":0.08},{"$f":"Unemp!$I48","v":0.08},{"$f":"Unemp!J48","v":7.0999999999999994E-2},{"$f":"Unemp!K48","v":7.0999999999999994E-2},{"$f":"Unemp!L48","v":7.0999999999999994E-2},{"$f":"Unemp!M48","v":7.0999999999999994E-2},{"$f":"Unemp!N27","v":4.2999999999999997E-2},{"$f":"Unemp!O27","v":4.2999999999999997E-2},{"$f":"Unemp!P27","v":4.2999999999999997E-2},{"$f":"Unemp!Q27","v":4.2999999999999997E-2},{"$f":"Unemp!R27","v":3.5000000000000003E-2},{"$f":"Unemp!S27","v":3.5000000000000003E-2},{"$f":"Unemp!T27","v":3.5000000000000003E-2},{"$f":"Unemp!U27","v":3.5000000000000003E-2}]
["Sonoma",{"$f":"Participation!V55/Participation!V$6","v":7.8780466929596234E-3},"CalWIN","Medium",{"$f":"Participation!B55","v":31820},{"$f":"Participation!C55","v":31838},{"$f":"Participation!D55","v":33291},{"$f":"Participation!E55","v":34447},{"$f":"Participation!F55","v":34288},{"$f":"Participation!I55","v":40348},{"$f":"Participation!J55","v":34800},{"$f":"Participation!K55","v":34451},{"$f":"Participation!L55","v":34664},{"$f":"Participation!M55","v":34735},{"$f":"Participation!N55","v":35221},{"$f":"Participation!O55","v":34951},{"$f":"Participation!P55","v":35567},{"$f":"Participation!Q55","v":35677},{"$f":"Participation!R55","v":36090},{"$f":"Participation!S55","v":36183},{"$f":"Participation!T55","v":35691},{"$f":"Participation!U55","v":35037},{"$f":"Participation!V55","v":34425},null,null,null,1.7891490527718379E-2,null,-4.6134663341645885E-2,8.1866750471401628E-2,-1.7467248908296942E-2,null,{"$f":"PRI!B54","v":0.33400000000000002},{"$f":"PRI!C54","v":0.45500000000000002},{"$f":"PRI!F54","v":0.45500000000000002},{"$f":"PRI!G54","v":0.49099999999999999},{"$f":"PRI!H54","v":0.50345315035929272},{"$f":"PRI!I54","v":0.61995535705282345},null,null,null,null,null,null,null,null,null,null,null,null,null,null,null,null,null,null,null,null,{"$f":"DD_Jun2016!J54","v":0.25279218189070601},null,null,null,null,null,null,null,null,null,null,null,null,null,null,null,null,null,null,null,null,{"$f":"DD_Jun2016!P54","v":0.92635277582572029},null,null,{"$f":"Timely!C311","v":20},{"$f":"Timely!D311","v":20.3},{"$f":"Timely!E311","v":14},{"$f":"Timely!F311","v":13.3},{"$f":"Timely!G311","v":12.7},{"$f":"Timely!H311","v":17.3},{"$f":"Timely!I311","v":17},{"$f":"Timely!J311","v":19.7},{"$f":"Timely!K311","v":18.7},{"$f":"Timely!L311","v":21.3},{"$f":"Timely!M311","v":21.3},{"$f":"Timely!N311","v":10.7},{"$f":"Timely!O311","v":9.3000000000000007},{"$f":"Timely!P311","v":13.3},{"$f":"Timely!Q311","v":9.6999999999999993},{"$f":"Timely!R311","v":14},{"$f":"Timely!S311","v":14.7},{"$f":"Timely!T311","v":18},null,null,{"$f":"Timely!C119","v":0.22499999999999998},{"$f":"Timely!D119","v":0.13800000000000001},{"$f":"Timely!E119","v":0.123},{"$f":"Timely!F119","v":0.10099999999999998},{"$f":"Timely!G119","v":5.0000000000000044E-2},{"$f":"Timely!J119","v":5.9000000000000052E-2},{"$f":"Timely!K119","v":7.6999999999999957E-2},{"$f":"Timely!L119","v":0.13300000000000001},{"$f":"Timely!M119","v":0.13900000000000001},{"$f":"Timely!N119","v":0.15900000000000003},{"$f":"Timely!O119","v":0.16200000000000003},{"$f":"Timely!P119","v":0.10299999999999998},{"$f":"Timely!Q119","v":4.1000000000000036E-2},{"$f":"Timely!R119","v":4.2000000000000037E-2},{"$f":"Timely!S119","v":8.1999999999999962E-2},{"$f":"Timely!T119","v":7.4999999999999956E-2},{"$f":"Timely!U119","v":0.10999999999999999},{"$f":"Timely!V119","v":0.10699999999999998},{"$f":"Timely!W119","v":0.13800000000000001},null,null,null,null,null,{"$f":"Timely!C246","v":0.44699999999999995},{"$f":"Timely!D246","v":0.53899999999999992},{"$f":"Timely!E246","v":0.38300000000000001},{"$f":"Timely!F246","v":0.30000000000000004},{"$f":"Timely!G246","v":0.378},{"$f":"Timely!J246","v":0.59699999999999998},{"$f":"Timely!K246","v":0.53299999999999992},{"$f":"Timely!L246","v":0.52800000000000002},{"$f":"Timely!M246","v":0.51500000000000001},{"$f":"Timely!N246","v":0.54099999999999993},{"$f":"Timely!O246","v":0.28300000000000003},{"$f":"Timely!P246","v":0.26600000000000001},{"$f":"Timely!Q246","v":0.24099999999999999},{"$f":"Timely!R246","v":0.29500000000000004},{"$f":"Timely!S246","v":0.24399999999999999},{"$f":"Timely!T246","v":0.39},{"$f":"Timely!U246","v":0.48499999999999999},{"$f":"Timely!V246","v":0.49099999999999999},{"$f":"Timely!W246","v":0.41300000000000003},null,null,null,null,{"$f":"Churn!B54","v":0.16558823529411765},{"$f":"Churn!C54","v":0.15349954941423852},{"$f":"Churn!D54","v":0.14809707666850525},{"$f":"Churn!E54","v":0.17530181086519114},{"$f":"Churn!F54","v":0.16388817645550141},{"$f":"Churn!G54","v":0.17817745803357316},{"$f":"Churn!H54","v":0.19414893617021275},{"$f":"Churn!I54","v":0.20980861244019139},{"$f":"Churn!J54","v":0.22457442164993452},{"$f":"Churn!K54","v":0.22573153738968882},{"$f":"Churn!L54","v":0.22573153738968882},{"$f":"Churn!M54","v":0.21488924411966201},{"$f":"Churn!N54","v":0.2199820788530466},{"$f":"Churn!O54","v":0.21360302289397645},{"$f":"Churn!P54","v":0.20992534036012298},{"$f":"Churn!Q54","v":0.23644646924829157},{"$f":"Churn!R54","v":0.22960725075528701},{"$f":"Churn!S54","v":0.23134154847709834},null,{"$f":"Churn!B92","v":0.97058823529411764},{"$f":"Churn!C92","v":0.59420289855072461},{"$f":"Churn!D92","v":0.671875},{"$f":"Churn!E92","v":0.57954545454545459},{"$f":"Churn!F92","v":0.60240963855421692},{"$f":"Churn!G92","v":0.44036697247706424},{"$f":"Churn!H92","v":0.60576923076923073},{"$f":"Churn!I92","v":0.28712871287128711},{"$f":"Churn!J92","v":0.47115384615384615},{"$f":"Churn!K92","v":0.68421052631578949},{"$f":"Churn!L92","v":0.43697478991596639},{"$f":"Churn!M92","v":0.48780487804878048},{"$f":"Churn!N92","v":0.3971631205673759},{"$f":"Churn!O92","v":0.73267326732673266},{"$f":"Churn!P92","v":0.60550458715596334},{"$f":"Churn!Q92","v":0.6},{"$f":"Churn!R92","v":0.50757575757575757},{"$f":"Churn!S92","v":0.4580152671755725},null,{"$f":"Churn!B183","v":0.10525260625501202},{"$f":"Churn!C183","v":0.10566429932444137},{"$f":"Churn!D183","v":9.1873460882742938E-2},{"$f":"Churn!E183","v":7.9811283664242186E-2},{"$f":"Churn!F183","v":8.1119162640901771E-2},{"$f":"Churn!G183","v":8.1636726546906194E-2},{"$f":"Churn!H183","v":8.8111298482293418E-2},{"$f":"Churn!I183","v":7.2712583316501711E-2},{"$f":"Churn!J183","v":9.7134106322467731E-2},{"$f":"Churn!K183","v":0.10759737755495564},{"$f":"Churn!L183","v":0.10542995985632792},{"$f":"Churn!M183","v":9.9382716049382716E-2},{"$f":"Churn!N183","v":0.11725616291532691},{"$f":"Churn!O183","v":0.10303729334871203},{"$f":"Churn!P183","v":0.1015308419630797},{"$f":"Churn!Q183","v":9.4699350513303998E-2},{"$f":"Churn!R183","v":0.12548571428571428},{"$f":"Churn!S183","v":0.12745901639344262},null,{"$f":"Churn!B247","v":0.18504410585404971},{"$f":"Churn!C247","v":0.18569201455049367},{"$f":"Churn!D247","v":0.16953968554650503},{"$f":"Churn!E247","v":0.1645370552388441},{"$f":"Churn!F247","v":0.18015297906602254},{"$f":"Churn!G247","v":0.17584830339321358},{"$f":"Churn!H247","v":0.18802698145025296},{"$f":"Churn!I247","v":0.17976166431024035},{"$f":"Churn!J247","v":0.18004812951214177},{"$f":"Churn!K247","v":0.19514076359429233},{"$f":"Churn!L247","v":0.18930910627508979},{"$f":"Churn!M247","v":0.18106995884773663},{"$f":"Churn!N247","v":0.20557341907824223},{"$f":"Churn!O247","v":0.18838908112264513},{"$f":"Churn!P247","v":0.18887888338586223},{"$f":"Churn!Q247","v":0.17410433689503457},{"$f":"Churn!R247","v":0.21645714285714285},{"$f":"Churn!S247","v":0.22766393442622951},null,{"$f":"Unemp!B55","v":0.105},{"$f":"Unemp!C55","v":9.8000000000000004E-2},{"$f":"Unemp!D55","v":9.8000000000000004E-2},{"$f":"Unemp!E55","v":9.8000000000000004E-2},{"$f":"Unemp!F55","v":9.8000000000000004E-2},{"$f":"Unemp!$I55","v":8.5999999999999993E-2},{"$f":"Unemp!$I55","v":8.5999999999999993E-2},{"$f":"Unemp!$I55","v":8.5999999999999993E-2},{"$f":"Unemp!$I55","v":8.5999999999999993E-2},{"$f":"Unemp!J55","v":7.0000000000000007E-2},{"$f":"Unemp!K55","v":7.0000000000000007E-2},{"$f":"Unemp!L55","v":7.0000000000000007E-2},{"$f":"Unemp!M55","v":7.0000000000000007E-2},{"$f":"Unemp!N28","v":8.7999999999999995E-2},{"$f":"Unemp!O28","v":8.7999999999999995E-2},{"$f":"Unemp!P28","v":8.7999999999999995E-2},{"$f":"Unemp!Q28","v":8.7999999999999995E-2},{"$f":"Unemp!R28","v":7.1999999999999995E-2},{"$f":"Unemp!S28","v":7.1999999999999995E-2},{"$f":"Unemp!T28","v":7.1999999999999995E-2},{"$f":"Unemp!U28","v":7.1999999999999995E-2}]
["Butte",{"$f":"Participation!V10/Participation!V$6","v":7.3729820872555744E-3},"C-IV","Medium",{"$f":"Participation!B10","v":28120},{"$f":"Participation!C10","v":28228},{"$f":"Participation!D10","v":28623},{"$f":"Participation!E10","v":29226},{"$f":"Participation!F10","v":29899},{"$f":"Participation!I10","v":29807},{"$f":"Participation!J10","v":29770},{"$f":"Participation!K10","v":30211},{"$f":"Participation!L10","v":30365},{"$f":"Participation!M10","v":30348},{"$f":"Participation!N10","v":30559},{"$f":"Participation!O10","v":31036},{"$f":"Participation!P10","v":31231},{"$f":"Participation!Q10","v":31299},{"$f":"Participation!R10","v":31927},{"$f":"Participation!S10","v":32207},{"$f":"Participation!T10","v":32287},{"$f":"Participation!U10","v":32167},{"$f":"Participation!V10","v":32218},null,null,null,-3.1269812273669959E-3,null,9.1145425501926274E-3,0.14573257467994311,1.5854757981782572E-3,null,{"$f":"PRI!B9","v":0.51600000000000001},{"$f":"PRI!C9","v":0.443},{"$f":"PRI!F9","v":0.51200000000000001},{"$f":"PRI!G9","v":0.52100000000000002},{"$f":"PRI!H9","v":0.56693046889491883},{"$f":"PRI!I9","v":0.60002261475812002},null,null,null,null,null,null,null,null,null,null,null,null,null,null,null,null,null,null,null,null,{"$f":"DD_Jun2016!J9","v":0.36552169573131349},null,null,null,null,null,null,null,null,null,null,null,null,null,null,null,null,null,null,null,null,{"$f":"DD_Jun2016!P9","v":0.94349802970597152},null,null,{"$f":"Timely!C266","v":19.7},{"$f":"Timely!D266","v":20.3},{"$f":"Timely!E266","v":18.3},{"$f":"Timely!F266","v":18},{"$f":"Timely!G266","v":15.3},{"$f":"Timely!H266","v":15.7},{"$f":"Timely!I266","v":15.3},{"$f":"Timely!J266","v":17.7},{"$f":"Timely!K266","v":19},{"$f":"Timely!L266","v":19.7},{"$f":"Timely!M266","v":16},{"$f":"Timely!N266","v":16.3},{"$f":"Timely!O266","v":16.7},{"$f":"Timely!P266","v":17.3},{"$f":"Timely!Q266","v":16},{"$f":"Timely!R266","v":19},{"$f":"Timely!S266","v":17.7},{"$f":"Timely!T266","v":18},null,null,{"$f":"Timely!C74","v":0.17300000000000004},{"$f":"Timely!D74","v":0.11399999999999999},{"$f":"Timely!E74","v":0.13},{"$f":"Timely!F74","v":0.10499999999999998},{"$f":"Timely!G74","v":8.3999999999999964E-2},{"$f":"Timely!J74","v":6.1000000000000054E-2},{"$f":"Timely!K74","v":5.8000000000000052E-2},{"$f":"Timely!L74","v":4.0000000000000036E-2},{"$f":"Timely!M74","v":9.3999999999999972E-2},{"$f":"Timely!N74","v":6.7999999999999949E-2},{"$f":"Timely!O74","v":0.11399999999999999},{"$f":"Timely!P74","v":6.2999999999999945E-2},{"$f":"Timely!Q74","v":5.8000000000000052E-2},{"$f":"Timely!R74","v":8.6999999999999966E-2},{"$f":"Timely!S74","v":5.4000000000000048E-2},{"$f":"Timely!T74","v":7.999999999999996E-2},{"$f":"Timely!U74","v":0.18000000000000005},{"$f":"Timely!V74","v":8.6999999999999966E-2},{"$f":"Timely!W74","v":8.7999999999999967E-2},null,null,null,null,null,{"$f":"Timely!C201","v":6.3999999999999946E-2},{"$f":"Timely!D201","v":6.3999999999999946E-2},{"$f":"Timely!E201","v":7.7999999999999958E-2},{"$f":"Timely!F201","v":5.1000000000000045E-2},{"$f":"Timely!G201","v":4.500000000000004E-2},{"$f":"Timely!J201","v":4.2000000000000037E-2},{"$f":"Timely!K201","v":4.7000000000000042E-2},{"$f":"Timely!L201","v":6.1000000000000054E-2},{"$f":"Timely!M201","v":6.9999999999999951E-2},{"$f":"Timely!N201","v":0.10499999999999998},{"$f":"Timely!O201","v":9.9999999999999978E-2},{"$f":"Timely!P201","v":5.8000000000000052E-2},{"$f":"Timely!Q201","v":6.0000000000000053E-2},{"$f":"Timely!R201","v":7.2999999999999954E-2},{"$f":"Timely!S201","v":6.4999999999999947E-2},{"$f":"Timely!T201","v":7.3999999999999955E-2},{"$f":"Timely!U201","v":8.0999999999999961E-2},{"$f":"Timely!V201","v":5.2000000000000046E-2},{"$f":"Timely!W201","v":6.1000000000000054E-2},null,null,null,null,{"$f":"Churn!B9","v":0.61387220098306938},{"$f":"Churn!C9","v":0.40523373983739835},{"$f":"Churn!D9","v":0.42203932327389115},{"$f":"Churn!E9","v":0.40876944837340878},{"$f":"Churn!F9","v":0.38945862151204386},{"$f":"Churn!G9","v":0.40897097625329815},{"$f":"Churn!H9","v":0.37430167597765363},{"$f":"Churn!I9","v":0.39924628685435604},{"$f":"Churn!J9","v":0.42145178764897073},{"$f":"Churn!K9","v":0.40444938820912124},{"$f":"Churn!L9","v":0.4085744908896034},{"$f":"Churn!M9","v":0.42361264647357949},{"$f":"Churn!N9","v":0.41165672326755393},{"$f":"Churn!O9","v":0.41487021557413112},{"$f":"Churn!P9","v":0.40895772289660948},{"$f":"Churn!Q9","v":0.41824405960531613},{"$f":"Churn!R9","v":0.41517386722866173},{"$f":"Churn!S9","v":0.39853896103896103},null,{"$f":"Churn!B93","v":0.9494949494949495},{"$f":"Churn!C93","v":0.6108663729809104},{"$f":"Churn!D93","v":0.5340393343419062},{"$f":"Churn!E93","v":0.53259361997226073},{"$f":"Churn!F93","v":0.59496327387198322},{"$f":"Churn!G93","v":0.3879728419010669},{"$f":"Churn!H93","v":0.40966183574879228},{"$f":"Churn!I93","v":0.4746906636670416},{"$f":"Churn!J93","v":0.59977194982896243},{"$f":"Churn!K93","v":0.12084063047285463},{"$f":"Churn!L93","v":0.42704626334519574},{"$f":"Churn!M93","v":0.49468085106382981},{"$f":"Churn!N93","v":0.7011995637949836},{"$f":"Churn!O93","v":0.57673267326732669},{"$f":"Churn!P93","v":0.48844221105527641},{"$f":"Churn!Q93","v":0.46887550200803213},{"$f":"Churn!R93","v":0.61456102783725908},{"$f":"Churn!S93","v":0.59854014598540151},null,{"$f":"Churn!B138","v":3.5012594458438288E-2},{"$f":"Churn!C138","v":2.8241939279830548E-2},{"$f":"Churn!D138","v":2.7641551493535442E-2},{"$f":"Churn!E138","v":3.5602094240837698E-2},{"$f":"Churn!F138","v":3.7844611528822056E-2},{"$f":"Churn!G138","v":0.14659808276829553},{"$f":"Churn!H138","v":0.13569518716577539},{"$f":"Churn!I138","v":0.13180805831139908},{"$f":"Churn!J138","v":0.15656447460800374},{"$f":"Churn!K138","v":0.14457831325301204},{"$f":"Churn!L138","v":0.1367902393242609},{"$f":"Churn!M138","v":0.13591378931163403},{"$f":"Churn!N138","v":0.1330354926780839},{"$f":"Churn!O138","v":0.14559894109861019},{"$f":"Churn!P138","v":0.14365024288688411},{"$f":"Churn!Q138","v":0.14776632302405499},{"$f":"Churn!R138","v":0.15201060539107381},{"$f":"Churn!S138","v":0.14509551405881091},null,{"$f":"Churn!B202","v":0.12468513853904283},{"$f":"Churn!C202","v":0.11037891268533773},{"$f":"Churn!D202","v":0.12260365581810076},{"$f":"Churn!E202","v":0.11602094240837696},{"$f":"Churn!F202","v":0.13233082706766916},{"$f":"Churn!G202","v":0.21861117605798458},{"$f":"Churn!H202","v":0.21056149732620322},{"$f":"Churn!I202","v":0.20085037456975097},{"$f":"Churn!J202","v":0.23870816756377253},{"$f":"Churn!K202","v":0.21772805507745266},{"$f":"Churn!L202","v":0.21210699202252464},{"$f":"Churn!M202","v":0.20848911370134154},{"$f":"Churn!N202","v":0.21370067014147431},{"$f":"Churn!O202","v":0.21530994926097508},{"$f":"Churn!P202","v":0.22229932916955819},{"$f":"Churn!Q202","v":0.2263998382858298},{"$f":"Churn!R202","v":0.24149359257622624},{"$f":"Churn!S202","v":0.223223867782786},null,{"$f":"Unemp!B10","v":0.13900000000000001},{"$f":"Unemp!C10","v":0.13600000000000001},{"$f":"Unemp!D10","v":0.13600000000000001},{"$f":"Unemp!E10","v":0.13600000000000001},{"$f":"Unemp!F10","v":0.13600000000000001},{"$f":"Unemp!$I10","v":0.122},{"$f":"Unemp!$I10","v":0.122},{"$f":"Unemp!$I10","v":0.122},{"$f":"Unemp!$I10","v":0.122},{"$f":"Unemp!J10","v":0.10299999999999999},{"$f":"Unemp!K10","v":0.10299999999999999},{"$f":"Unemp!L10","v":0.10299999999999999},{"$f":"Unemp!M10","v":0.10299999999999999},{"$f":"Unemp!N29","v":6.9000000000000006E-2},{"$f":"Unemp!O29","v":6.9000000000000006E-2},{"$f":"Unemp!P29","v":6.9000000000000006E-2},{"$f":"Unemp!Q29","v":6.9000000000000006E-2},{"$f":"Unemp!R29","v":5.8999999999999997E-2},{"$f":"Unemp!S29","v":5.8999999999999997E-2},{"$f":"Unemp!T29","v":5.8999999999999997E-2},{"$f":"Unemp!U29","v":5.8999999999999997E-2}]
["San Mateo",{"$f":"Participation!V47/Participation!V$6","v":6.8686040215683412E-3},"CalWIN","Medium",{"$f":"Participation!B47","v":25111},{"$f":"Participation!C47","v":26275},{"$f":"Participation!D47","v":27156},{"$f":"Participation!E47","v":28106},{"$f":"Participation!F47","v":28900},{"$f":"Participation!I47","v":28487},{"$f":"Participation!J47","v":28842},{"$f":"Participation!K47","v":29339},{"$f":"Participation!L47","v":31071},{"$f":"Participation!M47","v":32181},{"$f":"Participation!N47","v":32354},{"$f":"Participation!O47","v":32208},{"$f":"Participation!P47","v":32074},{"$f":"Participation!Q47","v":31880},{"$f":"Participation!R47","v":31947},{"$f":"Participation!S47","v":31752},{"$f":"Participation!T47","v":31527},{"$f":"Participation!U47","v":30873},{"$f":"Participation!V47","v":30014},null,null,null,2.077132203608386E-2,null,-6.0506463830719628E-2,0.19525307634104574,-2.7823664690830176E-2,null,{"$f":"PRI!B46","v":0.29899999999999999},{"$f":"PRI!C46","v":0.32600000000000001},{"$f":"PRI!F46","v":0.38200000000000001},{"$f":"PRI!G46","v":0.42299999999999999},{"$f":"PRI!H46","v":0.5047687081036859},{"$f":"PRI!I46","v":0.44253944353777569},null,null,null,null,null,null,null,null,null,null,null,null,null,null,null,null,null,null,null,null,{"$f":"DD_Jun2016!J46","v":0.175441001451831},null,null,null,null,null,null,null,null,null,null,null,null,null,null,null,null,null,null,null,null,{"$f":"DD_Jun2016!P46","v":0.92801582069874755},null,null,{"$f":"Timely!C303","v":12.7},{"$f":"Timely!D303","v":12.7},{"$f":"Timely!E303","v":12},{"$f":"Timely!F303","v":11.7},{"$f":"Timely!G303","v":17},{"$f":"Timely!H303","v":19.7},{"$f":"Timely!I303","v":16.7},{"$f":"Timely!J303","v":11.3},{"$f":"Timely!K303","v":10},{"$f":"Timely!L303","v":9.3000000000000007},{"$f":"Timely!M303","v":9.3000000000000007},{"$f":"Timely!N303","v":11},{"$f":"Timely!O303","v":11},{"$f":"Timely!P303","v":10.3},{"$f":"Timely!Q303","v":9},{"$f":"Timely!R303","v":9.6999999999999993},{"$f":"Timely!S303","v":10.3},{"$f":"Timely!T303","v":9.6999999999999993},null,null,{"$f":"Timely!C111","v":0.11099999999999999},{"$f":"Timely!D111","v":5.3000000000000047E-2},{"$f":"Timely!E111","v":6.2000000000000055E-2},{"$f":"Timely!F111","v":4.8000000000000043E-2},{"$f":"Timely!G111","v":5.9000000000000052E-2},{"$f":"Timely!J111","v":0.378},{"$f":"Timely!K111","v":0.22299999999999998},{"$f":"Timely!L111","v":0.16900000000000004},{"$f":"Timely!M111","v":3.2000000000000028E-2},{"$f":"Timely!N111","v":1.6000000000000014E-2},{"$f":"Timely!O111","v":2.300000000000002E-2},{"$f":"Timely!P111","v":2.7000000000000024E-2},{"$f":"Timely!Q111","v":3.0000000000000027E-2},{"$f":"Timely!R111","v":2.5000000000000022E-2},{"$f":"Timely!S111","v":2.7000000000000024E-2},{"$f":"Timely!T111","v":1.2000000000000011E-2},{"$f":"Timely!U111","v":3.5000000000000031E-2},{"$f":"Timely!V111","v":2.9000000000000026E-2},{"$f":"Timely!W111","v":1.9000000000000017E-2},null,null,null,null,null,{"$f":"Timely!C238","v":0.16100000000000003},{"$f":"Timely!D238","v":0.15800000000000003},{"$f":"Timely!E238","v":0.14100000000000001},{"$f":"Timely!F238","v":0.13400000000000001},{"$f":"Timely!G238","v":0.17300000000000004},{"$f":"Timely!J238","v":0.18899999999999995},{"$f":"Timely!K238","v":0.246},{"$f":"Timely!L238","v":0.19699999999999995},{"$f":"Timely!M238","v":0.17000000000000004},{"$f":"Timely!N238","v":0.125},{"$f":"Timely!O238","v":0.11099999999999999},{"$f":"Timely!P238","v":8.8999999999999968E-2},{"$f":"Timely!Q238","v":0.11099999999999999},{"$f":"Timely!R238","v":6.6999999999999948E-2},{"$f":"Timely!S238","v":7.999999999999996E-2},{"$f":"Timely!T238","v":7.5999999999999956E-2},{"$f":"Timely!U238","v":9.9999999999999978E-2},{"$f":"Timely!V238","v":9.7999999999999976E-2},{"$f":"Timely!W238","v":0.11499999999999999},null,null,null,null,{"$f":"Churn!B46","v":0.14242027086063783},{"$f":"Churn!C46","v":0.134560327198364},{"$f":"Churn!D46","v":0.15213140398904967},{"$f":"Churn!E46","v":0.16087388282025819},{"$f":"Churn!F46","v":0.15017064846416384},{"$f":"Churn!G46","v":0.15439506973726888},{"$f":"Churn!H46","v":0.16581306017925737},{"$f":"Churn!I46","v":0.1629027401385125},{"$f":"Churn!J46","v":0.20037570444583594},{"$f":"Churn!K46","v":0.22562083585705633},{"$f":"Churn!L46","v":0.22562083585705633},{"$f":"Churn!M46","v":0.2044346978557505},{"$f":"Churn!N46","v":0.22821826952065119},{"$f":"Churn!O46","v":0.22073950514317486},{"$f":"Churn!P46","v":0.22252822913797851},{"$f":"Churn!Q46","v":0.2289002557544757},{"$f":"Churn!R46","v":0.24474074074074073},{"$f":"Churn!S46","v":0.25071225071225073},null,{"$f":"Churn!B94","v":0.92691315563198629},{"$f":"Churn!C94","v":0.80154486036838979},{"$f":"Churn!D94","v":0.766754617414248},{"$f":"Churn!E94","v":0.76323676323676326},{"$f":"Churn!F94","v":0.77153920619554694},{"$f":"Churn!G94","v":0.57120418848167542},{"$f":"Churn!H94","v":0.64992232004142936},{"$f":"Churn!I94","v":0.62267657992565051},{"$f":"Churn!J94","v":0.77025898078529653},{"$f":"Churn!K94","v":0.78449999999999998},{"$f":"Churn!L94","v":0.82636186770428011},{"$f":"Churn!M94","v":0.80368373764600176},{"$f":"Churn!N94","v":0.85702479338842974},{"$f":"Churn!O94","v":0.82926829268292679},{"$f":"Churn!P94","v":0.80300187617260788},{"$f":"Churn!Q94","v":0.7519548218940052},{"$f":"Churn!R94","v":0.74236491777603764},{"$f":"Churn!S94","v":0.72077635641817384},null,{"$f":"Churn!B175","v":7.2614991482112437E-2},{"$f":"Churn!C175","v":8.8362474149276185E-2},{"$f":"Churn!D175","v":9.976293954958515E-2},{"$f":"Churn!E175","v":7.9970517781463052E-2},{"$f":"Churn!F175","v":8.0856370816877993E-2},{"$f":"Churn!G175","v":7.7142857142857138E-2},{"$f":"Churn!H175","v":8.5031912703314796E-2},{"$f":"Churn!I175","v":6.8520179372197315E-2},{"$f":"Churn!J175","v":7.8224101479915431E-2},{"$f":"Churn!K175","v":9.9618320610687025E-2},{"$f":"Churn!L175","v":8.6536396821988409E-2},{"$f":"Churn!M175","v":0.11266464032421479},{"$f":"Churn!N175","v":9.2282275194713242E-2},{"$f":"Churn!O175","v":9.5735785953177263E-2},{"$f":"Churn!P175","v":9.298678019269549E-2},{"$f":"Churn!Q175","v":9.4157799638626777E-2},{"$f":"Churn!R175","v":9.6322657176749704E-2},{"$f":"Churn!S175","v":0.11359925355726615},null,{"$f":"Churn!B239","v":0.13458262350936967},{"$f":"Churn!C239","v":0.16544463244970858},{"$f":"Churn!D239","v":0.16772026866851047},{"$f":"Churn!E239","v":0.15754560530679934},{"$f":"Churn!F239","v":0.16898773643733112},{"$f":"Churn!G239","v":0.16361904761904761},{"$f":"Churn!H239","v":0.17232859789993824},{"$f":"Churn!I239","v":0.15372197309417041},{"$f":"Churn!J239","v":0.14841437632135307},{"$f":"Churn!K239","v":0.18377862595419847},{"$f":"Churn!L239","v":0.1707107579987116},{"$f":"Churn!M239","v":0.19878419452887539},{"$f":"Churn!N239","v":0.18834080717488788},{"$f":"Churn!O239","v":0.19377090301003344},{"$f":"Churn!P239","v":0.18709388303831503},{"$f":"Churn!Q239","v":0.18490262999397711},{"$f":"Churn!R239","v":0.20118623962040333},{"$f":"Churn!S239","v":0.21600186610683461},null,{"$f":"Unemp!B47","v":8.7999999999999995E-2},{"$f":"Unemp!C47","v":7.9000000000000001E-2},{"$f":"Unemp!D47","v":7.9000000000000001E-2},{"$f":"Unemp!E47","v":7.9000000000000001E-2},{"$f":"Unemp!F47","v":7.9000000000000001E-2},{"$f":"Unemp!$I47","v":6.7000000000000004E-2},{"$f":"Unemp!$I47","v":6.7000000000000004E-2},{"$f":"Unemp!$I47","v":6.7000000000000004E-2},{"$f":"Unemp!$I47","v":6.7000000000000004E-2},{"$f":"Unemp!J47","v":5.1999999999999998E-2},{"$f":"Unemp!K47","v":5.1999999999999998E-2},{"$f":"Unemp!L47","v":5.1999999999999998E-2},{"$f":"Unemp!M47","v":5.1999999999999998E-2},{"$f":"Unemp!N30","v":0.128},{"$f":"Unemp!O30","v":0.128},{"$f":"Unemp!P30","v":0.128},{"$f":"Unemp!Q30","v":0.128},{"$f":"Unemp!R30","v":0.114},{"$f":"Unemp!S30","v":0.114},{"$f":"Unemp!T30","v":0.114},{"$f":"Unemp!U30","v":0.114}]
["Madera",{"$f":"Participation!V26/Participation!V$6","v":6.78461729284456E-3},"C-IV","Medium",{"$f":"Participation!B26","v":25548},{"$f":"Participation!C26","v":26172},{"$f":"Participation!D26","v":26783},{"$f":"Participation!E26","v":26670},{"$f":"Participation!F26","v":25845},{"$f":"Participation!I26","v":26692},{"$f":"Participation!J26","v":27189},{"$f":"Participation!K26","v":26856},{"$f":"Participation!L26","v":26658},{"$f":"Participation!M26","v":28263},{"$f":"Participation!N26","v":29027},{"$f":"Participation!O26","v":28885},{"$f":"Participation!P26","v":28701},{"$f":"Participation!Q26","v":29310},{"$f":"Participation!R26","v":29932},{"$f":"Participation!S26","v":29699},{"$f":"Participation!T26","v":29653},{"$f":"Participation!U26","v":30164},{"$f":"Participation!V26","v":29647},null,null,null,3.06250738762747E-3,null,-9.5215822531070429E-3,0.16044308752152811,-1.7139636652963797E-2,null,{"$f":"PRI!B25","v":0.68300000000000005},{"$f":"PRI!C25","v":0.75700000000000001},{"$f":"PRI!F25","v":0.69299999999999995},{"$f":"PRI!G25","v":0.69099999999999995},{"$f":"PRI!H25","v":0.74120990607815518},{"$f":"PRI!I25","v":0.91808234301547598},null,null,null,null,null,null,null,null,null,null,null,null,null,null,null,null,null,null,null,null,{"$f":"DD_Jun2016!J25","v":0.41278102470031142},null,null,null,null,null,null,null,null,null,null,null,null,null,null,null,null,null,null,null,null,{"$f":"DD_Jun2016!P25","v":0.97044664348756349},null,null,{"$f":"Timely!C282","v":21.3},{"$f":"Timely!D282","v":21},{"$f":"Timely!E282","v":18},{"$f":"Timely!F282","v":20.3},{"$f":"Timely!G282","v":20.7},{"$f":"Timely!H282","v":19.3},{"$f":"Timely!I282","v":16},{"$f":"Timely!J282","v":17.3},{"$f":"Timely!K282","v":18.3},{"$f":"Timely!L282","v":18},{"$f":"Timely!M282","v":13.3},{"$f":"Timely!N282","v":14.3},{"$f":"Timely!O282","v":17.7},{"$f":"Timely!P282","v":14.3},{"$f":"Timely!Q282","v":12.3},{"$f":"Timely!R282","v":12.3},{"$f":"Timely!S282","v":11.7},{"$f":"Timely!T282","v":10},null,null,{"$f":"Timely!C90","v":3.6000000000000032E-2},{"$f":"Timely!D90","v":2.4000000000000021E-2},{"$f":"Timely!E90","v":1.6000000000000014E-2},{"$f":"Timely!F90","v":9.000000000000008E-3},{"$f":"Timely!G90","v":1.5000000000000013E-2},{"$f":"Timely!J90","v":3.9000000000000035E-2},{"$f":"Timely!K90","v":2.200000000000002E-2},{"$f":"Timely!L90","v":2.5000000000000022E-2},{"$f":"Timely!M90","v":1.7000000000000015E-2},{"$f":"Timely!N90","v":2.9000000000000026E-2},{"$f":"Timely!O90","v":2.1000000000000019E-2},{"$f":"Timely!P90","v":4.0000000000000036E-3},{"$f":"Timely!Q90","v":2.0000000000000018E-3},{"$f":"Timely!R90","v":1.3000000000000012E-2},{"$f":"Timely!S90","v":0},{"$f":"Timely!T90","v":1.2000000000000011E-2},{"$f":"Timely!U90","v":0},{"$f":"Timely!V90","v":2.0000000000000018E-3},{"$f":"Timely!W90","v":1.4000000000000012E-2},null,null,null,null,null,{"$f":"Timely!C217","v":1.9000000000000017E-2},{"$f":"Timely!D217","v":2.0000000000000018E-2},{"$f":"Timely!E217","v":1.0000000000000009E-2},{"$f":"Timely!F217","v":8.0000000000000071E-3},{"$f":"Timely!G217","v":1.5000000000000013E-2},{"$f":"Timely!J217","v":1.7000000000000015E-2},{"$f":"Timely!K217","v":1.8000000000000016E-2},{"$f":"Timely!L217","v":2.8000000000000025E-2},{"$f":"Timely!M217","v":2.5000000000000022E-2},{"$f":"Timely!N217","v":0.11299999999999999},{"$f":"Timely!O217","v":8.6999999999999966E-2},{"$f":"Timely!P217","v":7.4999999999999956E-2},{"$f":"Timely!Q217","v":0.11599999999999999},{"$f":"Timely!R217","v":0.124},{"$f":"Timely!S217","v":0.15000000000000002},{"$f":"Timely!T217","v":6.5999999999999948E-2},{"$f":"Timely!U217","v":3.3000000000000029E-2},{"$f":"Timely!V217","v":3.2000000000000028E-2},{"$f":"Timely!W217","v":3.2000000000000028E-2},null,null,null,null,{"$f":"Churn!B25","v":0.3192106790481718},{"$f":"Churn!C25","v":0.24070974221627051},{"$f":"Churn!D25","v":0.27265973254086179},{"$f":"Churn!E25","v":0.2784889166406494},{"$f":"Churn!F25","v":0.27260198456449836},{"$f":"Churn!G25","v":0.33175515725397364},{"$f":"Churn!H25","v":0.32666214382632291},{"$f":"Churn!I25","v":0.33025610482430018},{"$f":"Churn!J25","v":0.30652229956174271},{"$f":"Churn!K25","v":0.29638854296388545},{"$f":"Churn!L25","v":0.31698895027624308},{"$f":"Churn!M25","v":0.32410824108241082},{"$f":"Churn!N25","v":0.30708258757351059},{"$f":"Churn!O25","v":0.31885426502990244},{"$f":"Churn!P25","v":0.33794657225619568},{"$f":"Churn!Q25","v":0.34531559581092558},{"$f":"Churn!R25","v":0.31332833208302074},{"$f":"Churn!S25","v":0.30354438049076038},null,{"$f":"Churn!B95","v":0.70588235294117652},{"$f":"Churn!C95","v":0.7567567567567568},{"$f":"Churn!D95","v":0.77142857142857146},{"$f":"Churn!E95","v":0.67741935483870963},{"$f":"Churn!F95","v":0.84},{"$f":"Churn!G95","v":0.3},{"$f":"Churn!H95","v":0.27142857142857141},{"$f":"Churn!I95","v":0.29268292682926828},{"$f":"Churn!J95","v":0.47222222222222221},{"$f":"Churn!K95","v":0.41269841269841268},{"$f":"Churn!L95","v":0.50909090909090904},{"$f":"Churn!M95","v":0.50704225352112675},{"$f":"Churn!N95","v":0.55000000000000004},{"$f":"Churn!O95","v":0.7846153846153846},{"$f":"Churn!P95","v":0.48717948717948717},{"$f":"Churn!Q95","v":0.83333333333333337},{"$f":"Churn!R95","v":0.80327868852459017},{"$f":"Churn!S95","v":0.52459016393442626},null,{"$f":"Churn!B154","v":7.8665827564505977E-2},{"$f":"Churn!C154","v":4.2492917847025496E-2},{"$f":"Churn!D154","v":4.4848484848484846E-2},{"$f":"Churn!E154","v":5.4254923820141208E-2},{"$f":"Churn!F154","v":5.4307116104868915E-2},{"$f":"Churn!G154","v":0.18673582808447572},{"$f":"Churn!H154","v":0.17140468227424749},{"$f":"Churn!I154","v":0.16583452211126962},{"$f":"Churn!J154","v":0.17019167217448777},{"$f":"Churn!K154","v":0.14079288625416822},{"$f":"Churn!L154","v":0.1387421987518003},{"$f":"Churn!M154","v":0.12515802781289506},{"$f":"Churn!N154","v":0.1742665252739484},{"$f":"Churn!O154","v":0.1455223880597015},{"$f":"Churn!P154","v":0.14471847370870172},{"$f":"Churn!Q154","v":0.15462111257117828},{"$f":"Churn!R154","v":0.17234775947912678},{"$f":"Churn!S154","v":0.15370946246112838},null,{"$f":"Churn!B218","v":0.21900566393958465},{"$f":"Churn!C218","v":0.15757790368271954},{"$f":"Churn!D218","v":0.13858585858585859},{"$f":"Churn!E218","v":0.16053511705685619},{"$f":"Churn!F218","v":0.19194756554307116},{"$f":"Churn!G218","v":0.27751018895887364},{"$f":"Churn!H218","v":0.25627090301003347},{"$f":"Churn!I218","v":0.26569186875891582},{"$f":"Churn!J218","v":0.26933245208195639},{"$f":"Churn!K218","v":0.20674323823638385},{"$f":"Churn!L218","v":0.22035525684109458},{"$f":"Churn!M218","v":0.21786767804466919},{"$f":"Churn!N218","v":0.28101802757158006},{"$f":"Churn!O218","v":0.22388059701492538},{"$f":"Churn!P218","v":0.22661703117729176},{"$f":"Churn!Q218","v":0.2588699080157687},{"$f":"Churn!R218","v":0.28877824588280354},{"$f":"Churn!S218","v":0.24922256774766771},null,{"$f":"Unemp!B26","v":0.156},{"$f":"Unemp!C26","v":0.151},{"$f":"Unemp!D26","v":0.151},{"$f":"Unemp!E26","v":0.151},{"$f":"Unemp!F26","v":0.151},{"$f":"Unemp!$I26","v":0.13600000000000001},{"$f":"Unemp!$I26","v":0.13600000000000001},{"$f":"Unemp!$I26","v":0.13600000000000001},{"$f":"Unemp!$I26","v":0.13600000000000001},{"$f":"Unemp!J26","v":0.125},{"$f":"Unemp!K26","v":0.125},{"$f":"Unemp!L26","v":0.125},{"$f":"Unemp!M26","v":0.125},{"$f":"Unemp!N31","v":0.105},{"$f":"Unemp!O31","v":0.105},{"$f":"Unemp!P31","v":0.105},{"$f":"Unemp!Q31","v":0.105},{"$f":"Unemp!R31","v":8.7999999999999995E-2},{"$f":"Unemp!S31","v":8.7999999999999995E-2},{"$f":"Unemp!T31","v":8.7999999999999995E-2},{"$f":"Unemp!U31","v":8.7999999999999995E-2}]
["Santa Cruz",{"$f":"Participation!V50/Participation!V$6","v":6.3191431614435462E-3},"CalWIN","Medium",{"$f":"Participation!B50","v":19790},{"$f":"Participation!C50","v":20577},{"$f":"Participation!D50","v":22588},{"$f":"Participation!E50","v":22390},{"$f":"Participation!F50","v":21161},{"$f":"Participation!I50","v":23021},{"$f":"Participation!J50","v":24017},{"$f":"Participation!K50","v":22732},{"$f":"Participation!L50","v":22237},{"$f":"Participation!M50","v":23647},{"$f":"Participation!N50","v":24910},{"$f":"Participation!O50","v":23719},{"$f":"Participation!P50","v":23430},{"$f":"Participation!Q50","v":25385},{"$f":"Participation!R50","v":26274},{"$f":"Participation!S50","v":25934},{"$f":"Participation!T50","v":25930},{"$f":"Participation!U50","v":27374},{"$f":"Participation!V50","v":27613},null,null,null,-1.4388411901870816E-2,null,5.0962929131460763E-2,0.39530065689742294,8.7309125447504934E-3,null,{"$f":"PRI!B49","v":0.46},{"$f":"PRI!C49","v":0.499},{"$f":"PRI!F49","v":0.58799999999999997},{"$f":"PRI!G49","v":0.54500000000000004},{"$f":"PRI!H49","v":0.50502675093748539},{"$f":"PRI!I49","v":0.57953642042354159},null,null,null,null,null,null,null,null,null,null,null,null,null,null,null,null,null,null,null,null,{"$f":"DD_Jun2016!J49","v":0.31784897864381501},null,null,null,null,null,null,null,null,null,null,null,null,null,null,null,null,null,null,null,null,{"$f":"DD_Jun2016!P49","v":0.93616331821127674},null,null,{"$f":"Timely!C306","v":22},{"$f":"Timely!D306","v":17.7},{"$f":"Timely!E306","v":12.3},{"$f":"Timely!F306","v":14.7},{"$f":"Timely!G306","v":19.3},{"$f":"Timely!H306","v":15.3},{"$f":"Timely!I306","v":12.3},{"$f":"Timely!J306","v":16.7},{"$f":"Timely!K306","v":22.7},{"$f":"Timely!L306","v":21.7},{"$f":"Timely!M306","v":21.7},{"$f":"Timely!N306","v":17.7},{"$f":"Timely!O306","v":15.7},{"$f":"Timely!P306","v":15},{"$f":"Timely!Q306","v":12},{"$f":"Timely!R306","v":10},{"$f":"Timely!S306","v":12},{"$f":"Timely!T306","v":12},null,null,{"$f":"Timely!C114","v":0.16100000000000003},{"$f":"Timely!D114","v":0.375},{"$f":"Timely!E114","v":6.0000000000000053E-2},{"$f":"Timely!F114","v":3.7000000000000033E-2},{"$f":"Timely!G114","v":4.6000000000000041E-2},{"$f":"Timely!J114","v":0.18500000000000005},{"$f":"Timely!K114","v":4.4000000000000039E-2},{"$f":"Timely!L114","v":6.6999999999999948E-2},{"$f":"Timely!M114","v":7.0999999999999952E-2},{"$f":"Timely!N114","v":0.27900000000000003},{"$f":"Timely!O114","v":0.19299999999999995},{"$f":"Timely!P114","v":0.128},{"$f":"Timely!Q114","v":0.16900000000000004},{"$f":"Timely!R114","v":7.2999999999999954E-2},{"$f":"Timely!S114","v":3.0000000000000027E-2},{"$f":"Timely!T114","v":2.7000000000000024E-2},{"$f":"Timely!U114","v":4.1000000000000036E-2},{"$f":"Timely!V114","v":3.8000000000000034E-2},{"$f":"Timely!W114","v":4.3000000000000038E-2},null,null,null,null,null,{"$f":"Timely!C241","v":0.33299999999999996},{"$f":"Timely!D241","v":0.13500000000000001},{"$f":"Timely!E241","v":9.6999999999999975E-2},{"$f":"Timely!F241","v":5.4000000000000048E-2},{"$f":"Timely!G241","v":0.11099999999999999},{"$f":"Timely!J241","v":7.6999999999999957E-2},{"$f":"Timely!K241","v":4.0000000000000036E-2},{"$f":"Timely!L241","v":0.21099999999999997},{"$f":"Timely!M241","v":0.31399999999999995},{"$f":"Timely!N241","v":0.30700000000000005},{"$f":"Timely!O241","v":6.2000000000000055E-2},{"$f":"Timely!P241","v":2.7000000000000024E-2},{"$f":"Timely!Q241","v":2.7000000000000024E-2},{"$f":"Timely!R241","v":1.5000000000000013E-2},{"$f":"Timely!S241","v":2.9000000000000026E-2},{"$f":"Timely!T241","v":1.4000000000000012E-2},{"$f":"Timely!U241","v":3.5000000000000031E-2},{"$f":"Timely!V241","v":5.3000000000000047E-2},{"$f":"Timely!W241","v":2.8000000000000025E-2},null,null,null,null,{"$f":"Churn!B49","v":0.1849906191369606},{"$f":"Churn!C49","v":0.15636983383042183},{"$f":"Churn!D49","v":0.15134099616858238},{"$f":"Churn!E49","v":0.19322165952473705},{"$f":"Churn!F49","v":0.16259569814072183},{"$f":"Churn!G49","v":0.18189233278955955},{"$f":"Churn!H49","v":0.22457312546399405},{"$f":"Churn!I49","v":0.23134328358208955},{"$f":"Churn!J49","v":0.20883259157822665},{"$f":"Churn!K49","v":0.19734904270986744},{"$f":"Churn!L49","v":0.19734904270986744},{"$f":"Churn!M49","v":0.21784435037447086},{"$f":"Churn!N49","v":0.1941195067973443},{"$f":"Churn!O49","v":0.21081785597914629},{"$f":"Churn!P49","v":0.19313169502205418},{"$f":"Churn!Q49","v":0.22334528855559177},{"$f":"Churn!R49","v":0.17647058823529413},{"$f":"Churn!S49","v":0.18258164852255054},null,{"$f":"Churn!B96","v":0.75},{"$f":"Churn!C96","v":0.41666666666666669},{"$f":"Churn!D96","v":0.6},{"$f":"Churn!E96","v":0.61290322580645162},{"$f":"Churn!F96","v":0.64102564102564108},{"$f":"Churn!G96","v":0.1048951048951049},{"$f":"Churn!H96","v":9.420289855072464E-2},{"$f":"Churn!I96","v":0.21818181818181817},{"$f":"Churn!J96","v":0.17499999999999999},{"$f":"Churn!K96","v":0.19565217391304349},{"$f":"Churn!L96","v":0.23300970873786409},{"$f":"Churn!M96","v":0.23684210526315788},{"$f":"Churn!N96","v":0.10695187165775401},{"$f":"Churn!O96","v":0.15748031496062992},{"$f":"Churn!P96","v":0.11764705882352941},{"$f":"Churn!Q96","v":0.24074074074074073},{"$f":"Churn!R96","v":0.20289855072463769},{"$f":"Churn!S96","v":0.13392857142857142},null,{"$f":"Churn!B178","v":0.11440573264146281},{"$f":"Churn!C178","v":0.10868434737389496},{"$f":"Churn!D178","v":5.7817842710599941E-2},{"$f":"Churn!E178","v":4.8483045806067819E-2},{"$f":"Churn!F178","v":5.459770114942529E-2},{"$f":"Churn!G178","v":3.911707180776753E-2},{"$f":"Churn!H178","v":6.51890482398957E-2},{"$f":"Churn!I178","v":5.4669703872437359E-2},{"$f":"Churn!J178","v":5.1315110881897885E-2},{"$f":"Churn!K178","v":3.0320044918585063E-2},{"$f":"Churn!L178","v":3.0167980802194034E-2},{"$f":"Churn!M178","v":4.4436906377204884E-2},{"$f":"Churn!N178","v":2.6300059772863121E-2},{"$f":"Churn!O178","v":1.3157894736842105E-2},{"$f":"Churn!P178","v":1.3805309734513275E-2},{"$f":"Churn!Q178","v":1.7588743204349215E-2},{"$f":"Churn!R178","v":2.1175067104085895E-2},{"$f":"Churn!S178","v":1.3591060102688009E-2},null,{"$f":"Churn!B242","v":0.22386953298739806},{"$f":"Churn!C242","v":0.19396775871034841},{"$f":"Churn!D242","v":0.12993472179048804},{"$f":"Churn!E242","v":0.12284354550862582},{"$f":"Churn!F242","v":0.17554858934169279},{"$f":"Churn!G242","v":0.11623358480022353},{"$f":"Churn!H242","v":0.14146023468057367},{"$f":"Churn!I242","v":0.15062642369020501},{"$f":"Churn!J242","v":0.15394533264569366},{"$f":"Churn!K242","v":0.1120157215047726},{"$f":"Churn!L242","v":9.1875214261227287E-2},{"$f":"Churn!M242","v":0.11702849389416553},{"$f":"Churn!N242","v":0.12223550508069336},{"$f":"Churn!O242","v":7.8947368421052627E-2},{"$f":"Churn!P242","v":7.7876106194690264E-2},{"$f":"Churn!Q242","v":9.0182283338663252E-2},{"$f":"Churn!R242","v":0.11392782582761705},{"$f":"Churn!S242","v":8.5170643310178193E-2},null,{"$f":"Unemp!B50","v":0.126},{"$f":"Unemp!C50","v":0.123},{"$f":"Unemp!D50","v":0.123},{"$f":"Unemp!E50","v":0.123},{"$f":"Unemp!F50","v":0.123},{"$f":"Unemp!$I50","v":0.111},{"$f":"Unemp!$I50","v":0.111},{"$f":"Unemp!$I50","v":0.111},{"$f":"Unemp!$I50","v":0.111},{"$f":"Unemp!J50","v":0.10299999999999999},{"$f":"Unemp!K50","v":0.10299999999999999},{"$f":"Unemp!L50","v":0.10299999999999999},{"$f":"Unemp!M50","v":0.10299999999999999},{"$f":"Unemp!N32","v":7.1999999999999995E-2},{"$f":"Unemp!O32","v":7.1999999999999995E-2},{"$f":"Unemp!P32","v":7.1999999999999995E-2},{"$f":"Unemp!Q32","v":7.1999999999999995E-2},{"$f":"Unemp!R32","v":6.0999999999999999E-2},{"$f":"Unemp!S32","v":6.0999999999999999E-2},{"$f":"Unemp!T32","v":6.0999999999999999E-2},{"$f":"Unemp!U32","v":6.0999999999999999E-2}]
["Kings",{"$f":"Participation!V22/Participation!V$6","v":5.6962225195194768E-3},"C-IV","Medium",{"$f":"Participation!B22","v":22197},{"$f":"Participation!C22","v":22772},{"$f":"Participation!D22","v":23029},{"$f":"Participation!E22","v":22949},{"$f":"Participation!F22","v":22594},{"$f":"Participation!I22","v":23337},{"$f":"Participation!J22","v":23729},{"$f":"Participation!K22","v":23543},{"$f":"Participation!L22","v":22985},{"$f":"Participation!M22","v":23815},{"$f":"Participation!N22","v":24396},{"$f":"Participation!O22","v":24002},{"$f":"Participation!P22","v":23550},{"$f":"Participation!Q22","v":24051},{"$f":"Participation!R22","v":24693},{"$f":"Participation!S22","v":24942},{"$f":"Participation!T22","v":24665},{"$f":"Participation!U22","v":25133},{"$f":"Participation!V22","v":24891},null,null,null,-2.1276367114043478E-3,null,8.0184667719596647E-3,0.12136775239897284,-9.6287749174392232E-3,null,{"$f":"PRI!B21","v":0.57199999999999995},{"$f":"PRI!C21","v":0.78300000000000003},{"$f":"PRI!F21","v":0.68600000000000005},{"$f":"PRI!G21","v":0.66900000000000004},{"$f":"PRI!H21","v":0.61675060236025636},{"$f":"PRI!I21","v":0.68600653300893477},null,null,null,null,null,null,null,null,null,null,null,null,null,null,null,null,null,null,null,null,{"$f":"DD_Jun2016!J21","v":0.41724519048112457},null,null,null,null,null,null,null,null,null,null,null,null,null,null,null,null,null,null,null,null,{"$f":"DD_Jun2016!P21","v":0.96443397732715952},null,null,{"$f":"Timely!C278","v":14.7},{"$f":"Timely!D278","v":16.7},{"$f":"Timely!E278","v":15.7},{"$f":"Timely!F278","v":16},{"$f":"Timely!G278","v":16},{"$f":"Timely!H278","v":15},{"$f":"Timely!I278","v":15.7},{"$f":"Timely!J278","v":16.3},{"$f":"Timely!K278","v":17.3},{"$f":"Timely!L278","v":16},{"$f":"Timely!M278","v":14.7},{"$f":"Timely!N278","v":14.3},{"$f":"Timely!O278","v":15},{"$f":"Timely!P278","v":12.7},{"$f":"Timely!Q278","v":11.3},{"$f":"Timely!R278","v":10.3},{"$f":"Timely!S278","v":10},{"$f":"Timely!T278","v":9},null,null,{"$f":"Timely!C86","v":0},{"$f":"Timely!D86","v":0},{"$f":"Timely!E86","v":0},{"$f":"Timely!F86","v":4.0000000000000036E-3},{"$f":"Timely!G86","v":7.0000000000000062E-3},{"$f":"Timely!J86","v":1.2000000000000011E-2},{"$f":"Timely!K86","v":1.6000000000000014E-2},{"$f":"Timely!L86","v":4.0000000000000036E-3},{"$f":"Timely!M86","v":1.7000000000000015E-2},{"$f":"Timely!N86","v":3.1000000000000028E-2},{"$f":"Timely!O86","v":9.000000000000008E-3},{"$f":"Timely!P86","v":6.0000000000000053E-3},{"$f":"Timely!Q86","v":2.0000000000000018E-3},{"$f":"Timely!R86","v":3.0000000000000027E-3},{"$f":"Timely!S86","v":2.0000000000000018E-3},{"$f":"Timely!T86","v":2.0000000000000018E-3},{"$f":"Timely!U86","v":0},{"$f":"Timely!V86","v":3.0000000000000027E-3},{"$f":"Timely!W86","v":1.100000000000001E-2},null,null,null,null,null,{"$f":"Timely!C213","v":8.8999999999999968E-2},{"$f":"Timely!D213","v":0.10299999999999998},{"$f":"Timely!E213","v":0.13500000000000001},{"$f":"Timely!F213","v":0.11799999999999999},{"$f":"Timely!G213","v":9.1999999999999971E-2},{"$f":"Timely!J213","v":4.7000000000000042E-2},{"$f":"Timely!K213","v":3.1000000000000028E-2},{"$f":"Timely!L213","v":3.8000000000000034E-2},{"$f":"Timely!M213","v":5.600000000000005E-2},{"$f":"Timely!N213","v":0.11299999999999999},{"$f":"Timely!O213","v":0.15500000000000003},{"$f":"Timely!P213","v":0.19499999999999995},{"$f":"Timely!Q213","v":6.5999999999999948E-2},{"$f":"Timely!R213","v":3.6000000000000032E-2},{"$f":"Timely!S213","v":3.2000000000000028E-2},{"$f":"Timely!T213","v":2.7000000000000024E-2},{"$f":"Timely!U213","v":4.0000000000000036E-2},{"$f":"Timely!V213","v":2.9000000000000026E-2},{"$f":"Timely!W213","v":3.3000000000000029E-2},null,null,null,null,{"$f":"Churn!B21","v":0.26077097505668934},{"$f":"Churn!C21","v":0.21678571428571428},{"$f":"Churn!D21","v":0.21211035471157291},{"$f":"Churn!E21","v":0.22854291417165667},{"$f":"Churn!F21","v":0.23227703364913427},{"$f":"Churn!G21","v":0.34428004330566581},{"$f":"Churn!H21","v":0.35947930574098796},{"$f":"Churn!I21","v":0.37289234760051881},{"$f":"Churn!J21","v":0.36639439906651111},{"$f":"Churn!K21","v":0.33847577908053073},{"$f":"Churn!L21","v":0.36237164624047696},{"$f":"Churn!M21","v":0.3825503355704698},{"$f":"Churn!N21","v":0.35850830460670635},{"$f":"Churn!O21","v":0.33378746594005448},{"$f":"Churn!P21","v":0.35363321799307956},{"$f":"Churn!Q21","v":0.37067545304777594},{"$f":"Churn!R21","v":0.34631901840490797},{"$f":"Churn!S21","v":0.36784140969162998},null,{"$f":"Churn!B97","v":0.87016229712858928},{"$f":"Churn!C97","v":0.70880829015544045},{"$f":"Churn!D97","v":0.69052044609665431},{"$f":"Churn!E97","v":0.69392033542976939},{"$f":"Churn!F97","v":0.75276243093922657},{"$f":"Churn!G97","v":0.39929742388758782},{"$f":"Churn!H97","v":0.39672322995904036},{"$f":"Churn!I97","v":0.40557006092254133},{"$f":"Churn!J97","v":0.37642585551330798},{"$f":"Churn!K97","v":0.48002219755826858},{"$f":"Churn!L97","v":0.45425700687466947},{"$f":"Churn!M97","v":0.59595959595959591},{"$f":"Churn!N97","v":0.63124087591240874},{"$f":"Churn!O97","v":0.44866920152091255},{"$f":"Churn!P97","v":0.54117647058823526},{"$f":"Churn!Q97","v":0.62563303467082199},{"$f":"Churn!R97","v":0.73731176798661457},{"$f":"Churn!S97","v":0.47407407407407409},null,{"$f":"Churn!B150","v":5.3656743844174938E-2},{"$f":"Churn!C150","v":4.2413162705667279E-2},{"$f":"Churn!D150","v":5.1730696082160514E-2},{"$f":"Churn!E150","v":4.2800145085237579E-2},{"$f":"Churn!F150","v":5.5414704817095255E-2},{"$f":"Churn!G150","v":0.20239726027397259},{"$f":"Churn!H150","v":0.20965309200603319},{"$f":"Churn!I150","v":0.19881085098476403},{"$f":"Churn!J150","v":0.23175803402646503},{"$f":"Churn!K150","v":0.18094887826406766},{"$f":"Churn!L150","v":0.18711385701676964},{"$f":"Churn!M150","v":0.18359219434488253},{"$f":"Churn!N150","v":0.21717557251908398},{"$f":"Churn!O150","v":0.22533673097925008},{"$f":"Churn!P150","v":0.19428123775949863},{"$f":"Churn!Q150","v":0.21535508637236084},{"$f":"Churn!R150","v":0.23938223938223938},{"$f":"Churn!S150","v":0.21431290445374954},null,{"$f":"Churn!B214","v":0.17162807791253215},{"$f":"Churn!C214","v":0.1360146252285192},{"$f":"Churn!D214","v":0.15443134271586154},{"$f":"Churn!E214","v":0.14435981138919116},{"$f":"Churn!F214","v":0.1915972473741398},{"$f":"Churn!G214","v":0.28424657534246578},{"$f":"Churn!H214","v":0.29411764705882354},{"$f":"Churn!I214","v":0.28911185432924563},{"$f":"Churn!J214","v":0.33081285444234404},{"$f":"Churn!K214","v":0.25524089738874584},{"$f":"Churn!L214","v":0.27052074139452781},{"$f":"Churn!M214","v":0.26602947033054558},{"$f":"Churn!N214","v":0.31832061068702289},{"$f":"Churn!O214","v":0.30069166363305422},{"$f":"Churn!P214","v":0.27418723070896983},{"$f":"Churn!Q214","v":0.29021113243761998},{"$f":"Churn!R214","v":0.34478764478764479},{"$f":"Churn!S214","v":0.29996193376475067},null,{"$f":"Unemp!B22","v":0.16500000000000001},{"$f":"Unemp!C22","v":0.16200000000000001},{"$f":"Unemp!D22","v":0.16200000000000001},{"$f":"Unemp!E22","v":0.16200000000000001},{"$f":"Unemp!F22","v":0.16200000000000001},{"$f":"Unemp!$I22","v":0.153},{"$f":"Unemp!$I22","v":0.153},{"$f":"Unemp!$I22","v":0.153},{"$f":"Unemp!$I22","v":0.153},{"$f":"Unemp!J22","v":0.13500000000000001},{"$f":"Unemp!K22","v":0.13500000000000001},{"$f":"Unemp!L22","v":0.13500000000000001},{"$f":"Unemp!M22","v":0.13500000000000001},{"$f":"Unemp!N33","v":9.0999999999999998E-2},{"$f":"Unemp!O33","v":9.0999999999999998E-2},{"$f":"Unemp!P33","v":9.0999999999999998E-2},{"$f":"Unemp!Q33","v":9.0999999999999998E-2},{"$f":"Unemp!R33","v":8.1000000000000003E-2},{"$f":"Unemp!S33","v":8.1000000000000003E-2},{"$f":"Unemp!T33","v":8.1000000000000003E-2},{"$f":"Unemp!U33","v":8.1000000000000003E-2}]
["Shasta",{"$f":"Participation!V51/Participation!V$6","v":5.6225338910479298E-3},"C-IV","Medium",{"$f":"Participation!B51","v":24418},{"$f":"Participation!C51","v":24418},{"$f":"Participation!D51","v":24673},{"$f":"Participation!E51","v":25025},{"$f":"Participation!F51","v":24689},{"$f":"Participation!I51","v":23749},{"$f":"Participation!J51","v":23665},{"$f":"Participation!K51","v":23709},{"$f":"Participation!L51","v":22949},{"$f":"Participation!M51","v":23916},{"$f":"Participation!N51","v":24283},{"$f":"Participation!O51","v":24671},{"$f":"Participation!P51","v":24856},{"$f":"Participation!Q51","v":24775},{"$f":"Participation!R51","v":25180},{"$f":"Participation!S51","v":25293},{"$f":"Participation!T51","v":25247},{"$f":"Participation!U51","v":24753},{"$f":"Participation!V51","v":24569},null,null,null,6.5655860134750327E-3,null,-2.4265289912629072E-2,6.1839626505037267E-3,-7.4334424110208868E-3,null,{"$f":"PRI!B50","v":0.58899999999999997},{"$f":"PRI!C50","v":0.57699999999999996},{"$f":"PRI!F50","v":0.74},{"$f":"PRI!G50","v":0.58299999999999996},{"$f":"PRI!H50","v":0.83034253379074596},{"$f":"PRI!I50","v":0.69300660294121874},null,null,null,null,null,null,null,null,null,null,null,null,null,null,null,null,null,null,null,null,{"$f":"DD_Jun2016!J50","v":0.35570071258907365},null,null,null,null,null,null,null,null,null,null,null,null,null,null,null,null,null,null,null,null,{"$f":"DD_Jun2016!P50","v":0.95120886101075863},null,null,{"$f":"Timely!C307","v":13.7},{"$f":"Timely!D307","v":15},{"$f":"Timely!E307","v":15.7},{"$f":"Timely!F307","v":18},{"$f":"Timely!G307","v":23.7},{"$f":"Timely!H307","v":24.3},{"$f":"Timely!I307","v":19.3},{"$f":"Timely!J307","v":30.3},{"$f":"Timely!K307","v":21.7},{"$f":"Timely!L307","v":17},{"$f":"Timely!M307","v":14.7},{"$f":"Timely!N307","v":15.3},{"$f":"Timely!O307","v":17.3},{"$f":"Timely!P307","v":16.7},{"$f":"Timely!Q307","v":15.7},{"$f":"Timely!R307","v":17},{"$f":"Timely!S307","v":14.7},{"$f":"Timely!T307","v":14},null,null,{"$f":"Timely!C115","v":2.200000000000002E-2},{"$f":"Timely!D115","v":1.2000000000000011E-2},{"$f":"Timely!E115","v":2.9000000000000026E-2},{"$f":"Timely!F115","v":2.1000000000000019E-2},{"$f":"Timely!G115","v":2.4000000000000021E-2},{"$f":"Timely!J115","v":6.5999999999999948E-2},{"$f":"Timely!K115","v":4.8000000000000043E-2},{"$f":"Timely!L115","v":6.0000000000000053E-2},{"$f":"Timely!M115","v":0.18000000000000005},{"$f":"Timely!N115","v":3.6000000000000032E-2},{"$f":"Timely!O115","v":4.500000000000004E-2},{"$f":"Timely!P115","v":2.8000000000000025E-2},{"$f":"Timely!Q115","v":6.2000000000000055E-2},{"$f":"Timely!R115","v":3.400000000000003E-2},{"$f":"Timely!S115","v":3.3000000000000029E-2},{"$f":"Timely!T115","v":3.3000000000000029E-2},{"$f":"Timely!U115","v":2.0000000000000018E-2},{"$f":"Timely!V115","v":1.9000000000000017E-2},{"$f":"Timely!W115","v":3.0000000000000027E-2},null,null,null,null,null,{"$f":"Timely!C242","v":7.8999999999999959E-2},{"$f":"Timely!D242","v":6.6999999999999948E-2},{"$f":"Timely!E242","v":9.8999999999999977E-2},{"$f":"Timely!F242","v":0.11899999999999999},{"$f":"Timely!G242","v":0.10399999999999998},{"$f":"Timely!J242","v":0.15000000000000002},{"$f":"Timely!K242","v":0.13100000000000001},{"$f":"Timely!L242","v":0.15100000000000002},{"$f":"Timely!M242","v":0.125},{"$f":"Timely!N242","v":6.6999999999999948E-2},{"$f":"Timely!O242","v":4.500000000000004E-2},{"$f":"Timely!P242","v":4.2000000000000037E-2},{"$f":"Timely!Q242","v":3.8000000000000034E-2},{"$f":"Timely!R242","v":3.7000000000000033E-2},{"$f":"Timely!S242","v":2.1000000000000019E-2},{"$f":"Timely!T242","v":3.5000000000000031E-2},{"$f":"Timely!U242","v":2.300000000000002E-2},{"$f":"Timely!V242","v":1.7000000000000015E-2},{"$f":"Timely!W242","v":2.0000000000000018E-2},null,null,null,null,{"$f":"Churn!B50","v":0.39076498966230189},{"$f":"Churn!C50","v":0.28628117913832202},{"$f":"Churn!D50","v":0.30400421496311908},{"$f":"Churn!E50","v":0.31531978185423898},{"$f":"Churn!F50","v":0.36614486601220481},{"$f":"Churn!G50","v":0.4603340292275574},{"$f":"Churn!H50","v":0.43373211353506919},{"$f":"Churn!I50","v":0.43992055610724923},{"$f":"Churn!J50","v":0.40061318344404701},{"$f":"Churn!K50","v":0.38076923076923075},{"$f":"Churn!L50","v":0.41129831516352827},{"$f":"Churn!M50","v":0.37933839479392623},{"$f":"Churn!N50","v":0.41132942077060475},{"$f":"Churn!O50","v":0.41889436802491564},{"$f":"Churn!P50","v":0.42202729044834308},{"$f":"Churn!Q50","v":0.43153219837157664},{"$f":"Churn!R50","v":0.43942505133470228},{"$f":"Churn!S50","v":0.44710163763971927},null,{"$f":"Churn!B98","v":0.92542372881355928},{"$f":"Churn!C98","v":0.73109243697478987},{"$f":"Churn!D98","v":0.75596816976127323},{"$f":"Churn!E98","v":0.69716775599128544},{"$f":"Churn!F98","v":0.75768535262206149},{"$f":"Churn!G98","v":0.68737060041407871},{"$f":"Churn!H98","v":0.63364055299539168},{"$f":"Churn!I98","v":0.6417322834645669},{"$f":"Churn!J98","v":0.46228239845261121},{"$f":"Churn!K98","v":0.46782178217821785},{"$f":"Churn!L98","v":0.52616279069767447},{"$f":"Churn!M98","v":0.56926406926406925},{"$f":"Churn!N98","v":0.53474903474903479},{"$f":"Churn!O98","v":0.43026004728132389},{"$f":"Churn!P98","v":0.47890818858560796},{"$f":"Churn!Q98","v":0.49103139013452912},{"$f":"Churn!R98","v":0.55992141453831046},{"$f":"Churn!S98","v":0.45738045738045741},null,{"$f":"Churn!B179","v":2.643171806167401E-2},{"$f":"Churn!C179","v":2.4610748367654443E-2},{"$f":"Churn!D179","v":2.5769506084466716E-2},{"$f":"Churn!E179","v":2.5283553875236293E-2},{"$f":"Churn!F179","v":3.9347948285553679E-2},{"$f":"Churn!G179","v":0.17839195979899497},{"$f":"Churn!H179","v":0.1637285679787491},{"$f":"Churn!I179","v":0.14907429670593894},{"$f":"Churn!J179","v":0.15615792575132587},{"$f":"Churn!K179","v":0.13020277481323372},{"$f":"Churn!L179","v":0.12607204116638079},{"$f":"Churn!M179","v":0.1355525965379494},{"$f":"Churn!N179","v":0.16217044757817289},{"$f":"Churn!O179","v":0.15979988228369629},{"$f":"Churn!P179","v":0.14453929938180748},{"$f":"Churn!Q179","v":0.13927412215992918},{"$f":"Churn!R179","v":0.15301085883514315},{"$f":"Churn!S179","v":0.15805109922756982},null,{"$f":"Churn!B243","v":0.12011747430249634},{"$f":"Churn!C243","v":0.12405826217980914},{"$f":"Churn!D243","v":0.11643999045573848},{"$f":"Churn!E243","v":0.13090737240075614},{"$f":"Churn!F243","v":0.14165261382799327},{"$f":"Churn!G243","v":0.2613065326633166},{"$f":"Churn!H243","v":0.24873219029219995},{"$f":"Churn!I243","v":0.22577542678528492},{"$f":"Churn!J243","v":0.24484384207424867},{"$f":"Churn!K243","v":0.1905016008537887},{"$f":"Churn!L243","v":0.19668381932532875},{"$f":"Churn!M243","v":0.2141145139813582},{"$f":"Churn!N243","v":0.24892703862660945},{"$f":"Churn!O243","v":0.25014714537963506},{"$f":"Churn!P243","v":0.22313806299676184},{"$f":"Churn!Q243","v":0.22425494246090291},{"$f":"Churn!R243","v":0.24679170779861798},{"$f":"Churn!S243","v":0.2581699346405229},null,{"$f":"Unemp!B51","v":0.158},{"$f":"Unemp!C51","v":0.14899999999999999},{"$f":"Unemp!D51","v":0.14899999999999999},{"$f":"Unemp!E51","v":0.14899999999999999},{"$f":"Unemp!F51","v":0.14899999999999999},{"$f":"Unemp!$I51","v":0.13400000000000001},{"$f":"Unemp!$I51","v":0.13400000000000001},{"$f":"Unemp!$I51","v":0.13400000000000001},{"$f":"Unemp!$I51","v":0.13400000000000001},{"$f":"Unemp!J51","v":0.11799999999999999},{"$f":"Unemp!K51","v":0.11799999999999999},{"$f":"Unemp!L51","v":0.11799999999999999},{"$f":"Unemp!M51","v":0.11799999999999999},{"$f":"Unemp!N34","v":5.6000000000000001E-2},{"$f":"Unemp!O34","v":5.6000000000000001E-2},{"$f":"Unemp!P34","v":5.6000000000000001E-2},{"$f":"Unemp!Q34","v":5.6000000000000001E-2},{"$f":"Unemp!R34","v":4.5999999999999999E-2},{"$f":"Unemp!S34","v":4.5999999999999999E-2},{"$f":"Unemp!T34","v":4.5999999999999999E-2},{"$f":"Unemp!U34","v":4.5999999999999999E-2}]
["Humboldt",{"$f":"Participation!V18/Participation!V$6","v":4.8883937663997245E-3},"C-IV","Medium",{"$f":"Participation!B18","v":14973},{"$f":"Participation!C18","v":15105},{"$f":"Participation!D18","v":15302},{"$f":"Participation!E18","v":15495},{"$f":"Participation!F18","v":15547},{"$f":"Participation!I18","v":15689},{"$f":"Participation!J18","v":15819},{"$f":"Participation!K18","v":16507},{"$f":"Participation!L18","v":16624},{"$f":"Participation!M18","v":17196},{"$f":"Participation!N18","v":18257},{"$f":"Participation!O18","v":19098},{"$f":"Participation!P18","v":19813},{"$f":"Participation!Q18","v":20309},{"$f":"Participation!R18","v":20875},{"$f":"Participation!S18","v":21066},{"$f":"Participation!T18","v":21435},{"$f":"Participation!U18","v":21226},{"$f":"Participation!V18","v":21361},null,null,null,-5.2223810189015807E-3,null,2.3281437125748504E-2,0.4266346089627997,6.3601243757655706E-3,null,{"$f":"PRI!B17","v":0.49399999999999999},{"$f":"PRI!C17","v":0.5},{"$f":"PRI!F17","v":0.46700000000000003},{"$f":"PRI!G17","v":0.47399999999999998},{"$f":"PRI!H17","v":0.56563435374326043},{"$f":"PRI!I17","v":0.65877861627084822},null,null,null,null,null,null,null,null,null,null,null,null,null,null,null,null,null,null,null,null,{"$f":"DD_Jun2016!J17","v":0.36334661354581671},null,null,null,null,null,null,null,null,null,null,null,null,null,null,null,null,null,null,null,null,{"$f":"DD_Jun2016!P17","v":0.91649917778183809},null,null,{"$f":"Timely!C274","v":12.7},{"$f":"Timely!D274","v":14},{"$f":"Timely!E274","v":13.3},{"$f":"Timely!F274","v":13},{"$f":"Timely!G274","v":16},{"$f":"Timely!H274","v":15.3},{"$f":"Timely!I274","v":14},{"$f":"Timely!J274","v":16.3},{"$f":"Timely!K274","v":18},{"$f":"Timely!L274","v":19},{"$f":"Timely!M274","v":12.7},{"$f":"Timely!N274","v":12.3},{"$f":"Timely!O274","v":11},{"$f":"Timely!P274","v":10},{"$f":"Timely!Q274","v":8.6999999999999993},{"$f":"Timely!R274","v":12},{"$f":"Timely!S274","v":10},{"$f":"Timely!T274","v":10.7},null,null,{"$f":"Timely!C82","v":6.1000000000000054E-2},{"$f":"Timely!D82","v":4.500000000000004E-2},{"$f":"Timely!E82","v":9.000000000000008E-3},{"$f":"Timely!F82","v":2.1000000000000019E-2},{"$f":"Timely!G82","v":1.2000000000000011E-2},{"$f":"Timely!J82","v":3.5000000000000031E-2},{"$f":"Timely!K82","v":1.100000000000001E-2},{"$f":"Timely!L82","v":4.9000000000000044E-2},{"$f":"Timely!M82","v":9.5999999999999974E-2},{"$f":"Timely!N82","v":4.3000000000000038E-2},{"$f":"Timely!O82","v":1.4000000000000012E-2},{"$f":"Timely!P82","v":7.0000000000000062E-3},{"$f":"Timely!Q82","v":6.0000000000000053E-3},{"$f":"Timely!R82","v":3.0000000000000027E-3},{"$f":"Timely!S82","v":2.0000000000000018E-3},{"$f":"Timely!T82","v":0},{"$f":"Timely!U82","v":1.0000000000000009E-3},{"$f":"Timely!V82","v":4.0000000000000036E-3},{"$f":"Timely!W82","v":1.2000000000000011E-2},null,null,null,null,null,{"$f":"Timely!C209","v":0.10399999999999998},{"$f":"Timely!D209","v":0.10899999999999999},{"$f":"Timely!E209","v":7.1999999999999953E-2},{"$f":"Timely!F209","v":5.600000000000005E-2},{"$f":"Timely!G209","v":0.10299999999999998},{"$f":"Timely!J209","v":9.9999999999999978E-2},{"$f":"Timely!K209","v":6.6999999999999948E-2},{"$f":"Timely!L209","v":0.10299999999999998},{"$f":"Timely!M209","v":0.12},{"$f":"Timely!N209","v":0.252},{"$f":"Timely!O209","v":0.13700000000000001},{"$f":"Timely!P209","v":0.13400000000000001},{"$f":"Timely!Q209","v":9.4999999999999973E-2},{"$f":"Timely!R209","v":8.0999999999999961E-2},{"$f":"Timely!S209","v":6.3999999999999946E-2},{"$f":"Timely!T209","v":8.2999999999999963E-2},{"$f":"Timely!U209","v":4.2000000000000037E-2},{"$f":"Timely!V209","v":3.400000000000003E-2},{"$f":"Timely!W209","v":1.5000000000000013E-2},null,null,null,null,{"$f":"Churn!B17","v":0.48081264108352145},{"$f":"Churn!C17","v":0.40594059405940597},{"$f":"Churn!D17","v":0.39442090395480228},{"$f":"Churn!E17","v":0.40990990990990989},{"$f":"Churn!F17","v":0.43539124192390521},{"$f":"Churn!G17","v":0.49879766403297837},{"$f":"Churn!H17","v":0.43044528822920264},{"$f":"Churn!I17","v":0.46235455167693362},{"$f":"Churn!J17","v":0.44784656796769851},{"$f":"Churn!K17","v":0.40611510791366906},{"$f":"Churn!L17","v":0.41496374423203691},{"$f":"Churn!M17","v":0.41771217712177122},{"$f":"Churn!N17","v":0.42301241194230121},{"$f":"Churn!O17","v":0.42378559463986598},{"$f":"Churn!P17","v":0.45747620509671477},{"$f":"Churn!Q17","v":0.45970900951315052},{"$f":"Churn!R17","v":0.46608187134502926},{"$f":"Churn!S17","v":0.44482857966004036},null,{"$f":"Churn!B99","v":0.88652482269503541},{"$f":"Churn!C99","v":0.66796875},{"$f":"Churn!D99","v":0.61379310344827587},{"$f":"Churn!E99","v":0.66560509554140124},{"$f":"Churn!F99","v":0.66666666666666663},{"$f":"Churn!G99","v":0.29553264604810997},{"$f":"Churn!H99","v":0.41489361702127658},{"$f":"Churn!I99","v":0.39267015706806285},{"$f":"Churn!J99","v":0.38408304498269896},{"$f":"Churn!K99","v":0.41312056737588654},{"$f":"Churn!L99","v":0.46464646464646464},{"$f":"Churn!M99","v":0.51724137931034486},{"$f":"Churn!N99","v":0.50343642611683848},{"$f":"Churn!O99","v":0.4567901234567901},{"$f":"Churn!P99","v":0.53228621291448519},{"$f":"Churn!Q99","v":0.47495682210708118},{"$f":"Churn!R99","v":0.4539249146757679},{"$f":"Churn!S99","v":0.58620689655172409},null,{"$f":"Churn!B146","v":4.4459190444591908E-2},{"$f":"Churn!C146","v":2.576251110453065E-2},{"$f":"Churn!D146","v":2.9778182923123672E-2},{"$f":"Churn!E146","v":3.4603082291363767E-2},{"$f":"Churn!F146","v":4.7013977128335452E-2},{"$f":"Churn!G146","v":0.13735955056179774},{"$f":"Churn!H146","v":0.11826182618261827},{"$f":"Churn!I146","v":0.11401917595231925},{"$f":"Churn!J146","v":0.1036036036036036},{"$f":"Churn!K146","v":7.8728886344116802E-2},{"$f":"Churn!L146","v":8.4916864608076015E-2},{"$f":"Churn!M146","v":9.9318955732122585E-2},{"$f":"Churn!N146","v":0.10991140642303433},{"$f":"Churn!O146","v":0.11392757660167131},{"$f":"Churn!P146","v":0.11545510079413561},{"$f":"Churn!Q146","v":0.11692798299229339},{"$f":"Churn!R146","v":0.12300884955752213},{"$f":"Churn!S146","v":0.13964638897213066},null,{"$f":"Churn!B210","v":0.1493032514930325},{"$f":"Churn!C210","v":0.11489487710986082},{"$f":"Churn!D210","v":0.12367061683378912},{"$f":"Churn!E210","v":0.12445478336725792},{"$f":"Churn!F210","v":0.13627700127064804},{"$f":"Churn!G210","v":0.21432584269662922},{"$f":"Churn!H210","v":0.18344334433443343},{"$f":"Churn!I210","v":0.18061674008810572},{"$f":"Churn!J210","v":0.1891891891891892},{"$f":"Churn!K210","v":0.13197824219868309},{"$f":"Churn!L210","v":0.13776722090261281},{"$f":"Churn!M210","v":0.15124858115777526},{"$f":"Churn!N210","v":0.17303433001107418},{"$f":"Churn!O210","v":0.17298050139275767},{"$f":"Churn!P210","v":0.1795968234575443},{"$f":"Churn!Q210","v":0.19000797236247674},{"$f":"Churn!R210","v":0.19705014749262537},{"$f":"Churn!S210","v":0.2250524423134552},null,{"$f":"Unemp!B18","v":0.114},{"$f":"Unemp!C18","v":0.114},{"$f":"Unemp!D18","v":0.114},{"$f":"Unemp!E18","v":0.114},{"$f":"Unemp!F18","v":0.114},{"$f":"Unemp!$I18","v":0.105},{"$f":"Unemp!$I18","v":0.105},{"$f":"Unemp!$I18","v":0.105},{"$f":"Unemp!$I18","v":0.105},{"$f":"Unemp!J18","v":8.2000000000000003E-2},{"$f":"Unemp!K18","v":8.2000000000000003E-2},{"$f":"Unemp!L18","v":8.2000000000000003E-2},{"$f":"Unemp!M18","v":8.2000000000000003E-2},{"$f":"Unemp!N35","v":6.6000000000000003E-2},{"$f":"Unemp!O35","v":6.6000000000000003E-2},{"$f":"Unemp!P35","v":6.6000000000000003E-2},{"$f":"Unemp!Q35","v":6.6000000000000003E-2},{"$f":"Unemp!R35","v":5.5E-2},{"$f":"Unemp!S35","v":5.5E-2},{"$f":"Unemp!T35","v":5.5E-2},{"$f":"Unemp!U35","v":5.5E-2}]
["Yolo",{"$f":"Participation!V63/Participation!V$6","v":4.8728321926852364E-3},"CalWIN","Medium",{"$f":"Participation!B63","v":16160},{"$f":"Participation!C63","v":16466},{"$f":"Participation!D63","v":16835},{"$f":"Participation!E63","v":16880},{"$f":"Participation!F63","v":16929},{"$f":"Participation!I63","v":16966},{"$f":"Participation!J63","v":16990},{"$f":"Participation!K63","v":16629},{"$f":"Participation!L63","v":17295},{"$f":"Participation!M63","v":17981},{"$f":"Participation!N63","v":18353},{"$f":"Participation!O63","v":18273},{"$f":"Participation!P63","v":18981},{"$f":"Participation!Q63","v":20044},{"$f":"Participation!R63","v":20591},{"$f":"Participation!S63","v":20610},{"$f":"Participation!T63","v":21088},{"$f":"Participation!U63","v":21479},{"$f":"Participation!V63","v":21293},null,null,null,-7.5434392495245051E-3,null,3.4092564712738575E-2,0.31763613861386136,-8.6596210251873931E-3,null,{"$f":"PRI!B62","v":0.38700000000000001},{"$f":"PRI!C62","v":0.308},{"$f":"PRI!F62","v":0.38300000000000001},{"$f":"PRI!G62","v":0.39300000000000002},{"$f":"PRI!H62","v":0.3707119276196772},{"$f":"PRI!I62","v":0.50741494929932407},null,null,null,null,null,null,null,null,null,null,null,null,null,null,null,null,null,null,null,null,{"$f":"DD_Jun2016!J62","v":0.33252760715882185},null,null,null,null,null,null,null,null,null,null,null,null,null,null,null,null,null,null,null,null,{"$f":"DD_Jun2016!P62","v":0.92031708211143692},null,null,{"$f":"Timely!C319","v":15.3},{"$f":"Timely!D319","v":12.3},{"$f":"Timely!E319","v":14},{"$f":"Timely!F319","v":14},{"$f":"Timely!G319","v":17.3},{"$f":"Timely!H319","v":14.3},{"$f":"Timely!I319","v":15.3},{"$f":"Timely!J319","v":14.3},{"$f":"Timely!K319","v":12},{"$f":"Timely!L319","v":12.3},{"$f":"Timely!M319","v":12.3},{"$f":"Timely!N319","v":13.3},{"$f":"Timely!O319","v":10.3},{"$f":"Timely!P319","v":9.3000000000000007},{"$f":"Timely!Q319","v":9},{"$f":"Timely!R319","v":10.3},{"$f":"Timely!S319","v":8.3000000000000007},{"$f":"Timely!T319","v":8},null,null,{"$f":"Timely!C127","v":0.17900000000000005},{"$f":"Timely!D127","v":0.11199999999999999},{"$f":"Timely!E127","v":6.6999999999999948E-2},{"$f":"Timely!F127","v":0.127},{"$f":"Timely!G127","v":9.3999999999999972E-2},{"$f":"Timely!J127","v":0.23299999999999998},{"$f":"Timely!K127","v":0.82699999999999996},{"$f":"Timely!L127","v":0.15700000000000003},{"$f":"Timely!M127","v":0.12},{"$f":"Timely!N127","v":0.14700000000000002},{"$f":"Timely!O127","v":0.15800000000000003},{"$f":"Timely!P127","v":0.18400000000000005},{"$f":"Timely!Q127","v":0.10099999999999998},{"$f":"Timely!R127","v":8.7999999999999967E-2},{"$f":"Timely!S127","v":4.6000000000000041E-2},{"$f":"Timely!T127","v":5.2000000000000046E-2},{"$f":"Timely!U127","v":5.1000000000000045E-2},{"$f":"Timely!V127","v":6.2999999999999945E-2},{"$f":"Timely!W127","v":3.0000000000000027E-2},null,null,null,null,null,{"$f":"Timely!C254","v":7.5999999999999956E-2},{"$f":"Timely!D254","v":8.7999999999999967E-2},{"$f":"Timely!E254","v":8.5999999999999965E-2},{"$f":"Timely!F254","v":8.2999999999999963E-2},{"$f":"Timely!G254","v":9.3999999999999972E-2},{"$f":"Timely!J254","v":0.125},{"$f":"Timely!K254","v":8.4999999999999964E-2},{"$f":"Timely!L254","v":9.2999999999999972E-2},{"$f":"Timely!M254","v":8.4999999999999964E-2},{"$f":"Timely!N254","v":8.8999999999999968E-2},{"$f":"Timely!O254","v":0.10499999999999998},{"$f":"Timely!P254","v":0.10599999999999998},{"$f":"Timely!Q254","v":0.128},{"$f":"Timely!R254","v":0.14000000000000001},{"$f":"Timely!S254","v":0.15000000000000002},{"$f":"Timely!T254","v":0.15000000000000002},{"$f":"Timely!U254","v":9.6999999999999975E-2},{"$f":"Timely!V254","v":4.4000000000000039E-2},{"$f":"Timely!W254","v":6.6999999999999948E-2},null,null,null,null,{"$f":"Churn!B62","v":0.16585956416464892},{"$f":"Churn!C62","v":0.15460729746444032},{"$f":"Churn!D62","v":0.16434378629500582},{"$f":"Churn!E62","v":0.16894018887722981},{"$f":"Churn!F62","v":0.1897172236503856},{"$f":"Churn!G62","v":0.16022668727460071},{"$f":"Churn!H62","v":0.17094861660079053},{"$f":"Churn!I62","v":0.18734673859735165},{"$f":"Churn!J62","v":0.17443609022556392},{"$f":"Churn!K62","v":0.20291902071563089},{"$f":"Churn!L62","v":0.20291902071563089},{"$f":"Churn!M62","v":0.20327593448131037},{"$f":"Churn!N62","v":0.20958083832335328},{"$f":"Churn!O62","v":0.19264158743282347},{"$f":"Churn!P62","v":0.2070767993566546},{"$f":"Churn!Q62","v":0.20203543158688278},{"$f":"Churn!R62","v":0.19661408233936128},{"$f":"Churn!S62","v":0.20031176929072486},null,{"$f":"Churn!B100","v":0.620821394460363},{"$f":"Churn!C100","v":0.55438448566610454},{"$f":"Churn!D100","v":0.65892053973013498},{"$f":"Churn!E100","v":0.64329268292682928},{"$f":"Churn!F100","v":0.63957361758827447},{"$f":"Churn!G100","v":0.59935437589670015},{"$f":"Churn!H100","v":0.61605795351645032},{"$f":"Churn!I100","v":0.58526440879382058},{"$f":"Churn!J100","v":0.64577729962345343},{"$f":"Churn!K100","v":0.53919694072657742},{"$f":"Churn!L100","v":0.53919694072657742},{"$f":"Churn!M100","v":0.61653405783039006},{"$f":"Churn!N100","v":0.61118798181458789},{"$f":"Churn!O100","v":0.56624179219775972},{"$f":"Churn!P100","v":0.59893928310168254},{"$f":"Churn!Q100","v":0.55830449826989614},{"$f":"Churn!R100","v":0.57275652484805151},{"$f":"Churn!S100","v":0.52827019966411648},null,{"$f":"Churn!B191","v":0.13634530052440499},{"$f":"Churn!C191","v":0.13809910641754672},{"$f":"Churn!D191","v":0.10209424083769633},{"$f":"Churn!E191","v":9.9616858237547887E-2},{"$f":"Churn!F191","v":0.11262376237623763},{"$f":"Churn!G191","v":0.11555377848860456},{"$f":"Churn!H191","v":0.11498547114985472},{"$f":"Churn!I191","v":9.9105299380591885E-2},{"$f":"Churn!J191","v":0.10648148148148148},{"$f":"Churn!K191","v":0.11860869565217391},{"$f":"Churn!L191","v":0.12013862148633038},{"$f":"Churn!M191","v":0.10699457042478441},{"$f":"Churn!N191","v":0.11428571428571428},{"$f":"Churn!O191","v":0.11231252179979072},{"$f":"Churn!P191","v":0.11098860712973171},{"$f":"Churn!Q191","v":9.2080452545568819E-2},{"$f":"Churn!R191","v":8.3533173461231014E-2},{"$f":"Churn!S191","v":9.4568190699491989E-2},null,{"$f":"Churn!B255","v":0.22025010084711577},{"$f":"Churn!C255","v":0.22502030869212022},{"$f":"Churn!D255","v":0.16828721017202691},{"$f":"Churn!E255","v":0.18352490421455939},{"$f":"Churn!F255","v":0.2136963696369637},{"$f":"Churn!G255","v":0.21951219512195122},{"$f":"Churn!H255","v":0.19800747198007471},{"$f":"Churn!I255","v":0.18719889883000687},{"$f":"Churn!J255","v":0.19174382716049382},{"$f":"Churn!K255","v":0.18817391304347827},{"$f":"Churn!L255","v":0.20177127454755486},{"$f":"Churn!M255","v":0.17981475566911531},{"$f":"Churn!N255","v":0.19025210084033614},{"$f":"Churn!O255","v":0.17823508894314616},{"$f":"Churn!P255","v":0.19110621095185593},{"$f":"Churn!Q255","v":0.16970458830923948},{"$f":"Churn!R255","v":0.17665867306155075},{"$f":"Churn!S255","v":0.17936694021101993},null,{"$f":"Unemp!B63","v":0.127},{"$f":"Unemp!C63","v":0.125},{"$f":"Unemp!D63","v":0.125},{"$f":"Unemp!E63","v":0.125},{"$f":"Unemp!F63","v":0.125},{"$f":"Unemp!$I63","v":0.115},{"$f":"Unemp!$I63","v":0.115},{"$f":"Unemp!$I63","v":0.115},{"$f":"Unemp!$I63","v":0.115},{"$f":"Unemp!J63","v":9.0999999999999998E-2},{"$f":"Unemp!K63","v":9.0999999999999998E-2},{"$f":"Unemp!L63","v":9.0999999999999998E-2},{"$f":"Unemp!M63","v":9.0999999999999998E-2},{"$f":"Unemp!N36","v":5.5E-2},{"$f":"Unemp!O36","v":5.5E-2},{"$f":"Unemp!P36","v":5.5E-2},{"$f":"Unemp!Q36","v":5.5E-2},{"$f":"Unemp!R36","v":4.4999999999999998E-2},{"$f":"Unemp!S36","v":4.4999999999999998E-2},{"$f":"Unemp!T36","v":4.4999999999999998E-2},{"$f":"Unemp!U36","v":4.4999999999999998E-2}]
["San Luis Obispo",{"$f":"Participation!V46/Participation!V$6","v":4.236638443769398E-3},"CalWIN","Small",{"$f":"Participation!B46","v":17122},{"$f":"Participation!C46","v":17679},{"$f":"Participation!D46","v":17630},{"$f":"Participation!E46","v":17269},{"$f":"Participation!F46","v":17603},{"$f":"Participation!I46","v":17743},{"$f":"Participation!J46","v":17852},{"$f":"Participation!K46","v":17319},{"$f":"Participation!L46","v":17380},{"$f":"Participation!M46","v":17988},{"$f":"Participation!N46","v":18502},{"$f":"Participation!O46","v":17983},{"$f":"Participation!P46","v":17677},{"$f":"Participation!Q46","v":18402},{"$f":"Participation!R46","v":18578},{"$f":"Participation!S46","v":18642},{"$f":"Participation!T46","v":18677},{"$f":"Participation!U46","v":18697},{"$f":"Participation!V46","v":18513},null,null,null,6.9846659717819493E-4,null,-3.4987619765313813E-3,8.1240509286298335E-2,-9.8411509867893238E-3,null,{"$f":"PRI!B45","v":0.34599999999999997},{"$f":"PRI!C45","v":0.34499999999999997},{"$f":"PRI!F45","v":0.40200000000000002},{"$f":"PRI!G45","v":0.36599999999999999},{"$f":"PRI!H45","v":0.39378556835265566},{"$f":"PRI!I45","v":0.40872986695625607},null,null,null,null,null,null,null,null,null,null,null,null,null,null,null,null,null,null,null,null,{"$f":"DD_Jun2016!J45","v":0.28093967572346507},null,null,null,null,null,null,null,null,null,null,null,null,null,null,null,null,null,null,null,null,{"$f":"DD_Jun2016!P45","v":0.93944673212965901},null,null,{"$f":"Timely!C302","v":12.3},{"$f":"Timely!D302","v":10.7},{"$f":"Timely!E302","v":11.7},{"$f":"Timely!F302","v":13.3},{"$f":"Timely!G302","v":12.7},{"$f":"Timely!H302","v":11.3},{"$f":"Timely!I302","v":13},{"$f":"Timely!J302","v":12.7},{"$f":"Timely!K302","v":14.3},{"$f":"Timely!L302","v":12},{"$f":"Timely!M302","v":12},{"$f":"Timely!N302","v":11.7},{"$f":"Timely!O302","v":13.3},{"$f":"Timely!P302","v":11.7},{"$f":"Timely!Q302","v":12},{"$f":"Timely!R302","v":13},{"$f":"Timely!S302","v":12},{"$f":"Timely!T302","v":11.3},null,null,{"$f":"Timely!C110","v":4.3000000000000038E-2},{"$f":"Timely!D110","v":4.500000000000004E-2},{"$f":"Timely!E110","v":3.0000000000000027E-2},{"$f":"Timely!F110","v":2.6000000000000023E-2},{"$f":"Timely!G110","v":5.4000000000000048E-2},{"$f":"Timely!J110","v":1.7000000000000015E-2},{"$f":"Timely!K110","v":3.6000000000000032E-2},{"$f":"Timely!L110","v":3.8000000000000034E-2},{"$f":"Timely!M110","v":6.4999999999999947E-2},{"$f":"Timely!N110","v":6.5999999999999948E-2},{"$f":"Timely!O110","v":2.8000000000000025E-2},{"$f":"Timely!P110","v":2.6000000000000023E-2},{"$f":"Timely!Q110","v":1.5000000000000013E-2},{"$f":"Timely!R110","v":4.7000000000000042E-2},{"$f":"Timely!S110","v":2.0000000000000018E-2},{"$f":"Timely!T110","v":3.5000000000000031E-2},{"$f":"Timely!U110","v":4.3000000000000038E-2},{"$f":"Timely!V110","v":4.500000000000004E-2},{"$f":"Timely!W110","v":2.5000000000000022E-2},null,null,null,null,null,{"$f":"Timely!C237","v":0.18500000000000005},{"$f":"Timely!D237","v":0.13500000000000001},{"$f":"Timely!E237","v":0.15800000000000003},{"$f":"Timely!F237","v":0.16500000000000004},{"$f":"Timely!G237","v":0.10199999999999998},{"$f":"Timely!J237","v":0.10199999999999998},{"$f":"Timely!K237","v":0.10999999999999999},{"$f":"Timely!L237","v":8.9999999999999969E-2},{"$f":"Timely!M237","v":9.1999999999999971E-2},{"$f":"Timely!N237","v":9.8999999999999977E-2},{"$f":"Timely!O237","v":9.4999999999999973E-2},{"$f":"Timely!P237","v":9.5999999999999974E-2},{"$f":"Timely!Q237","v":7.0999999999999952E-2},{"$f":"Timely!R237","v":6.6999999999999948E-2},{"$f":"Timely!S237","v":6.7999999999999949E-2},{"$f":"Timely!T237","v":4.1000000000000036E-2},{"$f":"Timely!U237","v":5.5000000000000049E-2},{"$f":"Timely!V237","v":3.8000000000000034E-2},{"$f":"Timely!W237","v":2.200000000000002E-2},null,null,null,null,{"$f":"Churn!B45","v":0.14413341274568195},{"$f":"Churn!C45","v":0.1636469900642899},{"$f":"Churn!D45","v":0.1831218974076117},{"$f":"Churn!E45","v":0.16391752577319588},{"$f":"Churn!F45","v":0.17781079742446756},{"$f":"Churn!G45","v":0.15053763440860216},{"$f":"Churn!H45","v":0.17744438696326953},{"$f":"Churn!I45","v":0.18367346938775511},{"$f":"Churn!J45","v":0.19007444168734491},{"$f":"Churn!K45","v":0.17866129843985909},{"$f":"Churn!L45","v":0.17866129843985909},{"$f":"Churn!M45","v":0.24784384929641398},{"$f":"Churn!N45","v":0.22025198320111994},{"$f":"Churn!O45","v":0.21766848816029144},{"$f":"Churn!P45","v":0.21733021077283374},{"$f":"Churn!Q45","v":0.2299417301658449},{"$f":"Churn!R45","v":0.23496321938554737},{"$f":"Churn!S45","v":0.21785383903792785},null,{"$f":"Churn!B101","v":0.6862170087976539},{"$f":"Churn!C101","v":0.73667711598746077},{"$f":"Churn!D101","v":0.68269230769230771},{"$f":"Churn!E101","v":0.651685393258427},{"$f":"Churn!F101","v":0.5771276595744681},{"$f":"Churn!G101","v":0.59938837920489296},{"$f":"Churn!H101","v":0.55405405405405406},{"$f":"Churn!I101","v":0.59079903147699753},{"$f":"Churn!J101","v":0.81359649122807021},{"$f":"Churn!K101","v":0.68443496801705761},{"$f":"Churn!L101","v":0.68443496801705761},{"$f":"Churn!M101","v":0.71730769230769231},{"$f":"Churn!N101","v":0.74444444444444446},{"$f":"Churn!O101","v":0.6596091205211726},{"$f":"Churn!P101","v":0.63464566929133859},{"$f":"Churn!Q101","v":0.5409153952843273},{"$f":"Churn!R101","v":0.57761194029850749},{"$f":"Churn!S101","v":0.60348162475822054},null,{"$f":"Churn!B174","v":0.10976804965697484},{"$f":"Churn!C174","v":0.10842175066312998},{"$f":"Churn!D174","v":8.6956521739130432E-2},{"$f":"Churn!E174","v":6.4917591658257653E-2},{"$f":"Churn!F174","v":7.5729589951976359E-2},{"$f":"Churn!G174","v":6.5961199294532633E-2},{"$f":"Churn!H174","v":7.2307692307692309E-2},{"$f":"Churn!I174","v":6.607495069033531E-2},{"$f":"Churn!J174","v":6.640625E-2},{"$f":"Churn!K174","v":7.3834196891191708E-2},{"$f":"Churn!L174","v":6.6972828166858012E-2},{"$f":"Churn!M174","v":7.2720822986874781E-2},{"$f":"Churn!N174","v":7.1722076951811736E-2},{"$f":"Churn!O174","v":8.3808844507845939E-2},{"$f":"Churn!P174","v":7.5728155339805828E-2},{"$f":"Churn!Q174","v":7.2791519434628971E-2},{"$f":"Churn!R174","v":8.680282796543598E-2},{"$f":"Churn!S174","v":7.7710386656557995E-2},null,{"$f":"Churn!B238","v":0.19340084939562235},{"$f":"Churn!C238","v":0.1942970822281167},{"$f":"Churn!D238","v":0.1742784070149799},{"$f":"Churn!E238","v":0.15573494786411032},{"$f":"Churn!F238","v":0.15810860731437015},{"$f":"Churn!G238","v":0.15026455026455027},{"$f":"Churn!H238","v":0.16384615384615384},{"$f":"Churn!I238","v":0.16272189349112426},{"$f":"Churn!J238","v":0.14879261363636365},{"$f":"Churn!K238","v":0.13698186528497408},{"$f":"Churn!L238","v":0.13088404133180254},{"$f":"Churn!M238","v":0.15750266051791414},{"$f":"Churn!N238","v":0.16398954053044454},{"$f":"Churn!O238","v":0.1601283880171184},{"$f":"Churn!P238","v":0.15961165048543691},{"$f":"Churn!Q238","v":0.14664310954063603},{"$f":"Churn!R238","v":0.17635506677140614},{"$f":"Churn!S238","v":0.1683093252463988},null,{"$f":"Unemp!B46","v":9.9000000000000005E-2},{"$f":"Unemp!C46","v":9.4E-2},{"$f":"Unemp!D46","v":9.4E-2},{"$f":"Unemp!E46","v":9.4E-2},{"$f":"Unemp!F46","v":9.4E-2},{"$f":"Unemp!$I46","v":8.1000000000000003E-2},{"$f":"Unemp!$I46","v":8.1000000000000003E-2},{"$f":"Unemp!$I46","v":8.1000000000000003E-2},{"$f":"Unemp!$I46","v":8.1000000000000003E-2},{"$f":"Unemp!J46","v":6.8000000000000005E-2},{"$f":"Unemp!K46","v":6.8000000000000005E-2},{"$f":"Unemp!L46","v":6.8000000000000005E-2},{"$f":"Unemp!M46","v":6.8000000000000005E-2},{"$f":"Unemp!N37","v":6.3E-2},{"$f":"Unemp!O37","v":6.3E-2},{"$f":"Unemp!P37","v":6.3E-2},{"$f":"Unemp!Q37","v":6.3E-2},{"$f":"Unemp!R37","v":0.05},{"$f":"Unemp!S37","v":0.05},{"$f":"Unemp!T37","v":0.05},{"$f":"Unemp!U37","v":0.05}]
["Placer",{"$f":"Participation!V37/Participation!V$6","v":4.0723265330781843E-3},"CalWIN","Small",{"$f":"Participation!B37","v":17899},{"$f":"Participation!C37","v":17900},{"$f":"Participation!D37","v":18082},{"$f":"Participation!E37","v":17815},{"$f":"Participation!F37","v":17834},{"$f":"Participation!I37","v":17706},{"$f":"Participation!J37","v":17632},{"$f":"Participation!K37","v":17673},{"$f":"Participation!L37","v":18178},{"$f":"Participation!M37","v":18465},{"$f":"Participation!N37","v":18437},{"$f":"Participation!O37","v":18455},{"$f":"Participation!P37","v":18731},{"$f":"Participation!Q37","v":18407},{"$f":"Participation!R37","v":18325},{"$f":"Participation!S37","v":18190},{"$f":"Participation!T37","v":18090},{"$f":"Participation!U37","v":17969},{"$f":"Participation!V37","v":17795},null,null,null,5.6951891769914361E-3,null,-2.8922237380627557E-2,-5.8103804681825799E-3,-9.6833435360899334E-3,null,{"$f":"PRI!B36","v":0.33},{"$f":"PRI!C36","v":0.41599999999999998},{"$f":"PRI!F36","v":0.42599999999999999},{"$f":"PRI!G36","v":0.45},{"$f":"PRI!H36","v":0.44945277490867924},{"$f":"PRI!I36","v":0.47371604310456833},null,null,null,null,null,null,null,null,null,null,null,null,null,null,null,null,null,null,null,null,{"$f":"DD_Jun2016!J36","v":0.24247214463304584},null,null,null,null,null,null,null,null,null,null,null,null,null,null,null,null,null,null,null,null,{"$f":"DD_Jun2016!P36","v":0.89502605937004309},null,null,{"$f":"Timely!C293","v":10.3},{"$f":"Timely!D293","v":9.6999999999999993},{"$f":"Timely!E293","v":8.6999999999999993},{"$f":"Timely!F293","v":8.6999999999999993},{"$f":"Timely!G293","v":8.6999999999999993},{"$f":"Timely!H293","v":8.3000000000000007},{"$f":"Timely!I293","v":8},{"$f":"Timely!J293","v":10.3},{"$f":"Timely!K293","v":10.7},{"$f":"Timely!L293","v":9.6999999999999993},{"$f":"Timely!M293","v":9.6999999999999993},{"$f":"Timely!N293","v":10},{"$f":"Timely!O293","v":10.3},{"$f":"Timely!P293","v":11},{"$f":"Timely!Q293","v":9.6999999999999993},{"$f":"Timely!R293","v":10},{"$f":"Timely!S293","v":10},{"$f":"Timely!T293","v":9},null,null,{"$f":"Timely!C101","v":8.4999999999999964E-2},{"$f":"Timely!D101","v":4.6000000000000041E-2},{"$f":"Timely!E101","v":2.1000000000000019E-2},{"$f":"Timely!F101","v":3.400000000000003E-2},{"$f":"Timely!G101","v":1.9000000000000017E-2},{"$f":"Timely!J101","v":1.100000000000001E-2},{"$f":"Timely!K101","v":5.0000000000000044E-3},{"$f":"Timely!L101","v":3.0000000000000027E-3},{"$f":"Timely!M101","v":2.300000000000002E-2},{"$f":"Timely!N101","v":3.0000000000000027E-3},{"$f":"Timely!O101","v":1.2000000000000011E-2},{"$f":"Timely!P101","v":1.9000000000000017E-2},{"$f":"Timely!Q101","v":7.0000000000000062E-3},{"$f":"Timely!R101","v":1.8000000000000016E-2},{"$f":"Timely!S101","v":1.8000000000000016E-2},{"$f":"Timely!T101","v":5.3000000000000047E-2},{"$f":"Timely!U101","v":3.3000000000000029E-2},{"$f":"Timely!V101","v":1.9000000000000017E-2},{"$f":"Timely!W101","v":2.4000000000000021E-2},null,null,null,null,null,{"$f":"Timely!C228","v":0.29800000000000004},{"$f":"Timely!D228","v":0.16700000000000004},{"$f":"Timely!E228","v":4.2000000000000037E-2},{"$f":"Timely!F228","v":3.7000000000000033E-2},{"$f":"Timely!G228","v":5.2000000000000046E-2},{"$f":"Timely!J228","v":3.3000000000000029E-2},{"$f":"Timely!K228","v":2.6000000000000023E-2},{"$f":"Timely!L228","v":2.6000000000000023E-2},{"$f":"Timely!M228","v":5.3000000000000047E-2},{"$f":"Timely!N228","v":2.6000000000000023E-2},{"$f":"Timely!O228","v":2.5000000000000022E-2},{"$f":"Timely!P228","v":2.9000000000000026E-2},{"$f":"Timely!Q228","v":3.0000000000000027E-2},{"$f":"Timely!R228","v":5.0000000000000044E-2},{"$f":"Timely!S228","v":6.2000000000000055E-2},{"$f":"Timely!T228","v":1},{"$f":"Timely!U228","v":0.92999999999999994},{"$f":"Timely!V228","v":1},{"$f":"Timely!W228","v":8.4999999999999964E-2},null,null,null,null,{"$f":"Churn!B36","v":0.19710982658959539},{"$f":"Churn!C36","v":0.19193742478941034},{"$f":"Churn!D36","v":0.17951668584579977},{"$f":"Churn!E36","v":0.18275154004106775},{"$f":"Churn!F36","v":0.18970736629667004},{"$f":"Churn!G36","v":0.16890495867768596},{"$f":"Churn!H36","v":0.17969888295288974},{"$f":"Churn!I36","v":0.18620378719567177},{"$f":"Churn!J36","v":0.20860018298261665},{"$f":"Churn!K36","v":0.21533516988062443},{"$f":"Churn!L36","v":0.21533516988062443},{"$f":"Churn!M36","v":0.2},{"$f":"Churn!N36","v":0.24561403508771928},{"$f":"Churn!O36","v":0.24240031583103039},{"$f":"Churn!P36","v":0.24292272379495028},{"$f":"Churn!Q36","v":0.25916606757728256},{"$f":"Churn!R36","v":0.25121859767529059},{"$f":"Churn!S36","v":0.22825607064017661},null,{"$f":"Churn!B102","v":0.88888888888888884},{"$f":"Churn!C102","v":0.77272727272727271},{"$f":"Churn!D102","v":0.59090909090909094},{"$f":"Churn!E102","v":0.74285714285714288},{"$f":"Churn!F102","v":0.80555555555555558},{"$f":"Churn!G102","v":0.33057851239669422},{"$f":"Churn!H102","v":0.27192982456140352},{"$f":"Churn!I102","v":0.34558823529411764},{"$f":"Churn!J102","v":0.33088235294117646},{"$f":"Churn!K102","v":0.45614035087719296},{"$f":"Churn!L102","v":0.53982300884955747},{"$f":"Churn!M102","v":0.66206896551724137},{"$f":"Churn!N102","v":0.55629139072847678},{"$f":"Churn!O102","v":0.68867924528301883},{"$f":"Churn!P102","v":0.42276422764227645},{"$f":"Churn!Q102","v":0.51063829787234039},{"$f":"Churn!R102","v":0.51282051282051277},{"$f":"Churn!S102","v":0.44680851063829785},null,{"$f":"Churn!B165","v":0.11191335740072202},{"$f":"Churn!C165","v":0.1053737616331432},{"$f":"Churn!D165","v":0.10064935064935066},{"$f":"Churn!E165","v":9.9547511312217188E-2},{"$f":"Churn!F165","v":8.7219866747425809E-2},{"$f":"Churn!G165","v":8.5953878406708595E-2},{"$f":"Churn!H165","v":8.1310679611650491E-2},{"$f":"Churn!I165","v":7.1488645920941965E-2},{"$f":"Churn!J165","v":9.2307692307692313E-2},{"$f":"Churn!K165","v":0.10032554010062149},{"$f":"Churn!L165","v":9.8788443616029828E-2},{"$f":"Churn!M165","v":9.7531965506987811E-2},{"$f":"Churn!N165","v":0.1143312101910828},{"$f":"Churn!O165","v":0.11799687010954617},{"$f":"Churn!P165","v":0.11104},{"$f":"Churn!Q165","v":0.10658212560386474},{"$f":"Churn!R165","v":9.5961339316534347E-2},{"$f":"Churn!S165","v":0.10252043596730245},null,{"$f":"Churn!B229","v":0.19396127338365607},{"$f":"Churn!C229","v":0.19333533473431402},{"$f":"Churn!D229","v":0.18122786304604485},{"$f":"Churn!E229","v":0.18009049773755656},{"$f":"Churn!F229","v":0.17474258025439127},{"$f":"Churn!G229","v":0.16981132075471697},{"$f":"Churn!H229","v":0.16231796116504854},{"$f":"Churn!I229","v":0.14830389683207176},{"$f":"Churn!J229","v":0.16106750392464678},{"$f":"Churn!K229","v":0.17194436223734832},{"$f":"Churn!L229","v":0.18359739049394222},{"$f":"Churn!M229","v":0.16532857567647932},{"$f":"Churn!N229","v":0.19490445859872613},{"$f":"Churn!O229","v":0.19906103286384977},{"$f":"Churn!P229","v":0.20127999999999999},{"$f":"Churn!Q229","v":0.19172705314009661},{"$f":"Churn!R229","v":0.18467380048325854},{"$f":"Churn!S229","v":0.19005449591280654},null,{"$f":"Unemp!B37","v":0.115},{"$f":"Unemp!C37","v":0.108},{"$f":"Unemp!D37","v":0.108},{"$f":"Unemp!E37","v":0.108},{"$f":"Unemp!F37","v":0.108},{"$f":"Unemp!$I37","v":9.4E-2},{"$f":"Unemp!$I37","v":9.4E-2},{"$f":"Unemp!$I37","v":9.4E-2},{"$f":"Unemp!$I37","v":9.4E-2},{"$f":"Unemp!J37","v":7.6999999999999999E-2},{"$f":"Unemp!K37","v":7.6999999999999999E-2},{"$f":"Unemp!L37","v":7.6999999999999999E-2},{"$f":"Unemp!M37","v":7.6999999999999999E-2},{"$f":"Unemp!N38","v":0.11700000000000001},{"$f":"Unemp!O38","v":0.11700000000000001},{"$f":"Unemp!P38","v":0.11700000000000001},{"$f":"Unemp!Q38","v":0.11700000000000001},{"$f":"Unemp!R38","v":0.104},{"$f":"Unemp!S38","v":0.104},{"$f":"Unemp!T38","v":0.104},{"$f":"Unemp!U38","v":0.104}]
["Yuba",{"$f":"Participation!V64/Participation!V$6","v":3.091032002376344E-3},"C-IV",{"$f":"IF(W43>100000,\"Large\",(IF(W43>20000,\"Medium\",\"Small\")))","v":"Small"},{"$f":"Participation!B64","v":13017},{"$f":"Participation!C64","v":12840},{"$f":"Participation!D64","v":12923},{"$f":"Participation!E64","v":13058},{"$f":"Participation!F64","v":12952},{"$f":"Participation!I64","v":12871},{"$f":"Participation!J64","v":12913},{"$f":"Participation!K64","v":12919},{"$f":"Participation!L64","v":12695},{"$f":"Participation!M64","v":13040},{"$f":"Participation!N64","v":13249},{"$f":"Participation!O64","v":13449},{"$f":"Participation!P64","v":13409},{"$f":"Participation!Q64","v":13204},{"$f":"Participation!R64","v":13517},{"$f":"Participation!S64","v":13621},{"$f":"Participation!T64","v":13868},{"$f":"Participation!U64","v":13569},{"$f":"Participation!V64","v":13507},null,null,null,{"$f":"(W43-S43)/(W$10-S$10)","v":1.0745639956587615E-4},null,{"$f":"(W43-S43)/S43","v":-7.3980912924465493E-4},{"$f":"(W43-E43)/E43","v":3.7643082123377122E-2},{"$f":"(W43-V43)/V43","v":-4.5692387058736831E-3},null,{"$f":"PRI!B63","v":0.77700000000000002},{"$f":"PRI!C63","v":0.94799999999999995},{"$f":"PRI!F63","v":0.66300000000000003},{"$f":"PRI!G63","v":0.89600000000000002},{"$f":"PRI!H63","v":0.76600000000000001},{"$f":"PRI!I63","v":0.72442693271347103},null,null,null,null,null,null,null,null,null,null,null,null,null,null,null,null,null,null,null,null,{"$f":"DD_Jun2016!J63","v":0.39978691019786911},null,null,null,null,null,null,null,null,null,null,null,null,null,null,null,null,null,null,null,null,{"$f":"DD_Jun2016!P63","v":0.9579139314369074},null,null,{"$f":"Timely!C320","v":14.7},{"$f":"Timely!D320","v":16.7},{"$f":"Timely!E320","v":15.3},{"$f":"Timely!F320","v":15},{"$f":"Timely!G320","v":14.7},{"$f":"Timely!H320","v":14},{"$f":"Timely!I320","v":17},{"$f":"Timely!J320","v":18.3},{"$f":"Timely!K320","v":16.7},{"$f":"Timely!L320","v":13.3},{"$f":"Timely!M320","v":14.7},{"$f":"Timely!N320","v":12.3},{"$f":"Timely!O320","v":12.3},{"$f":"Timely!P320","v":12.7},{"$f":"Timely!Q320","v":11.7},{"$f":"Timely!R320","v":11.7},{"$f":"Timely!S320","v":12.3},{"$f":"Timely!T320","v":10.7},null,null,{"$f":"Timely!C128","v":4.0000000000000036E-3},{"$f":"Timely!D128","v":1.4000000000000012E-2},{"$f":"Timely!E128","v":0},{"$f":"Timely!F128","v":0},{"$f":"Timely!G128","v":0},{"$f":"Timely!J128","v":3.0000000000000027E-2},{"$f":"Timely!K128","v":0},{"$f":"Timely!L128","v":1.4000000000000012E-2},{"$f":"Timely!M128","v":3.1000000000000028E-2},{"$f":"Timely!N128","v":6.0000000000000053E-3},{"$f":"Timely!O128","v":0},{"$f":"Timely!P128","v":0},{"$f":"Timely!Q128","v":0},{"$f":"Timely!R128","v":0},{"$f":"Timely!S128","v":0},{"$f":"Timely!T128","v":0},{"$f":"Timely!U128","v":0},{"$f":"Timely!V128","v":0},{"$f":"Timely!W128","v":4.0000000000000036E-3},null,null,null,null,null,{"$f":"Timely!C255","v":3.9000000000000035E-2},{"$f":"Timely!D255","v":5.5000000000000049E-2},{"$f":"Timely!E255","v":5.3000000000000047E-2},{"$f":"Timely!F255","v":1.6000000000000014E-2},{"$f":"Timely!G255","v":4.3000000000000038E-2},{"$f":"Timely!J255","v":3.8000000000000034E-2},{"$f":"Timely!K255","v":3.2000000000000028E-2},{"$f":"Timely!L255","v":4.8000000000000043E-2},{"$f":"Timely!M255","v":7.1999999999999953E-2},{"$f":"Timely!N255","v":6.0000000000000053E-2},{"$f":"Timely!O255","v":3.8000000000000034E-2},{"$f":"Timely!P255","v":4.9000000000000044E-2},{"$f":"Timely!Q255","v":3.3000000000000029E-2},{"$f":"Timely!R255","v":3.6000000000000032E-2},{"$f":"Timely!S255","v":3.400000000000003E-2},{"$f":"Timely!T255","v":3.9000000000000035E-2},{"$f":"Timely!U255","v":3.400000000000003E-2},{"$f":"Timely!V255","v":3.2000000000000028E-2},{"$f":"Timely!W255","v":2.0000000000000018E-2},null,null,null,null,{"$f":"Churn!B63","v":0.33695652173913043},{"$f":"Churn!C63","v":0.29580700746697303},{"$f":"Churn!D63","v":0.27351413733410274},{"$f":"Churn!E63","v":0.29026750142287994},{"$f":"Churn!F63","v":0.31233171782444802},{"$f":"Churn!G63","v":0.43805049911920141},{"$f":"Churn!H63","v":0.44976635514018692},{"$f":"Churn!I63","v":0.42865232163080408},{"$f":"Churn!J63","v":0.41889843355229917},{"$f":"Churn!K63","v":0.3721174004192872},{"$f":"Churn!L63","v":0.40750528541226216},{"$f":"Churn!M63","v":0.38973799126637554},{"$f":"Churn!N63","v":0.39661554732945531},{"$f":"Churn!O63","v":0.39620535714285715},{"$f":"Churn!P63","v":0.38725761772853184},{"$f":"Churn!Q63","v":0.38891936368623148},{"$f":"Churn!R63","v":0.39936941671045717},{"$f":"Churn!S63","v":0.40845070422535212},null,{"$f":"Churn!B103","v":0.87015061615700595},{"$f":"Churn!C103","v":0.64957780458383596},{"$f":"Churn!D103","v":0.67546521035598706},{"$f":"Churn!E103","v":0.68679604921157511},{"$f":"Churn!F103","v":0.68289026584049572},{"$f":"Churn!G103","v":0.47238273283480625},{"$f":"Churn!H103","v":0.46629494602902283},{"$f":"Churn!I103","v":0.5009251010758583},{"$f":"Churn!J103","v":0.57418788410886745},{"$f":"Churn!K103","v":0.65570797855566065},{"$f":"Churn!L103","v":0.6191131919581383},{"$f":"Churn!M103","v":0.63370558375634523},{"$f":"Churn!N103","v":0.63129009816804516},{"$f":"Churn!O103","v":0.61950507224100826},{"$f":"Churn!P103","v":0.59858243031418257},{"$f":"Churn!Q103","v":0.57922419460881003},{"$f":"Churn!R103","v":0.59873474920921821},{"$f":"Churn!S103","v":0.53888847776215498},null,{"$f":"Churn!B192","v":4.2577675489067893E-2},{"$f":"Churn!C192","v":3.4062023385866801E-2},{"$f":"Churn!D192","v":2.8475711892797319E-2},{"$f":"Churn!E192","v":2.8322440087145968E-2},{"$f":"Churn!F192","v":4.1736227045075125E-2},{"$f":"Churn!G192","v":0.18692129629629631},{"$f":"Churn!H192","v":0.16184971098265896},{"$f":"Churn!I192","v":0.15026737967914439},{"$f":"Churn!J192","v":0.1927437641723356},{"$f":"Churn!K192","v":0.18702702702702703},{"$f":"Churn!L192","v":0.16707021791767554},{"$f":"Churn!M192","v":0.17283268912203203},{"$f":"Churn!N192","v":0.20972836386607707},{"$f":"Churn!O192","v":0.19124700239808154},{"$f":"Churn!P192","v":0.17425149700598802},{"$f":"Churn!Q192","v":0.17526377491207504},{"$f":"Churn!R192","v":0.22739018087855298},{"$f":"Churn!S192","v":0.20111042566317089},null,{"$f":"Churn!B256","v":0.15247410817031071},{"$f":"Churn!C256","v":0.13014743263853584},{"$f":"Churn!D256","v":0.11669458403126745},{"$f":"Churn!E256","v":0.11873638344226579},{"$f":"Churn!F256","v":0.13633834168057873},{"$f":"Churn!G256","v":0.25520833333333331},{"$f":"Churn!H256","v":0.23005780346820809},{"$f":"Churn!I256","v":0.24064171122994651},{"$f":"Churn!J256","v":0.28061224489795916},{"$f":"Churn!K256","v":0.25675675675675674},{"$f":"Churn!L256","v":0.2360774818401937},{"$f":"Churn!M256","v":0.23302043070127001},{"$f":"Churn!N256","v":0.29500947567909036},{"$f":"Churn!O256","v":0.25359712230215825},{"$f":"Churn!P256","v":0.24251497005988024},{"$f":"Churn!Q256","v":0.23681125439624853},{"$f":"Churn!R256","v":0.30813953488372092},{"$f":"Churn!S256","v":0.28809376927822333},null,{"$f":"Unemp!B64","v":0.192},{"$f":"Unemp!C64","v":0.184},{"$f":"Unemp!D64","v":0.184},{"$f":"Unemp!E64","v":0.184},{"$f":"Unemp!F64","v":0.184},{"$f":"Unemp!$I64","v":0.16900000000000001},{"$f":"Unemp!$I64","v":0.16900000000000001},{"$f":"Unemp!$I64","v":0.16900000000000001},{"$f":"Unemp!$I64","v":0.16900000000000001},{"$f":"Unemp!J64","v":0.13100000000000001},{"$f":"Unemp!K64","v":0.13100000000000001},{"$f":"Unemp!L64","v":0.13100000000000001},{"$f":"Unemp!M64","v":0.13100000000000001},{"$f":"Unemp!N39","v":8.2000000000000003E-2},{"$f":"Unemp!O39","v":8.2000000000000003E-2},{"$f":"Unemp!P39","v":8.2000000000000003E-2},{"$f":"Unemp!Q39","v":8.2000000000000003E-2},{"$f":"Unemp!R39","v":6.7000000000000004E-2},{"$f":"Unemp!S39","v":6.7000000000000004E-2},{"$f":"Unemp!T39","v":6.7000000000000004E-2},{"$f":"Unemp!U39","v":6.7000000000000004E-2}]
["Sutter",{"$f":"Participation!V57/Participation!V$6","v":3.0818781354854685E-3},"C-IV","Small",{"$f":"Participation!B57","v":11259},{"$f":"Participation!C57","v":11667},{"$f":"Participation!D57","v":11972},{"$f":"Participation!E57","v":11946},{"$f":"Participation!F57","v":11901},{"$f":"Participation!I57","v":12365},{"$f":"Participation!J57","v":12460},{"$f":"Participation!K57","v":12440},{"$f":"Participation!L57","v":12119},{"$f":"Participation!M57","v":12740},{"$f":"Participation!N57","v":12986},{"$f":"Participation!O57","v":13083},{"$f":"Participation!P57","v":12903},{"$f":"Participation!Q57","v":13047},{"$f":"Participation!R57","v":13160},{"$f":"Participation!S57","v":13236},{"$f":"Participation!T57","v":13230},{"$f":"Participation!U57","v":13253},{"$f":"Participation!V57","v":13467},null,null,null,-3.2989114666723976E-3,null,2.3328267477203648E-2,0.19610977884359179,1.6147287406624914E-2,null,{"$f":"PRI!B56","v":0.52800000000000002},{"$f":"PRI!C56","v":0.53500000000000003},{"$f":"PRI!F56","v":0.72699999999999998},{"$f":"PRI!G56","v":0.53800000000000003},{"$f":"PRI!H56","v":0.8091986651521671},{"$f":"PRI!I56","v":0.59198717459615158},null,null,null,null,null,null,null,null,null,null,null,null,null,null,null,null,null,null,null,null,{"$f":"DD_Jun2016!J56","v":0.30370866123560497},null,null,null,null,null,null,null,null,null,null,null,null,null,null,null,null,null,null,null,null,{"$f":"DD_Jun2016!P56","v":0.96516318298496517},null,null,{"$f":"Timely!C313","v":16.3},{"$f":"Timely!D313","v":15.7},{"$f":"Timely!E313","v":14.7},{"$f":"Timely!F313","v":16.7},{"$f":"Timely!G313","v":16},{"$f":"Timely!H313","v":14.7},{"$f":"Timely!I313","v":15.3},{"$f":"Timely!J313","v":15},{"$f":"Timely!K313","v":16.3},{"$f":"Timely!L313","v":15.3},{"$f":"Timely!M313","v":14.7},{"$f":"Timely!N313","v":14},{"$f":"Timely!O313","v":13.7},{"$f":"Timely!P313","v":15.7},{"$f":"Timely!Q313","v":15.3},{"$f":"Timely!R313","v":15.7},{"$f":"Timely!S313","v":15.7},{"$f":"Timely!T313","v":15.7},null,null,{"$f":"Timely!C121","v":8.3999999999999964E-2},{"$f":"Timely!D121","v":7.3999999999999955E-2},{"$f":"Timely!E121","v":5.0000000000000044E-2},{"$f":"Timely!F121","v":4.9000000000000044E-2},{"$f":"Timely!G121","v":4.8000000000000043E-2},{"$f":"Timely!J121","v":3.6000000000000032E-2},{"$f":"Timely!K121","v":4.3000000000000038E-2},{"$f":"Timely!L121","v":1.9000000000000017E-2},{"$f":"Timely!M121","v":1.100000000000001E-2},{"$f":"Timely!N121","v":5.600000000000005E-2},{"$f":"Timely!O121","v":2.8000000000000025E-2},{"$f":"Timely!P121","v":1.100000000000001E-2},{"$f":"Timely!Q121","v":1.2000000000000011E-2},{"$f":"Timely!R121","v":0},{"$f":"Timely!S121","v":3.2000000000000028E-2},{"$f":"Timely!T121","v":2.1000000000000019E-2},{"$f":"Timely!U121","v":9.000000000000008E-3},{"$f":"Timely!V121","v":2.4000000000000021E-2},{"$f":"Timely!W121","v":4.2000000000000037E-2},null,null,null,null,null,{"$f":"Timely!C248","v":5.0000000000000044E-2},{"$f":"Timely!D248","v":3.9000000000000035E-2},{"$f":"Timely!E248","v":5.5000000000000049E-2},{"$f":"Timely!F248","v":5.7000000000000051E-2},{"$f":"Timely!G248","v":4.1000000000000036E-2},{"$f":"Timely!J248","v":3.8000000000000034E-2},{"$f":"Timely!K248","v":4.500000000000004E-2},{"$f":"Timely!L248","v":0.124},{"$f":"Timely!M248","v":8.1999999999999962E-2},{"$f":"Timely!N248","v":9.5999999999999974E-2},{"$f":"Timely!O248","v":9.3999999999999972E-2},{"$f":"Timely!P248","v":9.1999999999999971E-2},{"$f":"Timely!Q248","v":8.3999999999999964E-2},{"$f":"Timely!R248","v":0.11099999999999999},{"$f":"Timely!S248","v":8.4999999999999964E-2},{"$f":"Timely!T248","v":0.10999999999999999},{"$f":"Timely!U248","v":0.122},{"$f":"Timely!V248","v":0.11899999999999999},{"$f":"Timely!W248","v":9.9999999999999978E-2},null,null,null,null,{"$f":"Churn!B56","v":0.41896551724137931},{"$f":"Churn!C56","v":0.23289665211062591},{"$f":"Churn!D56","v":0.27947295423023577},{"$f":"Churn!E56","v":0.27816677275620622},{"$f":"Churn!F56","v":0.28892733564013839},{"$f":"Churn!G56","v":0.42441054091539526},{"$f":"Churn!H56","v":0.41813602015113349},{"$f":"Churn!I56","v":0.41308411214953272},{"$f":"Churn!J56","v":0.39684267827980402},{"$f":"Churn!K56","v":0.40093512565751022},{"$f":"Churn!L56","v":0.41544117647058826},{"$f":"Churn!M56","v":0.39357907253269919},{"$f":"Churn!N56","v":0.41082274986195472},{"$f":"Churn!O56","v":0.41761533852606353},{"$f":"Churn!P56","v":0.45459940652818992},{"$f":"Churn!Q56","v":0.40692395005675369},{"$f":"Churn!R56","v":0.39967550027041643},{"$f":"Churn!S56","v":0.3882495457298607},null,{"$f":"Churn!B104","v":0.68666396432914467},{"$f":"Churn!C104","v":0.63795309168443493},{"$f":"Churn!D104","v":0.68496240601503755},{"$f":"Churn!E104","v":0.69837251356238694},{"$f":"Churn!F104","v":0.72422776330480088},{"$f":"Churn!G104","v":0.71444910407929851},{"$f":"Churn!H104","v":0.66519524617996606},{"$f":"Churn!I104","v":0.64975450081833064},{"$f":"Churn!J104","v":0.72979869577544654},{"$f":"Churn!K104","v":0.65820594173637148},{"$f":"Churn!L104","v":0.65820594173637148},{"$f":"Churn!M104","v":0.66031280547409577},{"$f":"Churn!N104","v":0.704704028809363},{"$f":"Churn!O104","v":0.67717041800643085},{"$f":"Churn!P104","v":0.7205641864268193},{"$f":"Churn!Q104","v":0.62622426544073551},{"$f":"Churn!R104","v":0.67040898155573381},{"$f":"Churn!S104","v":0.71017514595496245},null,{"$f":"Churn!B185","v":4.7293447293447297E-2},{"$f":"Churn!C185","v":3.5097813578826235E-2},{"$f":"Churn!D185","v":4.7734138972809668E-2},{"$f":"Churn!E185","v":3.4682080924855488E-2},{"$f":"Churn!F185","v":4.7217537942664416E-2},{"$f":"Churn!G185","v":0.18113425925925927},{"$f":"Churn!H185","v":0.16329036218538981},{"$f":"Churn!I185","v":0.18753478018920422},{"$f":"Churn!J185","v":0.19954389965792474},{"$f":"Churn!K185","v":0.16201117318435754},{"$f":"Churn!L185","v":0.14956195244055068},{"$f":"Churn!M185","v":0.18414918414918416},{"$f":"Churn!N185","v":0.18655778894472361},{"$f":"Churn!O185","v":0.18955873213175886},{"$f":"Churn!P185","v":0.18029620090148099},{"$f":"Churn!Q185","v":0.19767441860465115},{"$f":"Churn!R185","v":0.19401041666666666},{"$f":"Churn!S185","v":0.17094017094017094},null,{"$f":"Churn!B249","v":0.15726495726495726},{"$f":"Churn!C249","v":0.12313003452243959},{"$f":"Churn!D249","v":0.13293051359516617},{"$f":"Churn!E249","v":0.13121387283236993},{"$f":"Churn!F249","v":0.15064643057897695},{"$f":"Churn!G249","v":0.24652777777777779},{"$f":"Churn!H249","v":0.24309392265193369},{"$f":"Churn!I249","v":0.26210350584307179},{"$f":"Churn!J249","v":0.2856328392246294},{"$f":"Churn!K249","v":0.20949720670391062},{"$f":"Churn!L249","v":0.21151439299123906},{"$f":"Churn!M249","v":0.24417249417249418},{"$f":"Churn!N249","v":0.28203517587939697},{"$f":"Churn!O249","v":0.26289620882535736},{"$f":"Churn!P249","v":0.24339987121699935},{"$f":"Churn!Q249","v":0.26621787025703797},{"$f":"Churn!R249","v":0.27864583333333331},{"$f":"Churn!S249","v":0.24786324786324787},null,{"$f":"Unemp!B57","v":0.19500000000000001},{"$f":"Unemp!C57","v":0.19},{"$f":"Unemp!D57","v":0.19},{"$f":"Unemp!E57","v":0.19},{"$f":"Unemp!F57","v":0.19},{"$f":"Unemp!$I57","v":0.17599999999999999},{"$f":"Unemp!$I57","v":0.17599999999999999},{"$f":"Unemp!$I57","v":0.17599999999999999},{"$f":"Unemp!$I57","v":0.17599999999999999},{"$f":"Unemp!J57","v":0.14599999999999999},{"$f":"Unemp!K57","v":0.14599999999999999},{"$f":"Unemp!L57","v":0.14599999999999999},{"$f":"Unemp!M57","v":0.14599999999999999},{"$f":"Unemp!N40","v":7.2999999999999995E-2},{"$f":"Unemp!O40","v":7.2999999999999995E-2},{"$f":"Unemp!P40","v":7.2999999999999995E-2},{"$f":"Unemp!Q40","v":7.2999999999999995E-2},{"$f":"Unemp!R40","v":0.06},{"$f":"Unemp!S40","v":0.06},{"$f":"Unemp!T40","v":0.06},{"$f":"Unemp!U40","v":0.06}]
["El Dorado",{"$f":"Participation!V15/Participation!V$6","v":2.9406797386937159E-3},"C-IV","Small",{"$f":"Participation!B15","v":11284},{"$f":"Participation!C15","v":11341},{"$f":"Participation!D15","v":11522},{"$f":"Participation!E15","v":11620},{"$f":"Participation!F15","v":11772},{"$f":"Participation!I15","v":11975},{"$f":"Participation!J15","v":11947},{"$f":"Participation!K15","v":11765},{"$f":"Participation!L15","v":11497},{"$f":"Participation!M15","v":11899},{"$f":"Participation!N15","v":12431},{"$f":"Participation!O15","v":12479},{"$f":"Participation!P15","v":12578},{"$f":"Participation!Q15","v":13063},{"$f":"Participation!R15","v":13261},{"$f":"Participation!S15","v":13278},{"$f":"Participation!T15","v":13063},{"$f":"Participation!U15","v":12975},{"$f":"Participation!V15","v":12850},null,null,null,4.4164580221575092E-3,null,-3.0993137772415354E-2,0.13878057426444523,-9.6339113680154135E-3,null,{"$f":"PRI!B14","v":0.47299999999999998},{"$f":"PRI!C14","v":0.435},{"$f":"PRI!F14","v":0.60599999999999998},{"$f":"PRI!G14","v":0.441},{"$f":"PRI!H14","v":0.45696364279304263},{"$f":"PRI!I14","v":0.65409556790410273},null,null,null,null,null,null,null,null,null,null,null,null,null,null,null,null,null,null,null,null,{"$f":"DD_Jun2016!J14","v":0.31143490332934254},null,null,null,null,null,null,null,null,null,null,null,null,null,null,null,null,null,null,null,null,{"$f":"DD_Jun2016!P14","v":0.92959245742092456},null,null,{"$f":"Timely!C271","v":12.7},{"$f":"Timely!D271","v":13.7},{"$f":"Timely!E271","v":12.7},{"$f":"Timely!F271","v":14},{"$f":"Timely!G271","v":13},{"$f":"Timely!H271","v":12.7},{"$f":"Timely!I271","v":14.3},{"$f":"Timely!J271","v":15},{"$f":"Timely!K271","v":17},{"$f":"Timely!L271","v":16.7},{"$f":"Timely!M271","v":14},{"$f":"Timely!N271","v":11},{"$f":"Timely!O271","v":11},{"$f":"Timely!P271","v":9.6999999999999993},{"$f":"Timely!Q271","v":8.3000000000000007},{"$f":"Timely!R271","v":9.6999999999999993},{"$f":"Timely!S271","v":10},{"$f":"Timely!T271","v":10},null,null,{"$f":"Timely!C79","v":0},{"$f":"Timely!D79","v":2.0000000000000018E-3},{"$f":"Timely!E79","v":0},{"$f":"Timely!F79","v":0},{"$f":"Timely!G79","v":0},{"$f":"Timely!J79","v":2.1000000000000019E-2},{"$f":"Timely!K79","v":8.0000000000000071E-3},{"$f":"Timely!L79","v":5.0000000000000044E-3},{"$f":"Timely!M79","v":1.2000000000000011E-2},{"$f":"Timely!N79","v":1.2000000000000011E-2},{"$f":"Timely!O79","v":1.2000000000000011E-2},{"$f":"Timely!P79","v":5.0000000000000044E-3},{"$f":"Timely!Q79","v":0},{"$f":"Timely!R79","v":0},{"$f":"Timely!S79","v":5.0000000000000044E-3},{"$f":"Timely!T79","v":0},{"$f":"Timely!U79","v":3.0000000000000027E-3},{"$f":"Timely!V79","v":0},{"$f":"Timely!W79","v":1.5000000000000013E-2},null,null,null,null,null,{"$f":"Timely!C206","v":7.3999999999999955E-2},{"$f":"Timely!D206","v":6.899999999999995E-2},{"$f":"Timely!E206","v":3.7000000000000033E-2},{"$f":"Timely!F206","v":4.1000000000000036E-2},{"$f":"Timely!G206","v":2.7000000000000024E-2},{"$f":"Timely!J206","v":1.2000000000000011E-2},{"$f":"Timely!K206","v":3.6000000000000032E-2},{"$f":"Timely!L206","v":2.300000000000002E-2},{"$f":"Timely!M206","v":0.122},{"$f":"Timely!N206","v":0.21199999999999997},{"$f":"Timely!O206","v":0.17500000000000004},{"$f":"Timely!P206","v":4.6000000000000041E-2},{"$f":"Timely!Q206","v":5.7000000000000051E-2},{"$f":"Timely!R206","v":3.9000000000000035E-2},{"$f":"Timely!S206","v":5.1000000000000045E-2},{"$f":"Timely!T206","v":5.4000000000000048E-2},{"$f":"Timely!U206","v":3.8000000000000034E-2},{"$f":"Timely!V206","v":4.4000000000000039E-2},{"$f":"Timely!W206","v":1.4000000000000012E-2},null,null,null,null,{"$f":"Churn!B14","v":0.49918166939443537},{"$f":"Churn!C14","v":0.31413881748071981},{"$f":"Churn!D14","v":0.30479628674574522},{"$f":"Churn!E14","v":0.31443037974683546},{"$f":"Churn!F14","v":0.32609768130241734},{"$f":"Churn!G14","v":0.4855256475368207},{"$f":"Churn!H14","v":0.4689655172413793},{"$f":"Churn!I14","v":0.5244423350735643},{"$f":"Churn!J14","v":0.50505050505050508},{"$f":"Churn!K14","v":0.45747236905333977},{"$f":"Churn!L14","v":0.48628884826325414},{"$f":"Churn!M14","v":0.45002414292612264},{"$f":"Churn!N14","v":0.47669104204753199},{"$f":"Churn!O14","v":0.45845136921624174},{"$f":"Churn!P14","v":0.45575642245480497},{"$f":"Churn!Q14","v":0.45474810521622827},{"$f":"Churn!R14","v":0.47765598650927488},{"$f":"Churn!S14","v":0.4743362831858407},null,{"$f":"Churn!B105","v":0.92622950819672134},{"$f":"Churn!C105","v":0.64593301435406703},{"$f":"Churn!D105","v":0.67532467532467533},{"$f":"Churn!E105","v":0.73285198555956677},{"$f":"Churn!F105","v":0.71052631578947367},{"$f":"Churn!G105","v":0.38157894736842107},{"$f":"Churn!H105","v":0.4},{"$f":"Churn!I105","v":0.5449438202247191},{"$f":"Churn!J105","v":0.53381642512077299},{"$f":"Churn!K105","v":0.61059190031152644},{"$f":"Churn!L105","v":0.60124610591900307},{"$f":"Churn!M105","v":0.79646017699115046},{"$f":"Churn!N105","v":0.96486486486486489},{"$f":"Churn!O105","v":0.78769230769230769},{"$f":"Churn!P105","v":0.60655737704918034},{"$f":"Churn!Q105","v":0.70200573065902583},{"$f":"Churn!R105","v":0.70023419203747073},{"$f":"Churn!S105","v":0.70096463022508038},null,{"$f":"Churn!B143","v":2.8041415012942193E-2},{"$f":"Churn!C143","v":2.4499795835034709E-2},{"$f":"Churn!D143","v":2.8466856445709638E-2},{"$f":"Churn!E143","v":3.2123487692949523E-2},{"$f":"Churn!F143","v":3.7505095801059929E-2},{"$f":"Churn!G143","v":0.14747899159663866},{"$f":"Churn!H143","v":0.13480288257736328},{"$f":"Churn!I143","v":0.12315875613747954},{"$f":"Churn!J143","v":0.1262854792266557},{"$f":"Churn!K143","v":0.1011426153195091},{"$f":"Churn!L143","v":0.10958230958230958},{"$f":"Churn!M143","v":0.11190476190476191},{"$f":"Churn!N143","v":0.11235955056179775},{"$f":"Churn!O143","v":0.12118274357731459},{"$f":"Churn!P143","v":0.13157894736842105},{"$f":"Churn!Q143","v":0.1272635814889336},{"$f":"Churn!R143","v":0.13387533875338753},{"$f":"Churn!S143","v":0.1180773249738767},null,{"$f":"Churn!B207","v":0.11302847282139776},{"$f":"Churn!C207","v":0.12004899959167006},{"$f":"Churn!D207","v":0.11508743391622611},{"$f":"Churn!E207","v":0.130997079682937},{"$f":"Churn!F207","v":0.12719119445576846},{"$f":"Churn!G207","v":0.22436974789915967},{"$f":"Churn!H207","v":0.21153030945315812},{"$f":"Churn!I207","v":0.20744680851063829},{"$f":"Churn!J207","v":0.21719457013574661},{"$f":"Churn!K207","v":0.16758358019466779},{"$f":"Churn!L207","v":0.1769041769041769},{"$f":"Churn!M207","v":0.19},{"$f":"Churn!N207","v":0.19296531509526135},{"$f":"Churn!O207","v":0.19389238972370335},{"$f":"Churn!P207","v":0.21826625386996903},{"$f":"Churn!Q207","v":0.20724346076458752},{"$f":"Churn!R207","v":0.23035230352303523},{"$f":"Churn!S207","v":0.19905956112852666},null,{"$f":"Unemp!B15","v":0.125},{"$f":"Unemp!C15","v":0.11899999999999999},{"$f":"Unemp!D15","v":0.11899999999999999},{"$f":"Unemp!E15","v":0.11899999999999999},{"$f":"Unemp!F15","v":0.11899999999999999},{"$f":"Unemp!$I15","v":0.104},{"$f":"Unemp!$I15","v":0.104},{"$f":"Unemp!$I15","v":0.104},{"$f":"Unemp!$I15","v":0.104},{"$f":"Unemp!J15","v":8.5000000000000006E-2},{"$f":"Unemp!K15","v":8.5000000000000006E-2},{"$f":"Unemp!L15","v":8.5000000000000006E-2},{"$f":"Unemp!M15","v":8.5000000000000006E-2},{"$f":"Unemp!N41","v":9.2999999999999999E-2},{"$f":"Unemp!O41","v":9.2999999999999999E-2},{"$f":"Unemp!P41","v":9.2999999999999999E-2},{"$f":"Unemp!Q41","v":9.2999999999999999E-2},{"$f":"Unemp!R41","v":7.5999999999999998E-2},{"$f":"Unemp!S41","v":7.5999999999999998E-2},{"$f":"Unemp!T41","v":7.5999999999999998E-2},{"$f":"Unemp!U41","v":7.5999999999999998E-2}]
["Mendocino",{"$f":"Participation!V29/Participation!V$6","v":2.9109296712983707E-3},"C-IV","Small",{"$f":"Participation!B29","v":13222},{"$f":"Participation!C29","v":13454},{"$f":"Participation!D29","v":13785},{"$f":"Participation!E29","v":13660},{"$f":"Participation!F29","v":13612},{"$f":"Participation!I29","v":13483},{"$f":"Participation!J29","v":13205},{"$f":"Participation!K29","v":13202},{"$f":"Participation!L29","v":13061},{"$f":"Participation!M29","v":13415},{"$f":"Participation!N29","v":14074},{"$f":"Participation!O29","v":14007},{"$f":"Participation!P29","v":13591},{"$f":"Participation!Q29","v":13178},{"$f":"Participation!R29","v":13008},{"$f":"Participation!S29","v":13204},{"$f":"Participation!T29","v":13395},{"$f":"Participation!U29","v":13099},{"$f":"Participation!V29","v":12720},null,null,null,3.0947443074972329E-3,null,-2.2140221402214021E-2,-3.796702465587657E-2,-2.8933506374532406E-2,null,{"$f":"PRI!B28","v":0.52},{"$f":"PRI!C28","v":0.61099999999999999},{"$f":"PRI!F28","v":0.68700000000000006},{"$f":"PRI!G28","v":0.58799999999999997},{"$f":"PRI!H28","v":0.69491422244138812},{"$f":"PRI!I28","v":0.68801460976166073},null,null,null,null,null,null,null,null,null,null,null,null,null,null,null,null,null,null,null,null,{"$f":"DD_Jun2016!J28","v":0.28717276260946939},null,null,null,null,null,null,null,null,null,null,null,null,null,null,null,null,null,null,null,null,{"$f":"DD_Jun2016!P28","v":0.94724646636286403},null,null,{"$f":"Timely!C285","v":7.7},{"$f":"Timely!D285","v":10},{"$f":"Timely!E285","v":8},{"$f":"Timely!F285","v":10},{"$f":"Timely!G285","v":10},{"$f":"Timely!H285","v":10.7},{"$f":"Timely!I285","v":9.6999999999999993},{"$f":"Timely!J285","v":13.7},{"$f":"Timely!K285","v":12.7},{"$f":"Timely!L285","v":10},{"$f":"Timely!M285","v":8.3000000000000007},{"$f":"Timely!N285","v":10.3},{"$f":"Timely!O285","v":10.7},{"$f":"Timely!P285","v":14},{"$f":"Timely!Q285","v":12.3},{"$f":"Timely!R285","v":9.3000000000000007},{"$f":"Timely!S285","v":10.7},{"$f":"Timely!T285","v":10.7},null,null,{"$f":"Timely!C93","v":2.0000000000000018E-3},{"$f":"Timely!D93","v":8.0000000000000071E-3},{"$f":"Timely!E93","v":6.0000000000000053E-3},{"$f":"Timely!F93","v":9.000000000000008E-3},{"$f":"Timely!G93","v":6.0000000000000053E-3},{"$f":"Timely!J93","v":6.0000000000000053E-3},{"$f":"Timely!K93","v":0},{"$f":"Timely!L93","v":4.0000000000000036E-3},{"$f":"Timely!M93","v":9.000000000000008E-3},{"$f":"Timely!N93","v":6.0000000000000053E-3},{"$f":"Timely!O93","v":3.0000000000000027E-3},{"$f":"Timely!P93","v":5.0000000000000044E-3},{"$f":"Timely!Q93","v":1.9000000000000017E-2},{"$f":"Timely!R93","v":1.3000000000000012E-2},{"$f":"Timely!S93","v":0},{"$f":"Timely!T93","v":5.0000000000000044E-3},{"$f":"Timely!U93","v":9.000000000000008E-3},{"$f":"Timely!V93","v":3.0000000000000027E-3},{"$f":"Timely!W93","v":6.9999999999999951E-2},null,null,null,null,null,{"$f":"Timely!C220","v":7.0000000000000062E-3},{"$f":"Timely!D220","v":5.0000000000000044E-3},{"$f":"Timely!E220","v":2.0000000000000018E-3},{"$f":"Timely!F220","v":1.3000000000000012E-2},{"$f":"Timely!G220","v":9.000000000000008E-3},{"$f":"Timely!J220","v":1.100000000000001E-2},{"$f":"Timely!K220","v":1.100000000000001E-2},{"$f":"Timely!L220","v":5.0000000000000044E-3},{"$f":"Timely!M220","v":6.0000000000000053E-3},{"$f":"Timely!N220","v":4.500000000000004E-2},{"$f":"Timely!O220","v":2.0000000000000018E-2},{"$f":"Timely!P220","v":3.5000000000000031E-2},{"$f":"Timely!Q220","v":3.5000000000000031E-2},{"$f":"Timely!R220","v":2.7000000000000024E-2},{"$f":"Timely!S220","v":2.8000000000000025E-2},{"$f":"Timely!T220","v":2.300000000000002E-2},{"$f":"Timely!U220","v":3.8000000000000034E-2},{"$f":"Timely!V220","v":4.3000000000000038E-2},{"$f":"Timely!W220","v":2.6000000000000023E-2},null,null,null,null,{"$f":"Churn!B28","v":0.29420505200594355},{"$f":"Churn!C28","v":0.3258373205741627},{"$f":"Churn!D28","v":0.31932367149758456},{"$f":"Churn!E28","v":0.35068093385214005},{"$f":"Churn!F28","v":0.40381355932203389},{"$f":"Churn!G28","v":0.44690073688773296},{"$f":"Churn!H28","v":0.45098039215686275},{"$f":"Churn!I28","v":0.44921677614957051},{"$f":"Churn!J28","v":0.39647377938517181},{"$f":"Churn!K28","v":0.22226547294667184},{"$f":"Churn!L28","v":0.40200286123032902},{"$f":"Churn!M28","v":0.49060542797494783},{"$f":"Churn!N28","v":0.44065353195579049},{"$f":"Churn!O28","v":0.50103348491112032},{"$f":"Churn!P28","v":0.47539417104634496},{"$f":"Churn!Q28","v":0.49331352154531949},{"$f":"Churn!R28","v":0.43320964749536178},{"$f":"Churn!S28","v":0.44213923467035499},null,{"$f":"Churn!B106","v":0.92272024729520863},{"$f":"Churn!C106","v":0.73641661966535066},{"$f":"Churn!D106","v":0.71787237466806153},{"$f":"Churn!E106","v":0.72536834019970675},{"$f":"Churn!F106","v":0.75364904313979886},{"$f":"Churn!G106","v":0.4602669617539249},{"$f":"Churn!H106","v":0.522380866317248},{"$f":"Churn!I106","v":0.5609120521172638},{"$f":"Churn!J106","v":0.76578474502757299},{"$f":"Churn!K106","v":0.80016765540366264},{"$f":"Churn!L106","v":0.75526392534266551},{"$f":"Churn!M106","v":0.7640117994100295},{"$f":"Churn!N106","v":0.76149790947100526},{"$f":"Churn!O106","v":0.72155485738926872},{"$f":"Churn!P106","v":0.71434965034965037},{"$f":"Churn!Q106","v":0.68078660643103905},{"$f":"Churn!R106","v":0.67925812489365323},{"$f":"Churn!S106","v":0.59846431797651312},null,{"$f":"Churn!B157","v":6.6298342541436461E-2},{"$f":"Churn!C157","v":4.1310541310541307E-2},{"$f":"Churn!D157","v":4.3456543456543456E-2},{"$f":"Churn!E157","v":3.3825631252977606E-2},{"$f":"Churn!F157","v":6.6522444564629524E-2},{"$f":"Churn!G157","v":0.21585244267198406},{"$f":"Churn!H157","v":0.1824468085106383},{"$f":"Churn!I157","v":0.15960099750623441},{"$f":"Churn!J157","v":0.1799265605875153},{"$f":"Churn!K157","v":0.10679611650485436},{"$f":"Churn!L157","v":0.10773480662983426},{"$f":"Churn!M157","v":0.13666072489601902},{"$f":"Churn!N157","v":0.17163684559310802},{"$f":"Churn!O157","v":0.15024937655860349},{"$f":"Churn!P157","v":0.15707821590174531},{"$f":"Churn!Q157","v":0.17562929061784896},{"$f":"Churn!R157","v":0.18419195483415668},{"$f":"Churn!S157","v":0.21376370280146162},null,{"$f":"Churn!B221","v":0.18432948267202412},{"$f":"Churn!C221","v":0.15622032288698956},{"$f":"Churn!D221","v":0.15284715284715283},{"$f":"Churn!E221","v":0.13244402096236302},{"$f":"Churn!F221","v":0.18983234180638184},{"$f":"Churn!G221","v":0.32203389830508472},{"$f":"Churn!H221","v":0.28617021276595744},{"$f":"Churn!I221","v":0.25735660847880298},{"$f":"Churn!J221","v":0.26988984088127294},{"$f":"Churn!K221","v":0.19053398058252427},{"$f":"Churn!L221","v":0.15676795580110497},{"$f":"Churn!M221","v":0.23232323232323232},{"$f":"Churn!N221","v":0.29158383035122598},{"$f":"Churn!O221","v":0.26807980049875313},{"$f":"Churn!P221","v":0.27343244990303811},{"$f":"Churn!Q221","v":0.28718535469107553},{"$f":"Churn!R221","v":0.29428369795342274},{"$f":"Churn!S221","v":0.32825822168087698},null,{"$f":"Unemp!B29","v":0.113},{"$f":"Unemp!C29","v":0.109},{"$f":"Unemp!D29","v":0.109},{"$f":"Unemp!E29","v":0.109},{"$f":"Unemp!F29","v":0.109},{"$f":"Unemp!$I29","v":9.7000000000000003E-2},{"$f":"Unemp!$I29","v":9.7000000000000003E-2},{"$f":"Unemp!$I29","v":9.7000000000000003E-2},{"$f":"Unemp!$I29","v":9.7000000000000003E-2},{"$f":"Unemp!J29","v":8.2000000000000003E-2},{"$f":"Unemp!K29","v":8.2000000000000003E-2},{"$f":"Unemp!L29","v":8.2000000000000003E-2},{"$f":"Unemp!M29","v":8.2000000000000003E-2},{"$f":"Unemp!N42","v":8.1000000000000003E-2},{"$f":"Unemp!O42","v":8.1000000000000003E-2},{"$f":"Unemp!P42","v":8.1000000000000003E-2},{"$f":"Unemp!Q42","v":8.1000000000000003E-2},{"$f":"Unemp!R42","v":6.5000000000000002E-2},{"$f":"Unemp!S42","v":6.5000000000000002E-2},{"$f":"Unemp!T42","v":6.5000000000000002E-2},{"$f":"Unemp!U42","v":6.5000000000000002E-2}]
["Lake",{"$f":"Participation!V23/Participation!V$6","v":2.8946815575670668E-3},"C-IV","Small",{"$f":"Participation!B23","v":9863},{"$f":"Participation!C23","v":9935},{"$f":"Participation!D23","v":10174},{"$f":"Participation!E23","v":10039},{"$f":"Participation!F23","v":10118},{"$f":"Participation!I23","v":10232},{"$f":"Participation!J23","v":10263},{"$f":"Participation!K23","v":10453},{"$f":"Participation!L23","v":10290},{"$f":"Participation!M23","v":10622},{"$f":"Participation!N23","v":10896},{"$f":"Participation!O23","v":11036},{"$f":"Participation!P23","v":11283},{"$f":"Participation!Q23","v":11629},{"$f":"Participation!R23","v":11957},{"$f":"Participation!S23","v":12127},{"$f":"Participation!T23","v":14694},{"$f":"Participation!U23","v":12618},{"$f":"Participation!V23","v":12649},null,null,null,-7.4359828499586294E-3,null,5.7874048674416659E-2,0.28246983676366216,2.4568077349817721E-3,null,{"$f":"PRI!B22","v":0.48499999999999999},{"$f":"PRI!C22","v":0.52},{"$f":"PRI!F22","v":0.52300000000000002},{"$f":"PRI!G22","v":0.59},{"$f":"PRI!H22","v":0.6317675039698486},{"$f":"PRI!I22","v":0.83474883738835326},null,null,null,null,null,null,null,null,null,null,null,null,null,null,null,null,null,null,null,null,{"$f":"DD_Jun2016!J22","v":0.37938677502770596},null,null,null,null,null,null,null,null,null,null,null,null,null,null,null,null,null,null,null,null,{"$f":"DD_Jun2016!P22","v":0.96288772560356273},null,null,{"$f":"Timely!C279","v":20.3},{"$f":"Timely!D279","v":23.3},{"$f":"Timely!E279","v":22},{"$f":"Timely!F279","v":23.3},{"$f":"Timely!G279","v":19.3},{"$f":"Timely!H279","v":25.3},{"$f":"Timely!I279","v":20},{"$f":"Timely!J279","v":24},{"$f":"Timely!K279","v":22.7},{"$f":"Timely!L279","v":27.7},{"$f":"Timely!M279","v":18.7},{"$f":"Timely!N279","v":15},{"$f":"Timely!O279","v":13.7},{"$f":"Timely!P279","v":12.3},{"$f":"Timely!Q279","v":12},{"$f":"Timely!R279","v":11.3},{"$f":"Timely!S279","v":9.6999999999999993},{"$f":"Timely!T279","v":11},null,null,{"$f":"Timely!C87","v":3.0000000000000027E-2},{"$f":"Timely!D87","v":5.3000000000000047E-2},{"$f":"Timely!E87","v":2.1000000000000019E-2},{"$f":"Timely!F87","v":4.500000000000004E-2},{"$f":"Timely!G87","v":1.7000000000000015E-2},{"$f":"Timely!J87","v":5.9000000000000052E-2},{"$f":"Timely!K87","v":3.9000000000000035E-2},{"$f":"Timely!L87","v":5.3000000000000047E-2},{"$f":"Timely!M87","v":0.23499999999999999},{"$f":"Timely!N87","v":0.13500000000000001},{"$f":"Timely!O87","v":0.127},{"$f":"Timely!P87","v":0.11699999999999999},{"$f":"Timely!Q87","v":4.9000000000000044E-2},{"$f":"Timely!R87","v":2.5000000000000022E-2},{"$f":"Timely!S87","v":2.0000000000000018E-2},{"$f":"Timely!T87","v":1.0000000000000009E-2},{"$f":"Timely!U87","v":1.100000000000001E-2},{"$f":"Timely!V87","v":2.9000000000000026E-2},{"$f":"Timely!W87","v":4.7000000000000042E-2},null,null,null,null,null,{"$f":"Timely!C214","v":2.9000000000000026E-2},{"$f":"Timely!D214","v":3.1000000000000028E-2},{"$f":"Timely!E214","v":6.4999999999999947E-2},{"$f":"Timely!F214","v":6.0000000000000053E-2},{"$f":"Timely!G214","v":4.500000000000004E-2},{"$f":"Timely!J214","v":4.8000000000000043E-2},{"$f":"Timely!K214","v":4.8000000000000043E-2},{"$f":"Timely!L214","v":0.128},{"$f":"Timely!M214","v":9.6999999999999975E-2},{"$f":"Timely!N214","v":0.14500000000000002},{"$f":"Timely!O214","v":0.18400000000000005},{"$f":"Timely!P214","v":0.10999999999999999},{"$f":"Timely!Q214","v":7.6999999999999957E-2},{"$f":"Timely!R214","v":5.4000000000000048E-2},{"$f":"Timely!S214","v":4.3000000000000038E-2},{"$f":"Timely!T214","v":5.5000000000000049E-2},{"$f":"Timely!U214","v":7.8999999999999959E-2},{"$f":"Timely!V214","v":6.899999999999995E-2},{"$f":"Timely!W214","v":6.5999999999999948E-2},null,null,null,null,{"$f":"Churn!B22","v":0.53618906942392908},{"$f":"Churn!C22","v":0.42747559274755925},{"$f":"Churn!D22","v":0.41603317208016588},{"$f":"Churn!E22","v":0.43156516044531762},{"$f":"Churn!F22","v":0.35815147625160459},{"$f":"Churn!G22","v":0.39600000000000002},{"$f":"Churn!H22","v":0.35485854858548588},{"$f":"Churn!I22","v":0.37439903846153844},{"$f":"Churn!J22","v":0.36015981735159819},{"$f":"Churn!K22","v":0.34357713583282112},{"$f":"Churn!L22","v":0.39380804953560372},{"$f":"Churn!M22","v":0.36445589182227944},{"$f":"Churn!N22","v":0.38069544364508395},{"$f":"Churn!O22","v":0.35404896421845572},{"$f":"Churn!P22","v":0.36914765906362546},{"$f":"Churn!Q22","v":0.39988845510317905},{"$f":"Churn!R22","v":0.39885297184567259},{"$f":"Churn!S22","v":0.40331491712707185},null,{"$f":"Churn!B107","v":0.92459504747719234},{"$f":"Churn!C107","v":0.90793595544726768},{"$f":"Churn!D107","v":0.91927749360613809},{"$f":"Churn!E107","v":0.9033280507131537},{"$f":"Churn!F107","v":0.90330477356181149},{"$f":"Churn!G107","v":0.85188249896565993},{"$f":"Churn!H107","v":0.90071725179312945},{"$f":"Churn!I107","v":0.7757246376811594},{"$f":"Churn!J107","v":0.79145391023918299},{"$f":"Churn!K107","v":0.71982378854625551},{"$f":"Churn!L107","v":0.71982378854625551},{"$f":"Churn!M107","v":0.80452708164915121},{"$f":"Churn!N107","v":0.75942496699427897},{"$f":"Churn!O107","v":0.6686427457098284},{"$f":"Churn!P107","v":0.67978612802613991},{"$f":"Churn!Q107","v":0.60328210471476951},{"$f":"Churn!R107","v":0.66219659380447904},{"$f":"Churn!S107","v":0.63166978282755648},null,{"$f":"Churn!B151","v":1.8664752333094042E-2},{"$f":"Churn!C151","v":1.8806744487678339E-2},{"$f":"Churn!D151","v":1.758957654723127E-2},{"$f":"Churn!E151","v":1.5257469802924348E-2},{"$f":"Churn!F151","v":1.8978102189781021E-2},{"$f":"Churn!G151","v":0.10647181628392484},{"$f":"Churn!H151","v":0.11125827814569536},{"$f":"Churn!I151","v":0.10588972431077694},{"$f":"Churn!J151","v":0.1044776119402985},{"$f":"Churn!K151","v":6.6127847171197643E-2},{"$f":"Churn!L151","v":5.5905511811023621E-2},{"$f":"Churn!M151","v":6.5741417092768442E-2},{"$f":"Churn!N151","v":6.9538926681783825E-2},{"$f":"Churn!O151","v":6.3514467184191958E-2},{"$f":"Churn!P151","v":7.8906249999999997E-2},{"$f":"Churn!Q151","v":5.7192374350086658E-2},{"$f":"Churn!R151","v":6.7579908675799091E-2},{"$f":"Churn!S151","v":8.027522935779817E-2},null,{"$f":"Churn!B215","v":8.82986360373295E-2},{"$f":"Churn!C215","v":9.4682230869001294E-2},{"$f":"Churn!D215","v":7.6221498371335503E-2},{"$f":"Churn!E215","v":8.2644628099173556E-2},{"$f":"Churn!F215","v":9.7080291970802923E-2},{"$f":"Churn!G215","v":0.17536534446764093},{"$f":"Churn!H215","v":0.17152317880794701},{"$f":"Churn!I215","v":0.17293233082706766},{"$f":"Churn!J215","v":0.17611940298507461},{"$f":"Churn!K215","v":0.112417340191036},{"$f":"Churn!L215","v":0.11653543307086614},{"$f":"Churn!M215","v":0.13659605551497445},{"$f":"Churn!N215","v":0.14814814814814814},{"$f":"Churn!O215","v":0.1305575158786168},{"$f":"Churn!P215","v":0.15234375},{"$f":"Churn!Q215","v":0.11842865395725015},{"$f":"Churn!R215","v":0.13698630136986301},{"$f":"Churn!S215","v":0.1743119266055046},null,{"$f":"Unemp!B23","v":0.17699999999999999},{"$f":"Unemp!C23","v":0.16800000000000001},{"$f":"Unemp!D23","v":0.16800000000000001},{"$f":"Unemp!E23","v":0.16800000000000001},{"$f":"Unemp!F23","v":0.16800000000000001},{"$f":"Unemp!$I23","v":0.15},{"$f":"Unemp!$I23","v":0.15},{"$f":"Unemp!$I23","v":0.15},{"$f":"Unemp!$I23","v":0.15},{"$f":"Unemp!J23","v":0.108},{"$f":"Unemp!K23","v":0.108},{"$f":"Unemp!L23","v":0.108},{"$f":"Unemp!M23","v":0.108},{"$f":"Unemp!N43","v":6.4000000000000001E-2},{"$f":"Unemp!O43","v":6.4000000000000001E-2},{"$f":"Unemp!P43","v":6.4000000000000001E-2},{"$f":"Unemp!Q43","v":6.4000000000000001E-2},{"$f":"Unemp!R43","v":5.1999999999999998E-2},{"$f":"Unemp!S43","v":5.1999999999999998E-2},{"$f":"Unemp!T43","v":5.1999999999999998E-2},{"$f":"Unemp!U43","v":5.1999999999999998E-2}]
["Marin",{"$f":"Participation!V27/Participation!V$6","v":2.3687919046862763E-3},"C-IV","Small",{"$f":"Participation!B27","v":8995},{"$f":"Participation!C27","v":8957},{"$f":"Participation!D27","v":9221},{"$f":"Participation!E27","v":9408},{"$f":"Participation!F27","v":9538},{"$f":"Participation!I27","v":9420},{"$f":"Participation!J27","v":9542},{"$f":"Participation!K27","v":9774},{"$f":"Participation!L27","v":9846},{"$f":"Participation!M27","v":9998},{"$f":"Participation!N27","v":10224},{"$f":"Participation!O27","v":10397},{"$f":"Participation!P27","v":10475},{"$f":"Participation!Q27","v":10403},{"$f":"Participation!R27","v":10485},{"$f":"Participation!S27","v":10687},{"$f":"Participation!T27","v":10717},{"$f":"Participation!U27","v":10420},{"$f":"Participation!V27","v":10351},null,null,null,1.4399157541827403E-3,null,-1.2780162136385312E-2,0.15075041689827681,-6.6218809980806139E-3,null,{"$f":"PRI!B26","v":0.307},{"$f":"PRI!C26","v":0.311},{"$f":"PRI!F26","v":0.46300000000000002},{"$f":"PRI!G26","v":0.42},{"$f":"PRI!H26","v":0.45416962715835596},{"$f":"PRI!I26","v":0.44650733867359088},null,null,null,null,null,null,null,null,null,null,null,null,null,null,null,null,null,null,null,null,{"$f":"DD_Jun2016!J26","v":0.21679734161544642},null,null,null,null,null,null,null,null,null,null,null,null,null,null,null,null,null,null,null,null,{"$f":"DD_Jun2016!P26","v":0.94840855106888367},null,null,{"$f":"Timely!C283","v":15},{"$f":"Timely!D283","v":16.7},{"$f":"Timely!E283","v":18.7},{"$f":"Timely!F283","v":19.3},{"$f":"Timely!G283","v":16.3},{"$f":"Timely!H283","v":17.7},{"$f":"Timely!I283","v":16},{"$f":"Timely!J283","v":16.3},{"$f":"Timely!K283","v":14.7},{"$f":"Timely!L283","v":14.7},{"$f":"Timely!M283","v":12.3},{"$f":"Timely!N283","v":12},{"$f":"Timely!O283","v":12.7},{"$f":"Timely!P283","v":12.7},{"$f":"Timely!Q283","v":12},{"$f":"Timely!R283","v":10.3},{"$f":"Timely!S283","v":8.6999999999999993},{"$f":"Timely!T283","v":10.7},null,null,{"$f":"Timely!C91","v":3.0000000000000027E-3},{"$f":"Timely!D91","v":2.5000000000000022E-2},{"$f":"Timely!E91","v":3.2000000000000028E-2},{"$f":"Timely!F91","v":6.0000000000000053E-3},{"$f":"Timely!G91","v":2.9000000000000026E-2},{"$f":"Timely!J91","v":5.5000000000000049E-2},{"$f":"Timely!K91","v":4.9000000000000044E-2},{"$f":"Timely!L91","v":2.4000000000000021E-2},{"$f":"Timely!M91","v":6.2000000000000055E-2},{"$f":"Timely!N91","v":5.3000000000000047E-2},{"$f":"Timely!O91","v":4.0000000000000036E-2},{"$f":"Timely!P91","v":2.200000000000002E-2},{"$f":"Timely!Q91","v":3.1000000000000028E-2},{"$f":"Timely!R91","v":1.8000000000000016E-2},{"$f":"Timely!S91","v":3.1000000000000028E-2},{"$f":"Timely!T91","v":6.0000000000000053E-3},{"$f":"Timely!U91","v":0},{"$f":"Timely!V91","v":7.0000000000000062E-3},{"$f":"Timely!W91","v":1.4000000000000012E-2},null,null,null,null,null,{"$f":"Timely!C218","v":2.5000000000000022E-2},{"$f":"Timely!D218","v":8.2999999999999963E-2},{"$f":"Timely!E218","v":6.0000000000000053E-2},{"$f":"Timely!F218","v":5.600000000000005E-2},{"$f":"Timely!G218","v":5.4000000000000048E-2},{"$f":"Timely!J218","v":6.6999999999999948E-2},{"$f":"Timely!K218","v":4.9000000000000044E-2},{"$f":"Timely!L218","v":4.6000000000000041E-2},{"$f":"Timely!M218","v":5.1000000000000045E-2},{"$f":"Timely!N218","v":9.8999999999999977E-2},{"$f":"Timely!O218","v":6.9999999999999951E-2},{"$f":"Timely!P218","v":7.3999999999999955E-2},{"$f":"Timely!Q218","v":6.0000000000000053E-2},{"$f":"Timely!R218","v":6.899999999999995E-2},{"$f":"Timely!S218","v":7.8999999999999959E-2},{"$f":"Timely!T218","v":6.7999999999999949E-2},{"$f":"Timely!U218","v":4.0000000000000036E-2},{"$f":"Timely!V218","v":7.5999999999999956E-2},{"$f":"Timely!W218","v":6.7999999999999949E-2},null,null,null,null,{"$f":"Churn!B26","v":0.20512820512820512},{"$f":"Churn!C26","v":0.2922794117647059},{"$f":"Churn!D26","v":0.28983688833124216},{"$f":"Churn!E26","v":0.30996309963099633},{"$f":"Churn!F26","v":0.2980884109916368},{"$f":"Churn!G26","v":0.39140670982931136},{"$f":"Churn!H26","v":0.37873563218390804},{"$f":"Churn!I26","v":0.3842925659472422},{"$f":"Churn!J26","v":0.39354066985645936},{"$f":"Churn!K26","v":0.36201298701298701},{"$f":"Churn!L26","v":0.40916530278232405},{"$f":"Churn!M26","v":0.39427570093457942},{"$f":"Churn!N26","v":0.40780365009439901},{"$f":"Churn!O26","v":0.4020918070889018},{"$f":"Churn!P26","v":0.42549575070821527},{"$f":"Churn!Q26","v":0.42490442381212451},{"$f":"Churn!R26","v":0.44523548740416208},{"$f":"Churn!S26","v":0.41199606686332352},null,{"$f":"Churn!B108","v":0.64275256222547583},{"$f":"Churn!C108","v":0.62944870900209349},{"$f":"Churn!D108","v":0.62323707186030897},{"$f":"Churn!E108","v":0.55568934376881396},{"$f":"Churn!F108","v":0.63283775048480928},{"$f":"Churn!G108","v":0.64971751412429379},{"$f":"Churn!H108","v":0.68726823238566126},{"$f":"Churn!I108","v":0.55388180764774042},{"$f":"Churn!J108","v":0.63218390804597702},{"$f":"Churn!K108","v":0.62920738327904446},{"$f":"Churn!L108","v":0.62920738327904446},{"$f":"Churn!M108","v":0.6551528878822197},{"$f":"Churn!N108","v":0.69061085972850678},{"$f":"Churn!O108","v":0.66240681576144833},{"$f":"Churn!P108","v":0.6215454032712916},{"$f":"Churn!Q108","v":0.57360130363932649},{"$f":"Churn!R108","v":0.63013698630136983},{"$f":"Churn!S108","v":0.59244863964464189},null,{"$f":"Churn!B155","v":6.8728522336769765E-2},{"$f":"Churn!C155","v":4.9147442326980942E-2},{"$f":"Churn!D155","v":4.6842105263157893E-2},{"$f":"Churn!E155","v":3.7097654118930713E-2},{"$f":"Churn!F155","v":4.1042345276872963E-2},{"$f":"Churn!G155","v":0.16224814422057265},{"$f":"Churn!H155","v":0.13230950974601299},{"$f":"Churn!I155","v":0.14246119733924612},{"$f":"Churn!J155","v":0.14048606994665086},{"$f":"Churn!K155","v":0.14726027397260275},{"$f":"Churn!L155","v":0.1334716459197787},{"$f":"Churn!M155","v":0.13917525773195877},{"$f":"Churn!N155","v":0.14642609299097847},{"$f":"Churn!O155","v":0.17944147355912063},{"$f":"Churn!P155","v":0.1807379612257661},{"$f":"Churn!Q155","v":0.16553006819590824},{"$f":"Churn!R155","v":0.1646471846044191},{"$f":"Churn!S155","v":0.1864406779661017},null,{"$f":"Churn!B219","v":0.13917525773195877},{"$f":"Churn!C219","v":0.13490471414242727},{"$f":"Churn!D219","v":0.12473684210526316},{"$f":"Churn!E219","v":0.11783960720130933},{"$f":"Churn!F219","v":0.11530944625407166},{"$f":"Churn!G219","v":0.22163308589607636},{"$f":"Churn!H219","v":0.1984642646190195},{"$f":"Churn!I219","v":0.21286031042128603},{"$f":"Churn!J219","v":0.2021339656194428},{"$f":"Churn!K219","v":0.2117579908675799},{"$f":"Churn!L219","v":0.20262793914246197},{"$f":"Churn!M219","v":0.20747422680412372},{"$f":"Churn!N219","v":0.22623178348369188},{"$f":"Churn!O219","v":0.24777183600713013},{"$f":"Churn!P219","v":0.25953721075672292},{"$f":"Churn!Q219","v":0.24550526968381897},{"$f":"Churn!R219","v":0.25659301496792586},{"$f":"Churn!S219","v":0.27809165097300692},null,{"$f":"Unemp!B27","v":0.08},{"$f":"Unemp!C27","v":7.3999999999999996E-2},{"$f":"Unemp!D27","v":7.3999999999999996E-2},{"$f":"Unemp!E27","v":7.3999999999999996E-2},{"$f":"Unemp!F27","v":7.3999999999999996E-2},{"$f":"Unemp!$I27","v":6.3E-2},{"$f":"Unemp!$I27","v":6.3E-2},{"$f":"Unemp!$I27","v":6.3E-2},{"$f":"Unemp!$I27","v":6.3E-2},{"$f":"Unemp!J27","v":5.1999999999999998E-2},{"$f":"Unemp!K27","v":5.1999999999999998E-2},{"$f":"Unemp!L27","v":5.1999999999999998E-2},{"$f":"Unemp!M27","v":5.1999999999999998E-2},{"$f":"Unemp!N44","v":4.3999999999999997E-2},{"$f":"Unemp!O44","v":4.3999999999999997E-2},{"$f":"Unemp!P44","v":4.3999999999999997E-2},{"$f":"Unemp!Q44","v":4.3999999999999997E-2},{"$f":"Unemp!R44","v":3.5999999999999997E-2},{"$f":"Unemp!S44","v":3.5999999999999997E-2},{"$f":"Unemp!T44","v":3.5999999999999997E-2},{"$f":"Unemp!U44","v":3.5999999999999997E-2}]
["Tehama",{"$f":"Participation!V58/Participation!V$6","v":2.3333206704841342E-3},"C-IV","Small",{"$f":"Participation!B58","v":9262},{"$f":"Participation!C58","v":9410},{"$f":"Participation!D58","v":9592},{"$f":"Participation!E58","v":9899},{"$f":"Participation!F58","v":9693},{"$f":"Participation!I58","v":9737},{"$f":"Participation!J58","v":9682},{"$f":"Participation!K58","v":9916},{"$f":"Participation!L58","v":10181},{"$f":"Participation!M58","v":10409},{"$f":"Participation!N58","v":10963},{"$f":"Participation!O58","v":11155},{"$f":"Participation!P58","v":10646},{"$f":"Participation!Q58","v":10255},{"$f":"Participation!R58","v":10371},{"$f":"Participation!S58","v":10543},{"$f":"Participation!T58","v":10600},{"$f":"Participation!U58","v":10136},{"$f":"Participation!V58","v":10196},null,null,null,1.8804869924028324E-3,null,-1.6873975508629832E-2,0.10084215072338588,5.9194948697711127E-3,null,{"$f":"PRI!B57","v":0.63100000000000001},{"$f":"PRI!C57","v":0.629},{"$f":"PRI!F57","v":0.66600000000000004},{"$f":"PRI!G57","v":0.69199999999999995},{"$f":"PRI!H57","v":0.76327104213104657},{"$f":"PRI!I57","v":0.69554949293710311},null,null,null,null,null,null,null,null,null,null,null,null,null,null,null,null,null,null,null,null,{"$f":"DD_Jun2016!J57","v":0.35921985815602836},null,null,null,null,null,null,null,null,null,null,null,null,null,null,null,null,null,null,null,null,{"$f":"DD_Jun2016!P57","v":0.96863645056416137},null,null,{"$f":"Timely!C314","v":24},{"$f":"Timely!D314","v":23},{"$f":"Timely!E314","v":20.7},{"$f":"Timely!F314","v":18.3},{"$f":"Timely!G314","v":17.7},{"$f":"Timely!H314","v":16.3},{"$f":"Timely!I314","v":17.3},{"$f":"Timely!J314","v":19.3},{"$f":"Timely!K314","v":12.7},{"$f":"Timely!L314","v":17.7},{"$f":"Timely!M314","v":14.7},{"$f":"Timely!N314","v":14.3},{"$f":"Timely!O314","v":13.7},{"$f":"Timely!P314","v":13.7},{"$f":"Timely!Q314","v":13.3},{"$f":"Timely!R314","v":14},{"$f":"Timely!S314","v":13.3},{"$f":"Timely!T314","v":14.3},null,null,{"$f":"Timely!C122","v":0.13800000000000001},{"$f":"Timely!D122","v":0.10599999999999998},{"$f":"Timely!E122","v":0.10299999999999998},{"$f":"Timely!F122","v":8.6999999999999966E-2},{"$f":"Timely!G122","v":6.5999999999999948E-2},{"$f":"Timely!J122","v":3.9000000000000035E-2},{"$f":"Timely!K122","v":4.7000000000000042E-2},{"$f":"Timely!L122","v":5.7000000000000051E-2},{"$f":"Timely!M122","v":8.2999999999999963E-2},{"$f":"Timely!N122","v":3.3000000000000029E-2},{"$f":"Timely!O122","v":5.600000000000005E-2},{"$f":"Timely!P122","v":6.3999999999999946E-2},{"$f":"Timely!Q122","v":3.0000000000000027E-2},{"$f":"Timely!R122","v":2.1000000000000019E-2},{"$f":"Timely!S122","v":3.5000000000000031E-2},{"$f":"Timely!T122","v":4.500000000000004E-2},{"$f":"Timely!U122","v":2.5000000000000022E-2},{"$f":"Timely!V122","v":4.8000000000000043E-2},{"$f":"Timely!W122","v":2.300000000000002E-2},null,null,null,null,null,{"$f":"Timely!C249","v":3.0000000000000027E-3},{"$f":"Timely!D249","v":5.0000000000000044E-3},{"$f":"Timely!E249","v":9.000000000000008E-3},{"$f":"Timely!F249","v":2.0000000000000018E-3},{"$f":"Timely!G249","v":1.2000000000000011E-2},{"$f":"Timely!J249","v":1.0000000000000009E-2},{"$f":"Timely!K249","v":1.2000000000000011E-2},{"$f":"Timely!L249","v":1.8000000000000016E-2},{"$f":"Timely!M249","v":8.0000000000000071E-3},{"$f":"Timely!N249","v":8.9999999999999969E-2},{"$f":"Timely!O249","v":7.7999999999999958E-2},{"$f":"Timely!P249","v":6.7999999999999949E-2},{"$f":"Timely!Q249","v":5.2000000000000046E-2},{"$f":"Timely!R249","v":4.1000000000000036E-2},{"$f":"Timely!S249","v":2.6000000000000023E-2},{"$f":"Timely!T249","v":2.300000000000002E-2},{"$f":"Timely!U249","v":4.1000000000000036E-2},{"$f":"Timely!V249","v":3.1000000000000028E-2},{"$f":"Timely!W249","v":4.6000000000000041E-2},null,null,null,null,{"$f":"Churn!B57","v":0.3780718336483932},{"$f":"Churn!C57","v":0.24979789814066289},{"$f":"Churn!D57","v":0.26792452830188679},{"$f":"Churn!E57","v":0.28773234200743497},{"$f":"Churn!F57","v":0.32461103253182461},{"$f":"Churn!G57","v":0.42175856929955291},{"$f":"Churn!H57","v":0.38133333333333336},{"$f":"Churn!I57","v":0.35202492211838005},{"$f":"Churn!J57","v":0.40143003064351379},{"$f":"Churn!K57","v":0.39000960614793467},{"$f":"Churn!L57","v":0.37053910402429763},{"$f":"Churn!M57","v":0.41466854724964741},{"$f":"Churn!N57","v":0.45733578882750153},{"$f":"Churn!O57","v":0.43710292249047011},{"$f":"Churn!P57","v":0.45816503173687245},{"$f":"Churn!Q57","v":0.42919389978213507},{"$f":"Churn!R57","v":0.43084050297816018},{"$f":"Churn!S57","v":0.43096774193548387},null,{"$f":"Churn!B109","v":0.88774403470715835},{"$f":"Churn!C109","v":0.70069686411149823},{"$f":"Churn!D109","v":0.66889856042852358},{"$f":"Churn!E109","v":0.65569314406523704},{"$f":"Churn!F109","v":0.68730259001895133},{"$f":"Churn!G109","v":0.45281543274244002},{"$f":"Churn!H109","v":0.47543500511770725},{"$f":"Churn!I109","v":0.4745136665845851},{"$f":"Churn!J109","v":0.55190042231607028},{"$f":"Churn!K109","v":0.67894990366088637},{"$f":"Churn!L109","v":0.68468066100937919},{"$f":"Churn!M109","v":0.74000462214005081},{"$f":"Churn!N109","v":0.71056873129173381},{"$f":"Churn!O109","v":0.63706041478809738},{"$f":"Churn!P109","v":0.60008618832148242},{"$f":"Churn!Q109","v":0.62232197510712095},{"$f":"Churn!R109","v":0.58367346938775511},{"$f":"Churn!S109","v":0.59316646801748107},null,{"$f":"Churn!B186","v":5.1498847040737893E-2},{"$f":"Churn!C186","v":4.2134831460674156E-2},{"$f":"Churn!D186","v":4.8714479025710418E-2},{"$f":"Churn!E186","v":5.8536585365853662E-2},{"$f":"Churn!F186","v":9.9563953488372089E-2},{"$f":"Churn!G186","v":0.18194945848375452},{"$f":"Churn!H186","v":0.1471004243281471},{"$f":"Churn!I186","v":0.14013521819299324},{"$f":"Churn!J186","v":0.12293144208037825},{"$f":"Churn!K186","v":0.11589895988112928},{"$f":"Churn!L186","v":0.1133122028526149},{"$f":"Churn!M186","v":0.11249030256012413},{"$f":"Churn!N186","v":0.14632107023411373},{"$f":"Churn!O186","v":0.14781297134238311},{"$f":"Churn!P186","v":0.13842662632375188},{"$f":"Churn!Q186","v":0.15065334358186011},{"$f":"Churn!R186","v":0.16711349419124219},{"$f":"Churn!S186","v":0.15},null,{"$f":"Churn!B250","v":0.14604150653343581},{"$f":"Churn!C250","v":0.11587078651685394},{"$f":"Churn!D250","v":0.12381596752368065},{"$f":"Churn!E250","v":0.12613240418118468},{"$f":"Churn!F250","v":0.20857558139534885},{"$f":"Churn!G250","v":0.25270758122743681},{"$f":"Churn!H250","v":0.20721357850070721},{"$f":"Churn!I250","v":0.20651505838967424},{"$f":"Churn!J250","v":0.19385342789598109},{"$f":"Churn!K250","v":0.16344725111441308},{"$f":"Churn!L250","v":0.17115689381933438},{"$f":"Churn!M250","v":0.16989914662529093},{"$f":"Churn!N250","v":0.23662207357859533},{"$f":"Churn!O250","v":0.24057315233785823},{"$f":"Churn!P250","v":0.21104387291981846},{"$f":"Churn!Q250","v":0.23597232897770945},{"$f":"Churn!R250","v":0.26005361930294907},{"$f":"Churn!S250","v":0.24918032786885247},null,{"$f":"Unemp!B58","v":0.156},{"$f":"Unemp!C58","v":0.15},{"$f":"Unemp!D58","v":0.15},{"$f":"Unemp!E58","v":0.15},{"$f":"Unemp!F58","v":0.15},{"$f":"Unemp!$I58","v":0.13900000000000001},{"$f":"Unemp!$I58","v":0.13900000000000001},{"$f":"Unemp!$I58","v":0.13900000000000001},{"$f":"Unemp!$I58","v":0.13900000000000001},{"$f":"Unemp!J58","v":0.11700000000000001},{"$f":"Unemp!K58","v":0.11700000000000001},{"$f":"Unemp!L58","v":0.11700000000000001},{"$f":"Unemp!M58","v":0.11700000000000001},{"$f":"Unemp!N45","v":0.106},{"$f":"Unemp!O45","v":0.106},{"$f":"Unemp!P45","v":0.106},{"$f":"Unemp!Q45","v":0.106},{"$f":"Unemp!R45","v":8.8999999999999996E-2},{"$f":"Unemp!S45","v":8.8999999999999996E-2},{"$f":"Unemp!T45","v":8.8999999999999996E-2},{"$f":"Unemp!U45","v":8.8999999999999996E-2}]
["Nevada",{"$f":"Participation!V35/Participation!V$6","v":1.7776809502079987E-3},"C-IV","Small",{"$f":"Participation!B35","v":6345},{"$f":"Participation!C35","v":6509},{"$f":"Participation!D35","v":6919},{"$f":"Participation!E35","v":7105},{"$f":"Participation!F35","v":7339},{"$f":"Participation!I35","v":7389},{"$f":"Participation!J35","v":7327},{"$f":"Participation!K35","v":7452},{"$f":"Participation!L35","v":7422},{"$f":"Participation!M35","v":7593},{"$f":"Participation!N35","v":7813},{"$f":"Participation!O35","v":7804},{"$f":"Participation!P35","v":7687},{"$f":"Participation!Q35","v":7705},{"$f":"Participation!R35","v":7675},{"$f":"Participation!S35","v":7776},{"$f":"Participation!T35","v":7833},{"$f":"Participation!U35","v":7694},{"$f":"Participation!V35","v":7768},null,null,null,-9.9934451596264814E-4,null,1.2117263843648208E-2,0.22427107959022852,9.617884065505589E-3,null,{"$f":"PRI!B34","v":0.39100000000000001},{"$f":"PRI!C34","v":0.39500000000000002},{"$f":"PRI!F34","v":0.495},{"$f":"PRI!G34","v":0.442},{"$f":"PRI!H34","v":0.61057440393830054},{"$f":"PRI!I34","v":0.42800062583066384},null,null,null,null,null,null,null,null,null,null,null,null,null,null,null,null,null,null,null,null,{"$f":"DD_Jun2016!J34","v":0.28374624196065001},null,null,null,null,null,null,null,null,null,null,null,null,null,null,null,null,null,null,null,null,{"$f":"DD_Jun2016!P34","v":0.93586042425003135},null,null,{"$f":"Timely!C291","v":15.3},{"$f":"Timely!D291","v":11.3},{"$f":"Timely!E291","v":11.7},{"$f":"Timely!F291","v":11},{"$f":"Timely!G291","v":9.6999999999999993},{"$f":"Timely!H291","v":10.3},{"$f":"Timely!I291","v":12},{"$f":"Timely!J291","v":16.3},{"$f":"Timely!K291","v":15.7},{"$f":"Timely!L291","v":20.3},{"$f":"Timely!M291","v":14.3},{"$f":"Timely!N291","v":20},{"$f":"Timely!O291","v":18.7},{"$f":"Timely!P291","v":17.7},{"$f":"Timely!Q291","v":17.3},{"$f":"Timely!R291","v":13},{"$f":"Timely!S291","v":12.7},{"$f":"Timely!T291","v":12.3},null,null,{"$f":"Timely!C99","v":2.0000000000000018E-2},{"$f":"Timely!D99","v":2.5000000000000022E-2},{"$f":"Timely!E99","v":7.0000000000000062E-3},{"$f":"Timely!F99","v":0},{"$f":"Timely!G99","v":0},{"$f":"Timely!J99","v":7.0000000000000062E-3},{"$f":"Timely!K99","v":0},{"$f":"Timely!L99","v":4.0000000000000036E-3},{"$f":"Timely!M99","v":4.0000000000000036E-3},{"$f":"Timely!N99","v":4.0000000000000036E-3},{"$f":"Timely!O99","v":2.4000000000000021E-2},{"$f":"Timely!P99","v":1.0000000000000009E-2},{"$f":"Timely!Q99","v":0},{"$f":"Timely!R99","v":3.5000000000000031E-2},{"$f":"Timely!S99","v":1.100000000000001E-2},{"$f":"Timely!T99","v":0},{"$f":"Timely!U99","v":0},{"$f":"Timely!V99","v":0},{"$f":"Timely!W99","v":6.2000000000000055E-2},null,null,null,null,null,{"$f":"Timely!C226","v":3.6000000000000032E-2},{"$f":"Timely!D226","v":1.6000000000000014E-2},{"$f":"Timely!E226","v":8.0000000000000071E-3},{"$f":"Timely!F226","v":1.2000000000000011E-2},{"$f":"Timely!G226","v":3.1000000000000028E-2},{"$f":"Timely!J226","v":5.5000000000000049E-2},{"$f":"Timely!K226","v":2.6000000000000023E-2},{"$f":"Timely!L226","v":4.8000000000000043E-2},{"$f":"Timely!M226","v":0.14200000000000002},{"$f":"Timely!N226","v":0.18999999999999995},{"$f":"Timely!O226","v":0.23399999999999999},{"$f":"Timely!P226","v":0.20599999999999996},{"$f":"Timely!Q226","v":0.14100000000000001},{"$f":"Timely!R226","v":0.15400000000000003},{"$f":"Timely!S226","v":0.17500000000000004},{"$f":"Timely!T226","v":9.6999999999999975E-2},{"$f":"Timely!U226","v":7.999999999999996E-2},{"$f":"Timely!V226","v":0.14100000000000001},{"$f":"Timely!W226","v":0.129},null,null,null,null,{"$f":"Churn!B34","v":0.34140435835351091},{"$f":"Churn!C34","v":0.26473629782833508},{"$f":"Churn!D34","v":0.27698185291308502},{"$f":"Churn!E34","v":0.30485436893203882},{"$f":"Churn!F34","v":0.29543419874664278},{"$f":"Churn!G34","v":0.50785340314136129},{"$f":"Churn!H34","v":0.45228548516439454},{"$f":"Churn!I34","v":0.45440126883425852},{"$f":"Churn!J34","v":0.45297805642633227},{"$f":"Churn!K34","v":0.45779220779220781},{"$f":"Churn!L34","v":0.45797995373939859},{"$f":"Churn!M34","v":0.45958795562599047},{"$f":"Churn!N34","v":0.45433255269320844},{"$f":"Churn!O34","v":0.44822134387351781},{"$f":"Churn!P34","v":0.44870790916209868},{"$f":"Churn!Q34","v":0.44266055045871561},{"$f":"Churn!R34","v":0.45781250000000001},{"$f":"Churn!S34","v":0.43080531665363564},null,{"$f":"Churn!B110","v":0.65702479338842978},{"$f":"Churn!C110","v":0.49642857142857144},{"$f":"Churn!D110","v":0.58433734939759041},{"$f":"Churn!E110","v":0.53773584905660377},{"$f":"Churn!F110","v":0.55153203342618384},{"$f":"Churn!G110","v":0.52040816326530615},{"$f":"Churn!H110","v":0.56851311953352768},{"$f":"Churn!I110","v":0.58994708994709},{"$f":"Churn!J110","v":0.66840731070496084},{"$f":"Churn!K110","v":0.53521126760563376},{"$f":"Churn!L110","v":0.53521126760563376},{"$f":"Churn!M110","v":0.48534798534798534},{"$f":"Churn!N110","v":0.61228813559322037},{"$f":"Churn!O110","v":0.56903765690376573},{"$f":"Churn!P110","v":0.55172413793103448},{"$f":"Churn!Q110","v":0.51267056530214428},{"$f":"Churn!R110","v":0.50828729281767959},{"$f":"Churn!S110","v":0.46072186836518048},null,{"$f":"Churn!B163","v":2.8265107212475632E-2},{"$f":"Churn!C163","v":2.4232633279483037E-2},{"$f":"Churn!D163","v":3.5450516986706058E-2},{"$f":"Churn!E163","v":2.2393822393822392E-2},{"$f":"Churn!F163","v":3.2939189189189186E-2},{"$f":"Churn!G163","v":0.12910798122065728},{"$f":"Churn!H163","v":0.12189440993788819},{"$f":"Churn!I163","v":0.12642857142857142},{"$f":"Churn!J163","v":0.12480974124809741},{"$f":"Churn!K163","v":0.10138248847926268},{"$f":"Churn!L163","v":8.8034188034188041E-2},{"$f":"Churn!M163","v":0.10808510638297872},{"$f":"Churn!N163","v":0.10425716768027801},{"$f":"Churn!O163","v":0.1053082191780822},{"$f":"Churn!P163","v":0.11121583411875589},{"$f":"Churn!Q163","v":7.29455216989843E-2},{"$f":"Churn!R163","v":9.2227979274611405E-2},{"$f":"Churn!S163","v":0.10957642725598526},null,{"$f":"Churn!B227","v":9.7465886939571145E-2},{"$f":"Churn!C227","v":0.10096930533117932},{"$f":"Churn!D227","v":0.1137370753323486},{"$f":"Churn!E227","v":9.4208494208494212E-2},{"$f":"Churn!F227","v":0.12922297297297297},{"$f":"Churn!G227","v":0.20657276995305165},{"$f":"Churn!H227","v":0.20885093167701863},{"$f":"Churn!I227","v":0.19642857142857142},{"$f":"Churn!J227","v":0.18645357686453576},{"$f":"Churn!K227","v":0.17050691244239632},{"$f":"Churn!L227","v":0.1641025641025641},{"$f":"Churn!M227","v":0.18893617021276596},{"$f":"Churn!N227","v":0.19200695047784536},{"$f":"Churn!O227","v":0.17722602739726026},{"$f":"Churn!P227","v":0.20452403393025448},{"$f":"Churn!Q227","v":0.15512465373961218},{"$f":"Churn!R227","v":0.16891191709844561},{"$f":"Churn!S227","v":0.18139963167587478},null,{"$f":"Unemp!B35","v":0.114},{"$f":"Unemp!C35","v":0.106},{"$f":"Unemp!D35","v":0.106},{"$f":"Unemp!E35","v":0.106},{"$f":"Unemp!F35","v":0.106},{"$f":"Unemp!$I35","v":9.4E-2},{"$f":"Unemp!$I35","v":9.4E-2},{"$f":"Unemp!$I35","v":9.4E-2},{"$f":"Unemp!$I35","v":9.4E-2},{"$f":"Unemp!J35","v":8.1000000000000003E-2},{"$f":"Unemp!K35","v":8.1000000000000003E-2},{"$f":"Unemp!L35","v":8.1000000000000003E-2},{"$f":"Unemp!M35","v":8.1000000000000003E-2},{"$f":"Unemp!N46","v":5.6000000000000001E-2},{"$f":"Unemp!O46","v":5.6000000000000001E-2},{"$f":"Unemp!P46","v":5.6000000000000001E-2},{"$f":"Unemp!Q46","v":5.6000000000000001E-2},{"$f":"Unemp!R46","v":4.5999999999999999E-2},{"$f":"Unemp!S46","v":4.5999999999999999E-2},{"$f":"Unemp!T46","v":4.5999999999999999E-2},{"$f":"Unemp!U46","v":4.5999999999999999E-2}]
["Napa",{"$f":"Participation!V34/Participation!V$6","v":1.723901982224106E-3},"C-IV","Small",{"$f":"Participation!B34","v":6993},{"$f":"Participation!C34","v":7073},{"$f":"Participation!D34","v":7209},{"$f":"Participation!E34","v":7287},{"$f":"Participation!F34","v":7181},{"$f":"Participation!I34","v":7165},{"$f":"Participation!J34","v":7097},{"$f":"Participation!K34","v":6710},{"$f":"Participation!L34","v":6599},{"$f":"Participation!M34","v":7164},{"$f":"Participation!N34","v":7455},{"$f":"Participation!O34","v":7324},{"$f":"Participation!P34","v":7124},{"$f":"Participation!Q34","v":7421},{"$f":"Participation!R34","v":7653},{"$f":"Participation!S34","v":7444},{"$f":"Participation!T34","v":7414},{"$f":"Participation!U34","v":7533},{"$f":"Participation!V34","v":7533},null,null,null,1.2894767947905137E-3,null,-1.5680125441003528E-2,7.7220077220077218E-2,0,null,{"$f":"PRI!B33","v":0.309},{"$f":"PRI!C33","v":0.312},{"$f":"PRI!F33","v":0.39300000000000002},{"$f":"PRI!G33","v":0.40699999999999997},{"$f":"PRI!H33","v":0.52160944627671246},{"$f":"PRI!I33","v":0.38161673999826451},null,null,null,null,null,null,null,null,null,null,null,null,null,null,null,null,null,null,null,null,{"$f":"DD_Jun2016!J33","v":0.22106909725355714},null,null,null,null,null,null,null,null,null,null,null,null,null,null,null,null,null,null,null,null,{"$f":"DD_Jun2016!P33","v":0.94997414684591519},null,null,{"$f":"Timely!C290","v":24},{"$f":"Timely!D290","v":31},{"$f":"Timely!E290","v":25.3},{"$f":"Timely!F290","v":25},{"$f":"Timely!G290","v":28.3},{"$f":"Timely!H290","v":25.7},{"$f":"Timely!I290","v":25.7},{"$f":"Timely!J290","v":27},{"$f":"Timely!K290","v":21.7},{"$f":"Timely!L290","v":14.3},{"$f":"Timely!M290","v":12},{"$f":"Timely!N290","v":18.3},{"$f":"Timely!O290","v":15.7},{"$f":"Timely!P290","v":14.3},{"$f":"Timely!Q290","v":12.3},{"$f":"Timely!R290","v":16},{"$f":"Timely!S290","v":14.3},{"$f":"Timely!T290","v":14.3},null,null,{"$f":"Timely!C98","v":3.400000000000003E-2},{"$f":"Timely!D98","v":0},{"$f":"Timely!E98","v":9.000000000000008E-3},{"$f":"Timely!F98","v":5.0000000000000044E-3},{"$f":"Timely!G98","v":6.9999999999999951E-2},{"$f":"Timely!J98","v":0.26700000000000002},{"$f":"Timely!K98","v":0.36599999999999999},{"$f":"Timely!L98","v":0.25},{"$f":"Timely!M98","v":0.23299999999999998},{"$f":"Timely!N98","v":0.28000000000000003},{"$f":"Timely!O98","v":2.8000000000000025E-2},{"$f":"Timely!P98","v":1.7000000000000015E-2},{"$f":"Timely!Q98","v":0.11799999999999999},{"$f":"Timely!R98","v":5.8000000000000052E-2},{"$f":"Timely!S98","v":1.2000000000000011E-2},{"$f":"Timely!T98","v":3.0000000000000027E-2},{"$f":"Timely!U98","v":2.8000000000000025E-2},{"$f":"Timely!V98","v":3.0000000000000027E-2},{"$f":"Timely!W98","v":1.3000000000000012E-2},null,null,null,null,null,{"$f":"Timely!C225","v":4.500000000000004E-2},{"$f":"Timely!D225","v":3.6000000000000032E-2},{"$f":"Timely!E225","v":1.8000000000000016E-2},{"$f":"Timely!F225","v":1.5000000000000013E-2},{"$f":"Timely!G225","v":3.8000000000000034E-2},{"$f":"Timely!J225","v":3.0000000000000027E-2},{"$f":"Timely!K225","v":3.400000000000003E-2},{"$f":"Timely!L225","v":0.10099999999999998},{"$f":"Timely!M225","v":9.3999999999999972E-2},{"$f":"Timely!N225","v":3.8000000000000034E-2},{"$f":"Timely!O225","v":2.1000000000000019E-2},{"$f":"Timely!P225","v":3.6000000000000032E-2},{"$f":"Timely!Q225","v":4.6000000000000041E-2},{"$f":"Timely!R225","v":4.500000000000004E-2},{"$f":"Timely!S225","v":2.6000000000000023E-2},{"$f":"Timely!T225","v":3.2000000000000028E-2},{"$f":"Timely!U225","v":3.1000000000000028E-2},{"$f":"Timely!V225","v":6.1000000000000054E-2},{"$f":"Timely!W225","v":3.9000000000000035E-2},null,null,null,null,{"$f":"Churn!B33","v":0.56949806949806947},{"$f":"Churn!C33","v":0.36465781409601633},{"$f":"Churn!D33","v":0.40625},{"$f":"Churn!E33","v":0.42265193370165743},{"$f":"Churn!F33","v":0.44886363636363635},{"$f":"Churn!G33","v":0.47352941176470587},{"$f":"Churn!H33","v":0.44285714285714284},{"$f":"Churn!I33","v":0.47565543071161048},{"$f":"Churn!J33","v":0.41828478964401294},{"$f":"Churn!K33","v":0.41098677517802645},{"$f":"Churn!L33","v":0.37554585152838427},{"$f":"Churn!M33","v":0.41584158415841582},{"$f":"Churn!N33","v":0.41639871382636656},{"$f":"Churn!O33","v":0.4147058823529412},{"$f":"Churn!P33","v":0.41248720573183212},{"$f":"Churn!Q33","v":0.40361990950226245},{"$f":"Churn!R33","v":0.4081796311146752},{"$f":"Churn!S33","v":0.44911297852474324},null,{"$f":"Churn!B111","v":0.77300613496932513},{"$f":"Churn!C111","v":0.71124620060790278},{"$f":"Churn!D111","v":0.77377892030848328},{"$f":"Churn!E111","v":0.67695473251028804},{"$f":"Churn!F111","v":0.87272727272727268},{"$f":"Churn!G111","v":0.73949579831932777},{"$f":"Churn!H111","v":0.71814671814671815},{"$f":"Churn!I111","v":0.74121996303142335},{"$f":"Churn!J111","v":0.75624999999999998},{"$f":"Churn!K111","v":0.58523489932885908},{"$f":"Churn!L111","v":0.58523489932885908},{"$f":"Churn!M111","v":0.68772348033373065},{"$f":"Churn!N111","v":0.68295904887714665},{"$f":"Churn!O111","v":0.68387909319899243},{"$f":"Churn!P111","v":0.62128712871287128},{"$f":"Churn!Q111","v":0.59329608938547485},{"$f":"Churn!R111","v":0.58595641646489105},{"$f":"Churn!S111","v":0.55909090909090908},null,{"$f":"Churn!B162","v":2.7365129007036748E-2},{"$f":"Churn!C162","v":2.470059880239521E-2},{"$f":"Churn!D162","v":2.6609442060085836E-2},{"$f":"Churn!E162","v":2.5316455696202531E-2},{"$f":"Churn!F162","v":3.6894696387394309E-2},{"$f":"Churn!G162","v":0.11083540115798181},{"$f":"Churn!H162","v":0.11512844909609896},{"$f":"Churn!I162","v":0.13126491646778043},{"$f":"Churn!J162","v":0.1199400299850075},{"$f":"Churn!K162","v":8.8832487309644673E-2},{"$f":"Churn!L162","v":9.9674972914409535E-2},{"$f":"Churn!M162","v":9.3228655544651623E-2},{"$f":"Churn!N162","v":0.11298315163528246},{"$f":"Churn!O162","v":0.11029411764705882},{"$f":"Churn!P162","v":0.10996916752312436},{"$f":"Churn!Q162","v":0.11022222222222222},{"$f":"Churn!R162","v":0.10802775024777007},{"$f":"Churn!S162","v":0.10357815442561205},null,{"$f":"Churn!B226","v":0.10711493354182955},{"$f":"Churn!C226","v":9.3562874251497008E-2},{"$f":"Churn!D226","v":8.2403433476394852E-2},{"$f":"Churn!E226","v":9.1772151898734181E-2},{"$f":"Churn!F226","v":0.10299769408147579},{"$f":"Churn!G226","v":0.17948717948717949},{"$f":"Churn!H226","v":0.18458610846812559},{"$f":"Churn!I226","v":0.20684168655529037},{"$f":"Churn!J226","v":0.19565217391304349},{"$f":"Churn!K226","v":0.14720812182741116},{"$f":"Churn!L226","v":0.16143011917659805},{"$f":"Churn!M226","v":0.16584887144259078},{"$f":"Churn!N226","v":0.18334985133795836},{"$f":"Churn!O226","v":0.18290441176470587},{"$f":"Churn!P226","v":0.16752312435765673},{"$f":"Churn!Q226","v":0.19466666666666665},{"$f":"Churn!R226","v":0.19326065411298315},{"$f":"Churn!S226","v":0.18173258003766479},null,{"$f":"Unemp!B34","v":9.7000000000000003E-2},{"$f":"Unemp!C34","v":9.0999999999999998E-2},{"$f":"Unemp!D34","v":9.0999999999999998E-2},{"$f":"Unemp!E34","v":9.0999999999999998E-2},{"$f":"Unemp!F34","v":9.0999999999999998E-2},{"$f":"Unemp!$I34","v":7.8E-2},{"$f":"Unemp!$I34","v":7.8E-2},{"$f":"Unemp!$I34","v":7.8E-2},{"$f":"Unemp!$I34","v":7.8E-2},{"$f":"Unemp!J34","v":6.8000000000000005E-2},{"$f":"Unemp!K34","v":6.8000000000000005E-2},{"$f":"Unemp!L34","v":6.8000000000000005E-2},{"$f":"Unemp!M34","v":6.8000000000000005E-2},{"$f":"Unemp!N47","v":4.2000000000000003E-2},{"$f":"Unemp!O47","v":4.2000000000000003E-2},{"$f":"Unemp!P47","v":4.2000000000000003E-2},{"$f":"Unemp!Q47","v":4.2000000000000003E-2},{"$f":"Unemp!R47","v":3.4000000000000002E-2},{"$f":"Unemp!S47","v":3.4000000000000002E-2},{"$f":"Unemp!T47","v":3.4000000000000002E-2},{"$f":"Unemp!U47","v":3.4000000000000002E-2}]
["Siskiyou",{"$f":"Participation!V53/Participation!V$6","v":1.5886535989114222E-3},"C-IV","Small",{"$f":"Participation!B53","v":5784},{"$f":"Participation!C53","v":5978},{"$f":"Participation!D53","v":6089},{"$f":"Participation!E53","v":6100},{"$f":"Participation!F53","v":6114},{"$f":"Participation!I53","v":6426},{"$f":"Participation!J53","v":6527},{"$f":"Participation!K53","v":6486},{"$f":"Participation!L53","v":6523},{"$f":"Participation!M53","v":6927},{"$f":"Participation!N53","v":7024},{"$f":"Participation!O53","v":6907},{"$f":"Participation!P53","v":6911},{"$f":"Participation!Q53","v":6993},{"$f":"Participation!R53","v":7132},{"$f":"Participation!S53","v":6992},{"$f":"Participation!T53","v":7026},{"$f":"Participation!U53","v":7116},{"$f":"Participation!V53","v":6942},null,null,null,2.0416715917516469E-3,null,-2.6640493550196299E-2,0.20020746887966806,-2.4451939291736932E-2,null,{"$f":"PRI!B52","v":0.59399999999999997},{"$f":"PRI!C52","v":0.58299999999999996},{"$f":"PRI!F52","v":0.59699999999999998},{"$f":"PRI!G52","v":0.626},{"$f":"PRI!H52","v":0.60582435845117577},{"$f":"PRI!I52","v":0.61723183482887178},null,null,null,null,null,null,null,null,null,null,null,null,null,null,null,null,null,null,null,null,{"$f":"DD_Jun2016!J52","v":0.36471599763555268},null,null,null,null,null,null,null,null,null,null,null,null,null,null,null,null,null,null,null,null,{"$f":"DD_Jun2016!P52","v":0.96269503546099289},null,null,{"$f":"Timely!C309","v":17},{"$f":"Timely!D309","v":17.7},{"$f":"Timely!E309","v":13.3},{"$f":"Timely!F309","v":12.7},{"$f":"Timely!G309","v":14.7},{"$f":"Timely!H309","v":14.7},{"$f":"Timely!I309","v":16.7},{"$f":"Timely!J309","v":14.7},{"$f":"Timely!K309","v":16.3},{"$f":"Timely!L309","v":19},{"$f":"Timely!M309","v":15.7},{"$f":"Timely!N309","v":16.7},{"$f":"Timely!O309","v":17.3},{"$f":"Timely!P309","v":16.7},{"$f":"Timely!Q309","v":16.3},{"$f":"Timely!R309","v":18},{"$f":"Timely!S309","v":18.7},{"$f":"Timely!T309","v":19.3},null,null,{"$f":"Timely!C117","v":6.0000000000000053E-3},{"$f":"Timely!D117","v":0},{"$f":"Timely!E117","v":0},{"$f":"Timely!F117","v":0},{"$f":"Timely!G117","v":0},{"$f":"Timely!J117","v":0},{"$f":"Timely!K117","v":8.0000000000000071E-3},{"$f":"Timely!L117","v":0},{"$f":"Timely!M117","v":6.0000000000000053E-3},{"$f":"Timely!N117","v":0},{"$f":"Timely!O117","v":0},{"$f":"Timely!P117","v":0},{"$f":"Timely!Q117","v":0},{"$f":"Timely!R117","v":0},{"$f":"Timely!S117","v":1.5000000000000013E-2},{"$f":"Timely!T117","v":1.5000000000000013E-2},{"$f":"Timely!U117","v":0},{"$f":"Timely!V117","v":8.0000000000000071E-3},{"$f":"Timely!W117","v":7.2999999999999954E-2},null,null,null,null,null,{"$f":"Timely!C244","v":0.26200000000000001},{"$f":"Timely!D244","v":5.0000000000000044E-2},{"$f":"Timely!E244","v":9.099999999999997E-2},{"$f":"Timely!F244","v":3.0000000000000027E-2},{"$f":"Timely!G244","v":5.0000000000000044E-2},{"$f":"Timely!J244","v":5.0000000000000044E-2},{"$f":"Timely!K244","v":3.7000000000000033E-2},{"$f":"Timely!L244","v":3.9000000000000035E-2},{"$f":"Timely!M244","v":0.11699999999999999},{"$f":"Timely!N244","v":0.13100000000000001},{"$f":"Timely!O244","v":0.14600000000000002},{"$f":"Timely!P244","v":0.10399999999999998},{"$f":"Timely!Q244","v":7.999999999999996E-2},{"$f":"Timely!R244","v":0.11899999999999999},{"$f":"Timely!S244","v":0.14000000000000001},{"$f":"Timely!T244","v":9.099999999999997E-2},{"$f":"Timely!U244","v":9.099999999999997E-2},{"$f":"Timely!V244","v":0.11099999999999999},{"$f":"Timely!W244","v":0.11899999999999999},null,null,null,null,{"$f":"Churn!B52","v":0.37920489296636084},{"$f":"Churn!C52","v":0.30577427821522307},{"$f":"Churn!D52","v":0.28731343283582089},{"$f":"Churn!E52","v":0.30990783410138251},{"$f":"Churn!F52","v":0.30580357142857145},{"$f":"Churn!G52","v":0.39480198019801982},{"$f":"Churn!H52","v":0.36670416197975253},{"$f":"Churn!I52","v":0.37341772151898733},{"$f":"Churn!J52","v":0.36429215509467988},{"$f":"Churn!K52","v":0.34913793103448276},{"$f":"Churn!L52","v":0.38521836506159013},{"$f":"Churn!M52","v":0.41025641025641024},{"$f":"Churn!N52","v":0.39080459770114945},{"$f":"Churn!O52","v":0.37849944008958569},{"$f":"Churn!P52","v":0.37321624588364433},{"$f":"Churn!Q52","v":0.39748549323017407},{"$f":"Churn!R52","v":0.3861082737487232},{"$f":"Churn!S52","v":0.40531561461794019},null,{"$f":"Churn!B112","v":0.88865096359743045},{"$f":"Churn!C112","v":0.65319148936170213},{"$f":"Churn!D112","v":0.66081871345029242},{"$f":"Churn!E112","v":0.63007518796992479},{"$f":"Churn!F112","v":0.67708333333333337},{"$f":"Churn!G112","v":0.65925925925925921},{"$f":"Churn!H112","v":0.61300309597523217},{"$f":"Churn!I112","v":0.61937244201909958},{"$f":"Churn!J112","v":0.79197994987468667},{"$f":"Churn!K112","v":0.47346368715083798},{"$f":"Churn!L112","v":0.47346368715083798},{"$f":"Churn!M112","v":0.61452513966480449},{"$f":"Churn!N112","v":0.59727626459143968},{"$f":"Churn!O112","v":0.5460750853242321},{"$f":"Churn!P112","v":0.53073286052009461},{"$f":"Churn!Q112","v":0.64332892998678992},{"$f":"Churn!R112","v":0.7142857142857143},{"$f":"Churn!S112","v":0.61635220125786161},null,{"$f":"Churn!B181","v":2.463605823068309E-2},{"$f":"Churn!C181","v":2.4249422632794459E-2},{"$f":"Churn!D181","v":3.8686987104337635E-2},{"$f":"Churn!E181","v":2.2727272727272728E-2},{"$f":"Churn!F181","v":3.3880903490759756E-2},{"$f":"Churn!G181","v":0.13426423200859292},{"$f":"Churn!H181","v":0.13109048723897912},{"$f":"Churn!I181","v":0.1141804788213628},{"$f":"Churn!J181","v":0.15619223659889095},{"$f":"Churn!K181","v":9.8752598752598758E-2},{"$f":"Churn!L181","v":0.11990407673860912},{"$f":"Churn!M181","v":0.14300960512273211},{"$f":"Churn!N181","v":0.13950892857142858},{"$f":"Churn!O181","v":0.15876777251184834},{"$f":"Churn!P181","v":0.12200956937799043},{"$f":"Churn!Q181","v":0.11550468262226847},{"$f":"Churn!R181","v":0.13547646383467279},{"$f":"Churn!S181","v":0.14388489208633093},null,{"$f":"Churn!B245","v":0.10414333706606943},{"$f":"Churn!C245","v":0.11893764434180139},{"$f":"Churn!D245","v":0.13364595545134819},{"$f":"Churn!E245","v":9.632034632034632E-2},{"$f":"Churn!F245","v":0.12525667351129363},{"$f":"Churn!G245","v":0.20085929108485501},{"$f":"Churn!H245","v":0.20649651972157773},{"$f":"Churn!I245","v":0.17219152854511971},{"$f":"Churn!J245","v":0.23197781885397412},{"$f":"Churn!K245","v":0.16008316008316009},{"$f":"Churn!L245","v":0.18105515587529977},{"$f":"Churn!M245","v":0.21558164354322304},{"$f":"Churn!N245","v":0.2265625},{"$f":"Churn!O245","v":0.23696682464454977},{"$f":"Churn!P245","v":0.18421052631578946},{"$f":"Churn!Q245","v":0.15920915712799166},{"$f":"Churn!R245","v":0.20780711825487944},{"$f":"Churn!S245","v":0.22541966426858512},null,{"$f":"Unemp!B53","v":0.16600000000000001},{"$f":"Unemp!C53","v":0.16500000000000001},{"$f":"Unemp!D53","v":0.16500000000000001},{"$f":"Unemp!E53","v":0.16500000000000001},{"$f":"Unemp!F53","v":0.16500000000000001},{"$f":"Unemp!$I53","v":0.153},{"$f":"Unemp!$I53","v":0.153},{"$f":"Unemp!$I53","v":0.153},{"$f":"Unemp!$I53","v":0.153},{"$f":"Unemp!J53","v":0.13200000000000001},{"$f":"Unemp!K53","v":0.13200000000000001},{"$f":"Unemp!L53","v":0.13200000000000001},{"$f":"Unemp!M53","v":0.13200000000000001},{"$f":"Unemp!N48","v":6.0999999999999999E-2},{"$f":"Unemp!O48","v":6.0999999999999999E-2},{"$f":"Unemp!P48","v":6.0999999999999999E-2},{"$f":"Unemp!Q48","v":6.0999999999999999E-2},{"$f":"Unemp!R48","v":5.2999999999999999E-2},{"$f":"Unemp!S48","v":5.2999999999999999E-2},{"$f":"Unemp!T48","v":5.2999999999999999E-2},{"$f":"Unemp!U48","v":5.2999999999999999E-2}]
["San Benito",{"$f":"Participation!V41/Participation!V$6","v":1.3387530327905242E-3},"C-IV","Small",{"$f":"Participation!B41","v":6125},{"$f":"Participation!C41","v":6211},{"$f":"Participation!D41","v":6186},{"$f":"Participation!E41","v":6114},{"$f":"Participation!F41","v":6053},{"$f":"Participation!I41","v":6390},{"$f":"Participation!J41","v":6339},{"$f":"Participation!K41","v":6232},{"$f":"Participation!L41","v":5979},{"$f":"Participation!M41","v":6378},{"$f":"Participation!N41","v":6390},{"$f":"Participation!O41","v":6169},{"$f":"Participation!P41","v":5905},{"$f":"Participation!Q41","v":6193},{"$f":"Participation!R41","v":6283},{"$f":"Participation!S41","v":5988},{"$f":"Participation!T41","v":5936},{"$f":"Participation!U41","v":5967},{"$f":"Participation!V41","v":5850},null,null,null,4.6528621012024369E-3,null,-6.8916122871239854E-2,-4.4897959183673466E-2,-1.9607843137254902E-2,null,{"$f":"PRI!B40","v":0.74299999999999999},{"$f":"PRI!C40","v":0.82899999999999996},{"$f":"PRI!F40","v":0.72099999999999997},{"$f":"PRI!G40","v":0.72699999999999998},{"$f":"PRI!H40","v":0.70741531862364759},{"$f":"PRI!I40","v":0.78347499663269027},null,null,null,null,null,null,null,null,null,null,null,null,null,null,null,null,null,null,null,null,{"$f":"DD_Jun2016!J40","v":0.29604301524326582},null,null,null,null,null,null,null,null,null,null,null,null,null,null,null,null,null,null,null,null,{"$f":"DD_Jun2016!P40","v":0.95423186942621574},null,null,{"$f":"Timely!C297","v":19.7},{"$f":"Timely!D297","v":16.3},{"$f":"Timely!E297","v":18},{"$f":"Timely!F297","v":15},{"$f":"Timely!G297","v":17.7},{"$f":"Timely!H297","v":14.3},{"$f":"Timely!I297","v":13.3},{"$f":"Timely!J297","v":18.3},{"$f":"Timely!K297","v":16.3},{"$f":"Timely!L297","v":14},{"$f":"Timely!M297","v":14.3},{"$f":"Timely!N297","v":16},{"$f":"Timely!O297","v":18},{"$f":"Timely!P297","v":16},{"$f":"Timely!Q297","v":12.7},{"$f":"Timely!R297","v":14},{"$f":"Timely!S297","v":14.7},{"$f":"Timely!T297","v":12.7},null,null,{"$f":"Timely!C105","v":2.7000000000000024E-2},{"$f":"Timely!D105","v":1.0000000000000009E-2},{"$f":"Timely!E105","v":2.200000000000002E-2},{"$f":"Timely!F105","v":1.3000000000000012E-2},{"$f":"Timely!G105","v":0},{"$f":"Timely!J105","v":1.6000000000000014E-2},{"$f":"Timely!K105","v":5.600000000000005E-2},{"$f":"Timely!L105","v":0},{"$f":"Timely!M105","v":6.0000000000000053E-3},{"$f":"Timely!N105","v":0},{"$f":"Timely!O105","v":0},{"$f":"Timely!P105","v":0},{"$f":"Timely!Q105","v":9.9999999999999978E-2},{"$f":"Timely!R105","v":1.9000000000000017E-2},{"$f":"Timely!S105","v":8.0000000000000071E-3},{"$f":"Timely!T105","v":9.000000000000008E-3},{"$f":"Timely!U105","v":0},{"$f":"Timely!V105","v":0},{"$f":"Timely!W105","v":3.3000000000000029E-2},null,null,null,null,null,{"$f":"Timely!C232","v":1.2000000000000011E-2},{"$f":"Timely!D232","v":1.4000000000000012E-2},{"$f":"Timely!E232","v":5.0000000000000044E-3},{"$f":"Timely!F232","v":2.5000000000000022E-2},{"$f":"Timely!G232","v":4.0000000000000036E-3},{"$f":"Timely!J232","v":2.300000000000002E-2},{"$f":"Timely!K232","v":2.4000000000000021E-2},{"$f":"Timely!L232","v":2.7000000000000024E-2},{"$f":"Timely!M232","v":3.3000000000000029E-2},{"$f":"Timely!N232","v":5.0000000000000044E-2},{"$f":"Timely!O232","v":5.4000000000000048E-2},{"$f":"Timely!P232","v":3.6000000000000032E-2},{"$f":"Timely!Q232","v":4.8000000000000043E-2},{"$f":"Timely!R232","v":5.4000000000000048E-2},{"$f":"Timely!S232","v":6.9999999999999951E-2},{"$f":"Timely!T232","v":1.5000000000000013E-2},{"$f":"Timely!U232","v":4.7000000000000042E-2},{"$f":"Timely!V232","v":4.7000000000000042E-2},{"$f":"Timely!W232","v":6.6999999999999948E-2},null,null,null,null,{"$f":"Churn!B40","v":0.34463276836158191},{"$f":"Churn!C40","v":0.27037516170763259},{"$f":"Churn!D40","v":0.28731343283582089},{"$f":"Churn!E40","v":0.33094384707287933},{"$f":"Churn!F40","v":0.29166666666666669},{"$f":"Churn!G40","v":0.40805369127516777},{"$f":"Churn!H40","v":0.37531806615776081},{"$f":"Churn!I40","v":0.42230130486358242},{"$f":"Churn!J40","v":0.40233236151603496},{"$f":"Churn!K40","v":0.38259833134684146},{"$f":"Churn!L40","v":0.4174252275682705},{"$f":"Churn!M40","v":0.42164179104477612},{"$f":"Churn!N40","v":0.40437158469945356},{"$f":"Churn!O40","v":0.43682795698924731},{"$f":"Churn!P40","v":0.41953232462173318},{"$f":"Churn!Q40","v":0.44458598726114651},{"$f":"Churn!R40","v":0.43884892086330934},{"$f":"Churn!S40","v":0.41970310391363025},null,{"$f":"Churn!B113","v":0.30198019801980197},{"$f":"Churn!C113","v":0.28993666432090076},{"$f":"Churn!D113","v":0.27981029810298103},{"$f":"Churn!E113","v":0.32484929671801743},{"$f":"Churn!F113","v":0.3262861169837914},{"$f":"Churn!G113","v":0.29690585911784068},{"$f":"Churn!H113","v":0.30192435301924353},{"$f":"Churn!I113","v":0.2766323024054983},{"$f":"Churn!J113","v":0.30035514967021815},{"$f":"Churn!K113","v":0.2402135231316726},{"$f":"Churn!L113","v":0.2402135231316726},{"$f":"Churn!M113","v":0.32005086901229335},{"$f":"Churn!N113","v":0.25554607508532423},{"$f":"Churn!O113","v":0.24306950582563278},{"$f":"Churn!P113","v":0.24639472599917595},{"$f":"Churn!Q113","v":0.20917573872472783},{"$f":"Churn!R113","v":0.25029750099166997},{"$f":"Churn!S113","v":0.1995575221238938},null,{"$f":"Churn!B169","v":3.7117903930131008E-2},{"$f":"Churn!C169","v":3.1746031746031744E-2},{"$f":"Churn!D169","v":2.8277634961439587E-2},{"$f":"Churn!E169","v":3.8787878787878788E-2},{"$f":"Churn!F169","v":4.3431053203040172E-2},{"$f":"Churn!G169","v":0.17067307692307693},{"$f":"Churn!H169","v":0.18833535844471447},{"$f":"Churn!I169","v":0.18050941306755261},{"$f":"Churn!J169","v":0.2073170731707317},{"$f":"Churn!K169","v":0.1855421686746988},{"$f":"Churn!L169","v":0.13414634146341464},{"$f":"Churn!M169","v":0.12466843501326259},{"$f":"Churn!N169","v":0.15865921787709497},{"$f":"Churn!O169","v":0.13962765957446807},{"$f":"Churn!P169","v":0.1203125},{"$f":"Churn!Q169","v":0.15635179153094461},{"$f":"Churn!R169","v":0.18271954674220964},{"$f":"Churn!S169","v":0.15946348733233978},null,{"$f":"Churn!B233","v":0.17139737991266377},{"$f":"Churn!C233","v":0.14391534391534391},{"$f":"Churn!D233","v":0.11953727506426735},{"$f":"Churn!E233","v":0.13333333333333333},{"$f":"Churn!F233","v":0.15092290988056462},{"$f":"Churn!G233","v":0.23677884615384615},{"$f":"Churn!H233","v":0.26609963547995141},{"$f":"Churn!I233","v":0.26688815060908083},{"$f":"Churn!J233","v":0.30386178861788615},{"$f":"Churn!K233","v":0.23855421686746989},{"$f":"Churn!L233","v":0.24542682926829268},{"$f":"Churn!M233","v":0.1870026525198939},{"$f":"Churn!N233","v":0.28044692737430166},{"$f":"Churn!O233","v":0.2327127659574468},{"$f":"Churn!P233","v":0.21406249999999999},{"$f":"Churn!Q233","v":0.25244299674267101},{"$f":"Churn!R233","v":0.27762039660056659},{"$f":"Churn!S233","v":0.25931445603576753},null,{"$f":"Unemp!B41","v":0.17199999999999999},{"$f":"Unemp!C41","v":0.159},{"$f":"Unemp!D41","v":0.159},{"$f":"Unemp!E41","v":0.159},{"$f":"Unemp!F41","v":0.159},{"$f":"Unemp!$I41","v":0.13900000000000001},{"$f":"Unemp!$I41","v":0.13900000000000001},{"$f":"Unemp!$I41","v":0.13900000000000001},{"$f":"Unemp!$I41","v":0.13900000000000001},{"$f":"Unemp!J41","v":0.111},{"$f":"Unemp!K41","v":0.111},{"$f":"Unemp!L41","v":0.111},{"$f":"Unemp!M41","v":0.111},{"$f":"Unemp!N49","v":5.1999999999999998E-2},{"$f":"Unemp!O49","v":5.1999999999999998E-2},{"$f":"Unemp!P49","v":5.1999999999999998E-2},{"$f":"Unemp!Q49","v":5.1999999999999998E-2},{"$f":"Unemp!R49","v":4.2000000000000003E-2},{"$f":"Unemp!S49","v":4.2000000000000003E-2},{"$f":"Unemp!T49","v":4.2000000000000003E-2},{"$f":"Unemp!U49","v":4.2000000000000003E-2}]
["Tuolumne",{"$f":"Participation!V61/Participation!V$6","v":1.2570547707894616E-3},"C-IV","Small",{"$f":"Participation!B61","v":5073},{"$f":"Participation!C61","v":5211},{"$f":"Participation!D61","v":5167},{"$f":"Participation!E61","v":5103},{"$f":"Participation!F61","v":5153},{"$f":"Participation!I61","v":5253},{"$f":"Participation!J61","v":5227},{"$f":"Participation!K61","v":5153},{"$f":"Participation!L61","v":5192},{"$f":"Participation!M61","v":5409},{"$f":"Participation!N61","v":5567},{"$f":"Participation!O61","v":5556},{"$f":"Participation!P61","v":5465},{"$f":"Participation!Q61","v":5414},{"$f":"Participation!R61","v":5559},{"$f":"Participation!S61","v":5603},{"$f":"Participation!T61","v":5707},{"$f":"Participation!U61","v":5609},{"$f":"Participation!V61","v":5493},null,null,null,7.0921223713478259E-4,null,-1.1872638963842417E-2,8.2791247782377286E-2,-2.0681048315207701E-2,null,{"$f":"PRI!B60","v":0.70399999999999996},{"$f":"PRI!C60","v":0.60399999999999998},{"$f":"PRI!F60","v":0.57399999999999995},{"$f":"PRI!G60","v":0.53100000000000003},{"$f":"PRI!H60","v":0.55096208037690064},{"$f":"PRI!I60","v":0.61887154616755258},null,null,null,null,null,null,null,null,null,null,null,null,null,null,null,null,null,null,null,null,{"$f":"DD_Jun2016!J60","v":0.35314615023788781},null,null,null,null,null,null,null,null,null,null,null,null,null,null,null,null,null,null,null,null,{"$f":"DD_Jun2016!P60","v":0.93788930414664529},null,null,{"$f":"Timely!C317","v":14.3},{"$f":"Timely!D317","v":14.7},{"$f":"Timely!E317","v":15.7},{"$f":"Timely!F317","v":16.7},{"$f":"Timely!G317","v":14.7},{"$f":"Timely!H317","v":13},{"$f":"Timely!I317","v":16.3},{"$f":"Timely!J317","v":15.3},{"$f":"Timely!K317","v":14.3},{"$f":"Timely!L317","v":14.3},{"$f":"Timely!M317","v":14.3},{"$f":"Timely!N317","v":16.7},{"$f":"Timely!O317","v":16.3},{"$f":"Timely!P317","v":18.3},{"$f":"Timely!Q317","v":15.3},{"$f":"Timely!R317","v":15.3},{"$f":"Timely!S317","v":13.7},{"$f":"Timely!T317","v":13.3},null,null,{"$f":"Timely!C125","v":1.2000000000000011E-2},{"$f":"Timely!D125","v":1.0000000000000009E-2},{"$f":"Timely!E125","v":3.400000000000003E-2},{"$f":"Timely!F125","v":2.200000000000002E-2},{"$f":"Timely!G125","v":3.0000000000000027E-2},{"$f":"Timely!J125","v":4.6000000000000041E-2},{"$f":"Timely!K125","v":4.9000000000000044E-2},{"$f":"Timely!L125","v":7.6999999999999957E-2},{"$f":"Timely!M125","v":0.11399999999999999},{"$f":"Timely!N125","v":6.5999999999999948E-2},{"$f":"Timely!O125","v":6.1000000000000054E-2},{"$f":"Timely!P125","v":4.6000000000000041E-2},{"$f":"Timely!Q125","v":3.5000000000000031E-2},{"$f":"Timely!R125","v":0.10699999999999998},{"$f":"Timely!S125","v":4.9000000000000044E-2},{"$f":"Timely!T125","v":0.123},{"$f":"Timely!U125","v":2.9000000000000026E-2},{"$f":"Timely!V125","v":7.0000000000000062E-3},{"$f":"Timely!W125","v":1.6000000000000014E-2},null,null,null,null,null,{"$f":"Timely!C252","v":1.7000000000000015E-2},{"$f":"Timely!D252","v":6.2999999999999945E-2},{"$f":"Timely!E252","v":7.2999999999999954E-2},{"$f":"Timely!F252","v":5.4000000000000048E-2},{"$f":"Timely!G252","v":4.0000000000000036E-2},{"$f":"Timely!J252","v":2.9000000000000026E-2},{"$f":"Timely!K252","v":2.7000000000000024E-2},{"$f":"Timely!L252","v":4.500000000000004E-2},{"$f":"Timely!M252","v":4.1000000000000036E-2},{"$f":"Timely!N252","v":8.5999999999999965E-2},{"$f":"Timely!O252","v":0.11199999999999999},{"$f":"Timely!P252","v":8.7999999999999967E-2},{"$f":"Timely!Q252","v":0.14200000000000002},{"$f":"Timely!R252","v":0.247},{"$f":"Timely!S252","v":0.21299999999999997},{"$f":"Timely!T252","v":3.8000000000000034E-2},{"$f":"Timely!U252","v":1.7000000000000015E-2},{"$f":"Timely!V252","v":3.1000000000000028E-2},{"$f":"Timely!W252","v":1.5000000000000013E-2},null,null,null,null,{"$f":"Churn!B60","v":0.33656957928802589},{"$f":"Churn!C60","v":0.22700119474313021},{"$f":"Churn!D60","v":0.23277909738717339},{"$f":"Churn!E60","v":0.2709677419354839},{"$f":"Churn!F60","v":0.23745819397993312},{"$f":"Churn!G60","v":0.40740740740740738},{"$f":"Churn!H60","v":0.46111111111111114},{"$f":"Churn!I60","v":0.45414847161572053},{"$f":"Churn!J60","v":0.43487394957983194},{"$f":"Churn!K60","v":0.4498448810754912},{"$f":"Churn!L60","v":0.43954802259887005},{"$f":"Churn!M60","v":0.43446088794926002},{"$f":"Churn!N60","v":0.44902386117136661},{"$f":"Churn!O60","v":0.44071353620146902},{"$f":"Churn!P60","v":0.42954545454545456},{"$f":"Churn!Q60","v":0.42695473251028809},{"$f":"Churn!R60","v":0.42505133470225875},{"$f":"Churn!S60","v":0.4402061855670103},null,{"$f":"Churn!B114","v":0.69979716024340766},{"$f":"Churn!C114","v":0.47956403269754766},{"$f":"Churn!D114","v":0.39873417721518989},{"$f":"Churn!E114","v":0.56653225806451613},{"$f":"Churn!F114","v":0.52242152466367708},{"$f":"Churn!G114","v":0.47309417040358742},{"$f":"Churn!H114","v":0.30578512396694213},{"$f":"Churn!I114","v":0.42105263157894735},{"$f":"Churn!J114","v":0.4},{"$f":"Churn!K114","v":0.28731343283582089},{"$f":"Churn!L114","v":0.28731343283582089},{"$f":"Churn!M114","v":0.3273542600896861},{"$f":"Churn!N114","v":0.28501628664495116},{"$f":"Churn!O114","v":0.21638330757341576},{"$f":"Churn!P114","v":0.17944535073409462},{"$f":"Churn!Q114","v":0.24233576642335766},{"$f":"Churn!R114","v":0.28217821782178215},{"$f":"Churn!S114","v":0.20954003407155025},null,{"$f":"Churn!B189","v":4.1095890410958902E-2},{"$f":"Churn!C189","v":3.8262668045501554E-2},{"$f":"Churn!D189","v":3.9215686274509803E-2},{"$f":"Churn!E189","v":0.04},{"$f":"Churn!F189","v":3.5545023696682464E-2},{"$f":"Churn!G189","v":0.16105263157894736},{"$f":"Churn!H189","v":0.14763552479815456},{"$f":"Churn!I189","v":0.16841004184100419},{"$f":"Churn!J189","v":0.16608996539792387},{"$f":"Churn!K189","v":0.11221122112211221},{"$f":"Churn!L189","v":0.12250332889480692},{"$f":"Churn!M189","v":0.13447432762836187},{"$f":"Churn!N189","v":0.15880893300248139},{"$f":"Churn!O189","v":0.14943820224719101},{"$f":"Churn!P189","v":0.14066193853427897},{"$f":"Churn!Q189","v":0.115995115995116},{"$f":"Churn!R189","v":0.16266666666666665},{"$f":"Churn!S189","v":0.13325471698113209},null,{"$f":"Churn!B253","v":0.13356164383561644},{"$f":"Churn!C253","v":0.15098241985522234},{"$f":"Churn!D253","v":0.1453287197231834},{"$f":"Churn!E253","v":0.15783783783783784},{"$f":"Churn!F253","v":0.14218009478672985},{"$f":"Churn!G253","v":0.22736842105263158},{"$f":"Churn!H253","v":0.23414071510957324},{"$f":"Churn!I253","v":0.25836820083682011},{"$f":"Churn!J253","v":0.25605536332179929},{"$f":"Churn!K253","v":0.20792079207920791},{"$f":"Churn!L253","v":0.20372836218375498},{"$f":"Churn!M253","v":0.2139364303178484},{"$f":"Churn!N253","v":0.23945409429280398},{"$f":"Churn!O253","v":0.21460674157303372},{"$f":"Churn!P253","v":0.23167848699763594},{"$f":"Churn!Q253","v":0.20512820512820512},{"$f":"Churn!R253","v":0.25733333333333336},{"$f":"Churn!S253","v":0.22287735849056603},null,{"$f":"Unemp!B61","v":0.13800000000000001},{"$f":"Unemp!C61","v":0.13},{"$f":"Unemp!D61","v":0.13},{"$f":"Unemp!E61","v":0.13},{"$f":"Unemp!F61","v":0.13},{"$f":"Unemp!$I61","v":0.11600000000000001},{"$f":"Unemp!$I61","v":0.11600000000000001},{"$f":"Unemp!$I61","v":0.11600000000000001},{"$f":"Unemp!$I61","v":0.11600000000000001},{"$f":"Unemp!J61","v":0.108},{"$f":"Unemp!K61","v":0.108},{"$f":"Unemp!L61","v":0.108},{"$f":"Unemp!M61","v":0.108},{"$f":"Unemp!N50","v":8.6999999999999994E-2},{"$f":"Unemp!O50","v":8.6999999999999994E-2},{"$f":"Unemp!P50","v":8.6999999999999994E-2},{"$f":"Unemp!Q50","v":8.6999999999999994E-2},{"$f":"Unemp!R50","v":7.4999999999999997E-2},{"$f":"Unemp!S50","v":7.4999999999999997E-2},{"$f":"Unemp!T50","v":7.4999999999999997E-2},{"$f":"Unemp!U50","v":7.4999999999999997E-2}]
["Del Norte",{"$f":"Participation!V14/Participation!V$6","v":1.2286777834277479E-3},"C-IV","Small",{"$f":"Participation!B14","v":5203},{"$f":"Participation!C14","v":5366},{"$f":"Participation!D14","v":5423},{"$f":"Participation!E14","v":5445},{"$f":"Participation!F14","v":5247},{"$f":"Participation!I14","v":5251},{"$f":"Participation!J14","v":5149},{"$f":"Participation!K14","v":5132},{"$f":"Participation!L14","v":5032},{"$f":"Participation!M14","v":5205},{"$f":"Participation!N14","v":5175},{"$f":"Participation!O14","v":5227},{"$f":"Participation!P14","v":5167},{"$f":"Participation!Q14","v":5136},{"$f":"Participation!R14","v":5146},{"$f":"Participation!S14","v":5205},{"$f":"Participation!T14","v":5281},{"$f":"Participation!U14","v":5361},{"$f":"Participation!V14","v":5369},null,null,null,-2.396277710319038E-3,null,4.3334628837932376E-2,3.1904670382471648E-2,1.4922589069203507E-3,null,{"$f":"PRI!B13","v":0.85899999999999999},{"$f":"PRI!C13","v":0.95399999999999996},{"$f":"PRI!F13","v":0.94399999999999995},{"$f":"PRI!G13","v":0.86399999999999999},{"$f":"PRI!H13","v":0.91507601883208589},{"$f":"PRI!I13","v":0.90731769369194393},null,null,null,null,null,null,null,null,null,null,null,null,null,null,null,null,null,null,null,null,{"$f":"DD_Jun2016!J13","v":0.42710872745002437},null,null,null,null,null,null,null,null,null,null,null,null,null,null,null,null,null,null,null,null,{"$f":"DD_Jun2016!P13","v":0.97387437465258475},null,null,{"$f":"Timely!C270","v":7.3},{"$f":"Timely!D270","v":8.6999999999999993},{"$f":"Timely!E270","v":7.7},{"$f":"Timely!F270","v":8.3000000000000007},{"$f":"Timely!G270","v":7.3},{"$f":"Timely!H270","v":8.3000000000000007},{"$f":"Timely!I270","v":9},{"$f":"Timely!J270","v":9.6999999999999993},{"$f":"Timely!K270","v":9},{"$f":"Timely!L270","v":12.7},{"$f":"Timely!M270","v":13.3},{"$f":"Timely!N270","v":13.3},{"$f":"Timely!O270","v":14.3},{"$f":"Timely!P270","v":14.3},{"$f":"Timely!Q270","v":14.7},{"$f":"Timely!R270","v":12.3},{"$f":"Timely!S270","v":13.3},{"$f":"Timely!T270","v":14},null,null,{"$f":"Timely!C78","v":0},{"$f":"Timely!D78","v":0},{"$f":"Timely!E78","v":0},{"$f":"Timely!F78","v":0},{"$f":"Timely!G78","v":0},{"$f":"Timely!J78","v":0},{"$f":"Timely!K78","v":0},{"$f":"Timely!L78","v":0},{"$f":"Timely!M78","v":0},{"$f":"Timely!N78","v":0},{"$f":"Timely!O78","v":0},{"$f":"Timely!P78","v":9.000000000000008E-3},{"$f":"Timely!Q78","v":0},{"$f":"Timely!R78","v":1.100000000000001E-2},{"$f":"Timely!S78","v":0},{"$f":"Timely!T78","v":0},{"$f":"Timely!U78","v":0},{"$f":"Timely!V78","v":9.000000000000008E-3},{"$f":"Timely!W78","v":1.100000000000001E-2},null,null,null,null,null,{"$f":"Timely!C205","v":1.0000000000000009E-2},{"$f":"Timely!D205","v":2.0000000000000018E-2},{"$f":"Timely!E205","v":8.0000000000000071E-3},{"$f":"Timely!F205","v":1.2000000000000011E-2},{"$f":"Timely!G205","v":2.200000000000002E-2},{"$f":"Timely!J205","v":1.2000000000000011E-2},{"$f":"Timely!K205","v":2.6000000000000023E-2},{"$f":"Timely!L205","v":1.6000000000000014E-2},{"$f":"Timely!M205","v":1.8000000000000016E-2},{"$f":"Timely!N205","v":2.300000000000002E-2},{"$f":"Timely!O205","v":4.8000000000000043E-2},{"$f":"Timely!P205","v":4.3000000000000038E-2},{"$f":"Timely!Q205","v":1.0000000000000009E-2},{"$f":"Timely!R205","v":3.9000000000000035E-2},{"$f":"Timely!S205","v":7.0999999999999952E-2},{"$f":"Timely!T205","v":5.5000000000000049E-2},{"$f":"Timely!U205","v":6.3999999999999946E-2},{"$f":"Timely!V205","v":5.600000000000005E-2},{"$f":"Timely!W205","v":6.4999999999999947E-2},null,null,null,null,{"$f":"Churn!B13","v":0.39350180505415161},{"$f":"Churn!C13","v":0.30706521739130432},{"$f":"Churn!D13","v":0.27952755905511811},{"$f":"Churn!E13","v":0.29347826086956524},{"$f":"Churn!F13","v":0.30629539951573848},{"$f":"Churn!G13","v":0.44},{"$f":"Churn!H13","v":0.38202247191011235},{"$f":"Churn!I13","v":0.41176470588235292},{"$f":"Churn!J13","v":0.35307262569832404},{"$f":"Churn!K13","v":0.35490830636461707},{"$f":"Churn!L13","v":0.35985748218527314},{"$f":"Churn!M13","v":0.41634738186462322},{"$f":"Churn!N13","v":0.39215686274509803},{"$f":"Churn!O13","v":0.36430678466076694},{"$f":"Churn!P13","v":0.34146341463414637},{"$f":"Churn!Q13","v":0.38179347826086957},{"$f":"Churn!R13","v":0.38049450549450547},{"$f":"Churn!S13","v":0.34293552812071332},null,{"$f":"Churn!B115","v":0.92768959435626097},{"$f":"Churn!C115","v":0.70792079207920788},{"$f":"Churn!D115","v":0.68544194107452339},{"$f":"Churn!E115","v":0.68710691823899372},{"$f":"Churn!F115","v":0.73840579710144927},{"$f":"Churn!G115","v":0.45351473922902497},{"$f":"Churn!H115","v":0.44835045970795023},{"$f":"Churn!I115","v":0.38544018058690743},{"$f":"Churn!J115","v":0.45918367346938777},{"$f":"Churn!K115","v":0.55420875420875426},{"$f":"Churn!L115","v":0.55783132530120483},{"$f":"Churn!M115","v":0.65689778413152256},{"$f":"Churn!N115","v":0.66997518610421836},{"$f":"Churn!O115","v":0.66604708798017354},{"$f":"Churn!P115","v":0.66512702078521935},{"$f":"Churn!Q115","v":0.58947970268724981},{"$f":"Churn!R115","v":0.60864485981308414},{"$f":"Churn!S115","v":0.60755813953488369},null,{"$f":"Churn!B142","v":6.6753926701570682E-2},{"$f":"Churn!C142","v":3.8873994638069703E-2},{"$f":"Churn!D142","v":4.5390070921985819E-2},{"$f":"Churn!E142","v":6.5620542082738945E-2},{"$f":"Churn!F142","v":7.7474892395982778E-2},{"$f":"Churn!G142","v":0.24852071005917159},{"$f":"Churn!H142","v":0.21104815864022664},{"$f":"Churn!I142","v":0.18623481781376519},{"$f":"Churn!J142","v":0.22739726027397261},{"$f":"Churn!K142","v":0.18760469011725292},{"$f":"Churn!L142","v":0.16216216216216217},{"$f":"Churn!M142","v":0.19306930693069307},{"$f":"Churn!N142","v":0.19503546099290781},{"$f":"Churn!O142","v":0.17307692307692307},{"$f":"Churn!P142","v":0.21473354231974923},{"$f":"Churn!Q142","v":0.12996941896024464},{"$f":"Churn!R142","v":0.15867768595041323},{"$f":"Churn!S142","v":0.16923076923076924},null,{"$f":"Churn!B206","v":0.2342931937172775},{"$f":"Churn!C206","v":0.13806970509383379},{"$f":"Churn!D206","v":0.17588652482269504},{"$f":"Churn!E206","v":0.18259629101283881},{"$f":"Churn!F206","v":0.23672883787661406},{"$f":"Churn!G206","v":0.33579881656804733},{"$f":"Churn!H206","v":0.26487252124645894},{"$f":"Churn!I206","v":0.25236167341430499},{"$f":"Churn!J206","v":0.32739726027397259},{"$f":"Churn!K206","v":0.24623115577889448},{"$f":"Churn!L206","v":0.23423423423423423},{"$f":"Churn!M206","v":0.25412541254125415},{"$f":"Churn!N206","v":0.27482269503546097},{"$f":"Churn!O206","v":0.22377622377622378},{"$f":"Churn!P206","v":0.2711598746081505},{"$f":"Churn!Q206","v":0.19571865443425077},{"$f":"Churn!R206","v":0.23966942148760331},{"$f":"Churn!S206","v":0.22905982905982905},null,{"$f":"Unemp!B14","v":0.13100000000000001},{"$f":"Unemp!C14","v":0.13100000000000001},{"$f":"Unemp!D14","v":0.13100000000000001},{"$f":"Unemp!E14","v":0.13100000000000001},{"$f":"Unemp!F14","v":0.13100000000000001},{"$f":"Unemp!$I14","v":0.13400000000000001},{"$f":"Unemp!$I14","v":0.13400000000000001},{"$f":"Unemp!$I14","v":0.13400000000000001},{"$f":"Unemp!$I14","v":0.13400000000000001},{"$f":"Unemp!J14","v":0.11799999999999999},{"$f":"Unemp!K14","v":0.11799999999999999},{"$f":"Unemp!L14","v":0.11799999999999999},{"$f":"Unemp!M14","v":0.11799999999999999},{"$f":"Unemp!N51","v":9.7000000000000003E-2},{"$f":"Unemp!O51","v":9.7000000000000003E-2},{"$f":"Unemp!P51","v":9.7000000000000003E-2},{"$f":"Unemp!Q51","v":9.7000000000000003E-2},{"$f":"Unemp!R51","v":7.8E-2},{"$f":"Unemp!S51","v":7.8E-2},{"$f":"Unemp!T51","v":7.8E-2},{"$f":"Unemp!U51","v":7.8E-2}]
["Calaveras",{"$f":"Participation!V11/Participation!V$6","v":1.1799334422338366E-3},"C-IV","Small",{"$f":"Participation!B11","v":4774},{"$f":"Participation!C11","v":4875},{"$f":"Participation!D11","v":5000},{"$f":"Participation!E11","v":4998},{"$f":"Participation!F11","v":4951},{"$f":"Participation!I11","v":5004},{"$f":"Participation!J11","v":5023},{"$f":"Participation!K11","v":4969},{"$f":"Participation!L11","v":4866},{"$f":"Participation!M11","v":5060},{"$f":"Participation!N11","v":5094},{"$f":"Participation!O11","v":5231},{"$f":"Participation!P11","v":5378},{"$f":"Participation!Q11","v":5421},{"$f":"Participation!R11","v":5509},{"$f":"Participation!S11","v":5498},{"$f":"Participation!T11","v":5406},{"$f":"Participation!U11","v":5246},{"$f":"Participation!V11","v":5156},null,null,null,3.7932109046754279E-3,null,-6.4076964966418584E-2,8.0016757436112279E-2,-1.715592832634388E-2,null,{"$f":"PRI!B10","v":0.80600000000000005},{"$f":"PRI!C10","v":0.95499999999999996},{"$f":"PRI!F10","v":0.83099999999999996},{"$f":"PRI!G10","v":0.82399999999999995},{"$f":"PRI!H10","v":0.80293519722539908},{"$f":"PRI!I10","v":0.83412168219338856},null,null,null,null,null,null,null,null,null,null,null,null,null,null,null,null,null,null,null,null,{"$f":"DD_Jun2016!J10","v":0.38926228196511442},null,null,null,null,null,null,null,null,null,null,null,null,null,null,null,null,null,null,null,null,{"$f":"DD_Jun2016!P10","v":0.93163538873994634},null,null,{"$f":"Timely!C267","v":14.7},{"$f":"Timely!D267","v":13.3},{"$f":"Timely!E267","v":11},{"$f":"Timely!F267","v":13.7},{"$f":"Timely!G267","v":11},{"$f":"Timely!H267","v":12.7},{"$f":"Timely!I267","v":11},{"$f":"Timely!J267","v":10.7},{"$f":"Timely!K267","v":11},{"$f":"Timely!L267","v":13.3},{"$f":"Timely!M267","v":14},{"$f":"Timely!N267","v":11},{"$f":"Timely!O267","v":11.7},{"$f":"Timely!P267","v":11},{"$f":"Timely!Q267","v":10.7},{"$f":"Timely!R267","v":10.7},{"$f":"Timely!S267","v":12.7},{"$f":"Timely!T267","v":11.3},null,null,{"$f":"Timely!C75","v":8.0000000000000071E-3},{"$f":"Timely!D75","v":4.1000000000000036E-2},{"$f":"Timely!E75","v":3.5000000000000031E-2},{"$f":"Timely!F75","v":0},{"$f":"Timely!G75","v":1.3000000000000012E-2},{"$f":"Timely!J75","v":3.0000000000000027E-2},{"$f":"Timely!K75","v":1.8000000000000016E-2},{"$f":"Timely!L75","v":2.0000000000000018E-2},{"$f":"Timely!M75","v":0},{"$f":"Timely!N75","v":7.0000000000000062E-3},{"$f":"Timely!O75","v":4.2000000000000037E-2},{"$f":"Timely!P75","v":0},{"$f":"Timely!Q75","v":0},{"$f":"Timely!R75","v":7.0000000000000062E-3},{"$f":"Timely!S75","v":0},{"$f":"Timely!T75","v":0},{"$f":"Timely!U75","v":0},{"$f":"Timely!V75","v":9.000000000000008E-3},{"$f":"Timely!W75","v":9.000000000000008E-3},null,null,null,null,null,{"$f":"Timely!C202","v":2.0000000000000018E-2},{"$f":"Timely!D202","v":1.100000000000001E-2},{"$f":"Timely!E202","v":8.0000000000000071E-3},{"$f":"Timely!F202","v":8.0000000000000071E-3},{"$f":"Timely!G202","v":1.2000000000000011E-2},{"$f":"Timely!J202","v":3.6000000000000032E-2},{"$f":"Timely!K202","v":2.0000000000000018E-2},{"$f":"Timely!L202","v":1.4000000000000012E-2},{"$f":"Timely!M202","v":1.8000000000000016E-2},{"$f":"Timely!N202","v":4.8000000000000043E-2},{"$f":"Timely!O202","v":3.6000000000000032E-2},{"$f":"Timely!P202","v":3.1000000000000028E-2},{"$f":"Timely!Q202","v":4.3000000000000038E-2},{"$f":"Timely!R202","v":4.4000000000000039E-2},{"$f":"Timely!S202","v":4.8000000000000043E-2},{"$f":"Timely!T202","v":5.9000000000000052E-2},{"$f":"Timely!U202","v":6.0000000000000053E-2},{"$f":"Timely!V202","v":7.2999999999999954E-2},{"$f":"Timely!W202","v":3.6000000000000032E-2},null,null,null,null,{"$f":"Churn!B10","v":0.39072847682119205},{"$f":"Churn!C10","v":0.29367469879518071},{"$f":"Churn!D10","v":0.26948480845442535},{"$f":"Churn!E10","v":0.31941031941031939},{"$f":"Churn!F10","v":0.32218091697645601},{"$f":"Churn!G10","v":0.38916876574307308},{"$f":"Churn!H10","v":0.4128787878787879},{"$f":"Churn!I10","v":0.43445692883895132},{"$f":"Churn!J10","v":0.41968325791855204},{"$f":"Churn!K10","v":0.40314769975786924},{"$f":"Churn!L10","v":0.3927272727272727},{"$f":"Churn!M10","v":0.40659340659340659},{"$f":"Churn!N10","v":0.3893905191873589},{"$f":"Churn!O10","v":0.34959349593495936},{"$f":"Churn!P10","v":0.38179800221975585},{"$f":"Churn!Q10","v":0.41842397336293008},{"$f":"Churn!R10","v":0.40486725663716816},{"$f":"Churn!S10","v":0.43823845327604727},null,{"$f":"Churn!B116","v":1},{"$f":"Churn!C116","v":0.8},{"$f":"Churn!D116","v":0.6},{"$f":"Churn!E116","v":0.2857142857142857},{"$f":"Churn!F116","v":0.66666666666666663},{"$f":"Churn!G116","v":0.25},{"$f":"Churn!H116","v":0.33333333333333331},{"$f":"Churn!I116","v":0.17857142857142858},{"$f":"Churn!J116","v":0.26315789473684209},{"$f":"Churn!K116","v":0.66666666666666663},{"$f":"Churn!L116","v":0.16666666666666666},{"$f":"Churn!M116","v":0.375},{"$f":"Churn!N116","v":0.2608695652173913},{"$f":"Churn!O116","v":0.28000000000000003},{"$f":"Churn!P116","v":0.42857142857142855},{"$f":"Churn!Q116","v":0.23809523809523808},{"$f":"Churn!R116","v":9.0909090909090912E-2},{"$f":"Churn!S116","v":0.10714285714285714},null,{"$f":"Churn!B139","v":3.255813953488372E-2},{"$f":"Churn!C139","v":8.4985835694051E-3},{"$f":"Churn!D139","v":2.2315202231520222E-2},{"$f":"Churn!E139","v":2.7777777777777776E-2},{"$f":"Churn!F139","v":3.3333333333333333E-2},{"$f":"Churn!G139","v":0.12567567567567567},{"$f":"Churn!H139","v":0.13984962406015036},{"$f":"Churn!I139","v":0.10619469026548672},{"$f":"Churn!J139","v":0.1087248322147651},{"$f":"Churn!K139","v":0.1307277628032345},{"$f":"Churn!L139","v":0.10828025477707007},{"$f":"Churn!M139","v":9.7560975609756101E-2},{"$f":"Churn!N139","v":0.12977099236641221},{"$f":"Churn!O139","v":0.12809315866084425},{"$f":"Churn!P139","v":0.11613876319758673},{"$f":"Churn!Q139","v":0.1119751166407465},{"$f":"Churn!R139","v":0.12080536912751678},{"$f":"Churn!S139","v":9.7643097643097643E-2},null,{"$f":"Churn!B203","v":0.14263565891472868},{"$f":"Churn!C203","v":7.3654390934844188E-2},{"$f":"Churn!D203","v":0.10320781032078104},{"$f":"Churn!E203","v":0.10714285714285714},{"$f":"Churn!F203","v":0.1409090909090909},{"$f":"Churn!G203","v":0.19324324324324324},{"$f":"Churn!H203","v":0.21654135338345865},{"$f":"Churn!I203","v":0.18836915297092288},{"$f":"Churn!J203","v":0.20671140939597316},{"$f":"Churn!K203","v":0.18867924528301888},{"$f":"Churn!L203","v":0.17197452229299362},{"$f":"Churn!M203","v":0.18157181571815717},{"$f":"Churn!N203","v":0.20458015267175572},{"$f":"Churn!O203","v":0.20669577874818049},{"$f":"Churn!P203","v":0.20211161387631976},{"$f":"Churn!Q203","v":0.18973561430793157},{"$f":"Churn!R203","v":0.2063758389261745},{"$f":"Churn!S203","v":0.21885521885521886},null,{"$f":"Unemp!B11","v":0.153},{"$f":"Unemp!C11","v":0.14599999999999999},{"$f":"Unemp!D11","v":0.14599999999999999},{"$f":"Unemp!E11","v":0.14599999999999999},{"$f":"Unemp!F11","v":0.14599999999999999},{"$f":"Unemp!$I11","v":0.13},{"$f":"Unemp!$I11","v":0.13},{"$f":"Unemp!$I11","v":0.13},{"$f":"Unemp!$I11","v":0.13},{"$f":"Unemp!J11","v":0.1},{"$f":"Unemp!K11","v":0.1},{"$f":"Unemp!L11","v":0.1},{"$f":"Unemp!M11","v":0.1},{"$f":"Unemp!N52","v":0.1},{"$f":"Unemp!O52","v":0.1},{"$f":"Unemp!P52","v":0.1},{"$f":"Unemp!Q52","v":0.1},{"$f":"Unemp!R52","v":0.09},{"$f":"Unemp!S52","v":0.09},{"$f":"Unemp!T52","v":0.09},{"$f":"Unemp!U52","v":0.09}]
["Glenn",{"$f":"Participation!V17/Participation!V$6","v":8.3643458715373779E-4},"C-IV","Small",{"$f":"Participation!B17","v":3253},{"$f":"Participation!C17","v":3384},{"$f":"Participation!D17","v":3422},{"$f":"Participation!E17","v":3419},{"$f":"Participation!F17","v":3436},{"$f":"Participation!I17","v":3555},{"$f":"Participation!J17","v":3606},{"$f":"Participation!K17","v":3549},{"$f":"Participation!L17","v":3412},{"$f":"Participation!M17","v":3606},{"$f":"Participation!N17","v":3735},{"$f":"Participation!O17","v":3697},{"$f":"Participation!P17","v":3565},{"$f":"Participation!Q17","v":3684},{"$f":"Participation!R17","v":3682},{"$f":"Participation!S17","v":3645},{"$f":"Participation!T17","v":3551},{"$f":"Participation!U17","v":3581},{"$f":"Participation!V17","v":3655},null,null,null,2.901322788278656E-4,null,-7.3329712112982079E-3,0.1235782354749462,2.0664618821558223E-2,null,{"$f":"PRI!B16","v":0.56599999999999995},{"$f":"PRI!C16","v":0.54400000000000004},{"$f":"PRI!F16","v":0.53700000000000003},{"$f":"PRI!G16","v":0.56899999999999995},{"$f":"PRI!H16","v":0.55838355889207381},{"$f":"PRI!I16","v":0.55587898296053628},null,null,null,null,null,null,null,null,null,null,null,null,null,null,null,null,null,null,null,null,{"$f":"DD_Jun2016!J16","v":0.29452880212099303},null,null,null,null,null,null,null,null,null,null,null,null,null,null,null,null,null,null,null,null,{"$f":"DD_Jun2016!P16","v":0.97344662772172064},null,null,{"$f":"Timely!C273","v":17},{"$f":"Timely!D273","v":15.7},{"$f":"Timely!E273","v":14},{"$f":"Timely!F273","v":15.7},{"$f":"Timely!G273","v":12.7},{"$f":"Timely!H273","v":10.3},{"$f":"Timely!I273","v":10.7},{"$f":"Timely!J273","v":12.7},{"$f":"Timely!K273","v":12.7},{"$f":"Timely!L273","v":11.7},{"$f":"Timely!M273","v":9.6999999999999993},{"$f":"Timely!N273","v":13.3},{"$f":"Timely!O273","v":12.3},{"$f":"Timely!P273","v":9.6999999999999993},{"$f":"Timely!Q273","v":8},{"$f":"Timely!R273","v":9.6999999999999993},{"$f":"Timely!S273","v":10.7},{"$f":"Timely!T273","v":8.3000000000000007},null,null,{"$f":"Timely!C81","v":0},{"$f":"Timely!D81","v":1},{"$f":"Timely!E81","v":0},{"$f":"Timely!F81","v":0},{"$f":"Timely!G81","v":0},{"$f":"Timely!J81","v":0},{"$f":"Timely!K81","v":0},{"$f":"Timely!L81","v":0},{"$f":"Timely!M81","v":0},{"$f":"Timely!N81","v":0},{"$f":"Timely!O81","v":1.2000000000000011E-2},{"$f":"Timely!P81","v":0},{"$f":"Timely!Q81","v":0},{"$f":"Timely!R81","v":0},{"$f":"Timely!S81","v":0},{"$f":"Timely!T81","v":0},{"$f":"Timely!U81","v":0},{"$f":"Timely!V81","v":1.100000000000001E-2},{"$f":"Timely!W81","v":0},null,null,null,null,null,{"$f":"Timely!C208","v":9.000000000000008E-3},{"$f":"Timely!D208","v":0},{"$f":"Timely!E208","v":0},{"$f":"Timely!F208","v":1.8000000000000016E-2},{"$f":"Timely!G208","v":8.0000000000000071E-3},{"$f":"Timely!J208","v":0},{"$f":"Timely!K208","v":7.0000000000000062E-3},{"$f":"Timely!L208","v":8.0000000000000071E-3},{"$f":"Timely!M208","v":0},{"$f":"Timely!N208","v":5.600000000000005E-2},{"$f":"Timely!O208","v":0},{"$f":"Timely!P208","v":2.5000000000000022E-2},{"$f":"Timely!Q208","v":1.5000000000000013E-2},{"$f":"Timely!R208","v":1.5000000000000013E-2},{"$f":"Timely!S208","v":1.4000000000000012E-2},{"$f":"Timely!T208","v":1.0000000000000009E-2},{"$f":"Timely!U208","v":9.000000000000008E-3},{"$f":"Timely!V208","v":2.200000000000002E-2},{"$f":"Timely!W208","v":1.4000000000000012E-2},null,null,null,null,{"$f":"Churn!B16","v":0.42405063291139239},{"$f":"Churn!C16","v":0.1960352422907489},{"$f":"Churn!D16","v":0.20556745182012848},{"$f":"Churn!E16","v":0.22716627634660422},{"$f":"Churn!F16","v":0.28781512605042014},{"$f":"Churn!G16","v":0.40090090090090091},{"$f":"Churn!H16","v":0.41513292433537835},{"$f":"Churn!I16","v":0.43612334801762115},{"$f":"Churn!J16","v":0.40909090909090912},{"$f":"Churn!K16","v":0.37096774193548387},{"$f":"Churn!L16","v":0.42173913043478262},{"$f":"Churn!M16","v":0.43707093821510296},{"$f":"Churn!N16","v":0.4220532319391635},{"$f":"Churn!O16","v":0.44468546637744033},{"$f":"Churn!P16","v":0.42424242424242425},{"$f":"Churn!Q16","v":0.43991853360488797},{"$f":"Churn!R16","v":0.41015625},{"$f":"Churn!S16","v":0.36739130434782608},null,{"$f":"Churn!B117","v":0.94354838709677424},{"$f":"Churn!C117","v":0.68669527896995708},{"$f":"Churn!D117","v":0.64935064935064934},{"$f":"Churn!E117","v":0.63197026022304836},{"$f":"Churn!F117","v":0.63503649635036497},{"$f":"Churn!G117","v":0.41379310344827586},{"$f":"Churn!H117","v":0.34662576687116564},{"$f":"Churn!I117","v":0.48587570621468928},{"$f":"Churn!J117","v":0.53712871287128716},{"$f":"Churn!K117","v":0.70987654320987659},{"$f":"Churn!L117","v":0.61337209302325579},{"$f":"Churn!M117","v":0.66586538461538458},{"$f":"Churn!N117","v":0.58578431372549022},{"$f":"Churn!O117","v":0.63609467455621305},{"$f":"Churn!P117","v":0.62941176470588234},{"$f":"Churn!Q117","v":0.77615571776155723},{"$f":"Churn!R117","v":0.71693121693121697},{"$f":"Churn!S117","v":0.65027322404371579},null,{"$f":"Churn!B145","v":2.004008016032064E-2},{"$f":"Churn!C145","v":4.9407114624505928E-2},{"$f":"Churn!D145","v":3.6960985626283367E-2},{"$f":"Churn!E145","v":2.3952095808383235E-2},{"$f":"Churn!F145","v":5.2525252525252523E-2},{"$f":"Churn!G145","v":0.2024793388429752},{"$f":"Churn!H145","v":0.1368909512761021},{"$f":"Churn!I145","v":0.18541666666666667},{"$f":"Churn!J145","v":0.16494845360824742},{"$f":"Churn!K145","v":0.15176715176715178},{"$f":"Churn!L145","v":0.13910761154855644},{"$f":"Churn!M145","v":0.10070257611241218},{"$f":"Churn!N145","v":0.1522248243559719},{"$f":"Churn!O145","v":0.13659793814432988},{"$f":"Churn!P145","v":0.12182741116751269},{"$f":"Churn!Q145","v":9.498680738786279E-2},{"$f":"Churn!R145","v":0.15142857142857144},{"$f":"Churn!S145","v":0.14868105515587529},null,{"$f":"Churn!B209","v":0.12424849699398798},{"$f":"Churn!C209","v":0.12450592885375494},{"$f":"Churn!D209","v":0.13552361396303902},{"$f":"Churn!E209","v":0.1157684630738523},{"$f":"Churn!F209","v":0.16767676767676767},{"$f":"Churn!G209","v":0.28305785123966942},{"$f":"Churn!H209","v":0.21113689095127611},{"$f":"Churn!I209","v":0.25208333333333333},{"$f":"Churn!J209","v":0.27835051546391754},{"$f":"Churn!K209","v":0.20790020790020791},{"$f":"Churn!L209","v":0.22047244094488189},{"$f":"Churn!M209","v":0.1756440281030445},{"$f":"Churn!N209","v":0.24590163934426229},{"$f":"Churn!O209","v":0.22422680412371135},{"$f":"Churn!P209","v":0.20558375634517767},{"$f":"Churn!Q209","v":0.16358839050131926},{"$f":"Churn!R209","v":0.24},{"$f":"Churn!S209","v":0.23741007194244604},null,{"$f":"Unemp!B17","v":0.159},{"$f":"Unemp!C17","v":0.158},{"$f":"Unemp!D17","v":0.158},{"$f":"Unemp!E17","v":0.158},{"$f":"Unemp!F17","v":0.158},{"$f":"Unemp!$I17","v":0.14699999999999999},{"$f":"Unemp!$I17","v":0.14699999999999999},{"$f":"Unemp!$I17","v":0.14699999999999999},{"$f":"Unemp!$I17","v":0.14699999999999999},{"$f":"Unemp!J17","v":0.121},{"$f":"Unemp!K17","v":0.121},{"$f":"Unemp!L17","v":0.121},{"$f":"Unemp!M17","v":0.121},{"$f":"Unemp!N53","v":0.113},{"$f":"Unemp!O53","v":0.113},{"$f":"Unemp!P53","v":0.113},{"$f":"Unemp!Q53","v":0.113},{"$f":"Unemp!R53","v":9.4E-2},{"$f":"Unemp!S53","v":9.4E-2},{"$f":"Unemp!T53","v":9.4E-2},{"$f":"Unemp!U53","v":9.4E-2}]
["Amador",{"$f":"Participation!V9/Participation!V$6","v":7.8151138580848556E-4},"C-IV","Small",{"$f":"Participation!B9","v":3032},{"$f":"Participation!C9","v":3081},{"$f":"Participation!D9","v":3214},{"$f":"Participation!E9","v":3287},{"$f":"Participation!F9","v":3340},{"$f":"Participation!I9","v":3319},{"$f":"Participation!J9","v":3262},{"$f":"Participation!K9","v":3280},{"$f":"Participation!L9","v":3261},{"$f":"Participation!M9","v":3428},{"$f":"Participation!N9","v":3411},{"$f":"Participation!O9","v":3373},{"$f":"Participation!P9","v":3308},{"$f":"Participation!Q9","v":3278},{"$f":"Participation!R9","v":3438},{"$f":"Participation!S9","v":3445},{"$f":"Participation!T9","v":3440},{"$f":"Participation!U9","v":3384},{"$f":"Participation!V9","v":3415},null,null,null,2.4714971900151512E-4,null,-6.6899360093077374E-3,0.12631926121372031,9.1607565011820324E-3,null,{"$f":"PRI!B8","v":0.75700000000000001},{"$f":"PRI!C8","v":0.70299999999999996},{"$f":"PRI!F8","v":0.76700000000000002},{"$f":"PRI!G8","v":0.65700000000000003},{"$f":"PRI!H8","v":0.66465992098604165},{"$f":"PRI!I8","v":0.73183059517474591},null,null,null,null,null,null,null,null,null,null,null,null,null,null,null,null,null,null,null,null,{"$f":"DD_Jun2016!J8","v":0.37625398324088283},null,null,null,null,null,null,null,null,null,null,null,null,null,null,null,null,null,null,null,null,{"$f":"DD_Jun2016!P8","v":0.91979226774379685},null,null,{"$f":"Timely!C265","v":15.7},{"$f":"Timely!D265","v":14},{"$f":"Timely!E265","v":11},{"$f":"Timely!F265","v":12.3},{"$f":"Timely!G265","v":13},{"$f":"Timely!H265","v":11.7},{"$f":"Timely!I265","v":10.7},{"$f":"Timely!J265","v":12.3},{"$f":"Timely!K265","v":11.3},{"$f":"Timely!L265","v":8.3000000000000007},{"$f":"Timely!M265","v":8.6999999999999993},{"$f":"Timely!N265","v":12},{"$f":"Timely!O265","v":12.3},{"$f":"Timely!P265","v":12.7},{"$f":"Timely!Q265","v":9.3000000000000007},{"$f":"Timely!R265","v":13.7},{"$f":"Timely!S265","v":10.3},{"$f":"Timely!T265","v":10.3},null,null,{"$f":"Timely!C73","v":0.22599999999999998},{"$f":"Timely!D73","v":0.129},{"$f":"Timely!E73","v":0.10399999999999998},{"$f":"Timely!F73","v":4.4000000000000039E-2},{"$f":"Timely!G73","v":2.7000000000000024E-2},{"$f":"Timely!J73","v":8.5999999999999965E-2},{"$f":"Timely!K73","v":2.7000000000000024E-2},{"$f":"Timely!L73","v":2.8000000000000025E-2},{"$f":"Timely!M73","v":6.899999999999995E-2},{"$f":"Timely!N73","v":6.2999999999999945E-2},{"$f":"Timely!O73","v":3.400000000000003E-2},{"$f":"Timely!P73","v":0},{"$f":"Timely!Q73","v":4.3000000000000038E-2},{"$f":"Timely!R73","v":3.7000000000000033E-2},{"$f":"Timely!S73","v":0},{"$f":"Timely!T73","v":0},{"$f":"Timely!U73","v":2.4000000000000021E-2},{"$f":"Timely!V73","v":4.2000000000000037E-2},{"$f":"Timely!W73","v":1.100000000000001E-2},null,null,null,null,null,{"$f":"Timely!C200","v":0.10699999999999998},{"$f":"Timely!D200","v":5.2000000000000046E-2},{"$f":"Timely!E200","v":0.13900000000000001},{"$f":"Timely!F200","v":7.1999999999999953E-2},{"$f":"Timely!G200","v":6.3999999999999946E-2},{"$f":"Timely!J200","v":6.899999999999995E-2},{"$f":"Timely!K200","v":4.4000000000000039E-2},{"$f":"Timely!L200","v":5.600000000000005E-2},{"$f":"Timely!M200","v":1.4000000000000012E-2},{"$f":"Timely!N200","v":2.9000000000000026E-2},{"$f":"Timely!O200","v":4.3000000000000038E-2},{"$f":"Timely!P200","v":4.7000000000000042E-2},{"$f":"Timely!Q200","v":6.0000000000000053E-2},{"$f":"Timely!R200","v":5.8000000000000052E-2},{"$f":"Timely!S200","v":6.0000000000000053E-2},{"$f":"Timely!T200","v":3.8000000000000034E-2},{"$f":"Timely!U200","v":4.1000000000000036E-2},{"$f":"Timely!V200","v":2.6000000000000023E-2},{"$f":"Timely!W200","v":4.1000000000000036E-2},null,null,null,null,{"$f":"Churn!B8","v":0.3611111111111111},{"$f":"Churn!C8","v":0.31176470588235294},{"$f":"Churn!D8","v":0.31609195402298851},{"$f":"Churn!E8","v":0.27321428571428569},{"$f":"Churn!F8","v":0.30158730158730157},{"$f":"Churn!G8","v":0.41433566433566432},{"$f":"Churn!H8","v":0.43585780525502316},{"$f":"Churn!I8","v":0.43833333333333335},{"$f":"Churn!J8","v":0.44273504273504272},{"$f":"Churn!K8","v":0.44297520661157025},{"$f":"Churn!L8","v":0.45177664974619292},{"$f":"Churn!M8","v":0.43267504488330338},{"$f":"Churn!N8","v":0.41569282136894825},{"$f":"Churn!O8","v":0.4226086956521739},{"$f":"Churn!P8","v":0.43035714285714288},{"$f":"Churn!Q8","v":0.42095914742451157},{"$f":"Churn!R8","v":0.41803278688524592},{"$f":"Churn!S8","v":0.39150943396226418},null,{"$f":"Churn!B118","v":0.3287086446104589},{"$f":"Churn!C118","v":0.37278761061946902},{"$f":"Churn!D118","v":0.40264026402640263},{"$f":"Churn!E118","v":0.33158995815899583},{"$f":"Churn!F118","v":0.3520456707897241},{"$f":"Churn!G118","v":0.35506519558676031},{"$f":"Churn!H118","v":0.33894945490584738},{"$f":"Churn!I118","v":0.26947179946284688},{"$f":"Churn!J118","v":0.29473684210526313},{"$f":"Churn!K118","v":0.27022375215146299},{"$f":"Churn!L118","v":0.27022375215146299},{"$f":"Churn!M118","v":0.28135048231511256},{"$f":"Churn!N118","v":0.23308774279973207},{"$f":"Churn!O118","v":0.2373134328358209},{"$f":"Churn!P118","v":0.21492204899777284},{"$f":"Churn!Q118","v":0.20437262357414449},{"$f":"Churn!R118","v":0.2276536312849162},{"$f":"Churn!S118","v":0.20414428242517269},null,{"$f":"Churn!B137","v":2.8747433264887063E-2},{"$f":"Churn!C137","v":3.6332179930795849E-2},{"$f":"Churn!D137","v":2.9090909090909091E-2},{"$f":"Churn!E137","v":3.2758620689655175E-2},{"$f":"Churn!F137","v":2.8462998102466792E-2},{"$f":"Churn!G137","v":0.1708185053380783},{"$f":"Churn!H137","v":0.14393939393939395},{"$f":"Churn!I137","v":0.1552901023890785},{"$f":"Churn!J137","v":0.18003565062388591},{"$f":"Churn!K137","v":0.14215686274509803},{"$f":"Churn!L137","v":0.13555555555555557},{"$f":"Churn!M137","v":0.16170212765957448},{"$f":"Churn!N137","v":0.17123287671232876},{"$f":"Churn!O137","v":0.13988657844990549},{"$f":"Churn!P137","v":0.14442013129102846},{"$f":"Churn!Q137","v":0.15845824411134904},{"$f":"Churn!R137","v":0.10480349344978165},{"$f":"Churn!S137","v":0.13071895424836602},null,{"$f":"Churn!B201","v":0.10472279260780287},{"$f":"Churn!C201","v":0.10034602076124567},{"$f":"Churn!D201","v":0.14181818181818182},{"$f":"Churn!E201","v":0.14655172413793102},{"$f":"Churn!F201","v":0.14041745730550284},{"$f":"Churn!G201","v":0.25622775800711745},{"$f":"Churn!H201","v":0.20643939393939395},{"$f":"Churn!I201","v":0.2235494880546075},{"$f":"Churn!J201","v":0.26381461675579321},{"$f":"Churn!K201","v":0.20424836601307189},{"$f":"Churn!L201","v":0.21555555555555556},{"$f":"Churn!M201","v":0.22978723404255319},{"$f":"Churn!N201","v":0.26255707762557079},{"$f":"Churn!O201","v":0.22873345935727787},{"$f":"Churn!P201","v":0.22319474835886213},{"$f":"Churn!Q201","v":0.23554603854389722},{"$f":"Churn!R201","v":0.22270742358078602},{"$f":"Churn!S201","v":0.24183006535947713},null,{"$f":"Unemp!B9","v":0.13300000000000001},{"$f":"Unemp!C9","v":0.128},{"$f":"Unemp!D9","v":0.128},{"$f":"Unemp!E9","v":0.128},{"$f":"Unemp!F9","v":0.128},{"$f":"Unemp!$I9","v":0.11799999999999999},{"$f":"Unemp!$I9","v":0.11799999999999999},{"$f":"Unemp!$I9","v":0.11799999999999999},{"$f":"Unemp!$I9","v":0.11799999999999999},{"$f":"Unemp!J9","v":0.10299999999999999},{"$f":"Unemp!K9","v":0.10299999999999999},{"$f":"Unemp!L9","v":0.10299999999999999},{"$f":"Unemp!M9","v":0.10299999999999999},{"$f":"Unemp!N54","v":7.4999999999999997E-2},{"$f":"Unemp!O54","v":7.4999999999999997E-2},{"$f":"Unemp!P54","v":7.4999999999999997E-2},{"$f":"Unemp!Q54","v":7.4999999999999997E-2},{"$f":"Unemp!R54","v":6.0999999999999999E-2},{"$f":"Unemp!S54","v":6.0999999999999999E-2},{"$f":"Unemp!T54","v":6.0999999999999999E-2},{"$f":"Unemp!U54","v":6.0999999999999999E-2}]
["Lassen",{"$f":"Participation!V24/Participation!V$6","v":7.2178240434552367E-4},"C-IV","Small",{"$f":"Participation!B24","v":2980},{"$f":"Participation!C24","v":2931},{"$f":"Participation!D24","v":2948},{"$f":"Participation!E24","v":2933},{"$f":"Participation!F24","v":2956},{"$f":"Participation!I24","v":2939},{"$f":"Participation!J24","v":2954},{"$f":"Participation!K24","v":2971},{"$f":"Participation!L24","v":3015},{"$f":"Participation!M24","v":3149},{"$f":"Participation!N24","v":3235},{"$f":"Participation!O24","v":3168},{"$f":"Participation!P24","v":3216},{"$f":"Participation!Q24","v":3182},{"$f":"Participation!R24","v":3212},{"$f":"Participation!S24","v":3205},{"$f":"Participation!T24","v":3144},{"$f":"Participation!U24","v":3164},{"$f":"Participation!V24","v":3154},null,null,null,6.2324711748208163E-4,null,-1.8057285180572851E-2,5.8389261744966441E-2,-3.1605562579013905E-3,null,{"$f":"PRI!B23","v":0.74099999999999999},{"$f":"PRI!C23","v":0.71699999999999997},{"$f":"PRI!F23","v":0.65800000000000003},{"$f":"PRI!G23","v":0.67800000000000005},{"$f":"PRI!H23","v":0.78611426364455528},{"$f":"PRI!I23","v":0.85393368079206677},null,null,null,null,null,null,null,null,null,null,null,null,null,null,null,null,null,null,null,null,{"$f":"DD_Jun2016!J23","v":0.37634674922600619},null,null,null,null,null,null,null,null,null,null,null,null,null,null,null,null,null,null,null,null,{"$f":"DD_Jun2016!P23","v":0.93767355754396786},null,null,{"$f":"Timely!C280","v":12},{"$f":"Timely!D280","v":9.3000000000000007},{"$f":"Timely!E280","v":11.7},{"$f":"Timely!F280","v":13.7},{"$f":"Timely!G280","v":12},{"$f":"Timely!H280","v":10.3},{"$f":"Timely!I280","v":11.3},{"$f":"Timely!J280","v":12},{"$f":"Timely!K280","v":14.7},{"$f":"Timely!L280","v":12.7},{"$f":"Timely!M280","v":16},{"$f":"Timely!N280","v":20.7},{"$f":"Timely!O280","v":18.7},{"$f":"Timely!P280","v":15},{"$f":"Timely!Q280","v":21.7},{"$f":"Timely!R280","v":23.3},{"$f":"Timely!S280","v":21},{"$f":"Timely!T280","v":15},null,null,{"$f":"Timely!C88","v":5.1000000000000045E-2},{"$f":"Timely!D88","v":5.7000000000000051E-2},{"$f":"Timely!E88","v":8.0000000000000071E-3},{"$f":"Timely!F88","v":4.3000000000000038E-2},{"$f":"Timely!G88","v":2.200000000000002E-2},{"$f":"Timely!J88","v":2.9000000000000026E-2},{"$f":"Timely!K88","v":1.100000000000001E-2},{"$f":"Timely!L88","v":2.1000000000000019E-2},{"$f":"Timely!M88","v":4.3000000000000038E-2},{"$f":"Timely!N88","v":9.7999999999999976E-2},{"$f":"Timely!O88","v":3.8000000000000034E-2},{"$f":"Timely!P88","v":6.2000000000000055E-2},{"$f":"Timely!Q88","v":0.16800000000000004},{"$f":"Timely!R88","v":0.13300000000000001},{"$f":"Timely!S88","v":5.600000000000005E-2},{"$f":"Timely!T88","v":0.11499999999999999},{"$f":"Timely!U88","v":0.22999999999999998},{"$f":"Timely!V88","v":0.16900000000000004},{"$f":"Timely!W88","v":6.2000000000000055E-2},null,null,null,null,null,{"$f":"Timely!C215","v":2.5000000000000022E-2},{"$f":"Timely!D215","v":3.0000000000000027E-2},{"$f":"Timely!E215","v":6.3999999999999946E-2},{"$f":"Timely!F215","v":6.9999999999999951E-2},{"$f":"Timely!G215","v":9.8999999999999977E-2},{"$f":"Timely!J215","v":7.8999999999999959E-2},{"$f":"Timely!K215","v":4.1000000000000036E-2},{"$f":"Timely!L215","v":8.7999999999999967E-2},{"$f":"Timely!M215","v":8.7999999999999967E-2},{"$f":"Timely!N215","v":0.17300000000000004},{"$f":"Timely!O215","v":0.125},{"$f":"Timely!P215","v":0.15100000000000002},{"$f":"Timely!Q215","v":0.22399999999999998},{"$f":"Timely!R215","v":0.21599999999999997},{"$f":"Timely!S215","v":0.26600000000000001},{"$f":"Timely!T215","v":0.253},{"$f":"Timely!U215","v":0.19499999999999995},{"$f":"Timely!V215","v":9.6999999999999975E-2},{"$f":"Timely!W215","v":0.247},null,null,null,null,{"$f":"Churn!B23","v":0.60693641618497107},{"$f":"Churn!C23","v":0.2713347921225383},{"$f":"Churn!D23","v":0.24731182795698925},{"$f":"Churn!E23","v":0.29335793357933582},{"$f":"Churn!F23","v":0.30497925311203322},{"$f":"Churn!G23","v":0.4589473684210526},{"$f":"Churn!H23","v":0.41286307053941906},{"$f":"Churn!I23","v":0.40625},{"$f":"Churn!J23","v":0.42385321100917434},{"$f":"Churn!K23","v":0.38461538461538464},{"$f":"Churn!L23","v":0.40585774058577406},{"$f":"Churn!M23","v":0.39756944444444442},{"$f":"Churn!N23","v":0.45617173524150267},{"$f":"Churn!O23","v":0.45725646123260438},{"$f":"Churn!P23","v":0.44008714596949888},{"$f":"Churn!Q23","v":0.45506692160611856},{"$f":"Churn!R23","v":0.45309381237524948},{"$f":"Churn!S23","v":0.47401247401247404},null,{"$f":"Churn!B119","v":0.55595026642984013},{"$f":"Churn!C119","v":0.64383561643835618},{"$f":"Churn!D119","v":0.6033519553072626},{"$f":"Churn!E119","v":0.52510760401721668},{"$f":"Churn!F119","v":0.54929577464788737},{"$f":"Churn!G119","v":0.51413189771197843},{"$f":"Churn!H119","v":0.49813200498132004},{"$f":"Churn!I119","v":0.44013683010262256},{"$f":"Churn!J119","v":0.63459669582118561},{"$f":"Churn!K119","v":0.48971193415637859},{"$f":"Churn!L119","v":0.48971193415637859},{"$f":"Churn!M119","v":0.56535600425079702},{"$f":"Churn!N119","v":0.63441955193482691},{"$f":"Churn!O119","v":0.50884495317377731},{"$f":"Churn!P119","v":0.56066945606694563},{"$f":"Churn!Q119","v":0.47495183044315992},{"$f":"Churn!R119","v":0.60808270676691734},{"$f":"Churn!S119","v":0.58693467336683414},null,{"$f":"Churn!B152","v":0.1417624521072797},{"$f":"Churn!C152","v":0.11035653650254669},{"$f":"Churn!D152","v":0.10363636363636364},{"$f":"Churn!E152","v":5.5091819699499167E-2},{"$f":"Churn!F152","v":9.8739495798319324E-2},{"$f":"Churn!G152","v":0.16108786610878661},{"$f":"Churn!H152","v":0.15450643776824036},{"$f":"Churn!I152","v":0.15575221238938053},{"$f":"Churn!J152","v":0.1396761133603239},{"$f":"Churn!K152","v":0.10337078651685393},{"$f":"Churn!L152","v":7.8624078624078622E-2},{"$f":"Churn!M152","v":0.12017167381974249},{"$f":"Churn!N152","v":8.7885985748218529E-2},{"$f":"Churn!O152","v":6.8292682926829273E-2},{"$f":"Churn!P152","v":7.4358974358974358E-2},{"$f":"Churn!Q152","v":8.4951456310679616E-2},{"$f":"Churn!R152","v":6.3218390804597707E-2},{"$f":"Churn!S152","v":5.2486187845303865E-2},null,{"$f":"Churn!B216","v":0.31417624521072796},{"$f":"Churn!C216","v":0.26825127334465193},{"$f":"Churn!D216","v":0.2781818181818182},{"$f":"Churn!E216","v":0.17696160267111852},{"$f":"Churn!F216","v":0.21218487394957983},{"$f":"Churn!G216","v":0.2510460251046025},{"$f":"Churn!H216","v":0.23390557939914164},{"$f":"Churn!I216","v":0.23539823008849559},{"$f":"Churn!J216","v":0.22267206477732793},{"$f":"Churn!K216","v":0.18876404494382024},{"$f":"Churn!L216","v":0.171990171990172},{"$f":"Churn!M216","v":0.20171673819742489},{"$f":"Churn!N216","v":0.14014251781472684},{"$f":"Churn!O216","v":0.15365853658536585},{"$f":"Churn!P216","v":0.14102564102564102},{"$f":"Churn!Q216","v":0.16019417475728157},{"$f":"Churn!R216","v":0.16091954022988506},{"$f":"Churn!S216","v":0.15745856353591159},null,{"$f":"Unemp!B24","v":0.14000000000000001},{"$f":"Unemp!C24","v":0.13400000000000001},{"$f":"Unemp!D24","v":0.13400000000000001},{"$f":"Unemp!E24","v":0.13400000000000001},{"$f":"Unemp!F24","v":0.13400000000000001},{"$f":"Unemp!$I24","v":0.126},{"$f":"Unemp!$I24","v":0.126},{"$f":"Unemp!$I24","v":0.126},{"$f":"Unemp!$I24","v":0.126},{"$f":"Unemp!J24","v":0.106},{"$f":"Unemp!K24","v":0.106},{"$f":"Unemp!L24","v":0.106},{"$f":"Unemp!M24","v":0.106},{"$f":"Unemp!N55","v":5.6000000000000001E-2},{"$f":"Unemp!O55","v":5.6000000000000001E-2},{"$f":"Unemp!P55","v":5.6000000000000001E-2},{"$f":"Unemp!Q55","v":5.6000000000000001E-2},{"$f":"Unemp!R55","v":4.4999999999999998E-2},{"$f":"Unemp!S55","v":4.4999999999999998E-2},{"$f":"Unemp!T55","v":4.4999999999999998E-2},{"$f":"Unemp!U55","v":4.4999999999999998E-2}]
["Plumas",{"$f":"Participation!V38/Participation!V$6","v":5.1238769921674939E-4},"C-IV","Small",{"$f":"Participation!B38","v":1514},{"$f":"Participation!C38","v":1564},{"$f":"Participation!D38","v":1662},{"$f":"Participation!E38","v":1654},{"$f":"Participation!F38","v":1612},{"$f":"Participation!I38","v":1759},{"$f":"Participation!J38","v":1729},{"$f":"Participation!K38","v":1604},{"$f":"Participation!L38","v":1660},{"$f":"Participation!M38","v":1844},{"$f":"Participation!N38","v":1951},{"$f":"Participation!O38","v":1793},{"$f":"Participation!P38","v":1888},{"$f":"Participation!Q38","v":2030},{"$f":"Participation!R38","v":2151},{"$f":"Participation!S38","v":1993},{"$f":"Participation!T38","v":2010},{"$f":"Participation!U38","v":2208},{"$f":"Participation!V38","v":2239},null,null,null,-9.4561631617971005E-4,null,4.0911204091120409E-2,0.47886393659180976,1.4039855072463768E-2,null,{"$f":"PRI!B37","v":0.38800000000000001},{"$f":"PRI!C37","v":0.44700000000000001},{"$f":"PRI!F37","v":0.46100000000000002},{"$f":"PRI!G37","v":0.439},{"$f":"PRI!H37","v":0.5261404932248257},{"$f":"PRI!I37","v":0.59469382647241054},null,null,null,null,null,null,null,null,null,null,null,null,null,null,null,null,null,null,null,null,{"$f":"DD_Jun2016!J37","v":0.32379898862199746},null,null,null,null,null,null,null,null,null,null,null,null,null,null,null,null,null,null,null,null,{"$f":"DD_Jun2016!P37","v":0.90905057675244005},null,null,{"$f":"Timely!C294","v":19},{"$f":"Timely!D294","v":15},{"$f":"Timely!E294","v":15.7},{"$f":"Timely!F294","v":18.3},{"$f":"Timely!G294","v":16.7},{"$f":"Timely!H294","v":15.7},{"$f":"Timely!I294","v":13},{"$f":"Timely!J294","v":16.3},{"$f":"Timely!K294","v":18.3},{"$f":"Timely!L294","v":16.7},{"$f":"Timely!M294","v":15.3},{"$f":"Timely!N294","v":15.3},{"$f":"Timely!O294","v":15},{"$f":"Timely!P294","v":15.7},{"$f":"Timely!Q294","v":16.3},{"$f":"Timely!R294","v":16.3},{"$f":"Timely!S294","v":17},{"$f":"Timely!T294","v":16},null,null,{"$f":"Timely!C102","v":4.3000000000000038E-2},{"$f":"Timely!D102","v":0.22599999999999998},{"$f":"Timely!E102","v":2.1000000000000019E-2},{"$f":"Timely!F102","v":5.3000000000000047E-2},{"$f":"Timely!G102","v":0.14100000000000001},{"$f":"Timely!J102","v":8.0999999999999961E-2},{"$f":"Timely!K102","v":0},{"$f":"Timely!L102","v":0},{"$f":"Timely!M102","v":3.7000000000000033E-2},{"$f":"Timely!N102","v":1.3000000000000012E-2},{"$f":"Timely!O102","v":0},{"$f":"Timely!P102","v":0},{"$f":"Timely!Q102","v":3.6000000000000032E-2},{"$f":"Timely!R102","v":0},{"$f":"Timely!S102","v":0},{"$f":"Timely!T102","v":0},{"$f":"Timely!U102","v":2.300000000000002E-2},{"$f":"Timely!V102","v":0},{"$f":"Timely!W102","v":0},null,null,null,null,null,{"$f":"Timely!C229","v":0},{"$f":"Timely!D229","v":3.9000000000000035E-2},{"$f":"Timely!E229","v":3.1000000000000028E-2},{"$f":"Timely!F229","v":6.2000000000000055E-2},{"$f":"Timely!G229","v":4.6000000000000041E-2},{"$f":"Timely!J229","v":1.9000000000000017E-2},{"$f":"Timely!K229","v":2.200000000000002E-2},{"$f":"Timely!L229","v":3.0000000000000027E-2},{"$f":"Timely!M229","v":0.18500000000000005},{"$f":"Timely!N229","v":0.44899999999999995},{"$f":"Timely!O229","v":0.46699999999999997},{"$f":"Timely!P229","v":0.126},{"$f":"Timely!Q229","v":0.126},{"$f":"Timely!R229","v":0.19299999999999995},{"$f":"Timely!S229","v":9.6999999999999975E-2},{"$f":"Timely!T229","v":9.6999999999999975E-2},{"$f":"Timely!U229","v":0.17100000000000004},{"$f":"Timely!V229","v":0.17800000000000005},{"$f":"Timely!W229","v":0.11499999999999999},null,null,null,null,{"$f":"Churn!B37","v":0.3},{"$f":"Churn!C37","v":0.23655913978494625},{"$f":"Churn!D37","v":0.22564102564102564},{"$f":"Churn!E37","v":0.29661016949152541},{"$f":"Churn!F37","v":0.29032258064516131},{"$f":"Churn!G37","v":0.47826086956521741},{"$f":"Churn!H37","v":0.47107438016528924},{"$f":"Churn!I37","v":0.5},{"$f":"Churn!J37","v":0.46416382252559729},{"$f":"Churn!K37","v":0.43846153846153846},{"$f":"Churn!L37","v":0.44841269841269843},{"$f":"Churn!M37","v":0.46925566343042069},{"$f":"Churn!N37","v":0.44542772861356933},{"$f":"Churn!O37","v":0.40769230769230769},{"$f":"Churn!P37","v":0.47859922178988329},{"$f":"Churn!Q37","v":0.50673854447439348},{"$f":"Churn!R37","v":0.42975206611570249},{"$f":"Churn!S37","v":0.42342342342342343},null,{"$f":"Churn!B120","v":0.91412742382271472},{"$f":"Churn!C120","v":0.68259023354564752},{"$f":"Churn!D120","v":0.71563547698872298},{"$f":"Churn!E120","v":0.73867147270854794},{"$f":"Churn!F120","v":0.72992700729927007},{"$f":"Churn!G120","v":0.44605009633911369},{"$f":"Churn!H120","v":0.41062911651146944},{"$f":"Churn!I120","v":0.45541685242978153},{"$f":"Churn!J120","v":0.68982060909470166},{"$f":"Churn!K120","v":0.7657803468208092},{"$f":"Churn!L120","v":0.73250682916579113},{"$f":"Churn!M120","v":0.71650445226755022},{"$f":"Churn!N120","v":0.75982436882546656},{"$f":"Churn!O120","v":0.72796846011131722},{"$f":"Churn!P120","v":0.72080449826989623},{"$f":"Churn!Q120","v":0.65631144317734957},{"$f":"Churn!R120","v":0.62696361105587595},{"$f":"Churn!S120","v":0.55124255493941265},null,{"$f":"Churn!B166","v":3.8869257950530034E-2},{"$f":"Churn!C166","v":5.2469135802469133E-2},{"$f":"Churn!D166","v":2.6936026936026935E-2},{"$f":"Churn!E166","v":2.1276595744680851E-2},{"$f":"Churn!F166","v":3.0120481927710843E-2},{"$f":"Churn!G166","v":0.17065868263473055},{"$f":"Churn!H166","v":0.1717557251908397},{"$f":"Churn!I166","v":0.13544668587896252},{"$f":"Churn!J166","v":0.10277777777777777},{"$f":"Churn!K166","v":5.6603773584905662E-2},{"$f":"Churn!L166","v":7.3469387755102047E-2},{"$f":"Churn!M166","v":9.1623036649214659E-2},{"$f":"Churn!N166","v":8.0246913580246909E-2},{"$f":"Churn!O166","v":7.5916230366492143E-2},{"$f":"Churn!P166","v":0.11836734693877551},{"$f":"Churn!Q166","v":0.117096018735363},{"$f":"Churn!R166","v":7.6271186440677971E-2},{"$f":"Churn!S166","v":0.11411411411411411},null,{"$f":"Churn!B230","v":0.11307420494699646},{"$f":"Churn!C230","v":0.10802469135802469},{"$f":"Churn!D230","v":0.1111111111111111},{"$f":"Churn!E230","v":9.1185410334346503E-2},{"$f":"Churn!F230","v":9.337349397590361E-2},{"$f":"Churn!G230","v":0.22754491017964071},{"$f":"Churn!H230","v":0.22137404580152673},{"$f":"Churn!I230","v":0.19020172910662825},{"$f":"Churn!J230","v":0.18333333333333332},{"$f":"Churn!K230","v":0.1069182389937107},{"$f":"Churn!L230","v":0.13469387755102041},{"$f":"Churn!M230","v":0.14659685863874344},{"$f":"Churn!N230","v":0.14506172839506173},{"$f":"Churn!O230","v":0.1099476439790576},{"$f":"Churn!P230","v":0.16734693877551021},{"$f":"Churn!Q230","v":0.19672131147540983},{"$f":"Churn!R230","v":0.16384180790960451},{"$f":"Churn!S230","v":0.1891891891891892},null,{"$f":"Unemp!B38","v":0.16700000000000001},{"$f":"Unemp!C38","v":0.16},{"$f":"Unemp!D38","v":0.16},{"$f":"Unemp!E38","v":0.16},{"$f":"Unemp!F38","v":0.16},{"$f":"Unemp!$I38","v":0.14699999999999999},{"$f":"Unemp!$I38","v":0.14699999999999999},{"$f":"Unemp!$I38","v":0.14699999999999999},{"$f":"Unemp!$I38","v":0.14699999999999999},{"$f":"Unemp!J38","v":0.13900000000000001},{"$f":"Unemp!K38","v":0.13900000000000001},{"$f":"Unemp!L38","v":0.13900000000000001},{"$f":"Unemp!M38","v":0.13900000000000001},{"$f":"Unemp!N56","v":0.112},{"$f":"Unemp!O56","v":0.112},{"$f":"Unemp!P56","v":0.112},{"$f":"Unemp!Q56","v":0.112},{"$f":"Unemp!R56","v":9.5000000000000001E-2},{"$f":"Unemp!S56","v":9.5000000000000001E-2},{"$f":"Unemp!T56","v":9.5000000000000001E-2},{"$f":"Unemp!U56","v":9.5000000000000001E-2}]
["Mariposa",{"$f":"Participation!V28/Participation!V$6","v":4.8080685844322933E-4},"C-IV","Small",{"$f":"Participation!B28","v":1704},{"$f":"Participation!C28","v":1730},{"$f":"Participation!D28","v":1783},{"$f":"Participation!E28","v":1804},{"$f":"Participation!F28","v":1746},{"$f":"Participation!I28","v":1837},{"$f":"Participation!J28","v":1828},{"$f":"Participation!K28","v":1855},{"$f":"Participation!L28","v":1905},{"$f":"Participation!M28","v":2034},{"$f":"Participation!N28","v":2059},{"$f":"Participation!O28","v":1974},{"$f":"Participation!P28","v":1972},{"$f":"Participation!Q28","v":2033},{"$f":"Participation!R28","v":2127},{"$f":"Participation!S28","v":2152},{"$f":"Participation!T28","v":2075},{"$f":"Participation!U28","v":2098},{"$f":"Participation!V28","v":2101},null,null,null,2.7938663887127799E-4,null,-1.2223789374706159E-2,0.232981220657277,1.4299332697807435E-3,null,{"$f":"PRI!B27","v":0.5},{"$f":"PRI!C27","v":0.57399999999999995},{"$f":"PRI!F27","v":0.623},{"$f":"PRI!G27","v":0.58799999999999997},{"$f":"PRI!H27","v":0.63584459078564948},{"$f":"PRI!I27","v":0.68894049645505728},null,null,null,null,null,null,null,null,null,null,null,null,null,null,null,null,null,null,null,null,{"$f":"DD_Jun2016!J27","v":0.41209906617945596},null,null,null,null,null,null,null,null,null,null,null,null,null,null,null,null,null,null,null,null,{"$f":"DD_Jun2016!P27","v":0.96026490066225167},null,null,{"$f":"Timely!C284","v":17},{"$f":"Timely!D284","v":15.3},{"$f":"Timely!E284","v":13.3},{"$f":"Timely!F284","v":19},{"$f":"Timely!G284","v":16.3},{"$f":"Timely!H284","v":15.7},{"$f":"Timely!I284","v":14.7},{"$f":"Timely!J284","v":16.7},{"$f":"Timely!K284","v":16.7},{"$f":"Timely!L284","v":14.7},{"$f":"Timely!M284","v":17.3},{"$f":"Timely!N284","v":19.3},{"$f":"Timely!O284","v":18.3},{"$f":"Timely!P284","v":16.7},{"$f":"Timely!Q284","v":14.3},{"$f":"Timely!R284","v":12},{"$f":"Timely!S284","v":16.3},{"$f":"Timely!T284","v":15.3},null,null,{"$f":"Timely!C92","v":0.17000000000000004},{"$f":"Timely!D92","v":6.0000000000000053E-2},{"$f":"Timely!E92","v":9.3999999999999972E-2},{"$f":"Timely!F92","v":0},{"$f":"Timely!G92","v":0.127},{"$f":"Timely!J92","v":0.10299999999999998},{"$f":"Timely!K92","v":8.8999999999999968E-2},{"$f":"Timely!L92","v":6.3999999999999946E-2},{"$f":"Timely!M92","v":7.3999999999999955E-2},{"$f":"Timely!N92","v":8.7999999999999967E-2},{"$f":"Timely!O92","v":0.128},{"$f":"Timely!P92","v":0.13500000000000001},{"$f":"Timely!Q92","v":0.19599999999999995},{"$f":"Timely!R92","v":0.15200000000000002},{"$f":"Timely!S92","v":0},{"$f":"Timely!T92","v":0},{"$f":"Timely!U92","v":2.4000000000000021E-2},{"$f":"Timely!V92","v":2.1000000000000019E-2},{"$f":"Timely!W92","v":2.5000000000000022E-2},null,null,null,null,null,{"$f":"Timely!C219","v":1.2000000000000011E-2},{"$f":"Timely!D219","v":1.9000000000000017E-2},{"$f":"Timely!E219","v":3.3000000000000029E-2},{"$f":"Timely!F219","v":1.100000000000001E-2},{"$f":"Timely!G219","v":3.7000000000000033E-2},{"$f":"Timely!J219","v":6.2000000000000055E-2},{"$f":"Timely!K219","v":5.7000000000000051E-2},{"$f":"Timely!L219","v":1.3000000000000012E-2},{"$f":"Timely!M219","v":0.13200000000000001},{"$f":"Timely!N219","v":8.4999999999999964E-2},{"$f":"Timely!O219","v":7.4999999999999956E-2},{"$f":"Timely!P219","v":2.300000000000002E-2},{"$f":"Timely!Q219","v":7.3999999999999955E-2},{"$f":"Timely!R219","v":2.4000000000000021E-2},{"$f":"Timely!S219","v":3.6000000000000032E-2},{"$f":"Timely!T219","v":3.5000000000000031E-2},{"$f":"Timely!U219","v":2.200000000000002E-2},{"$f":"Timely!V219","v":6.899999999999995E-2},{"$f":"Timely!W219","v":3.5000000000000031E-2},null,null,null,null,{"$f":"Churn!B27","v":0.29565217391304349},{"$f":"Churn!C27","v":0.27600000000000002},{"$f":"Churn!D27","v":0.26229508196721313},{"$f":"Churn!E27","v":0.32958801498127338},{"$f":"Churn!F27","v":0.28522336769759449},{"$f":"Churn!G27","v":0.40977443609022557},{"$f":"Churn!H27","v":0.35986159169550175},{"$f":"Churn!I27","v":0.40079365079365081},{"$f":"Churn!J27","v":0.40466926070038911},{"$f":"Churn!K27","v":0.34420289855072461},{"$f":"Churn!L27","v":0.4061433447098976},{"$f":"Churn!M27","v":0.41694915254237286},{"$f":"Churn!N27","v":0.45047923322683708},{"$f":"Churn!O27","v":0.35314685314685312},{"$f":"Churn!P27","v":0.37201365187713309},{"$f":"Churn!Q27","v":0.45016077170418006},{"$f":"Churn!R27","v":0.40366972477064222},{"$f":"Churn!S27","v":0.41065830721003133},null,{"$f":"Churn!B121","v":0.95884773662551437},{"$f":"Churn!C121","v":0.65625},{"$f":"Churn!D121","v":0.66749379652605456},{"$f":"Churn!E121","v":0.6430205949656751},{"$f":"Churn!F121","v":0.70059880239520955},{"$f":"Churn!G121","v":0.34640522875816993},{"$f":"Churn!H121","v":0.40210843373493976},{"$f":"Churn!I121","v":0.39517345399698339},{"$f":"Churn!J121","v":0.57201646090534974},{"$f":"Churn!K121","v":0.55539358600583089},{"$f":"Churn!L121","v":0.53982300884955747},{"$f":"Churn!M121","v":0.73262839879154074},{"$f":"Churn!N121","v":0.56720430107526887},{"$f":"Churn!O121","v":0.55523672883787656},{"$f":"Churn!P121","v":0.57832898172323755},{"$f":"Churn!Q121","v":0.60251046025104604},{"$f":"Churn!R121","v":0.60081190798376183},{"$f":"Churn!S121","v":0.66458658346333854},null,{"$f":"Churn!B156","v":2.4793388429752067E-2},{"$f":"Churn!C156","v":1.4598540145985401E-2},{"$f":"Churn!D156","v":2.0080321285140562E-2},{"$f":"Churn!E156","v":2.7972027972027972E-2},{"$f":"Churn!F156","v":4.7058823529411764E-2},{"$f":"Churn!G156","v":0.14134275618374559},{"$f":"Churn!H156","v":0.16170212765957448},{"$f":"Churn!I156","v":0.14864864864864866},{"$f":"Churn!J156","v":9.3959731543624164E-2},{"$f":"Churn!K156","v":9.2783505154639179E-2},{"$f":"Churn!L156","v":8.1896551724137928E-2},{"$f":"Churn!M156","v":0.14285714285714285},{"$f":"Churn!N156","v":0.18215613382899629},{"$f":"Churn!O156","v":0.1434108527131783},{"$f":"Churn!P156","v":0.125},{"$f":"Churn!Q156","v":0.13333333333333333},{"$f":"Churn!R156","v":0.11255411255411256},{"$f":"Churn!S156","v":8.8028169014084501E-2},null,{"$f":"Churn!B220","v":0.1115702479338843},{"$f":"Churn!C220","v":8.7591240875912413E-2},{"$f":"Churn!D220","v":9.6385542168674704E-2},{"$f":"Churn!E220","v":0.10139860139860139},{"$f":"Churn!F220","v":0.14509803921568629},{"$f":"Churn!G220","v":0.1872791519434629},{"$f":"Churn!H220","v":0.24680851063829787},{"$f":"Churn!I220","v":0.19932432432432431},{"$f":"Churn!J220","v":0.1476510067114094},{"$f":"Churn!K220","v":0.12371134020618557},{"$f":"Churn!L220","v":0.13793103448275862},{"$f":"Churn!M220","v":0.20463320463320464},{"$f":"Churn!N220","v":0.26394052044609667},{"$f":"Churn!O220","v":0.19767441860465115},{"$f":"Churn!P220","v":0.19907407407407407},{"$f":"Churn!Q220","v":0.1875},{"$f":"Churn!R220","v":0.18614718614718614},{"$f":"Churn!S220","v":0.15140845070422534},null,{"$f":"Unemp!B28","v":0.11899999999999999},{"$f":"Unemp!C28","v":0.11899999999999999},{"$f":"Unemp!D28","v":0.11899999999999999},{"$f":"Unemp!E28","v":0.11899999999999999},{"$f":"Unemp!F28","v":0.11899999999999999},{"$f":"Unemp!$I28","v":0.11},{"$f":"Unemp!$I28","v":0.11},{"$f":"Unemp!$I28","v":0.11},{"$f":"Unemp!$I28","v":0.11},{"$f":"Unemp!J28","v":0.105},{"$f":"Unemp!K28","v":0.105},{"$f":"Unemp!L28","v":0.105},{"$f":"Unemp!M28","v":0.105},{"$f":"Unemp!N57","v":0.127},{"$f":"Unemp!O57","v":0.127},{"$f":"Unemp!P57","v":0.127},{"$f":"Unemp!Q57","v":0.127},{"$f":"Unemp!R57","v":0.108},{"$f":"Unemp!S57","v":0.108},{"$f":"Unemp!T57","v":0.108},{"$f":"Unemp!U57","v":0.108}]
["Inyo",{"$f":"Participation!V20/Participation!V$6","v":4.7806069837596669E-4},"C-IV","Small",{"$f":"Participation!B20","v":1838},{"$f":"Participation!C20","v":1954},{"$f":"Participation!D20","v":1945},{"$f":"Participation!E20","v":1951},{"$f":"Participation!F20","v":1967},{"$f":"Participation!I20","v":1992},{"$f":"Participation!J20","v":2058},{"$f":"Participation!K20","v":2132},{"$f":"Participation!L20","v":2028},{"$f":"Participation!M20","v":2152},{"$f":"Participation!N20","v":2198},{"$f":"Participation!O20","v":2149},{"$f":"Participation!P20","v":2093},{"$f":"Participation!Q20","v":2064},{"$f":"Participation!R20","v":2073},{"$f":"Participation!S20","v":2076},{"$f":"Participation!T20","v":2138},{"$f":"Participation!U20","v":2104},{"$f":"Participation!V20","v":2089},null,null,null,-1.7193023930540184E-4,null,7.7182826821032323E-3,0.1365614798694233,-7.1292775665399242E-3,null,{"$f":"PRI!B19","v":0.65900000000000003},{"$f":"PRI!C19","v":0.68799999999999994},{"$f":"PRI!F19","v":0.77700000000000002},{"$f":"PRI!G19","v":0.73899999999999999},{"$f":"PRI!H19","v":0.72042269416670368},{"$f":"PRI!I19","v":0.80302969461806784},null,null,null,null,null,null,null,null,null,null,null,null,null,null,null,null,null,null,null,null,{"$f":"DD_Jun2016!J19","v":0.34191430545957152},null,null,null,null,null,null,null,null,null,null,null,null,null,null,null,null,null,null,null,null,{"$f":"DD_Jun2016!P19","v":0.94688995215311},null,null,{"$f":"Timely!C276","v":8.6999999999999993},{"$f":"Timely!D276","v":10},{"$f":"Timely!E276","v":9},{"$f":"Timely!F276","v":8},{"$f":"Timely!G276","v":8.6999999999999993},{"$f":"Timely!H276","v":7.7},{"$f":"Timely!I276","v":7.7},{"$f":"Timely!J276","v":7.7},{"$f":"Timely!K276","v":9.3000000000000007},{"$f":"Timely!L276","v":7.7},{"$f":"Timely!M276","v":9},{"$f":"Timely!N276","v":8},{"$f":"Timely!O276","v":8},{"$f":"Timely!P276","v":5.7},{"$f":"Timely!Q276","v":5.7},{"$f":"Timely!R276","v":6.3},{"$f":"Timely!S276","v":5},{"$f":"Timely!T276","v":7.3},null,null,{"$f":"Timely!C84","v":1.4000000000000012E-2},{"$f":"Timely!D84","v":0},{"$f":"Timely!E84","v":1.4000000000000012E-2},{"$f":"Timely!F84","v":0},{"$f":"Timely!G84","v":1.7000000000000015E-2},{"$f":"Timely!J84","v":1.2000000000000011E-2},{"$f":"Timely!K84","v":0},{"$f":"Timely!L84","v":0},{"$f":"Timely!M84","v":0},{"$f":"Timely!N84","v":9.000000000000008E-3},{"$f":"Timely!O84","v":0},{"$f":"Timely!P84","v":1.6000000000000014E-2},{"$f":"Timely!Q84","v":0},{"$f":"Timely!R84","v":1.4000000000000012E-2},{"$f":"Timely!S84","v":0},{"$f":"Timely!T84","v":0},{"$f":"Timely!U84","v":0},{"$f":"Timely!V84","v":0},{"$f":"Timely!W84","v":1.9000000000000017E-2},null,null,null,null,null,{"$f":"Timely!C211","v":9.000000000000008E-3},{"$f":"Timely!D211","v":0},{"$f":"Timely!E211","v":9.000000000000008E-3},{"$f":"Timely!F211","v":7.0000000000000062E-3},{"$f":"Timely!G211","v":1.0000000000000009E-2},{"$f":"Timely!J211","v":1.6000000000000014E-2},{"$f":"Timely!K211","v":2.200000000000002E-2},{"$f":"Timely!L211","v":8.0000000000000071E-3},{"$f":"Timely!M211","v":4.2000000000000037E-2},{"$f":"Timely!N211","v":4.500000000000004E-2},{"$f":"Timely!O211","v":3.8000000000000034E-2},{"$f":"Timely!P211","v":4.0000000000000036E-2},{"$f":"Timely!Q211","v":7.0999999999999952E-2},{"$f":"Timely!R211","v":5.1000000000000045E-2},{"$f":"Timely!S211","v":9.4999999999999973E-2},{"$f":"Timely!T211","v":6.7999999999999949E-2},{"$f":"Timely!U211","v":5.2000000000000046E-2},{"$f":"Timely!V211","v":9.9999999999999978E-2},{"$f":"Timely!W211","v":0.10799999999999998},null,null,null,null,{"$f":"Churn!B19","v":0.27027027027027029},{"$f":"Churn!C19","v":0.20070422535211269},{"$f":"Churn!D19","v":0.27181208053691275},{"$f":"Churn!E19","v":0.22711864406779661},{"$f":"Churn!F19","v":0.23615160349854228},{"$f":"Churn!G19","v":0.45483870967741935},{"$f":"Churn!H19","v":0.46546546546546547},{"$f":"Churn!I19","v":0.49712643678160917},{"$f":"Churn!J19","v":0.4582210242587601},{"$f":"Churn!K19","v":0.43266475644699143},{"$f":"Churn!L19","v":0.50144927536231887},{"$f":"Churn!M19","v":0.473015873015873},{"$f":"Churn!N19","v":0.46666666666666667},{"$f":"Churn!O19","v":0.45882352941176469},{"$f":"Churn!P19","v":0.45033112582781459},{"$f":"Churn!Q19","v":0.41379310344827586},{"$f":"Churn!R19","v":0.42253521126760563},{"$f":"Churn!S19","v":0.402555910543131},null,{"$f":"Churn!B122","v":0.85499999999999998},{"$f":"Churn!C122","v":0.68608414239482196},{"$f":"Churn!D122","v":0.676056338028169},{"$f":"Churn!E122","v":0.69509043927648584},{"$f":"Churn!F122","v":0.72984749455337694},{"$f":"Churn!G122","v":0.41166077738515899},{"$f":"Churn!H122","v":0.45104895104895104},{"$f":"Churn!I122","v":0.45132743362831856},{"$f":"Churn!J122","v":0.27226463104325699},{"$f":"Churn!K122","v":0.33251231527093594},{"$f":"Churn!L122","v":0.2848360655737705},{"$f":"Churn!M122","v":0.59693877551020413},{"$f":"Churn!N122","v":0.59194630872483223},{"$f":"Churn!O122","v":0.54796511627906974},{"$f":"Churn!P122","v":0.48866498740554154},{"$f":"Churn!Q122","v":0.44839255499153974},{"$f":"Churn!R122","v":0.56528417818740395},{"$f":"Churn!S122","v":0.5913173652694611},null,{"$f":"Churn!B148","v":3.3333333333333333E-2},{"$f":"Churn!C148","v":1.1627906976744186E-2},{"$f":"Churn!D148","v":4.4164037854889593E-2},{"$f":"Churn!E148","v":5.3571428571428568E-2},{"$f":"Churn!F148","v":5.6105610561056105E-2},{"$f":"Churn!G148","v":0.15286624203821655},{"$f":"Churn!H148","v":0.16298342541436464},{"$f":"Churn!I148","v":0.17142857142857143},{"$f":"Churn!J148","v":0.12328767123287671},{"$f":"Churn!K148","v":0.10344827586206896},{"$f":"Churn!L148","v":0.10416666666666667},{"$f":"Churn!M148","v":0.10101010101010101},{"$f":"Churn!N148","v":0.11846689895470383},{"$f":"Churn!O148","v":0.15107913669064749},{"$f":"Churn!P148","v":0.12946428571428573},{"$f":"Churn!Q148","v":0.12830188679245283},{"$f":"Churn!R148","v":0.13409961685823754},{"$f":"Churn!S148","v":0.13973799126637554},null,{"$f":"Churn!B212","v":0.15757575757575756},{"$f":"Churn!C212","v":0.12790697674418605},{"$f":"Churn!D212","v":0.17034700315457413},{"$f":"Churn!E212","v":0.16071428571428573},{"$f":"Churn!F212","v":0.15841584158415842},{"$f":"Churn!G212","v":0.20382165605095542},{"$f":"Churn!H212","v":0.24309392265193369},{"$f":"Churn!I212","v":0.28285714285714286},{"$f":"Churn!J212","v":0.2226027397260274},{"$f":"Churn!K212","v":0.19540229885057472},{"$f":"Churn!L212","v":0.16250000000000001},{"$f":"Churn!M212","v":0.18855218855218855},{"$f":"Churn!N212","v":0.21951219512195122},{"$f":"Churn!O212","v":0.23381294964028776},{"$f":"Churn!P212","v":0.24553571428571427},{"$f":"Churn!Q212","v":0.23773584905660378},{"$f":"Churn!R212","v":0.23371647509578544},{"$f":"Churn!S212","v":0.2183406113537118},null,{"$f":"Unemp!B20","v":0.1},{"$f":"Unemp!C20","v":9.9000000000000005E-2},{"$f":"Unemp!D20","v":9.9000000000000005E-2},{"$f":"Unemp!E20","v":9.9000000000000005E-2},{"$f":"Unemp!F20","v":9.9000000000000005E-2},{"$f":"Unemp!$I20","v":9.4E-2},{"$f":"Unemp!$I20","v":9.4E-2},{"$f":"Unemp!$I20","v":9.4E-2},{"$f":"Unemp!$I20","v":9.4E-2},{"$f":"Unemp!J20","v":7.9000000000000001E-2},{"$f":"Unemp!K20","v":7.9000000000000001E-2},{"$f":"Unemp!L20","v":7.9000000000000001E-2},{"$f":"Unemp!M20","v":7.9000000000000001E-2},{"$f":"Unemp!N58","v":9.7000000000000003E-2},{"$f":"Unemp!O58","v":9.7000000000000003E-2},{"$f":"Unemp!P58","v":9.7000000000000003E-2},{"$f":"Unemp!Q58","v":9.7000000000000003E-2},{"$f":"Unemp!R58","v":0.08},{"$f":"Unemp!S58","v":0.08},{"$f":"Unemp!T58","v":0.08},{"$f":"Unemp!U58","v":0.08}]
["Trinity",{"$f":"Participation!V59/Participation!V$6","v":4.0208360318170106E-4},"C-IV","Small",{"$f":"Participation!B59","v":1463},{"$f":"Participation!C59","v":1531},{"$f":"Participation!D59","v":1513},{"$f":"Participation!E59","v":1557},{"$f":"Participation!F59","v":1638},{"$f":"Participation!I59","v":1613},{"$f":"Participation!J59","v":1548},{"$f":"Participation!K59","v":1516},{"$f":"Participation!L59","v":1561},{"$f":"Participation!M59","v":1609},{"$f":"Participation!N59","v":1775},{"$f":"Participation!O59","v":1838},{"$f":"Participation!P59","v":1880},{"$f":"Participation!Q59","v":1829},{"$f":"Participation!R59","v":1808},{"$f":"Participation!S59","v":1867},{"$f":"Participation!T59","v":1862},{"$f":"Participation!U59","v":1796},{"$f":"Participation!V59","v":1757},null,null,null,5.4802763778596833E-4,null,-2.820796460176991E-2,0.20095693779904306,-2.1714922048997772E-2,null,{"$f":"PRI!B58","v":0.59199999999999997},{"$f":"PRI!C58","v":0.495},{"$f":"PRI!F58","v":0.50600000000000001},{"$f":"PRI!G58","v":0.502},{"$f":"PRI!H58","v":0.5912422140107656},{"$f":"PRI!I58","v":0.56469445800616525},null,null,null,null,null,null,null,null,null,null,null,null,null,null,null,null,null,null,null,null,{"$f":"DD_Jun2016!J58","v":0.34001966568338249},null,null,null,null,null,null,null,null,null,null,null,null,null,null,null,null,null,null,null,null,{"$f":"DD_Jun2016!P58","v":0.94584245076586437},null,null,{"$f":"Timely!C315","v":12.7},{"$f":"Timely!D315","v":16.7},{"$f":"Timely!E315","v":12},{"$f":"Timely!F315","v":16.3},{"$f":"Timely!G315","v":15.7},{"$f":"Timely!H315","v":16},{"$f":"Timely!I315","v":18.7},{"$f":"Timely!J315","v":15.7},{"$f":"Timely!K315","v":14.3},{"$f":"Timely!L315","v":12},{"$f":"Timely!M315","v":9.6999999999999993},{"$f":"Timely!N315","v":11.7},{"$f":"Timely!O315","v":20},{"$f":"Timely!P315","v":14.3},{"$f":"Timely!Q315","v":10.7},{"$f":"Timely!R315","v":13},{"$f":"Timely!S315","v":12.3},{"$f":"Timely!T315","v":12.7},null,null,{"$f":"Timely!C123","v":2.6000000000000023E-2},{"$f":"Timely!D123","v":3.6000000000000032E-2},{"$f":"Timely!E123","v":0},{"$f":"Timely!F123","v":2.1000000000000019E-2},{"$f":"Timely!G123","v":8.4999999999999964E-2},{"$f":"Timely!J123","v":5.8000000000000052E-2},{"$f":"Timely!K123","v":2.4000000000000021E-2},{"$f":"Timely!L123","v":0},{"$f":"Timely!M123","v":0},{"$f":"Timely!N123","v":4.2000000000000037E-2},{"$f":"Timely!O123","v":0},{"$f":"Timely!P123","v":0},{"$f":"Timely!Q123","v":3.2000000000000028E-2},{"$f":"Timely!R123","v":7.4999999999999956E-2},{"$f":"Timely!S123","v":6.1000000000000054E-2},{"$f":"Timely!T123","v":1.6000000000000014E-2},{"$f":"Timely!U123","v":7.4999999999999956E-2},{"$f":"Timely!V123","v":6.3999999999999946E-2},{"$f":"Timely!W123","v":1.7000000000000015E-2},null,null,null,null,null,{"$f":"Timely!C250","v":3.2000000000000028E-2},{"$f":"Timely!D250","v":1.100000000000001E-2},{"$f":"Timely!E250","v":1.7000000000000015E-2},{"$f":"Timely!F250","v":7.7999999999999958E-2},{"$f":"Timely!G250","v":0.10899999999999999},{"$f":"Timely!J250","v":5.8000000000000052E-2},{"$f":"Timely!K250","v":0.32699999999999996},{"$f":"Timely!L250","v":0.34799999999999998},{"$f":"Timely!M250","v":8.0999999999999961E-2},{"$f":"Timely!N250","v":0.28000000000000003},{"$f":"Timely!O250","v":0.10599999999999998},{"$f":"Timely!P250","v":0.126},{"$f":"Timely!Q250","v":0.30200000000000005},{"$f":"Timely!R250","v":0.33099999999999996},{"$f":"Timely!S250","v":0.16400000000000003},{"$f":"Timely!T250","v":9.7999999999999976E-2},{"$f":"Timely!U250","v":8.0999999999999961E-2},{"$f":"Timely!V250","v":0.18799999999999994},{"$f":"Timely!W250","v":0.27800000000000002},null,null,null,null,{"$f":"Churn!B58","v":0.36},{"$f":"Churn!C58","v":0.31517509727626458},{"$f":"Churn!D58","v":0.34615384615384615},{"$f":"Churn!E58","v":0.49146757679180886},{"$f":"Churn!F58","v":0.4804270462633452},{"$f":"Churn!G58","v":0.42700729927007297},{"$f":"Churn!H58","v":0.48062015503875971},{"$f":"Churn!I58","v":0.48529411764705882},{"$f":"Churn!J58","v":0.40425531914893614},{"$f":"Churn!K58","v":0.38349514563106796},{"$f":"Churn!L58","v":0.56521739130434778},{"$f":"Churn!M58","v":0.49392712550607287},{"$f":"Churn!N58","v":0.49027237354085601},{"$f":"Churn!O58","v":0.5},{"$f":"Churn!P58","v":0.53374233128834359},{"$f":"Churn!Q58","v":0.51644736842105265},{"$f":"Churn!R58","v":0.50342465753424659},{"$f":"Churn!S58","v":0.51351351351351349},null,{"$f":"Churn!B123","v":0.92592592592592593},{"$f":"Churn!C123","v":0.64197530864197527},{"$f":"Churn!D123","v":0.71604938271604934},{"$f":"Churn!E123","v":0.72222222222222221},{"$f":"Churn!F123","v":0.59259259259259256},{"$f":"Churn!G123","v":0.80341880341880345},{"$f":"Churn!H123","v":0.58870967741935487},{"$f":"Churn!I123","v":0.5757575757575758},{"$f":"Churn!J123","v":0.83157894736842108},{"$f":"Churn!K123","v":0.74683544303797467},{"$f":"Churn!L123","v":0.16666666666666666},{"$f":"Churn!M123","v":0.39344262295081966},{"$f":"Churn!N123","v":0.56349206349206349},{"$f":"Churn!O123","v":0.65333333333333332},{"$f":"Churn!P123","v":0.48275862068965519},{"$f":"Churn!Q123","v":0.48407643312101911},{"$f":"Churn!R123","v":0.39455782312925169},{"$f":"Churn!S123","v":0.55263157894736847},null,{"$f":"Churn!B187","v":3.6866359447004608E-2},{"$f":"Churn!C187","v":4.8275862068965517E-2},{"$f":"Churn!D187","v":2.0833333333333332E-2},{"$f":"Churn!E187","v":3.5608308605341248E-2},{"$f":"Churn!F187","v":6.6147859922178989E-2},{"$f":"Churn!G187","v":0.20866141732283464},{"$f":"Churn!H187","v":0.16339869281045752},{"$f":"Churn!I187","v":8.9743589743589744E-2},{"$f":"Churn!J187","v":0.1115702479338843},{"$f":"Churn!K187","v":8.4677419354838704E-2},{"$f":"Churn!L187","v":4.4176706827309238E-2},{"$f":"Churn!M187","v":0.12043795620437957},{"$f":"Churn!N187","v":0.12017167381974249},{"$f":"Churn!O187","v":0.1434108527131783},{"$f":"Churn!P187","v":0.10204081632653061},{"$f":"Churn!Q187","v":0.10996563573883161},{"$f":"Churn!R187","v":7.7981651376146793E-2},{"$f":"Churn!S187","v":0.12863070539419086},null,{"$f":"Churn!B251","v":0.16129032258064516},{"$f":"Churn!C251","v":0.12758620689655173},{"$f":"Churn!D251","v":0.1076388888888889},{"$f":"Churn!E251","v":0.12759643916913946},{"$f":"Churn!F251","v":0.17898832684824903},{"$f":"Churn!G251","v":0.26377952755905509},{"$f":"Churn!H251","v":0.23202614379084968},{"$f":"Churn!I251","v":0.17948717948717949},{"$f":"Churn!J251","v":0.18181818181818182},{"$f":"Churn!K251","v":0.14919354838709678},{"$f":"Churn!L251","v":9.2369477911646583E-2},{"$f":"Churn!M251","v":0.17518248175182483},{"$f":"Churn!N251","v":0.18454935622317598},{"$f":"Churn!O251","v":0.23255813953488372},{"$f":"Churn!P251","v":0.17142857142857143},{"$f":"Churn!Q251","v":0.17525773195876287},{"$f":"Churn!R251","v":0.14678899082568808},{"$f":"Churn!S251","v":0.22821576763485477},null,{"$f":"Unemp!B59","v":0.184},{"$f":"Unemp!C59","v":0.17799999999999999},{"$f":"Unemp!D59","v":0.17799999999999999},{"$f":"Unemp!E59","v":0.17799999999999999},{"$f":"Unemp!F59","v":0.17799999999999999},{"$f":"Unemp!$I59","v":0.158},{"$f":"Unemp!$I59","v":0.158},{"$f":"Unemp!$I59","v":0.158},{"$f":"Unemp!$I59","v":0.158},{"$f":"Unemp!J59","v":0.121},{"$f":"Unemp!K59","v":0.121},{"$f":"Unemp!L59","v":0.121},{"$f":"Unemp!M59","v":0.121},{"$f":"Unemp!N59","v":9.9000000000000005E-2},{"$f":"Unemp!O59","v":9.9000000000000005E-2},{"$f":"Unemp!P59","v":9.9000000000000005E-2},{"$f":"Unemp!Q59","v":9.9000000000000005E-2},{"$f":"Unemp!R59","v":7.8E-2},{"$f":"Unemp!S59","v":7.8E-2},{"$f":"Unemp!T59","v":7.8E-2},{"$f":"Unemp!U59","v":7.8E-2}]
["Colusa",{"$f":"Participation!V12/Participation!V$6","v":3.2816612803788234E-4},"C-IV","Small",{"$f":"Participation!B12","v":1628},{"$f":"Participation!C12","v":1707},{"$f":"Participation!D12","v":1810},{"$f":"Participation!E12","v":1728},{"$f":"Participation!F12","v":1600},{"$f":"Participation!I12","v":1820},{"$f":"Participation!J12","v":1840},{"$f":"Participation!K12","v":1710},{"$f":"Participation!L12","v":1624},{"$f":"Participation!M12","v":1749},{"$f":"Participation!N12","v":1810},{"$f":"Participation!O12","v":1722},{"$f":"Participation!P12","v":1540},{"$f":"Participation!Q12","v":1627},{"$f":"Participation!R12","v":1725},{"$f":"Participation!S12","v":1563},{"$f":"Participation!T12","v":1319},{"$f":"Participation!U12","v":1325},{"$f":"Participation!V12","v":1434},null,null,null,3.1269812273669959E-3,null,-0.16869565217391305,-0.11916461916461916,8.226415094339623E-2,null,{"$f":"PRI!B11","v":0.379},{"$f":"PRI!C11","v":0.38},{"$f":"PRI!F11","v":0.38900000000000001},{"$f":"PRI!G11","v":0.46100000000000002},{"$f":"PRI!H11","v":0.39141984295657661},{"$f":"PRI!I11","v":0.39781260650221328},null,null,null,null,null,null,null,null,null,null,null,null,null,null,null,null,null,null,null,null,{"$f":"DD_Jun2016!J11","v":0.15525698443164854},null,null,null,null,null,null,null,null,null,null,null,null,null,null,null,null,null,null,null,null,{"$f":"DD_Jun2016!P11","v":0.97652582159624413},null,null,{"$f":"Timely!C268","v":24.7},{"$f":"Timely!D268","v":19},{"$f":"Timely!E268","v":14.7},{"$f":"Timely!F268","v":16.3},{"$f":"Timely!G268","v":17},{"$f":"Timely!H268","v":11.3},{"$f":"Timely!I268","v":14},{"$f":"Timely!J268","v":19},{"$f":"Timely!K268","v":20.3},{"$f":"Timely!L268","v":24},{"$f":"Timely!M268","v":29.3},{"$f":"Timely!N268","v":34.299999999999997},{"$f":"Timely!O268","v":34.299999999999997},{"$f":"Timely!P268","v":23.7},{"$f":"Timely!Q268","v":19.7},{"$f":"Timely!R268","v":20.3},{"$f":"Timely!S268","v":28},{"$f":"Timely!T268","v":27},null,null,{"$f":"Timely!C76","v":0},{"$f":"Timely!D76","v":0},{"$f":"Timely!E76","v":1.9000000000000017E-2},{"$f":"Timely!F76","v":6.2000000000000055E-2},{"$f":"Timely!G76","v":0},{"$f":"Timely!J76","v":6.5999999999999948E-2},{"$f":"Timely!K76","v":2.0000000000000018E-2},{"$f":"Timely!L76","v":0},{"$f":"Timely!M76","v":8.2999999999999963E-2},{"$f":"Timely!N76","v":4.3000000000000038E-2},{"$f":"Timely!O76","v":0.32399999999999995},{"$f":"Timely!P76","v":0.18200000000000005},{"$f":"Timely!Q76","v":0.39100000000000001},{"$f":"Timely!R76","v":0.11299999999999999},{"$f":"Timely!S76","v":0.125},{"$f":"Timely!T76","v":0},{"$f":"Timely!U76","v":0},{"$f":"Timely!V76","v":8.5999999999999965E-2},{"$f":"Timely!W76","v":0.16700000000000004},null,null,null,null,null,{"$f":"Timely!C203","v":0},{"$f":"Timely!D203","v":0},{"$f":"Timely!E203","v":2.8000000000000025E-2},{"$f":"Timely!F203","v":0},{"$f":"Timely!G203","v":0},{"$f":"Timely!J203","v":0},{"$f":"Timely!K203","v":0},{"$f":"Timely!L203","v":4.2000000000000037E-2},{"$f":"Timely!M203","v":5.1000000000000045E-2},{"$f":"Timely!N203","v":5.0000000000000044E-2},{"$f":"Timely!O203","v":4.1000000000000036E-2},{"$f":"Timely!P203","v":6.2000000000000055E-2},{"$f":"Timely!Q203","v":0.10299999999999998},{"$f":"Timely!R203","v":9.6999999999999975E-2},{"$f":"Timely!S203","v":8.1999999999999962E-2},{"$f":"Timely!T203","v":5.3000000000000047E-2},{"$f":"Timely!U203","v":4.6000000000000041E-2},{"$f":"Timely!V203","v":2.9000000000000026E-2},{"$f":"Timely!W203","v":1.3000000000000012E-2},null,null,null,null,{"$f":"Churn!B11","v":0.36956521739130432},{"$f":"Churn!C11","v":0.24043715846994534},{"$f":"Churn!D11","v":0.33333333333333331},{"$f":"Churn!E11","v":0.31140350877192985},{"$f":"Churn!F11","v":0.21111111111111111},{"$f":"Churn!G11","v":0.45871559633027525},{"$f":"Churn!H11","v":0.436},{"$f":"Churn!I11","v":0.4759825327510917},{"$f":"Churn!J11","v":0.450354609929078},{"$f":"Churn!K11","v":0.38661710037174724},{"$f":"Churn!L11","v":0.4966216216216216},{"$f":"Churn!M11","v":0.46460176991150443},{"$f":"Churn!N11","v":0.48695652173913045},{"$f":"Churn!O11","v":0.50218340611353707},{"$f":"Churn!P11","v":0.55642023346303504},{"$f":"Churn!Q11","v":0.54794520547945202},{"$f":"Churn!R11","v":0.52727272727272723},{"$f":"Churn!S11","v":0.53535353535353536},null,{"$f":"Churn!B124","v":1.2951945080091534},{"$f":"Churn!C124","v":1.0908273381294964},{"$f":"Churn!D124","v":1.2141099261689909},{"$f":"Churn!E124","v":1.0861561119293077},{"$f":"Churn!F124","v":1.3064024390243902},{"$f":"Churn!G124","v":1.1343648208469055},{"$f":"Churn!H124","v":1.1935953420669578},{"$f":"Churn!I124","v":1.08719723183391},{"$f":"Churn!J124","v":1.4506539833531511},{"$f":"Churn!K124","v":1.1382113821138211},{"$f":"Churn!L124","v":1.1382113821138211},{"$f":"Churn!M124","v":1.12363238512035},{"$f":"Churn!N124","v":1.2768746722600943},{"$f":"Churn!O124","v":1.0087241003271539},{"$f":"Churn!P124","v":1.0993377483443709},{"$f":"Churn!Q124","v":1.0418210693488619},{"$f":"Churn!R124","v":1.198136341343796},{"$f":"Churn!S124","v":0.95514511873350927},null,{"$f":"Churn!B140","v":7.2784810126582278E-2},{"$f":"Churn!C140","v":3.6065573770491806E-2},{"$f":"Churn!D140","v":4.1198501872659173E-2},{"$f":"Churn!E140","v":4.3307086614173228E-2},{"$f":"Churn!F140","v":4.0625000000000001E-2},{"$f":"Churn!G140","v":0.20529801324503311},{"$f":"Churn!H140","v":0.11196911196911197},{"$f":"Churn!I140","v":0.13405797101449277},{"$f":"Churn!J140","v":0.12830188679245283},{"$f":"Churn!K140","v":9.8181818181818176E-2},{"$f":"Churn!L140","v":5.6224899598393573E-2},{"$f":"Churn!M140","v":7.8341013824884786E-2},{"$f":"Churn!N140","v":0.10984848484848485},{"$f":"Churn!O140","v":0.13333333333333333},{"$f":"Churn!P140","v":0.13612565445026178},{"$f":"Churn!Q140","v":0.14832535885167464},{"$f":"Churn!R140","v":0.12663755458515283},{"$f":"Churn!S140","v":0.10454545454545454},null,{"$f":"Churn!B204","v":0.18354430379746836},{"$f":"Churn!C204","v":0.13114754098360656},{"$f":"Churn!D204","v":0.13857677902621723},{"$f":"Churn!E204","v":0.15354330708661418},{"$f":"Churn!F204","v":0.13125000000000001},{"$f":"Churn!G204","v":0.28476821192052981},{"$f":"Churn!H204","v":0.19305019305019305},{"$f":"Churn!I204","v":0.19927536231884058},{"$f":"Churn!J204","v":0.23773584905660378},{"$f":"Churn!K204","v":0.17454545454545456},{"$f":"Churn!L204","v":0.12048192771084337},{"$f":"Churn!M204","v":0.15207373271889402},{"$f":"Churn!N204","v":0.23106060606060605},{"$f":"Churn!O204","v":0.21777777777777776},{"$f":"Churn!P204","v":0.21465968586387435},{"$f":"Churn!Q204","v":0.22966507177033493},{"$f":"Churn!R204","v":0.18340611353711792},{"$f":"Churn!S204","v":0.18636363636363637},null,{"$f":"Unemp!B12","v":0.20200000000000001},{"$f":"Unemp!C12","v":0.20499999999999999},{"$f":"Unemp!D12","v":0.20499999999999999},{"$f":"Unemp!E12","v":0.20499999999999999},{"$f":"Unemp!F12","v":0.20499999999999999},{"$f":"Unemp!$I12","v":0.2},{"$f":"Unemp!$I12","v":0.2},{"$f":"Unemp!$I12","v":0.2},{"$f":"Unemp!$I12","v":0.2},{"$f":"Unemp!J12","v":0.19},{"$f":"Unemp!K12","v":0.19},{"$f":"Unemp!L12","v":0.19},{"$f":"Unemp!M12","v":0.19},{"$f":"Unemp!N60","v":0.13200000000000001},{"$f":"Unemp!O60","v":0.13200000000000001},{"$f":"Unemp!P60","v":0.13200000000000001},{"$f":"Unemp!Q60","v":0.13200000000000001},{"$f":"Unemp!R60","v":0.11700000000000001},{"$f":"Unemp!S60","v":0.11700000000000001},{"$f":"Unemp!T60","v":0.11700000000000001},{"$f":"Unemp!U60","v":0.11700000000000001}]
["Modoc",{"$f":"Participation!V31/Participation!V$6","v":2.4028900588547871E-4},"C-IV","Small",{"$f":"Participation!B31","v":1000},{"$f":"Participation!C31","v":1021},{"$f":"Participation!D31","v":1046},{"$f":"Participation!E31","v":997},{"$f":"Participation!F31","v":959},{"$f":"Participation!I31","v":965},{"$f":"Participation!J31","v":955},{"$f":"Participation!K31","v":935},{"$f":"Participation!L31","v":952},{"$f":"Participation!M31","v":963},{"$f":"Participation!N31","v":997},{"$f":"Participation!O31","v":1001},{"$f":"Participation!P31","v":1033},{"$f":"Participation!Q31","v":1023},{"$f":"Participation!R31","v":1012},{"$f":"Participation!S31","v":966},{"$f":"Participation!T31","v":972},{"$f":"Participation!U31","v":1061},{"$f":"Participation!V31","v":1050},null,null,null,-4.0833431835032933E-4,null,3.7549407114624504E-2,0.05,-1.0367577756833177E-2,null,{"$f":"PRI!B30","v":0.49399999999999999},{"$f":"PRI!C30","v":0.41399999999999998},{"$f":"PRI!F30","v":0.40899999999999997},{"$f":"PRI!G30","v":0.36099999999999999},{"$f":"PRI!H30","v":0.4472268901875262},{"$f":"PRI!I30","v":0.49576448172215082},null,null,null,null,null,null,null,null,null,null,null,null,null,null,null,null,null,null,null,null,{"$f":"DD_Jun2016!J30","v":0.32510159424820256},null,null,null,null,null,null,null,null,null,null,null,null,null,null,null,null,null,null,null,null,{"$f":"DD_Jun2016!P30","v":0.94890510948905105},null,null,{"$f":"Timely!C287","v":18.3},{"$f":"Timely!D287","v":15.3},{"$f":"Timely!E287","v":12.7},{"$f":"Timely!F287","v":17.3},{"$f":"Timely!G287","v":18.3},{"$f":"Timely!H287","v":17.7},{"$f":"Timely!I287","v":17.7},{"$f":"Timely!J287","v":19.7},{"$f":"Timely!K287","v":17},{"$f":"Timely!L287","v":12},{"$f":"Timely!M287","v":14},{"$f":"Timely!N287","v":20},{"$f":"Timely!O287","v":15.7},{"$f":"Timely!P287","v":17.7},{"$f":"Timely!Q287","v":13},{"$f":"Timely!R287","v":16.3},{"$f":"Timely!S287","v":10.7},{"$f":"Timely!T287","v":11.3},null,null,{"$f":"Timely!C95","v":0},{"$f":"Timely!D95","v":2.200000000000002E-2},{"$f":"Timely!E95","v":0},{"$f":"Timely!F95","v":4.500000000000004E-2},{"$f":"Timely!G95","v":0},{"$f":"Timely!J95","v":0},{"$f":"Timely!K95","v":0},{"$f":"Timely!L95","v":0},{"$f":"Timely!M95","v":0},{"$f":"Timely!N95","v":3.3000000000000029E-2},{"$f":"Timely!O95","v":0},{"$f":"Timely!P95","v":0},{"$f":"Timely!Q95","v":0},{"$f":"Timely!R95","v":0},{"$f":"Timely!S95","v":0.10499999999999998},{"$f":"Timely!T95","v":0},{"$f":"Timely!U95","v":7.6999999999999957E-2},{"$f":"Timely!V95","v":5.4000000000000048E-2},{"$f":"Timely!W95","v":0},null,null,null,null,null,{"$f":"Timely!C222","v":4.9000000000000044E-2},{"$f":"Timely!D222","v":4.4000000000000039E-2},{"$f":"Timely!E222","v":5.9000000000000052E-2},{"$f":"Timely!F222","v":0},{"$f":"Timely!G222","v":0},{"$f":"Timely!J222","v":5.5000000000000049E-2},{"$f":"Timely!K222","v":7.6999999999999957E-2},{"$f":"Timely!L222","v":0},{"$f":"Timely!M222","v":3.8000000000000034E-2},{"$f":"Timely!N222","v":5.600000000000005E-2},{"$f":"Timely!O222","v":0.127},{"$f":"Timely!P222","v":0.15600000000000003},{"$f":"Timely!Q222","v":0.10899999999999999},{"$f":"Timely!R222","v":0.18700000000000006},{"$f":"Timely!S222","v":6.0000000000000053E-2},{"$f":"Timely!T222","v":7.999999999999996E-2},{"$f":"Timely!U222","v":0},{"$f":"Timely!V222","v":7.2999999999999954E-2},{"$f":"Timely!W222","v":0.13300000000000001},null,null,null,null,{"$f":"Churn!B30","v":0.59649122807017541},{"$f":"Churn!C30","v":0.26428571428571429},{"$f":"Churn!D30","v":0.26717557251908397},{"$f":"Churn!E30","v":0.25},{"$f":"Churn!F30","v":0.2808988764044944},{"$f":"Churn!G30","v":0.51470588235294112},{"$f":"Churn!H30","v":0.48951048951048953},{"$f":"Churn!I30","v":0.51249999999999996},{"$f":"Churn!J30","v":0.4},{"$f":"Churn!K30","v":0.46666666666666667},{"$f":"Churn!L30","v":0.4296875},{"$f":"Churn!M30","v":0.51824817518248179},{"$f":"Churn!N30","v":0.48780487804878048},{"$f":"Churn!O30","v":0.43046357615894038},{"$f":"Churn!P30","v":0.49367088607594939},{"$f":"Churn!Q30","v":0.421875},{"$f":"Churn!R30","v":0.39610389610389612},{"$f":"Churn!S30","v":0.44525547445255476},null,{"$f":"Churn!B125","v":0.88461538461538458},{"$f":"Churn!C125","v":0.62631578947368416},{"$f":"Churn!D125","v":0.65306122448979587},{"$f":"Churn!E125","v":0.69841269841269837},{"$f":"Churn!F125","v":0.71361502347417838},{"$f":"Churn!G125","v":0.46256684491978611},{"$f":"Churn!H125","v":0.40722891566265063},{"$f":"Churn!I125","v":0.46153846153846156},{"$f":"Churn!J125","v":0.43961352657004832},{"$f":"Churn!K125","v":0.47356321839080462},{"$f":"Churn!L125","v":0.49871465295629819},{"$f":"Churn!M125","v":0.55231143552311435},{"$f":"Churn!N125","v":0.48792270531400966},{"$f":"Churn!O125","v":0.50714285714285712},{"$f":"Churn!P125","v":0.56613756613756616},{"$f":"Churn!Q125","v":0.53493975903614455},{"$f":"Churn!R125","v":0.58454106280193241},{"$f":"Churn!S125","v":0.41451990632318503},null,{"$f":"Churn!B159","v":7.4866310160427801E-2},{"$f":"Churn!C159","v":3.2608695652173912E-2},{"$f":"Churn!D159","v":2.5477707006369428E-2},{"$f":"Churn!E159","v":4.9079754601226995E-2},{"$f":"Churn!F159","v":8.1761006289308172E-2},{"$f":"Churn!G159","v":0.22500000000000001},{"$f":"Churn!H159","v":0.22},{"$f":"Churn!I159","v":0.10752688172043011},{"$f":"Churn!J159","v":0.2011173184357542},{"$f":"Churn!K159","v":0.1276595744680851},{"$f":"Churn!L159","v":0.16326530612244897},{"$f":"Churn!M159","v":0.12751677852348994},{"$f":"Churn!N159","v":0.176056338028169},{"$f":"Churn!O159","v":0.21232876712328766},{"$f":"Churn!P159","v":0.12030075187969924},{"$f":"Churn!Q159","v":0.22695035460992907},{"$f":"Churn!R159","v":0.12244897959183673},{"$f":"Churn!S159","v":0.14556962025316456},null,{"$f":"Churn!B223","v":0.22459893048128343},{"$f":"Churn!C223","v":0.1358695652173913},{"$f":"Churn!D223","v":0.14012738853503184},{"$f":"Churn!E223","v":0.11042944785276074},{"$f":"Churn!F223","v":0.19496855345911951},{"$f":"Churn!G223","v":0.34375},{"$f":"Churn!H223","v":0.28000000000000003},{"$f":"Churn!I223","v":0.18817204301075269},{"$f":"Churn!J223","v":0.26256983240223464},{"$f":"Churn!K223","v":0.1773049645390071},{"$f":"Churn!L223","v":0.21088435374149661},{"$f":"Churn!M223","v":0.16778523489932887},{"$f":"Churn!N223","v":0.30281690140845069},{"$f":"Churn!O223","v":0.26712328767123289},{"$f":"Churn!P223","v":0.17293233082706766},{"$f":"Churn!Q223","v":0.28368794326241137},{"$f":"Churn!R223","v":0.24489795918367346},{"$f":"Churn!S223","v":0.20886075949367089},null,{"$f":"Unemp!B31","v":0.14399999999999999},{"$f":"Unemp!C31","v":0.15},{"$f":"Unemp!D31","v":0.15},{"$f":"Unemp!E31","v":0.15},{"$f":"Unemp!F31","v":0.15},{"$f":"Unemp!$I31","v":0.13500000000000001},{"$f":"Unemp!$I31","v":0.13500000000000001},{"$f":"Unemp!$I31","v":0.13500000000000001},{"$f":"Unemp!$I31","v":0.13500000000000001},{"$f":"Unemp!J31","v":0.124},{"$f":"Unemp!K31","v":0.124},{"$f":"Unemp!L31","v":0.124},{"$f":"Unemp!M31","v":0.124},{"$f":"Unemp!N61","v":8.6999999999999994E-2},{"$f":"Unemp!O61","v":8.6999999999999994E-2},{"$f":"Unemp!P61","v":8.6999999999999994E-2},{"$f":"Unemp!Q61","v":8.6999999999999994E-2},{"$f":"Unemp!R61","v":7.0999999999999994E-2},{"$f":"Unemp!S61","v":7.0999999999999994E-2},{"$f":"Unemp!T61","v":7.0999999999999994E-2},{"$f":"Unemp!U61","v":7.0999999999999994E-2}]
["Mono",{"$f":"Participation!V32/Participation!V$6","v":1.8078887109478875E-4},"C-IV","Small",{"$f":"Participation!B32","v":570},{"$f":"Participation!C32","v":698},{"$f":"Participation!D32","v":709},{"$f":"Participation!E32","v":709},{"$f":"Participation!F32","v":619},{"$f":"Participation!I32","v":703},{"$f":"Participation!J32","v":606},{"$f":"Participation!K32","v":656},{"$f":"Participation!L32","v":644},{"$f":"Participation!M32","v":823},{"$f":"Participation!N32","v":920},{"$f":"Participation!O32","v":855},{"$f":"Participation!P32","v":778},{"$f":"Participation!Q32","v":849},{"$f":"Participation!R32","v":852},{"$f":"Participation!S32","v":856},{"$f":"Participation!T32","v":768},{"$f":"Participation!U32","v":797},{"$f":"Participation!V32","v":790},null,null,null,6.6622967730843206E-4,null,-7.2769953051643188E-2,0.38596491228070173,-8.7829360100376407E-3,null,{"$f":"PRI!B31","v":0.22900000000000001},{"$f":"PRI!C31","v":0.23200000000000001},{"$f":"PRI!F31","v":0.313},{"$f":"PRI!G31","v":0.316},{"$f":"PRI!H31","v":0.49939412291526875},{"$f":"PRI!I31","v":0.69164149189032076},null,null,null,null,null,null,null,null,null,null,null,null,null,null,null,null,null,null,null,null,{"$f":"DD_Jun2016!J31","v":0.19694173477458476},null,null,null,null,null,null,null,null,null,null,null,null,null,null,null,null,null,null,null,null,{"$f":"DD_Jun2016!P31","v":0.9154411764705882},null,null,{"$f":"Timely!C288","v":10.3},{"$f":"Timely!D288","v":13.3},{"$f":"Timely!E288","v":14},{"$f":"Timely!F288","v":16.3},{"$f":"Timely!G288","v":11.7},{"$f":"Timely!H288","v":14.3},{"$f":"Timely!I288","v":15.3},{"$f":"Timely!J288","v":17},{"$f":"Timely!K288","v":14.7},{"$f":"Timely!L288","v":12},{"$f":"Timely!M288","v":13},{"$f":"Timely!N288","v":17.7},{"$f":"Timely!O288","v":12.7},{"$f":"Timely!P288","v":13.7},{"$f":"Timely!Q288","v":11.7},{"$f":"Timely!R288","v":13},{"$f":"Timely!S288","v":11.7},{"$f":"Timely!T288","v":10},null,null,{"$f":"Timely!C96","v":4.2000000000000037E-2},{"$f":"Timely!D96","v":2.200000000000002E-2},{"$f":"Timely!E96","v":6.4999999999999947E-2},{"$f":"Timely!F96","v":9.099999999999997E-2},{"$f":"Timely!G96","v":3.3000000000000029E-2},{"$f":"Timely!J96","v":8.7999999999999967E-2},{"$f":"Timely!K96","v":0},{"$f":"Timely!L96","v":2.9000000000000026E-2},{"$f":"Timely!M96","v":7.8999999999999959E-2},{"$f":"Timely!N96","v":6.5999999999999948E-2},{"$f":"Timely!O96","v":0},{"$f":"Timely!P96","v":9.3999999999999972E-2},{"$f":"Timely!Q96","v":0},{"$f":"Timely!R96","v":6.1000000000000054E-2},{"$f":"Timely!S96","v":3.7000000000000033E-2},{"$f":"Timely!T96","v":3.8000000000000034E-2},{"$f":"Timely!U96","v":0},{"$f":"Timely!V96","v":0},{"$f":"Timely!W96","v":3.3000000000000029E-2},null,null,null,null,null,{"$f":"Timely!C223","v":5.3000000000000047E-2},{"$f":"Timely!D223","v":7.3999999999999955E-2},{"$f":"Timely!E223","v":0.11199999999999999},{"$f":"Timely!F223","v":5.0000000000000044E-2},{"$f":"Timely!G223","v":5.5000000000000049E-2},{"$f":"Timely!J223","v":0.10899999999999999},{"$f":"Timely!K223","v":4.2000000000000037E-2},{"$f":"Timely!L223","v":0.15200000000000002},{"$f":"Timely!M223","v":3.400000000000003E-2},{"$f":"Timely!N223","v":9.6999999999999975E-2},{"$f":"Timely!O223","v":0.14400000000000002},{"$f":"Timely!P223","v":0.10699999999999998},{"$f":"Timely!Q223","v":7.5999999999999956E-2},{"$f":"Timely!R223","v":4.3000000000000038E-2},{"$f":"Timely!S223","v":1.9000000000000017E-2},{"$f":"Timely!T223","v":0},{"$f":"Timely!U223","v":1.3000000000000012E-2},{"$f":"Timely!V223","v":8.0999999999999961E-2},{"$f":"Timely!W223","v":1.3000000000000012E-2},null,null,null,null,{"$f":"Churn!B31","v":0.41379310344827586},{"$f":"Churn!C31","v":9.375E-2},{"$f":"Churn!D31","v":9.3457943925233641E-2},{"$f":"Churn!E31","v":0.18674698795180722},{"$f":"Churn!F31","v":0.14338235294117646},{"$f":"Churn!G31","v":0.75661375661375663},{"$f":"Churn!H31","v":0.67980295566502458},{"$f":"Churn!I31","v":0.64327485380116955},{"$f":"Churn!J31","v":0.58536585365853655},{"$f":"Churn!K31","v":0.65248226950354615},{"$f":"Churn!L31","v":0.60233918128654973},{"$f":"Churn!M31","v":0.58461538461538465},{"$f":"Churn!N31","v":0.66785714285714282},{"$f":"Churn!O31","v":0.63184079601990051},{"$f":"Churn!P31","v":0.64556962025316456},{"$f":"Churn!Q31","v":0.6},{"$f":"Churn!R31","v":0.60526315789473684},{"$f":"Churn!S31","v":0.6292134831460674},null,{"$f":"Churn!B126","v":0.793538219070134},{"$f":"Churn!C126","v":0.72246696035242286},{"$f":"Churn!D126","v":0.84926787252368652},{"$f":"Churn!E126","v":0.75906344410876136},{"$f":"Churn!F126","v":0.7727910238429172},{"$f":"Churn!G126","v":0.75748273215656181},{"$f":"Churn!H126","v":0.764747191011236},{"$f":"Churn!I126","v":0.8173970783532537},{"$f":"Churn!J126","v":0.87246376811594206},{"$f":"Churn!K126","v":0.71894604767879544},{"$f":"Churn!L126","v":0.71894604767879544},{"$f":"Churn!M126","v":0.81097560975609762},{"$f":"Churn!N126","v":0.84120879120879122},{"$f":"Churn!O126","v":0.7714598141060689},{"$f":"Churn!P126","v":0.84646261916708476},{"$f":"Churn!Q126","v":0.82036221243269702},{"$f":"Churn!R126","v":0.81827016520894069},{"$f":"Churn!S126","v":0.76706003078501794},null,{"$f":"Churn!B160","v":4.398826979472141E-2},{"$f":"Churn!C160","v":2.903225806451613E-2},{"$f":"Churn!D160","v":2.1276595744680851E-2},{"$f":"Churn!E160","v":1.5463917525773196E-2},{"$f":"Churn!F160","v":1.9230769230769232E-2},{"$f":"Churn!G160","v":0.10734463276836158},{"$f":"Churn!H160","v":1.8050541516245487E-2},{"$f":"Churn!I160","v":4.8387096774193547E-2},{"$f":"Churn!J160","v":1.5432098765432098E-2},{"$f":"Churn!K160","v":2.2801302931596091E-2},{"$f":"Churn!L160","v":9.166666666666666E-2},{"$f":"Churn!M160","v":5.8823529411764705E-2},{"$f":"Churn!N160","v":6.910569105691057E-2},{"$f":"Churn!O160","v":5.0761421319796954E-2},{"$f":"Churn!P160","v":2.3696682464454975E-2},{"$f":"Churn!Q160","v":9.7560975609756101E-2},{"$f":"Churn!R160","v":5.027932960893855E-2},{"$f":"Churn!S160","v":5.9322033898305086E-2},null,{"$f":"Churn!B224","v":0.16422287390029325},{"$f":"Churn!C224","v":0.12258064516129032},{"$f":"Churn!D224","v":0.1702127659574468},{"$f":"Churn!E224","v":0.14432989690721648},{"$f":"Churn!F224","v":0.18461538461538463},{"$f":"Churn!G224","v":0.14689265536723164},{"$f":"Churn!H224","v":0.1444043321299639},{"$f":"Churn!I224","v":0.15591397849462366},{"$f":"Churn!J224","v":0.10802469135802469},{"$f":"Churn!K224","v":4.5602605863192182E-2},{"$f":"Churn!L224","v":0.20416666666666666},{"$f":"Churn!M224","v":0.15686274509803921},{"$f":"Churn!N224","v":0.13414634146341464},{"$f":"Churn!O224","v":0.13705583756345177},{"$f":"Churn!P224","v":0.13744075829383887},{"$f":"Churn!Q224","v":0.18699186991869918},{"$f":"Churn!R224","v":0.13966480446927373},{"$f":"Churn!S224","v":0.11864406779661017},null,{"$f":"Unemp!B32","v":0.10299999999999999},{"$f":"Unemp!C32","v":0.10100000000000001},{"$f":"Unemp!D32","v":0.10100000000000001},{"$f":"Unemp!E32","v":0.10100000000000001},{"$f":"Unemp!F32","v":0.10100000000000001},{"$f":"Unemp!$I32","v":0.105},{"$f":"Unemp!$I32","v":0.105},{"$f":"Unemp!$I32","v":0.105},{"$f":"Unemp!$I32","v":0.105},{"$f":"Unemp!J32","v":8.5000000000000006E-2},{"$f":"Unemp!K32","v":8.5000000000000006E-2},{"$f":"Unemp!L32","v":8.5000000000000006E-2},{"$f":"Unemp!M32","v":8.5000000000000006E-2},{"$f":"Unemp!N62","v":6.7000000000000004E-2},{"$f":"Unemp!O62","v":6.7000000000000004E-2},{"$f":"Unemp!P62","v":6.7000000000000004E-2},{"$f":"Unemp!Q62","v":6.7000000000000004E-2},{"$f":"Unemp!R62","v":5.7000000000000002E-2},{"$f":"Unemp!S62","v":5.7000000000000002E-2},{"$f":"Unemp!T62","v":5.7000000000000002E-2},{"$f":"Unemp!U62","v":5.7000000000000002E-2}]
["Sierra",{"$f":"Participation!V52/Participation!V$6","v":6.2017448185680693E-5},"C-IV","Small",{"$f":"Participation!B52","v":239},{"$f":"Participation!C52","v":262},{"$f":"Participation!D52","v":266},{"$f":"Participation!E52","v":302},{"$f":"Participation!F52","v":292},{"$f":"Participation!I52","v":314},{"$f":"Participation!J52","v":306},{"$f":"Participation!K52","v":305},{"$f":"Participation!L52","v":293},{"$f":"Participation!M52","v":299},{"$f":"Participation!N52","v":306},{"$f":"Participation!O52","v":294},{"$f":"Participation!P52","v":298},{"$f":"Participation!Q52","v":320},{"$f":"Participation!R52","v":324},{"$f":"Participation!S52","v":317},{"$f":"Participation!T52","v":307},{"$f":"Participation!U52","v":297},{"$f":"Participation!V52","v":271},null,null,null,5.6951891769914354E-4,null,-0.16358024691358025,0.13389121338912133,-8.7542087542087546E-2,null,{"$f":"PRI!B51","v":0.59399999999999997},{"$f":"PRI!C51","v":0.40899999999999997},{"$f":"PRI!F51","v":0.45600000000000002},{"$f":"PRI!G51","v":0.436},{"$f":"PRI!H51","v":0.56159427452170951},{"$f":"PRI!I51","v":0.60385382870597404},null,null,null,null,null,null,null,null,null,null,null,null,null,null,null,null,null,null,null,null,{"$f":"DD_Jun2016!J51","v":0.30072463768115942},null,null,null,null,null,null,null,null,null,null,null,null,null,null,null,null,null,null,null,null,{"$f":"DD_Jun2016!P51","v":0.92222222222222228},null,null,{"$f":"Timely!C308","v":16.3},{"$f":"Timely!D308","v":12.3},{"$f":"Timely!E308","v":13.3},{"$f":"Timely!F308","v":9.6999999999999993},{"$f":"Timely!G308","v":13.7},{"$f":"Timely!H308","v":11},{"$f":"Timely!I308","v":13.3},{"$f":"Timely!J308","v":17.3},{"$f":"Timely!K308","v":10},{"$f":"Timely!L308","v":11},{"$f":"Timely!M308","v":10.3},{"$f":"Timely!N308","v":16.3},{"$f":"Timely!O308","v":13},{"$f":"Timely!P308","v":7.3},{"$f":"Timely!Q308","v":12},{"$f":"Timely!R308","v":12.7},{"$f":"Timely!S308","v":11.7},{"$f":"Timely!T308","v":4.7},null,null,{"$f":"Timely!C116","v":0},{"$f":"Timely!D116","v":0},{"$f":"Timely!E116","v":0},{"$f":"Timely!F116","v":0},{"$f":"Timely!G116","v":0},{"$f":"Timely!J116","v":8.2999999999999963E-2},{"$f":"Timely!K116","v":0},{"$f":"Timely!L116","v":0},{"$f":"Timely!M116","v":0},{"$f":"Timely!N116","v":0},{"$f":"Timely!O116","v":9.9999999999999978E-2},{"$f":"Timely!P116","v":0},{"$f":"Timely!Q116","v":0},{"$f":"Timely!R116","v":0},{"$f":"Timely!S116","v":0},{"$f":"Timely!T116","v":0},{"$f":"Timely!U116","v":0},{"$f":"Timely!V116","v":0},{"$f":"Timely!W116","v":0},null,null,null,null,null,{"$f":"Timely!C243","v":0},{"$f":"Timely!D243","v":7.6999999999999957E-2},{"$f":"Timely!E243","v":0},{"$f":"Timely!F243","v":0},{"$f":"Timely!G243","v":4.2000000000000037E-2},{"$f":"Timely!J243","v":3.8000000000000034E-2},{"$f":"Timely!K243","v":0},{"$f":"Timely!L243","v":0},{"$f":"Timely!M243","v":0},{"$f":"Timely!N243","v":8.6999999999999966E-2},{"$f":"Timely!O243","v":0},{"$f":"Timely!P243","v":0},{"$f":"Timely!Q243","v":0.13},{"$f":"Timely!R243","v":0},{"$f":"Timely!S243","v":9.9999999999999978E-2},{"$f":"Timely!T243","v":0},{"$f":"Timely!U243","v":7.6999999999999957E-2},{"$f":"Timely!V243","v":0.11799999999999999},{"$f":"Timely!W243","v":0},null,null,null,null,{"$f":"Churn!B51","v":0.15384615384615385},{"$f":"Churn!C51","v":0.16129032258064516},{"$f":"Churn!D51","v":0.23255813953488372},{"$f":"Churn!E51","v":0.21212121212121213},{"$f":"Churn!F51","v":0.20930232558139536},{"$f":"Churn!G51","v":0.48},{"$f":"Churn!H51","v":0.38709677419354838},{"$f":"Churn!I51","v":0.48275862068965519},{"$f":"Churn!J51","v":0.41304347826086957},{"$f":"Churn!K51","v":0.26315789473684209},{"$f":"Churn!L51","v":0.46875},{"$f":"Churn!M51","v":0.36363636363636365},{"$f":"Churn!N51","v":0.48936170212765956},{"$f":"Churn!O51","v":0.38461538461538464},{"$f":"Churn!P51","v":0.29166666666666669},{"$f":"Churn!Q51","v":0.38181818181818183},{"$f":"Churn!R51","v":0.57894736842105265},{"$f":"Churn!S51","v":0.47457627118644069},null,{"$f":"Churn!B127","v":0.69343065693430661},{"$f":"Churn!C127","v":0.64400000000000002},{"$f":"Churn!D127","v":0.74204946996466437},{"$f":"Churn!E127","v":0.65217391304347827},{"$f":"Churn!F127","v":0.68834688346883466},{"$f":"Churn!G127","v":0.69453376205787787},{"$f":"Churn!H127","v":0.71965317919075145},{"$f":"Churn!I127","v":0.60994764397905754},{"$f":"Churn!J127","v":0.79022988505747127},{"$f":"Churn!K127","v":0.65661252900232014},{"$f":"Churn!L127","v":0.65661252900232014},{"$f":"Churn!M127","v":0.66115702479338845},{"$f":"Churn!N127","v":0.70204081632653059},{"$f":"Churn!O127","v":0.65021459227467815},{"$f":"Churn!P127","v":0.67572815533980579},{"$f":"Churn!Q127","v":0.57089552238805974},{"$f":"Churn!R127","v":0.53424657534246578},{"$f":"Churn!S127","v":0.61284046692607008},null,{"$f":"Churn!B180","v":0},{"$f":"Churn!C180","v":2.4390243902439025E-2},{"$f":"Churn!D180","v":7.9365079365079361E-2},{"$f":"Churn!E180","v":5.5555555555555552E-2},{"$f":"Churn!F180","v":0},{"$f":"Churn!G180","v":0.17857142857142858},{"$f":"Churn!H180","v":9.7560975609756101E-2},{"$f":"Churn!I180","v":0.16666666666666666},{"$f":"Churn!J180","v":5.4054054054054057E-2},{"$f":"Churn!K180","v":0.14893617021276595},{"$f":"Churn!L180","v":6.6666666666666666E-2},{"$f":"Churn!M180","v":5.2631578947368418E-2},{"$f":"Churn!N180","v":6.1224489795918366E-2},{"$f":"Churn!O180","v":0.10256410256410256},{"$f":"Churn!P180","v":7.6923076923076927E-2},{"$f":"Churn!Q180","v":0},{"$f":"Churn!R180","v":9.6774193548387094E-2},{"$f":"Churn!S180","v":6.4516129032258063E-2},null,{"$f":"Churn!B244","v":0.08},{"$f":"Churn!C244","v":4.878048780487805E-2},{"$f":"Churn!D244","v":0.12698412698412698},{"$f":"Churn!E244","v":0.14814814814814814},{"$f":"Churn!F244","v":0.16326530612244897},{"$f":"Churn!G244","v":0.26785714285714285},{"$f":"Churn!H244","v":0.12195121951219512},{"$f":"Churn!I244","v":0.2857142857142857},{"$f":"Churn!J244","v":0.16216216216216217},{"$f":"Churn!K244","v":0.21276595744680851},{"$f":"Churn!L244","v":0.1},{"$f":"Churn!M244","v":0.18421052631578946},{"$f":"Churn!N244","v":0.16326530612244897},{"$f":"Churn!O244","v":0.12820512820512819},{"$f":"Churn!P244","v":0.26923076923076922},{"$f":"Churn!Q244","v":0.11764705882352941},{"$f":"Churn!R244","v":0.19354838709677419},{"$f":"Churn!S244","v":0.16129032258064516},null,{"$f":"Unemp!B52","v":0.154},{"$f":"Unemp!C52","v":0.14799999999999999},{"$f":"Unemp!D52","v":0.14799999999999999},{"$f":"Unemp!E52","v":0.14799999999999999},{"$f":"Unemp!F52","v":0.14799999999999999},{"$f":"Unemp!$I52","v":0.14299999999999999},{"$f":"Unemp!$I52","v":0.14299999999999999},{"$f":"Unemp!$I52","v":0.14299999999999999},{"$f":"Unemp!$I52","v":0.14299999999999999},{"$f":"Unemp!J52","v":0.129},{"$f":"Unemp!K52","v":0.129},{"$f":"Unemp!L52","v":0.129},{"$f":"Unemp!M52","v":0.129},{"$f":"Unemp!N63","v":7.6999999999999999E-2},{"$f":"Unemp!O63","v":7.6999999999999999E-2},{"$f":"Unemp!P63","v":7.6999999999999999E-2},{"$f":"Unemp!Q63","v":7.6999999999999999E-2},{"$f":"Unemp!R63","v":6.4000000000000001E-2},{"$f":"Unemp!S63","v":6.4000000000000001E-2},{"$f":"Unemp!T63","v":6.4000000000000001E-2},{"$f":"Unemp!U63","v":6.4000000000000001E-2}]
["Alpine",{"$f":"Participation!V8/Participation!V$6","v":3.5471234202142095E-5},"C-IV","Small",{"$f":"Participation!B8","v":144},{"$f":"Participation!C8","v":152},{"$f":"Participation!D8","v":145},{"$f":"Participation!E8","v":147},{"$f":"Participation!F8","v":137},{"$f":"Participation!I8","v":151},{"$f":"Participation!J8","v":153},{"$f":"Participation!K8","v":171},{"$f":"Participation!L8","v":154},{"$f":"Participation!M8","v":176},{"$f":"Participation!N8","v":180},{"$f":"Participation!O8","v":194},{"$f":"Participation!P8","v":185},{"$f":"Participation!Q8","v":171},{"$f":"Participation!R8","v":163},{"$f":"Participation!S8","v":171},{"$f":"Participation!T8","v":164},{"$f":"Participation!U8","v":158},{"$f":"Participation!V8","v":155},null,null,null,8.5965119652700922E-5,null,-4.9079754601226995E-2,7.6388888888888895E-2,-1.8987341772151899E-2,null,null,{"$f":"PRI!C7","v":0.72099999999999997},{"$f":"PRI!F7","v":0.749},{"$f":"PRI!G7","v":0.70099999999999996},{"$f":"PRI!H7","v":0.80292964974253522},{"$f":"PRI!I7","v":0.66597195415907617},null,null,null,null,null,null,null,null,null,null,null,null,null,null,null,null,null,null,null,null,{"$f":"DD_Jun2016!J7","v":0.38918918918918921},null,null,null,null,null,null,null,null,null,null,null,null,null,null,null,null,null,null,null,null,{"$f":"DD_Jun2016!P7","v":0.95364238410596025},null,null,{"$f":"Timely!C264","v":4},{"$f":"Timely!D264","v":0.7},{"$f":"Timely!E264","v":3},{"$f":"Timely!F264","v":3.3},{"$f":"Timely!G264","v":3.7},{"$f":"Timely!H264","v":1.3},{"$f":"Timely!I264","v":2.2999999999999998},{"$f":"Timely!J264","v":7},{"$f":"Timely!K264","v":7.3},{"$f":"Timely!L264","v":8},{"$f":"Timely!M264","v":5},{"$f":"Timely!N264","v":8},{"$f":"Timely!O264","v":6.7},{"$f":"Timely!P264","v":8},{"$f":"Timely!Q264","v":5.7},{"$f":"Timely!R264","v":5.3},{"$f":"Timely!S264","v":12.3},{"$f":"Timely!T264","v":8},null,null,{"$f":"Timely!C72","v":0},{"$f":"Timely!D72","v":0},{"$f":"Timely!E72","v":0},{"$f":"Timely!F72","v":0},{"$f":"Timely!G72","v":0},{"$f":"Timely!J72","v":0},{"$f":"Timely!K72","v":0},{"$f":"Timely!L72","v":0},{"$f":"Timely!M72","v":0},{"$f":"Timely!N72","v":0},{"$f":"Timely!O72","v":0},{"$f":"Timely!P72","v":0},{"$f":"Timely!Q72","v":0},{"$f":"Timely!R72","v":0},{"$f":"Timely!S72","v":0},{"$f":"Timely!T72","v":0},{"$f":"Timely!U72","v":0},{"$f":"Timely!V72","v":0},{"$f":"Timely!W72","v":0},null,null,null,null,null,{"$f":"Timely!C199","v":0},{"$f":"Timely!D199","v":0},{"$f":"Timely!E199","v":0},{"$f":"Timely!F199","v":0},{"$f":"Timely!G199","v":6.2000000000000055E-2},{"$f":"Timely!J199","v":7.0999999999999952E-2},{"$f":"Timely!K199","v":5.0000000000000044E-2},{"$f":"Timely!L199","v":0.27300000000000002},{"$f":"Timely!M199","v":0.35299999999999998},{"$f":"Timely!N199","v":0.21099999999999997},{"$f":"Timely!O199","v":8.2999999999999963E-2},{"$f":"Timely!P199","v":0.21099999999999997},{"$f":"Timely!Q199","v":0.22199999999999998},{"$f":"Timely!R199","v":0.57099999999999995},{"$f":"Timely!S199","v":0.375},{"$f":"Timely!T199","v":0.25},{"$f":"Timely!U199","v":0.33299999999999996},{"$f":"Timely!V199","v":0.55600000000000005},{"$f":"Timely!W199","v":0.36399999999999999},null,null,null,null,{"$f":"Churn!B7","v":0.25},{"$f":"Churn!C7","v":0.14285714285714285},{"$f":"Churn!D7","v":0.18181818181818182},{"$f":"Churn!E7","v":0.1875},{"$f":"Churn!F7","v":5.7142857142857141E-2},{"$f":"Churn!G7","v":0.46666666666666667},{"$f":"Churn!H7","v":0.5},{"$f":"Churn!I7","v":0.44827586206896552},{"$f":"Churn!J7","v":0.37931034482758619},{"$f":"Churn!K7","v":0.4},{"$f":"Churn!L7","v":0.52941176470588236},{"$f":"Churn!M7","v":0.6875},{"$f":"Churn!N7","v":0.7},{"$f":"Churn!O7","v":0.5161290322580645},{"$f":"Churn!P7","v":0.48571428571428571},{"$f":"Churn!Q7","v":0.45454545454545453},{"$f":"Churn!R7","v":0.37037037037037035},{"$f":"Churn!S7","v":0.70588235294117652},null,{"$f":"Churn!B128","v":0.92741935483870963},{"$f":"Churn!C128","v":0.74174757281553394},{"$f":"Churn!D128","v":0.72995780590717296},{"$f":"Churn!E128","v":0.66666666666666663},{"$f":"Churn!F128","v":0.71206896551724141},{"$f":"Churn!G128","v":0.51876675603217159},{"$f":"Churn!H128","v":0.53376623376623378},{"$f":"Churn!I128","v":0.59180977542932633},{"$f":"Churn!J128","v":0.83232810615199038},{"$f":"Churn!K128","v":1.0464788732394366},{"$f":"Churn!L128","v":0.91828793774319062},{"$f":"Churn!M128","v":0.96358543417366949},{"$f":"Churn!N128","v":0.96933333333333338},{"$f":"Churn!O128","v":0.95915492957746484},{"$f":"Churn!P128","v":0.86123032904148789},{"$f":"Churn!Q128","v":0.87023977433004229},{"$f":"Churn!R128","v":0.91052631578947374},{"$f":"Churn!S128","v":0.79840848806366049},null,{"$f":"Churn!B136","v":0},{"$f":"Churn!C136","v":0},{"$f":"Churn!D136","v":4.1666666666666664E-2},{"$f":"Churn!E136","v":5.2631578947368418E-2},{"$f":"Churn!F136","v":0},{"$f":"Churn!G136","v":0.1875},{"$f":"Churn!H136","v":7.1428571428571425E-2},{"$f":"Churn!I136","v":8.6956521739130432E-2},{"$f":"Churn!J136","v":0.14814814814814814},{"$f":"Churn!K136","v":6.6666666666666666E-2},{"$f":"Churn!L136","v":0},{"$f":"Churn!M136","v":0.08},{"$f":"Churn!N136","v":0.04},{"$f":"Churn!O136","v":0.10526315789473684},{"$f":"Churn!P136","v":0},{"$f":"Churn!Q136","v":0},{"$f":"Churn!R136","v":0},{"$f":"Churn!S136","v":0},null,{"$f":"Churn!B200","v":0.04},{"$f":"Churn!C200","v":0},{"$f":"Churn!D200","v":8.3333333333333329E-2},{"$f":"Churn!E200","v":0.10526315789473684},{"$f":"Churn!F200","v":8.6956521739130432E-2},{"$f":"Churn!G200","v":0.1875},{"$f":"Churn!H200","v":0.14285714285714285},{"$f":"Churn!I200","v":0.21739130434782608},{"$f":"Churn!J200","v":0.14814814814814814},{"$f":"Churn!K200","v":0.2},{"$f":"Churn!L200","v":0.10526315789473684},{"$f":"Churn!M200","v":0.16},{"$f":"Churn!N200","v":0.12},{"$f":"Churn!O200","v":0.21052631578947367},{"$f":"Churn!P200","v":6.25E-2},{"$f":"Churn!Q200","v":5.8823529411764705E-2},{"$f":"Churn!R200","v":7.1428571428571425E-2},{"$f":"Churn!S200","v":0},null,{"$f":"Unemp!B8","v":0.154},{"$f":"Unemp!C8","v":0.14799999999999999},{"$f":"Unemp!D8","v":0.14799999999999999},{"$f":"Unemp!E8","v":0.14799999999999999},{"$f":"Unemp!F8","v":0.14799999999999999},{"$f":"Unemp!$I8","v":0.13300000000000001},{"$f":"Unemp!$I8","v":0.13300000000000001},{"$f":"Unemp!$I8","v":0.13300000000000001},{"$f":"Unemp!$I8","v":0.13300000000000001},{"$f":"Unemp!J8","v":9.8000000000000004E-2},{"$f":"Unemp!K8","v":9.8000000000000004E-2},{"$f":"Unemp!L8","v":9.8000000000000004E-2},{"$f":"Unemp!M8","v":9.8000000000000004E-2},{"$f":"Unemp!N64","v":0.112},{"$f":"Unemp!O64","v":0.112},{"$f":"Unemp!P64","v":0.112},{"$f":"Unemp!Q64","v":0.112},{"$f":"Unemp!R64","v":9.1999999999999998E-2},{"$f":"Unemp!S64","v":9.1999999999999998E-2},{"$f":"Unemp!T64","v":9.1999999999999998E-2},{"$f":"Unemp!U64","v":9.1999999999999998E-2}]
[null,null,null,null,null,null,null,null,null,null,null,null,null,null,null,null,null,null,null,null,null,null,null,null,null,null,null,null,null,null,{"$error":"#DIV/0!"},null,null,null,null,null,null,null,null,null,null,null,null,null,null,null,null,null,null,null,null,null,null,null,null,null,null,null,null,null,null,null,null,null,null,null,null,null,null,null,null,null,null,null,null,null,null,null,null,null,null,null,null,null,null,null,"**Regular AND Expedited Service",null,null,null,null,null,null,null,null,null,null,null,null,null,null,null,"Data Dashboard"]
[null,null,null,null,null,null,null,null,null,null,null,null,null,null,null,null,null,null,null,null,null,null,null,null,null,null,null,null,null,null,{"$error":"#DIV/0!"},null,null,null,null,null,null,null,"[Note - these look the same bc the adjusted eligibles is an annual number]",null,null,null,null,null,null,null,null,null,null,null,null,null,null,null,null,null,null,null,null,null,null,null,null,null,null,null,null,null,null,null,null,null,null,null,null,null,null,null,null,null,null,null,null,null,null,null,null,null,null,null,null,null,null,null,null,null,null,null,null,null,null,null,null,null,null,null,null,null,null,null,null,null,null,null,null,null,null,null,null,null,null,null,null,null,null,null,null,null,null,null,null,null,null,null,null,null,null,null,null,null,null,null,null,null,null,null,null,null,null,null,null,null,{"$f":"#REF!","v":{"$error":"#REF!"}}]
[null,null,null,null,null,null,null,null,null,null,null,null,null,null,null,null,null,null,null,null,null,null,null,null,null,null,null,null,null,null,{"$error":"#DIV/0!"},null,null,null,null,null,null,null,null,null,null,null,null,null,null,null,null,null,null,null,null,null,null,null,null,null,null,null,null,null,null,null,null,null,null,null,null,null,null,null,null,null,null,null,null,null,null,null,null,null,null,null,null,null,null,null,"From Churn Spreadsheet"]
[]
[null,null,null,null,null,null,null,null,null,null,null,null,null,null,null,null,null,null,null,null,null,null,null,null,null,null,null,null,null,null,null,null,null,null,null,null,null,null,null,null,null,null,null,null,null,null,null,null,null,null,null,null,null,null,null,null,null,null,null,null,null,null,null,null,null,null,null,null,null,null,null,null,null,null,null,null,null,null,null,null,null,null,null,null,null,null,null,null,null,null,null,null,null,null,null,null,null,null,null,null,null,null,null,null,null,null,null,null,null,null,null,null,null,null,null,null,null,null,null,null,null,null,null,null,null,null,"DD"]

{"sheet":"LgMedSmCountyData","index":14,"n_rows":114,"n_cols":25,"rows_kept":114,"cut":false,"hidden":true,"merged":[[17,1,18,1],[17,3,17,6],[17,7,17,10],[40,1,41,1],[40,3,40,6],[40,7,40,10],[91,1,92,1],[91,3,91,6],[91,7,91,10],[66,1,67,1],[66,3,66,6],[66,7,66,10],[66,19,66,20],[17,11,17,14],[40,11,40,14],[66,11,66,14],[91,11,91,14],[17,15,17,18],[40,15,40,18],[91,15,91,18],[91,19,91,20],[17,19,17,20],[40,19,40,20],[66,15,66,18]]}
[null,"Notes on refreshing - Make sure that \"AllCountiesData\" worksheet is sorted by County."]
[null,"Update Reference points (best rates for large, medium and small counties - hard code)."]
[null,"Reference points:",null,null,null,null,null,null,null,null,null,null,null,null,null,null,null,null,null,null,null,null,"Best county, most recent quarter"]
[null,"Target - all Medi-Cal on CalFresh",0.4,0.4,0.4,0.4,0.4,0.4,0.4,0.4,0.4,0.4,0.4,0.4,0.4,0.4,0.4,0.4]
[null,"Target - CalFresh on Medi-Cal",0.9,0.9,0.9,0.9,0.9,0.9,0.9,0.9,0.9,0.9,0.9,0.9,0.9,0.9,0.9,0.9]
[null,"Best Large County - Medi-Cal on CalFresh",{"$f":"#REF!","v":{"$error":"#REF!"}},{"$f":"#REF!","v":{"$error":"#REF!"}},{"$f":"#REF!","v":{"$error":"#REF!"}},{"$f":"#REF!","v":{"$error":"#REF!"}},{"$f":"#REF!","v":{"$error":"#REF!"}},{"$f":"#REF!","v":{"$error":"#REF!"}},{"$f":"#REF!","v":{"$error":"#REF!"}},{"$f":"#REF!","v":{"$error":"#REF!"}},{"$f":"#REF!","v":{"$error":"#REF!"}},{"$f":"#REF!","v":{"$error":"#REF!"}},{"$f":"#REF!","v":{"$error":"#REF!"}},{"$f":"#REF!","v":{"$error":"#REF!"}},{"$f":"#REF!","v":{"$error":"#REF!"}},{"$f":"#REF!","v":{"$error":"#REF!"}},{"$f":"#REF!","v":{"$error":"#REF!"}},0,null,null,null,null,{"$f":"#REF!","v":{"$error":"#REF!"}},null,{"$f":"CONCATENATE(\"Best Large County\",\" (\",W6,\")\")","v":{"$error":"#REF!"}}]
[null,"Best Medium County - Medi-Cal on CalFresh",{"$f":"#REF!","v":{"$error":"#REF!"}},{"$f":"#REF!","v":{"$error":"#REF!"}},{"$f":"#REF!","v":{"$error":"#REF!"}},{"$f":"#REF!","v":{"$error":"#REF!"}},{"$f":"#REF!","v":{"$error":"#REF!"}},{"$f":"#REF!","v":{"$error":"#REF!"}},{"$f":"#REF!","v":{"$error":"#REF!"}},{"$f":"#REF!","v":{"$error":"#REF!"}},{"$f":"#REF!","v":{"$error":"#REF!"}},{"$f":"#REF!","v":{"$error":"#REF!"}},{"$f":"#REF!","v":{"$error":"#REF!"}},{"$f":"#REF!","v":{"$error":"#REF!"}},{"$f":"#REF!","v":{"$error":"#REF!"}},{"$f":"#REF!","v":{"$error":"#REF!"}},{"$f":"#REF!","v":{"$error":"#REF!"}},0,null,null,null,null,{"$f":"#REF!","v":{"$error":"#REF!"}},null,{"$f":"CONCATENATE(\"Best Medium County\",\" (\",W7,\")\")","v":{"$error":"#REF!"}}]
[null,"Best Small County - Medi-Cal on CalFresh",{"$f":"#REF!","v":{"$error":"#REF!"}},{"$f":"#REF!","v":{"$error":"#REF!"}},{"$f":"#REF!","v":{"$error":"#REF!"}},{"$f":"#REF!","v":{"$error":"#REF!"}},{"$f":"#REF!","v":{"$error":"#REF!"}},{"$f":"#REF!","v":{"$error":"#REF!"}},{"$f":"#REF!","v":{"$error":"#REF!"}},{"$f":"#REF!","v":{"$error":"#REF!"}},{"$f":"#REF!","v":{"$error":"#REF!"}},{"$f":"#REF!","v":{"$error":"#REF!"}},{"$f":"#REF!","v":{"$error":"#REF!"}},{"$f":"#REF!","v":{"$error":"#REF!"}},{"$f":"#REF!","v":{"$error":"#REF!"}},{"$f":"#REF!","v":{"$error":"#REF!"}},{"$f":"#REF!","v":{"$error":"#REF!"}},0,null,null,null,null,{"$f":"#REF!","v":{"$error":"#REF!"}},null,{"$f":"CONCATENATE(\"Best Small County\",\" (\",W8,\")\")","v":{"$error":"#REF!"}}]
[null,"Best Large County - CalFresh on Medi-Cal",{"$f":"#REF!","v":{"$error":"#REF!"}},{"$f":"#REF!","v":{"$error":"#REF!"}},{"$f":"#REF!","v":{"$error":"#REF!"}},{"$f":"#REF!","v":{"$error":"#REF!"}},{"$f":"#REF!","v":{"$error":"#REF!"}},{"$f":"#REF!","v":{"$error":"#REF!"}},{"$f":"#REF!","v":{"$error":"#REF!"}},{"$f":"#REF!","v":{"$error":"#REF!"}},{"$f":"#REF!","v":{"$error":"#REF!"}},{"$f":"#REF!","v":{"$error":"#REF!"}},{"$f":"#REF!","v":{"$error":"#REF!"}},{"$f":"#REF!","v":{"$error":"#REF!"}},{"$f":"#REF!","v":{"$error":"#REF!"}},{"$f":"#REF!","v":{"$error":"#REF!"}},{"$f":"#REF!","v":{"$error":"#REF!"}},0,null,null,null,null,{"$f":"#REF!","v":{"$error":"#REF!"}},null,{"$f":"CONCATENATE(\"Best Large County\",\" (\",W9,\")\")","v":{"$error":"#REF!"}}]
[null,"Best Medium County - CalFresh on Medi-Cal",{"$f":"#REF!","v":{"$error":"#REF!"}},{"$f":"#REF!","v":{"$error":"#REF!"}},{"$f":"#REF!","v":{"$error":"#REF!"}},{"$f":"#REF!","v":{"$error":"#REF!"}},{"$f":"#REF!","v":{"$error":"#REF!"}},{"$f":"#REF!","v":{"$error":"#REF!"}},{"$f":"#REF!","v":{"$error":"#REF!"}},{"$f":"#REF!","v":{"$error":"#REF!"}},{"$f":"#REF!","v":{"$error":"#REF!"}},{"$f":"#REF!","v":{"$error":"#REF!"}},{"$f":"#REF!","v":{"$error":"#REF!"}},{"$f":"#REF!","v":{"$error":"#REF!"}},{"$f":"#REF!","v":{"$error":"#REF!"}},{"$f":"#REF!","v":{"$error":"#REF!"}},{"$f":"#REF!","v":{"$error":"#REF!"}},0,null,null,null,null,{"$f":"#REF!","v":{"$error":"#REF!"}},null,{"$f":"CONCATENATE(\"Best Medium County\",\" (\",W10,\")\")","v":{"$error":"#REF!"}}]
[null,"Best Small County - CalFresh on Medi-Cal",{"$f":"#REF!","v":{"$error":"#REF!"}},{"$f":"#REF!","v":{"$error":"#REF!"}},{"$f":"#REF!","v":{"$error":"#REF!"}},{"$f":"#REF!","v":{"$error":"#REF!"}},{"$f":"#REF!","v":{"$error":"#REF!"}},{"$f":"#REF!","v":{"$error":"#REF!"}},{"$f":"#REF!","v":{"$error":"#REF!"}},{"$f":"#REF!","v":{"$error":"#REF!"}},{"$f":"#REF!","v":{"$error":"#REF!"}},{"$f":"#REF!","v":{"$error":"#REF!"}},{"$f":"#REF!","v":{"$error":"#REF!"}},{"$f":"#REF!","v":{"$error":"#REF!"}},{"$f":"#REF!","v":{"$error":"#REF!"}},{"$f":"#REF!","v":{"$error":"#REF!"}},{"$f":"#REF!","v":{"$error":"#REF!"}},0,null,null,null,null,{"$f":"#REF!","v":{"$error":"#REF!"}},null,{"$f":"CONCATENATE(\"Best Small County\",\" (\",W11,\")\")","v":{"$error":"#REF!"}}]
[null,"Best Large County - Average Days",{"$f":"Timely!C392","v":5},{"$f":"Timely!D392","v":5},{"$f":"Timely!E392","v":5},{"$f":"Timely!F392","v":5},{"$f":"Timely!G392","v":5},{"$f":"Timely!H392","v":4.7},{"$f":"Timely!I392","v":5.3},{"$f":"Timely!J392","v":5.3},{"$f":"Timely!K392","v":6},{"$f":"Timely!L392","v":5.7},{"$f":"Timely!M392","v":5.7},{"$f":"Timely!N392","v":6.7},{"$f":"Timely!O392","v":5.7},{"$f":"Timely!P392","v":5.7},{"$f":"Timely!Q392","v":4.7},{"$f":"Timely!R392","v":5},{"$f":"Timely!S392","v":6},{"$f":"Timely!T392","v":5.3},null,null,{"$f":"Timely!T397","v":"Tulare"},null,{"$f":"CONCATENATE(\"Best Large County this Q\",\" (\",W12,\")\")","v":"Best Large County this Q (Tulare)"}]
[null,"Best Medium County - Average Days",{"$f":"Timely!C393","v":7},{"$f":"Timely!D393","v":7},{"$f":"Timely!E393","v":6.3},{"$f":"Timely!F393","v":8},{"$f":"Timely!G393","v":7.3},{"$f":"Timely!H393","v":8.3000000000000007},{"$f":"Timely!I393","v":8.6999999999999993},{"$f":"Timely!J393","v":9.3000000000000007},{"$f":"Timely!K393","v":10},{"$f":"Timely!L393","v":9.3000000000000007},{"$f":"Timely!M393","v":9.3000000000000007},{"$f":"Timely!N393","v":9},{"$f":"Timely!O393","v":8.6999999999999993},{"$f":"Timely!P393","v":8},{"$f":"Timely!Q393","v":7.3},{"$f":"Timely!R393","v":8.3000000000000007},{"$f":"Timely!S393","v":8},{"$f":"Timely!T393","v":7.7},null,null,{"$f":"Timely!T398","v":"San Francisco"},null,{"$f":"CONCATENATE(\"Best Medium County this Q\",\" (\",W13,\")\")","v":"Best Medium County this Q (San Francisco)"}]
[null,"Best Small County - Average Days",{"$f":"Timely!C394","v":4},{"$f":"Timely!D394","v":0.7},{"$f":"Timely!E394","v":3},{"$f":"Timely!F394","v":3.3},{"$f":"Timely!G394","v":3.7},{"$f":"Timely!H394","v":1.3},{"$f":"Timely!I394","v":2.2999999999999998},{"$f":"Timely!J394","v":7},{"$f":"Timely!K394","v":7.3},{"$f":"Timely!L394","v":7.7},{"$f":"Timely!M394","v":5},{"$f":"Timely!N394","v":8},{"$f":"Timely!O394","v":6.7},{"$f":"Timely!P394","v":5.7},{"$f":"Timely!Q394","v":5.7},{"$f":"Timely!R394","v":5.3},{"$f":"Timely!S394","v":5},{"$f":"Timely!T394","v":4.7},null,null,{"$f":"Timely!T399","v":"Sierra"},null,{"$f":"CONCATENATE(\"Best Small County this Q\",\" (\",W14,\")\")","v":"Best Small County this Q (Sierra)"}]
[null,null,0,1,2,3,4,5,6,7,8,9,10,11,12,13,14,15,16,17,18]
[]
[null,null,"Q4","Q1","Q2","Q3","Q4","Q1","Q2","Q3","Q4","Q1","Q2","Q3","Q4","Q1","Q2","Q3","Q4","Q1","Q2"]
[null,"California",2011,2012,null,null,null,2013,null,null,null,2014,null,null,null,2015,null,null,null,2016]
[]
[null,"Persons Participating",{"$f":"AllCountiesData!E10","v":3905210},{"$f":"AllCountiesData!F10","v":3956654},{"$f":"AllCountiesData!G10","v":3996483},{"$f":"AllCountiesData!H10","v":4074650},{"$f":"AllCountiesData!I10","v":4147355},{"$f":"AllCountiesData!J10","v":4194682},{"$f":"AllCountiesData!K10","v":4202850},{"$f":"AllCountiesData!L10","v":4221057},{"$f":"AllCountiesData!M10","v":4285622},{"$f":"AllCountiesData!N10","v":4351103},{"$f":"AllCountiesData!O10","v":4393812},{"$f":"AllCountiesData!P10","v":4476030},{"$f":"AllCountiesData!Q10","v":4477428},{"$f":"AllCountiesData!R10","v":4445534},{"$f":"AllCountiesData!S10","v":4462799},{"$f":"AllCountiesData!T10","v":4480570},{"$f":"AllCountiesData!U10","v":4483272},{"$f":"AllCountiesData!V10","v":4431790},{"$f":"AllCountiesData!W10","v":4369738}]
[null,"% change over prior year (State)",null,null,null,null,{"$f":"(G20-C20)/C20","v":6.2005628378499489E-2},{"$f":"(H20-D20)/D20","v":6.0158912050434533E-2},5.1637151965865991E-2,3.5931184273495884E-2,3.3338597732771848E-2,3.729031187584661E-2,4.5436311074627929E-2,6.040501229905211E-2,4.4755697072676966E-2,2.1702772837140376E-2,1.5700944874291391E-2,1.0142916825847906E-3,{"$f":"(S20-O20)/O20","v":1.3052136181754346E-3},{"$f":"(T20-P20)/P20","v":-3.0916420839431215E-3},{"$f":"(U20-Q20)/Q20","v":-2.0852608419066151E-2}]
[null,"% All Medi-Cal on CalFresh",{"$f":"AllCountiesData!AO10","v":0},{"$f":"AllCountiesData!AP10","v":0},{"$f":"AllCountiesData!AQ10","v":0},{"$f":"AllCountiesData!AR10","v":0},{"$f":"AllCountiesData!AS10","v":0},{"$f":"AllCountiesData!AT10","v":0},{"$f":"AllCountiesData!AU10","v":0},{"$f":"AllCountiesData!AV10","v":0},{"$f":"AllCountiesData!AW10","v":0},{"$f":"AllCountiesData!AX10","v":0},{"$f":"AllCountiesData!AY10","v":0},{"$f":"AllCountiesData!AZ10","v":0},{"$f":"AllCountiesData!BA10","v":0},{"$f":"AllCountiesData!BB10","v":0},{"$f":"AllCountiesData!BC10","v":0},{"$f":"AllCountiesData!BH10","v":0}]
[null,"% All CalFresh on Medi-Cal",{"$f":"AllCountiesData!BJ10","v":0},{"$f":"AllCountiesData!BK10","v":0},{"$f":"AllCountiesData!BL10","v":0},{"$f":"AllCountiesData!BM10","v":0},{"$f":"AllCountiesData!BN10","v":0},{"$f":"AllCountiesData!BO10","v":0},{"$f":"AllCountiesData!BP10","v":0},{"$f":"AllCountiesData!BQ10","v":0},{"$f":"AllCountiesData!BR10","v":0},{"$f":"AllCountiesData!BS10","v":0},{"$f":"AllCountiesData!BT10","v":0},{"$f":"AllCountiesData!BU10","v":0},{"$f":"AllCountiesData!BV10","v":0},{"$f":"AllCountiesData!BW10","v":0},{"$f":"AllCountiesData!BX10","v":0},{"$f":"AllCountiesData!CC10","v":0}]
[null,"Avg Days to Approval",{"$f":"AllCountiesData!CE10","v":14.9},{"$f":"AllCountiesData!CF10","v":14.4},{"$f":"AllCountiesData!CG10","v":13.2},{"$f":"AllCountiesData!CH10","v":14},{"$f":"AllCountiesData!CI10","v":13.9},{"$f":"AllCountiesData!CJ10","v":13.3},{"$f":"AllCountiesData!CK10","v":13.3},{"$f":"AllCountiesData!CL10","v":14.9},{"$f":"AllCountiesData!CM10","v":14.6},{"$f":"AllCountiesData!CN10","v":14.1},{"$f":"AllCountiesData!CO10","v":13.2},{"$f":"AllCountiesData!CP10","v":13.7},{"$f":"AllCountiesData!CQ10","v":13.5},{"$f":"AllCountiesData!CR10","v":12.7},{"$f":"AllCountiesData!CS10","v":11.5},{"$f":"AllCountiesData!CT10","v":12.1},{"$f":"AllCountiesData!CU10","v":12.1},{"$f":"AllCountiesData!CV10","v":11.4}]
[null,"% of All Approvals not timely (>30 days)",{"$f":"AllCountiesData!CY10","v":4.2000000000000037E-2},{"$f":"AllCountiesData!CZ10","v":3.9000000000000035E-2},{"$f":"AllCountiesData!DA10","v":2.5000000000000022E-2},{"$f":"AllCountiesData!DB10","v":2.300000000000002E-2},{"$f":"AllCountiesData!DC10","v":2.300000000000002E-2},{"$f":"AllCountiesData!DD10","v":3.400000000000003E-2},{"$f":"AllCountiesData!DE10","v":2.9000000000000026E-2},{"$f":"AllCountiesData!DF10","v":2.7000000000000024E-2},{"$f":"AllCountiesData!DG10","v":3.5000000000000031E-2},{"$f":"AllCountiesData!DH10","v":4.0000000000000036E-2},{"$f":"AllCountiesData!DI10","v":4.1000000000000036E-2},{"$f":"AllCountiesData!DJ10","v":3.0000000000000027E-2},{"$f":"AllCountiesData!DK10","v":3.3000000000000029E-2},{"$f":"AllCountiesData!DL10","v":3.2000000000000028E-2},{"$f":"AllCountiesData!DM10","v":2.8000000000000025E-2},{"$f":"AllCountiesData!DN10","v":2.9000000000000026E-2},{"$f":"AllCountiesData!DO10","v":2.8000000000000025E-2},{"$f":"AllCountiesData!DP10","v":2.4000000000000021E-2},{"$f":"AllCountiesData!DQ10","v":2.300000000000002E-2}]
[null,"% ES entitled not timely (> 3 days)",{"$f":"AllCountiesData!DW10","v":7.6999999999999957E-2},{"$f":"AllCountiesData!DX10","v":7.2999999999999954E-2},{"$f":"AllCountiesData!DY10","v":6.0000000000000053E-2},{"$f":"AllCountiesData!DZ10","v":5.8000000000000052E-2},{"$f":"AllCountiesData!EA10","v":6.1000000000000054E-2},{"$f":"AllCountiesData!EB10","v":6.2999999999999945E-2},{"$f":"AllCountiesData!EC10","v":5.7000000000000051E-2},{"$f":"AllCountiesData!ED10","v":8.0999999999999961E-2},{"$f":"AllCountiesData!EE10","v":7.5999999999999956E-2},{"$f":"AllCountiesData!EF10","v":9.3999999999999972E-2},{"$f":"AllCountiesData!EG10","v":7.5999999999999956E-2},{"$f":"AllCountiesData!EH10","v":7.1999999999999953E-2},{"$f":"AllCountiesData!EI10","v":6.6999999999999948E-2},{"$f":"AllCountiesData!EJ10","v":6.3999999999999946E-2},{"$f":"AllCountiesData!EK10","v":5.3000000000000047E-2},{"$f":"AllCountiesData!EL10","v":5.8000000000000052E-2},{"$f":"AllCountiesData!EM10","v":6.2999999999999945E-2},{"$f":"AllCountiesData!EN10","v":6.5999999999999948E-2},{"$f":"AllCountiesData!EO10","v":7.4999999999999956E-2}]
[null,"% of Apps on CF in previous 90 days",{"$f":"AllCountiesData!GY10","v":0.19211608327713359},{"$f":"AllCountiesData!EU10","v":0.17902674733900528},{"$f":"AllCountiesData!EV10","v":0.18139228198261259},{"$f":"AllCountiesData!EW10","v":0.18710675901179558},{"$f":"AllCountiesData!EX10","v":0.17981334022170059},{"$f":"AllCountiesData!EY10","v":0.20469640134329894},{"$f":"AllCountiesData!EZ10","v":0.20364592061192413},{"$f":"AllCountiesData!FA10","v":0.20923328500967492},{"$f":"AllCountiesData!FB10","v":0.22003124743031},{"$f":"AllCountiesData!FC10","v":0.21933378448168397},{"$f":"AllCountiesData!FD10","v":0.2265365141948987},{"$f":"AllCountiesData!FE10","v":0.22633206934467839},{"$f":"AllCountiesData!FF10","v":0.25492482967556573},{"$f":"AllCountiesData!FG10","v":0.24722582063089202},{"$f":"AllCountiesData!FH10","v":0.25460008259499922},{"$f":"AllCountiesData!FI10","v":0.26374442793462111},{"$f":"AllCountiesData!FJ10","v":0.28839309717183326},{"$f":"AllCountiesData!FK10","v":0.30950194567662226}]
[null,"% of unsuccessful recerts that reapply within 90 d",{"$f":"AllCountiesData!FM10","v":0.57054693617529562},{"$f":"AllCountiesData!FN10","v":0.70166953852391367},{"$f":"AllCountiesData!FO10","v":0.70346517049271007},{"$f":"AllCountiesData!FP10","v":0.70147427374663196},{"$f":"AllCountiesData!FQ10","v":0.71755858691850294},{"$f":"AllCountiesData!FR10","v":0.52368929154908661},{"$f":"AllCountiesData!FS10","v":0.53716993906567367},{"$f":"AllCountiesData!FT10","v":0.54965551516805211},{"$f":"AllCountiesData!FU10","v":0.66094252186262048},{"$f":"AllCountiesData!FV10","v":0.6645285699786867},{"$f":"AllCountiesData!FW10","v":0.64186313973548015},{"$f":"AllCountiesData!FX10","v":0.67836873314384827},{"$f":"AllCountiesData!FY10","v":0.60572608220881385},{"$f":"AllCountiesData!FZ10","v":0.58482066536738808},{"$f":"AllCountiesData!GA10","v":0.56770310932798396},{"$f":"AllCountiesData!GB10","v":0.54024304136162626},{"$f":"AllCountiesData!GC10","v":0.63053424669249392},{"$f":"AllCountiesData!GD10","v":0.47598503253190361}]
[null,"Unemployment Rate",{"$f":"AllCountiesData!HV10","v":0.11799999999999999},{"$f":"AllCountiesData!HW10","v":0.105},{"$f":"AllCountiesData!HX10","v":0.105},{"$f":"AllCountiesData!HY10","v":0.105},{"$f":"AllCountiesData!HZ10","v":0.105},{"$f":"AllCountiesData!IA10","v":8.8999999999999996E-2},{"$f":"AllCountiesData!IB10","v":8.8999999999999996E-2},{"$f":"AllCountiesData!IC10","v":8.8999999999999996E-2},{"$f":"AllCountiesData!ID10","v":8.8999999999999996E-2},{"$f":"AllCountiesData!IE10","v":7.4999999999999997E-2},{"$f":"AllCountiesData!IF10","v":7.4999999999999997E-2},{"$f":"AllCountiesData!IG10","v":7.4999999999999997E-2},{"$f":"AllCountiesData!IH10","v":7.4999999999999997E-2},{"$f":"AllCountiesData!II10","v":6.2E-2},{"$f":"AllCountiesData!IJ10","v":6.2E-2},{"$f":"AllCountiesData!IK10","v":6.2E-2},{"$f":"AllCountiesData!IL10","v":6.2E-2}]
[null,"% of Apps on CF in previous 30 days",{"$f":"AllCountiesData!GF10","v":9.9810733787282183E-2},{"$f":"AllCountiesData!GG10","v":0.10048220291837934},{"$f":"AllCountiesData!GH10","v":9.3212231692573075E-2},{"$f":"AllCountiesData!GI10","v":8.1711948208492327E-2},{"$f":"AllCountiesData!GJ10","v":8.8814387818270987E-2},{"$f":"AllCountiesData!GK10","v":0.13528277569118735},{"$f":"AllCountiesData!GL10","v":0.13006286965779959},{"$f":"AllCountiesData!GM10","v":0.12030811725156842},{"$f":"AllCountiesData!GN10","v":0.13944409359698837},{"$f":"AllCountiesData!GO10","v":0.12870095861217493},{"$f":"AllCountiesData!GP10","v":0.11958471375213657},{"$f":"AllCountiesData!GQ10","v":0.12553890511189991},{"$f":"AllCountiesData!GR10","v":0.1423959934757705},{"$f":"AllCountiesData!GS10","v":0.13005035849174532}]
[]
[]
[null,null,2013,2014,2015]
[null,"PAI",{"$f":"'Comp PAI 2013-14'!D2","v":0.58017722736492616},{"$f":"'Comp PAI 2013-14'!B2","v":0.58277791920882505}]
[null,"PRI (State)",{"$f":"VLOOKUP($B$18,PRI_both_methods!$G$2:$K$61, 2, FALSE)","v":0.58445879084383345},{"$f":"VLOOKUP(B18,PRI_both_methods!$G$2:$K$61, 3, FALSE)","v":0.63447971898872491},{"$f":"VLOOKUP(B18,PRI_both_methods!$G$2:$K$61, 4, FALSE)","v":0.67277677227828037}]
[null,"New method (State)",null,null,{"$f":"VLOOKUP(B18,PRI_both_methods!$G$2:$K$61,5,FALSE)","v":0.69733016424114824},null,null,null,null,null,null,null,null,null,null,null,null,null,null,null,null,null,"Large counties"]
[null,"PRI with MOE 2014",null,null,null,null,null,null,null,null,null,null,null,null,null,null,null,null,null,null,null,null,"Alameda"]
[null,null,null,null,null,null,null,null,null,null,null,null,null,null,null,null,null,null,null,null,null,null,"Fresno"]
[null,null,null,null,null,null,null,null,null,null,null,null,null,null,null,null,null,null,null,null,null,null,"Kern"]
[null,null,"Q4","Q1","Q2","Q3","Q4","Q1","Q2","Q3","Q4","Q1","Q2","Q3","Q4","Q1","Q2","Q3","Q4","Q1","Q2",null,"Los Angeles"]
[null,{"$f":"LrgCtyDashboard!L4","v":"San Diego"},2011,2012,null,null,null,2013,null,null,null,2014,null,null,null,2015,null,null,null,2016,null,null,"Orange"]
[null,null,null,null,null,null,null,null,null,null,null,null,null,null,null,null,null,null,null,null,null,null,"Riverside"]
["Persons Participating",{"$f":"CONCATENATE(B$20,\" (\", B41,\")\")","v":"Persons Participating (San Diego)"},{"$f":"VLOOKUP($B$41,AllCountiesData!$A$11:$IB$68,(AllCountiesData!$E$1+C$15),FALSE)","v":235332},{"$f":"VLOOKUP($B$41,AllCountiesData!$A$11:$IB$68,(AllCountiesData!$E$1+D$15),FALSE)","v":240771},{"$f":"VLOOKUP($B$41,AllCountiesData!$A$11:$IB$68,(AllCountiesData!$E$1+E$15),FALSE)","v":243130},{"$f":"VLOOKUP($B$41,AllCountiesData!$A$11:$IB$68,(AllCountiesData!$E$1+F$15),FALSE)","v":246971},{"$f":"VLOOKUP($B$41,AllCountiesData!$A$11:$IB$68,(AllCountiesData!$E$1+G$15),FALSE)","v":253631},{"$f":"VLOOKUP($B$41,AllCountiesData!$A$11:$IB$68,(AllCountiesData!$E$1+H$15),FALSE)","v":253991},{"$f":"VLOOKUP($B$41,AllCountiesData!$A$11:$IB$68,(AllCountiesData!$E$1+I$15),FALSE)","v":256921},{"$f":"VLOOKUP($B$41,AllCountiesData!$A$11:$IB$68,(AllCountiesData!$E$1+J$15),FALSE)","v":260576},{"$f":"VLOOKUP($B$41,AllCountiesData!$A$11:$IB$68,(AllCountiesData!$E$1+K$15),FALSE)","v":270406},{"$f":"VLOOKUP($B$41,AllCountiesData!$A$11:$IB$68,(AllCountiesData!$E$1+L$15),FALSE)","v":272951},{"$f":"VLOOKUP($B$41,AllCountiesData!$A$11:$IB$68,(AllCountiesData!$E$1+M$15),FALSE)","v":276963},{"$f":"VLOOKUP($B$41,AllCountiesData!$A$11:$IB$68,(AllCountiesData!$E$1+N$15),FALSE)","v":300896},{"$f":"VLOOKUP($B$41,AllCountiesData!$A$11:$IB$68,(AllCountiesData!$E$1+O$15),FALSE)","v":285499},{"$f":"VLOOKUP($B$41,AllCountiesData!$A$11:$IB$68,(AllCountiesData!$E$1+P$15),FALSE)","v":287399},{"$f":"VLOOKUP($B$41,AllCountiesData!$A$11:$IB$68,(AllCountiesData!$E$1+Q$15),FALSE)","v":289089},{"$f":"VLOOKUP($B$41,AllCountiesData!$A$11:$IB$68,(AllCountiesData!$E$1+R$15),FALSE)","v":291188},{"$f":"VLOOKUP($B$41,AllCountiesData!$A$11:$IB$68,(AllCountiesData!$E$1+S$15),FALSE)","v":293435},{"$f":"VLOOKUP($B$41,AllCountiesData!$A$11:$IB$68,(AllCountiesData!$E$1+T$15),FALSE)","v":291088},{"$f":"VLOOKUP($B$41,AllCountiesData!$A$11:$IB$68,(AllCountiesData!$E$1+U$15),FALSE)","v":287392},null,"Sacramento"]
["Persons Participating, % change over prior year",{"$f":"CONCATENATE(\"% change over prior year\", \" (\",B41,\")\")","v":"% change over prior year (San Diego)"},null,null,null,null,{"$f":"(G43-C43)/C43","v":7.7758230924821106E-2},{"$f":"(H43-D43)/D43","v":5.4906944773249269E-2},5.6722740920495208E-2,5.5087439415963821E-2,6.613939147817105E-2,7.4648314310349573E-2,7.8008415038085643E-2,0.15473412747144788,5.5816069170062793E-2,5.2932577642140898E-2,4.3782021425244524E-2,-3.2263639264064663E-2,{"$f":"(S43-O43)/O43","v":2.7796944998056034E-2},{"$f":"(T43-P43)/P43","v":1.2835813624960422E-2},{"$f":"(U43-Q43)/Q43","v":-5.8701645514011259E-3},null,"San Bernardino"]
["Persons Participating, % change over prior quarter",{"$f":"CONCATENATE(\"% change over prior quarter\", \" (\",B41,\")\")","v":"% change over prior quarter (San Diego)"},null,{"$f":"(D43-C43)/C43","v":2.3112028963336903E-2},{"$f":"(E43-D43)/D43","v":9.79769158245802E-3},1.5798132686217249E-2,2.6966728887197283E-2,1.4193848543750567E-3,1.1535841821166891E-2,1.4226162906107325E-2,3.7724118875107453E-2,{"$f":"(L43-K43)/K43","v":9.4117734073948071E-3},1.4698608907825947E-2,8.6412264454096763E-2,-5.1170504094437942E-2,6.6550145534660368E-3,5.8803266538853651E-3,7.2607397721808856E-3,{"$f":"(S43-R43)/R43","v":7.7166641482478678E-3},{"$f":"(T43-S43)/S43","v":-7.9983642033158962E-3},{"$f":"(U43-T43)/T43","v":-1.2697191227395151E-2},null,"San Diego"]
["% Medi-Cal on CalFresh",{"$f":"CONCATENATE(B$22,\" (\",B41,\")\")","v":"% All Medi-Cal on CalFresh (San Diego)"},{"$f":"VLOOKUP($B$41,AllCountiesData!$A$11:$IB$68,(AllCountiesData!$AO$1+C$15),FALSE)","v":0},{"$f":"VLOOKUP($B$41,AllCountiesData!$A$11:$IB$68,(AllCountiesData!$AO$1+D$15),FALSE)","v":0},{"$f":"VLOOKUP($B$41,AllCountiesData!$A$11:$IB$68,(AllCountiesData!$AO$1+E$15),FALSE)","v":0},{"$f":"VLOOKUP($B$41,AllCountiesData!$A$11:$IB$68,(AllCountiesData!$AO$1+F$15),FALSE)","v":0},{"$f":"VLOOKUP($B$41,AllCountiesData!$A$11:$IB$68,(AllCountiesData!$AO$1+G$15),FALSE)","v":0},{"$f":"VLOOKUP($B$41,AllCountiesData!$A$11:$IB$68,(AllCountiesData!$AO$1+H$15),FALSE)","v":0},{"$f":"VLOOKUP($B$41,AllCountiesData!$A$11:$IB$68,(AllCountiesData!$AO$1+I$15),FALSE)","v":0},{"$f":"VLOOKUP($B$41,AllCountiesData!$A$11:$IB$68,(AllCountiesData!$AO$1+J$15),FALSE)","v":0},{"$f":"VLOOKUP($B$41,AllCountiesData!$A$11:$IB$68,(AllCountiesData!$AO$1+K$15),FALSE)","v":0},{"$f":"VLOOKUP($B$41,AllCountiesData!$A$11:$IB$68,(AllCountiesData!$AO$1+L$15),FALSE)","v":0},{"$f":"VLOOKUP($B$41,AllCountiesData!$A$11:$IB$68,(AllCountiesData!$AO$1+M$15),FALSE)","v":0},{"$f":"VLOOKUP($B$41,AllCountiesData!$A$11:$IB$68,(AllCountiesData!$AO$1+N$15),FALSE)","v":0},{"$f":"VLOOKUP($B$41,AllCountiesData!$A$11:$IB$68,(AllCountiesData!$AO$1+O$15),FALSE)","v":0},{"$f":"VLOOKUP($B$41,AllCountiesData!$A$11:$IB$68,(AllCountiesData!$AO$1+P$15),FALSE)","v":0},{"$f":"VLOOKUP($B$41,AllCountiesData!$A$11:$IB$68,(AllCountiesData!$AO$1+Q$15),FALSE)","v":0},{"$f":"VLOOKUP($B$41,AllCountiesData!$A$11:$IB$68,(AllCountiesData!$AO$1+R$15),FALSE)","v":0},null,null,null,null,"San Joaquin"]
["% CalFresh on Medi-Cal",{"$f":"CONCATENATE(B$23,\" (\",B41,\")\")","v":"% All CalFresh on Medi-Cal (San Diego)"},{"$f":"VLOOKUP($B$41,AllCountiesData!$A$11:$IB$68,(AllCountiesData!$BJ$1+C$15),FALSE)","v":0},{"$f":"VLOOKUP($B$41,AllCountiesData!$A$11:$IB$68,(AllCountiesData!$BJ$1+D$15),FALSE)","v":0},{"$f":"VLOOKUP($B$41,AllCountiesData!$A$11:$IB$68,(AllCountiesData!$BJ$1+E$15),FALSE)","v":0},{"$f":"VLOOKUP($B$41,AllCountiesData!$A$11:$IB$68,(AllCountiesData!$BJ$1+F$15),FALSE)","v":0},{"$f":"VLOOKUP($B$41,AllCountiesData!$A$11:$IB$68,(AllCountiesData!$BJ$1+G$15),FALSE)","v":0},{"$f":"VLOOKUP($B$41,AllCountiesData!$A$11:$IB$68,(AllCountiesData!$BJ$1+H$15),FALSE)","v":0},{"$f":"VLOOKUP($B$41,AllCountiesData!$A$11:$IB$68,(AllCountiesData!$BJ$1+I$15),FALSE)","v":0},{"$f":"VLOOKUP($B$41,AllCountiesData!$A$11:$IB$68,(AllCountiesData!$BJ$1+J$15),FALSE)","v":0},{"$f":"VLOOKUP($B$41,AllCountiesData!$A$11:$IB$68,(AllCountiesData!$BJ$1+K$15),FALSE)","v":0},{"$f":"VLOOKUP($B$41,AllCountiesData!$A$11:$IB$68,(AllCountiesData!$BJ$1+L$15),FALSE)","v":0},{"$f":"VLOOKUP($B$41,AllCountiesData!$A$11:$IB$68,(AllCountiesData!$BJ$1+M$15),FALSE)","v":0},{"$f":"VLOOKUP($B$41,AllCountiesData!$A$11:$IB$68,(AllCountiesData!$BJ$1+N$15),FALSE)","v":0},{"$f":"VLOOKUP($B$41,AllCountiesData!$A$11:$IB$68,(AllCountiesData!$BJ$1+O$15),FALSE)","v":0},{"$f":"VLOOKUP($B$41,AllCountiesData!$A$11:$IB$68,(AllCountiesData!$BJ$1+P$15),FALSE)","v":0},{"$f":"VLOOKUP($B$41,AllCountiesData!$A$11:$IB$68,(AllCountiesData!$BJ$1+Q$15),FALSE)","v":0},{"$f":"VLOOKUP($B$41,AllCountiesData!$A$11:$IB$68,(AllCountiesData!$BJ$1+R$15),FALSE)","v":0},null,null,null,null,"Santa Clara"]
["Avg Days to Approval",{"$f":"CONCATENATE(B$24,\" (\",$B$41,\")\")","v":"Avg Days to Approval (San Diego)"},{"$f":"VLOOKUP($B$41,AllCountiesData!$A$11:$IB$68,(AllCountiesData!$CE$1+C$15),FALSE)","v":8.3000000000000007},{"$f":"VLOOKUP($B$41,AllCountiesData!$A$11:$IB$68,(AllCountiesData!$CE$1+D$15),FALSE)","v":7},{"$f":"VLOOKUP($B$41,AllCountiesData!$A$11:$IB$68,(AllCountiesData!$CE$1+E$15),FALSE)","v":7.7},{"$f":"VLOOKUP($B$41,AllCountiesData!$A$11:$IB$68,(AllCountiesData!$CE$1+F$15),FALSE)","v":8.6999999999999993},{"$f":"VLOOKUP($B$41,AllCountiesData!$A$11:$IB$68,(AllCountiesData!$CE$1+G$15),FALSE)","v":9.6999999999999993},{"$f":"VLOOKUP($B$41,AllCountiesData!$A$11:$IB$68,(AllCountiesData!$CE$1+H$15),FALSE)","v":10},{"$f":"VLOOKUP($B$41,AllCountiesData!$A$11:$IB$68,(AllCountiesData!$CE$1+I$15),FALSE)","v":10.7},{"$f":"VLOOKUP($B$41,AllCountiesData!$A$11:$IB$68,(AllCountiesData!$CE$1+J$15),FALSE)","v":11.7},{"$f":"VLOOKUP($B$41,AllCountiesData!$A$11:$IB$68,(AllCountiesData!$CE$1+K$15),FALSE)","v":11},{"$f":"VLOOKUP($B$41,AllCountiesData!$A$11:$IB$68,(AllCountiesData!$CE$1+L$15),FALSE)","v":11.3},{"$f":"VLOOKUP($B$41,AllCountiesData!$A$11:$IB$68,(AllCountiesData!$CE$1+M$15),FALSE)","v":11.3},{"$f":"VLOOKUP($B$41,AllCountiesData!$A$11:$IB$68,(AllCountiesData!$CE$1+N$15),FALSE)","v":11},{"$f":"VLOOKUP($B$41,AllCountiesData!$A$11:$IB$68,(AllCountiesData!$CE$1+O$15),FALSE)","v":10.3},{"$f":"VLOOKUP($B$41,AllCountiesData!$A$11:$IB$68,(AllCountiesData!$CE$1+P$15),FALSE)","v":11.7},{"$f":"VLOOKUP($B$41,AllCountiesData!$A$11:$IB$68,(AllCountiesData!$CE$1+Q$15),FALSE)","v":11.3},{"$f":"VLOOKUP($B$41,AllCountiesData!$A$11:$IB$68,(AllCountiesData!$CE$1+R$15),FALSE)","v":11.3},{"$f":"VLOOKUP($B$41,AllCountiesData!$A$11:$IB$68,(AllCountiesData!$CE$1+S$15),FALSE)","v":10.3},{"$f":"VLOOKUP($B$41,AllCountiesData!$A$11:$IB$68,(AllCountiesData!$CE$1+T$15),FALSE)","v":11.3},null,null,"Tulare"]
["% of All Approvals not timely (>30 days)",{"$f":"CONCATENATE(A49,\" (\",$B$41,\")\")","v":"% of All Approvals not timely (>30 days) (San Diego)"},{"$f":"VLOOKUP($B$41,AllCountiesData!$A$11:$HZ$68,(AllCountiesData!$CY$1+C$15),FALSE)","v":4.8000000000000043E-2},{"$f":"VLOOKUP($B$41,AllCountiesData!$A$11:$HZ$68,(AllCountiesData!$CY$1+D$15),FALSE)","v":2.300000000000002E-2},{"$f":"VLOOKUP($B$41,AllCountiesData!$A$11:$HZ$68,(AllCountiesData!$CY$1+E$15),FALSE)","v":1.7000000000000015E-2},{"$f":"VLOOKUP($B$41,AllCountiesData!$A$11:$HZ$68,(AllCountiesData!$CY$1+F$15),FALSE)","v":2.8000000000000025E-2},{"$f":"VLOOKUP($B$41,AllCountiesData!$A$11:$HZ$68,(AllCountiesData!$CY$1+G$15),FALSE)","v":2.1000000000000019E-2},{"$f":"VLOOKUP($B$41,AllCountiesData!$A$11:$HZ$68,(AllCountiesData!$CY$1+H$15),FALSE)","v":3.1000000000000028E-2},{"$f":"VLOOKUP($B$41,AllCountiesData!$A$11:$HZ$68,(AllCountiesData!$CY$1+I$15),FALSE)","v":3.5000000000000031E-2},{"$f":"VLOOKUP($B$41,AllCountiesData!$A$11:$HZ$68,(AllCountiesData!$CY$1+J$15),FALSE)","v":3.7000000000000033E-2},{"$f":"VLOOKUP($B$41,AllCountiesData!$A$11:$HZ$68,(AllCountiesData!$CY$1+K$15),FALSE)","v":2.1000000000000019E-2},{"$f":"VLOOKUP($B$41,AllCountiesData!$A$11:$HZ$68,(AllCountiesData!$CY$1+L$15),FALSE)","v":2.6000000000000023E-2},{"$f":"VLOOKUP($B$41,AllCountiesData!$A$11:$HZ$68,(AllCountiesData!$CY$1+M$15),FALSE)","v":9.7999999999999976E-2},{"$f":"VLOOKUP($B$41,AllCountiesData!$A$11:$HZ$68,(AllCountiesData!$CY$1+N$15),FALSE)","v":6.4999999999999947E-2},{"$f":"VLOOKUP($B$41,AllCountiesData!$A$11:$HZ$68,(AllCountiesData!$CY$1+O$15),FALSE)","v":6.5999999999999948E-2},{"$f":"VLOOKUP($B$41,AllCountiesData!$A$11:$HZ$68,(AllCountiesData!$CY$1+P$15),FALSE)","v":6.3999999999999946E-2},{"$f":"VLOOKUP($B$41,AllCountiesData!$A$11:$HZ$68,(AllCountiesData!$CY$1+Q$15),FALSE)","v":6.2000000000000055E-2},{"$f":"VLOOKUP($B$41,AllCountiesData!$A$11:$HZ$68,(AllCountiesData!$CY$1+R$15),FALSE)","v":1.3000000000000012E-2},{"$f":"VLOOKUP($B$41,AllCountiesData!$A$11:$HZ$68,(AllCountiesData!$CY$1+S$15),FALSE)","v":1.2000000000000011E-2},{"$f":"VLOOKUP($B$41,AllCountiesData!$A$11:$HZ$68,(AllCountiesData!$CY$1+T$15),FALSE)","v":1.7000000000000015E-2},{"$f":"VLOOKUP($B$41,AllCountiesData!$A$11:$HZ$68,(AllCountiesData!$CY$1+U$15),FALSE)","v":9.000000000000008E-3}]
["% ES entitled not timely (> 3 days)",{"$f":"CONCATENATE(A50,\" (\",$B$41,\")\")","v":"% ES entitled not timely (> 3 days) (San Diego)"},{"$f":"VLOOKUP($B$41,AllCountiesData!$A$11:$HZ$68,(AllCountiesData!$DW$1+C$15),FALSE)","v":5.7000000000000051E-2},{"$f":"VLOOKUP($B$41,AllCountiesData!$A$11:$HZ$68,(AllCountiesData!$DW$1+D$15),FALSE)","v":5.2000000000000046E-2},{"$f":"VLOOKUP($B$41,AllCountiesData!$A$11:$HZ$68,(AllCountiesData!$DW$1+E$15),FALSE)","v":6.1000000000000054E-2},{"$f":"VLOOKUP($B$41,AllCountiesData!$A$11:$HZ$68,(AllCountiesData!$DW$1+F$15),FALSE)","v":0.11499999999999999},{"$f":"VLOOKUP($B$41,AllCountiesData!$A$11:$HZ$68,(AllCountiesData!$DW$1+G$15),FALSE)","v":0.10799999999999998},{"$f":"VLOOKUP($B$41,AllCountiesData!$A$11:$HZ$68,(AllCountiesData!$DW$1+H$15),FALSE)","v":8.5999999999999965E-2},{"$f":"VLOOKUP($B$41,AllCountiesData!$A$11:$HZ$68,(AllCountiesData!$DW$1+I$15),FALSE)","v":0.10399999999999998},{"$f":"VLOOKUP($B$41,AllCountiesData!$A$11:$HZ$68,(AllCountiesData!$DW$1+J$15),FALSE)","v":8.8999999999999968E-2},{"$f":"VLOOKUP($B$41,AllCountiesData!$A$11:$HZ$68,(AllCountiesData!$DW$1+K$15),FALSE)","v":4.8000000000000043E-2},{"$f":"VLOOKUP($B$41,AllCountiesData!$A$11:$HZ$68,(AllCountiesData!$DW$1+L$15),FALSE)","v":3.6000000000000032E-2},{"$f":"VLOOKUP($B$41,AllCountiesData!$A$11:$HZ$68,(AllCountiesData!$DW$1+M$15),FALSE)","v":3.2000000000000028E-2},{"$f":"VLOOKUP($B$41,AllCountiesData!$A$11:$HZ$68,(AllCountiesData!$DW$1+N$15),FALSE)","v":2.6000000000000023E-2},{"$f":"VLOOKUP($B$41,AllCountiesData!$A$11:$HZ$68,(AllCountiesData!$DW$1+O$15),FALSE)","v":2.4000000000000021E-2},{"$f":"VLOOKUP($B$41,AllCountiesData!$A$11:$HZ$68,(AllCountiesData!$DW$1+P$15),FALSE)","v":2.200000000000002E-2},{"$f":"VLOOKUP($B$41,AllCountiesData!$A$11:$HZ$68,(AllCountiesData!$DW$1+Q$15),FALSE)","v":1.7000000000000015E-2},{"$f":"VLOOKUP($B$41,AllCountiesData!$A$11:$HZ$68,(AllCountiesData!$DW$1+R$15),FALSE)","v":2.1000000000000019E-2},{"$f":"VLOOKUP($B$41,AllCountiesData!$A$11:$HZ$68,(AllCountiesData!$DW$1+S$15),FALSE)","v":1.8000000000000016E-2},{"$f":"VLOOKUP($B$41,AllCountiesData!$A$11:$HZ$68,(AllCountiesData!$DW$1+T$15),FALSE)","v":1.8000000000000016E-2},{"$f":"VLOOKUP($B$41,AllCountiesData!$A$11:$HZ$68,(AllCountiesData!$DW$1+U$15),FALSE)","v":2.0000000000000018E-2}]
["% of Recerts w/o CF in next month",{"$f":"CONCATENATE(A51,\" (\",$B$41,\")\")","v":"% of Recerts w/o CF in next month (San Diego)"},{"$f":"VLOOKUP($B$41,AllCountiesData!$A$11:$HZ$68,(AllCountiesData!$ET$1+C$15),FALSE)","v":0.19364724545716758},{"$f":"VLOOKUP($B$41,AllCountiesData!$A$11:$HZ$68,(AllCountiesData!$ET$1+D$15),FALSE)","v":0.20076167848782361},{"$f":"VLOOKUP($B$41,AllCountiesData!$A$11:$HZ$68,(AllCountiesData!$ET$1+E$15),FALSE)","v":0.20016637870352594},{"$f":"VLOOKUP($B$41,AllCountiesData!$A$11:$HZ$68,(AllCountiesData!$ET$1+F$15),FALSE)","v":0.19382312697215939},{"$f":"VLOOKUP($B$41,AllCountiesData!$A$11:$HZ$68,(AllCountiesData!$ET$1+G$15),FALSE)","v":0.1805980989673793},{"$f":"VLOOKUP($B$41,AllCountiesData!$A$11:$HZ$68,(AllCountiesData!$ET$1+H$15),FALSE)","v":0.10530213915392324},{"$f":"VLOOKUP($B$41,AllCountiesData!$A$11:$HZ$68,(AllCountiesData!$ET$1+I$15),FALSE)","v":0.10973033428606935},{"$f":"VLOOKUP($B$41,AllCountiesData!$A$11:$HZ$68,(AllCountiesData!$ET$1+J$15),FALSE)","v":0.17538285569041112},{"$f":"VLOOKUP($B$41,AllCountiesData!$A$11:$HZ$68,(AllCountiesData!$ET$1+K$15),FALSE)","v":0.22367827838057167},{"$f":"VLOOKUP($B$41,AllCountiesData!$A$11:$HZ$68,(AllCountiesData!$ET$1+L$15),FALSE)","v":0.19970440229440123},{"$f":"VLOOKUP($B$41,AllCountiesData!$A$11:$HZ$68,(AllCountiesData!$ET$1+M$15),FALSE)","v":0.19970440229440123},{"$f":"VLOOKUP($B$41,AllCountiesData!$A$11:$HZ$68,(AllCountiesData!$ET$1+N$15),FALSE)","v":0.17766351650245599},{"$f":"VLOOKUP($B$41,AllCountiesData!$A$11:$HZ$68,(AllCountiesData!$ET$1+O$15),FALSE)","v":0.21094813714568636},{"$f":"VLOOKUP($B$41,AllCountiesData!$A$11:$HZ$68,(AllCountiesData!$ET$1+P$15),FALSE)","v":0.20717517776341307},{"$f":"VLOOKUP($B$41,AllCountiesData!$A$11:$HZ$68,(AllCountiesData!$ET$1+Q$15),FALSE)","v":0.20898255633496804},{"$f":"VLOOKUP($B$41,AllCountiesData!$A$11:$HZ$68,(AllCountiesData!$ET$1+R$15),FALSE)","v":0.22189468816831398},{"$f":"VLOOKUP($B$41,AllCountiesData!$A$11:$HZ$68,(AllCountiesData!$ET$1+S$15),FALSE)","v":0.22699461203616328},{"$f":"VLOOKUP($B$41,AllCountiesData!$A$11:$HZ$68,(AllCountiesData!$ET$1+T$15),FALSE)","v":0.22151777749458393}]
["% of Unsuccessful Recerts that Reapply within 90 Days",{"$f":"CONCATENATE(A52,\" (\",$B$41,\")\")","v":"% of Unsuccessful Recerts that Reapply within 90 Days (San Diego)"},{"$f":"VLOOKUP($B$41,AllCountiesData!$A$11:$HZ$68,(AllCountiesData!$FM$1+C$15),FALSE)","v":0.95284697508896798},{"$f":"VLOOKUP($B$41,AllCountiesData!$A$11:$HZ$68,(AllCountiesData!$FM$1+D$15),FALSE)","v":0.75109717868338555},{"$f":"VLOOKUP($B$41,AllCountiesData!$A$11:$HZ$68,(AllCountiesData!$FM$1+E$15),FALSE)","v":0.76706392199349949},{"$f":"VLOOKUP($B$41,AllCountiesData!$A$11:$HZ$68,(AllCountiesData!$FM$1+F$15),FALSE)","v":0.72606689734717411},{"$f":"VLOOKUP($B$41,AllCountiesData!$A$11:$HZ$68,(AllCountiesData!$FM$1+G$15),FALSE)","v":0.72933251684017142},{"$f":"VLOOKUP($B$41,AllCountiesData!$A$11:$HZ$68,(AllCountiesData!$FM$1+H$15),FALSE)","v":0.58768328445747797},{"$f":"VLOOKUP($B$41,AllCountiesData!$A$11:$HZ$68,(AllCountiesData!$FM$1+I$15),FALSE)","v":0.62629161882893225},{"$f":"VLOOKUP($B$41,AllCountiesData!$A$11:$HZ$68,(AllCountiesData!$FM$1+J$15),FALSE)","v":0.53692393114936143},{"$f":"VLOOKUP($B$41,AllCountiesData!$A$11:$HZ$68,(AllCountiesData!$FM$1+K$15),FALSE)","v":0.69768637532133682},{"$f":"VLOOKUP($B$41,AllCountiesData!$A$11:$HZ$68,(AllCountiesData!$FM$1+L$15),FALSE)","v":0.73927392739273923},{"$f":"VLOOKUP($B$41,AllCountiesData!$A$11:$HZ$68,(AllCountiesData!$FM$1+M$15),FALSE)","v":0.70461699895068208},{"$f":"VLOOKUP($B$41,AllCountiesData!$A$11:$HZ$68,(AllCountiesData!$FM$1+N$15),FALSE)","v":0.72233820459290188},{"$f":"VLOOKUP($B$41,AllCountiesData!$A$11:$HZ$68,(AllCountiesData!$FM$1+O$15),FALSE)","v":0.77424749163879603},{"$f":"VLOOKUP($B$41,AllCountiesData!$A$11:$HZ$68,(AllCountiesData!$FM$1+P$15),FALSE)","v":0.6977730646871686},{"$f":"VLOOKUP($B$41,AllCountiesData!$A$11:$HZ$68,(AllCountiesData!$FM$1+Q$15),FALSE)","v":0.71187308085977485},{"$f":"VLOOKUP($B$41,AllCountiesData!$A$11:$HZ$68,(AllCountiesData!$FM$1+R$15),FALSE)","v":0.60760712566201247},{"$f":"VLOOKUP($B$41,AllCountiesData!$A$11:$HZ$68,(AllCountiesData!$FM$1+S$15),FALSE)","v":0.60964467005076139},{"$f":"VLOOKUP($B$41,AllCountiesData!$A$11:$HZ$68,(AllCountiesData!$FM$1+T$15),FALSE)","v":0.63391038696537683}]
["Share that reapply within 90 days (est.)",{"$f":"CONCATENATE(A53,\" (\",$B$41,\")\")","v":"Share that reapply within 90 days (est.) (San Diego)"},{"$f":"C52*C51","v":0.18451619206817302},{"$f":"D52*D51","v":0.15079153029994524},0.15354040749956269,0.14072855643480314,0.1317160660564291,6.1884306998376E-2,6.8723188694662263E-2,9.4167252333496695E-2,0.15605728728145798,0.14763625780180156,0.14071511662192071,0.12833314553204545,0.1633260660509244,0.14456125871508568,0.14876905622412515,0.13482479367761782,0.13838605535808735,0.14042242005130193]
["% of Apps on CF in previous 90 days",{"$f":"CONCATENATE(\"In previous 90 days\",\" (\",B$41,\")\")","v":"In previous 90 days (San Diego)"},{"$f":"VLOOKUP($B$41,AllCountiesData!$A$11:$HZ$68,(AllCountiesData!$GY$1+C$15),FALSE)","v":0.24742933783716656},{"$f":"VLOOKUP($B$41,AllCountiesData!$A$11:$HZ$68,(AllCountiesData!$GY$1+D$15),FALSE)","v":0.27093694549271485},{"$f":"VLOOKUP($B$41,AllCountiesData!$A$11:$HZ$68,(AllCountiesData!$GY$1+E$15),FALSE)","v":0.27003924779080685},{"$f":"VLOOKUP($B$41,AllCountiesData!$A$11:$HZ$68,(AllCountiesData!$GY$1+F$15),FALSE)","v":0.25515666097549722},{"$f":"VLOOKUP($B$41,AllCountiesData!$A$11:$HZ$68,(AllCountiesData!$GY$1+G$15),FALSE)","v":0.27584287339351843},{"$f":"VLOOKUP($B$41,AllCountiesData!$A$11:$HZ$68,(AllCountiesData!$GY$1+H$15),FALSE)","v":0.22689932885906039},{"$f":"VLOOKUP($B$41,AllCountiesData!$A$11:$HZ$68,(AllCountiesData!$GY$1+I$15),FALSE)","v":0.21956022317033147},{"$f":"VLOOKUP($B$41,AllCountiesData!$A$11:$HZ$68,(AllCountiesData!$GY$1+J$15),FALSE)","v":0.21171967020023558},{"$f":"VLOOKUP($B$41,AllCountiesData!$A$11:$HZ$68,(AllCountiesData!$GY$1+K$15),FALSE)","v":0.23472423713393495},{"$f":"VLOOKUP($B$41,AllCountiesData!$A$11:$HZ$68,(AllCountiesData!$GY$1+L$15),FALSE)","v":0.22926281346909871},{"$f":"VLOOKUP($B$41,AllCountiesData!$A$11:$HZ$68,(AllCountiesData!$GY$1+M$15),FALSE)","v":0.20483052772379678},{"$f":"VLOOKUP($B$41,AllCountiesData!$A$11:$HZ$68,(AllCountiesData!$GY$1+N$15),FALSE)","v":0.22389347511776503},{"$f":"VLOOKUP($B$41,AllCountiesData!$A$11:$HZ$68,(AllCountiesData!$GY$1+O$15),FALSE)","v":0.24191114407755071},{"$f":"VLOOKUP($B$41,AllCountiesData!$A$11:$HZ$68,(AllCountiesData!$GY$1+P$15),FALSE)","v":0.22489693757361601},{"$f":"VLOOKUP($B$41,AllCountiesData!$A$11:$HZ$68,(AllCountiesData!$GY$1+Q$15),FALSE)","v":0.216799648823818},{"$f":"VLOOKUP($B$41,AllCountiesData!$A$11:$HZ$68,(AllCountiesData!$GY$1+R$15),FALSE)","v":0.21976503109882514},{"$f":"VLOOKUP($B$41,AllCountiesData!$A$11:$HZ$68,(AllCountiesData!$GY$1+S$15),FALSE)","v":0.23952957792384161},{"$f":"VLOOKUP($B$41,AllCountiesData!$A$11:$HZ$68,(AllCountiesData!$GY$1+T$15),FALSE)","v":0.23332987120897383}]
["% of Apps on CF in previous 30 days",{"$f":"CONCATENATE(\"In previous 30 days\",\" (\",B$41,\")\")","v":"In previous 30 days (San Diego)"},{"$f":"VLOOKUP($B$41,AllCountiesData!$A$11:$HZ$68,(AllCountiesData!$GF$1+C$15),FALSE)","v":0.16156673786697134},{"$f":"VLOOKUP($B$41,AllCountiesData!$A$11:$HZ$68,(AllCountiesData!$GF$1+D$15),FALSE)","v":0.17261889885787118},{"$f":"VLOOKUP($B$41,AllCountiesData!$A$11:$HZ$68,(AllCountiesData!$GF$1+E$15),FALSE)","v":0.16987310683585755},{"$f":"VLOOKUP($B$41,AllCountiesData!$A$11:$HZ$68,(AllCountiesData!$GF$1+F$15),FALSE)","v":0.15742236168150986},{"$f":"VLOOKUP($B$41,AllCountiesData!$A$11:$HZ$68,(AllCountiesData!$GF$1+G$15),FALSE)","v":0.1691313502916475},{"$f":"VLOOKUP($B$41,AllCountiesData!$A$11:$HZ$68,(AllCountiesData!$GF$1+H$15),FALSE)","v":0.11581208053691275},{"$f":"VLOOKUP($B$41,AllCountiesData!$A$11:$HZ$68,(AllCountiesData!$GF$1+I$15),FALSE)","v":0.12039164205229187},{"$f":"VLOOKUP($B$41,AllCountiesData!$A$11:$HZ$68,(AllCountiesData!$GF$1+J$15),FALSE)","v":0.11783093231856483},{"$f":"VLOOKUP($B$41,AllCountiesData!$A$11:$HZ$68,(AllCountiesData!$GF$1+K$15),FALSE)","v":0.15225355922201186},{"$f":"VLOOKUP($B$41,AllCountiesData!$A$11:$HZ$68,(AllCountiesData!$GF$1+L$15),FALSE)","v":0.14599663028349572},{"$f":"VLOOKUP($B$41,AllCountiesData!$A$11:$HZ$68,(AllCountiesData!$GF$1+M$15),FALSE)","v":0.12199984857279862},{"$f":"VLOOKUP($B$41,AllCountiesData!$A$11:$HZ$68,(AllCountiesData!$GF$1+N$15),FALSE)","v":0.14003544610792407},{"$f":"VLOOKUP($B$41,AllCountiesData!$A$11:$HZ$68,(AllCountiesData!$GF$1+O$15),FALSE)","v":0.1515973092564647},{"$f":"VLOOKUP($B$41,AllCountiesData!$A$11:$HZ$68,(AllCountiesData!$GF$1+P$15),FALSE)","v":0.13373576756968983},{"$f":"VLOOKUP($B$41,AllCountiesData!$A$11:$HZ$68,(AllCountiesData!$GF$1+Q$15),FALSE)","v":0.1278694450899889},{"$f":"VLOOKUP($B$41,AllCountiesData!$A$11:$HZ$68,(AllCountiesData!$GF$1+R$15),FALSE)","v":0.13175041958732353},{"$f":"VLOOKUP($B$41,AllCountiesData!$A$11:$HZ$68,(AllCountiesData!$GF$1+S$15),FALSE)","v":0.14085501656798305},{"$f":"VLOOKUP($B$41,AllCountiesData!$A$11:$HZ$68,(AllCountiesData!$GF$1+T$15),FALSE)","v":0.13390631491483174}]
["Unemployment Rate","Unemployment Rate",{"$f":"VLOOKUP($B$41,AllCountiesData!$A$11:$IH$68,(AllCountiesData!$HR$1+C$15),FALSE)","v":0.105},{"$f":"VLOOKUP($B$41,AllCountiesData!$A$11:$IH$68,(AllCountiesData!$HR$1+D$15),FALSE)","v":0.1},{"$f":"VLOOKUP($B$41,AllCountiesData!$A$11:$IH$68,(AllCountiesData!$HR$1+E$15),FALSE)","v":0.1},{"$f":"VLOOKUP($B$41,AllCountiesData!$A$11:$IH$68,(AllCountiesData!$HR$1+F$15),FALSE)","v":0.1},{"$f":"VLOOKUP($B$41,AllCountiesData!$A$11:$IH$68,(AllCountiesData!$HR$1+G$15),FALSE)","v":0.1},{"$f":"VLOOKUP($B$41,AllCountiesData!$A$11:$IH$68,(AllCountiesData!$HR$1+H$15),FALSE)","v":8.8999999999999996E-2},{"$f":"VLOOKUP($B$41,AllCountiesData!$A$11:$IH$68,(AllCountiesData!$HR$1+I$15),FALSE)","v":8.8999999999999996E-2},{"$f":"VLOOKUP($B$41,AllCountiesData!$A$11:$IH$68,(AllCountiesData!$HR$1+J$15),FALSE)","v":8.8999999999999996E-2},{"$f":"VLOOKUP($B$41,AllCountiesData!$A$11:$IH$68,(AllCountiesData!$HR$1+K$15),FALSE)","v":8.8999999999999996E-2},{"$f":"VLOOKUP($B$41,AllCountiesData!$A$11:$IH$68,(AllCountiesData!$HR$1+L$15),FALSE)","v":7.8E-2},{"$f":"VLOOKUP($B$41,AllCountiesData!$A$11:$IH$68,(AllCountiesData!$HR$1+M$15),FALSE)","v":7.8E-2},{"$f":"VLOOKUP($B$41,AllCountiesData!$A$11:$IH$68,(AllCountiesData!$HR$1+N$15),FALSE)","v":7.8E-2},{"$f":"VLOOKUP($B$41,AllCountiesData!$A$11:$IH$68,(AllCountiesData!$HR$1+O$15),FALSE)","v":7.8E-2},{"$f":"VLOOKUP($B$41,AllCountiesData!$A$11:$IH$68,(AllCountiesData!$HR$1+P$15),FALSE)","v":8.6999999999999994E-2},{"$f":"VLOOKUP($B$41,AllCountiesData!$A$11:$IH$68,(AllCountiesData!$HR$1+Q$15),FALSE)","v":8.6999999999999994E-2},{"$f":"VLOOKUP($B$41,AllCountiesData!$A$11:$IH$68,(AllCountiesData!$HR$1+R$15),FALSE)","v":8.6999999999999994E-2},{"$f":"VLOOKUP($B$41,AllCountiesData!$A$11:$IH$68,(AllCountiesData!$HR$1+S$15),FALSE)","v":8.6999999999999994E-2}]
[null,null,2013,2014,2015]
[null,"PAI - this county",{"$f":"VLOOKUP(LGCountySelect,'Comp PAI 2013-14'!A1:D60,4,FALSE)","v":0.47634231479264028},{"$f":"VLOOKUP(LGCountySelect,'Comp PAI 2013-14'!A1:D60,2,FALSE)","v":0.49414531005602169}]
[null,"PAI - state",{"$f":"C$34","v":0.58017722736492616},{"$f":"D$34","v":0.58277791920882505},null,null,null,null,null,null,null,null,null,null,null,null,null,null,null,null,null,null,"Medium counties"]
[null,{"$f":"CONCATENATE(\"PRI (\",LGCountySelect,\")\")","v":"PRI (San Diego)"},{"$f":"VLOOKUP(LGCountySelect,PRI_both_methods!$G$2:$K$61, 2, FALSE)","v":0.4659832261291611},{"$f":"VLOOKUP(LGCountySelect,PRI_both_methods!$G$2:$K$61, 3, FALSE)","v":0.5173190533272255},{"$f":"VLOOKUP(LGCountySelect,PRI_both_methods!$G$2:$K$61, 4, FALSE)","v":0.54997622118609224},null,null,null,null,null,null,null,null,null,null,null,null,null,null,null,null,null,"Butte"]
[null,{"$f":"CONCATENATE(\"New Method (\",LGCountySelect,\")\")","v":"New Method (San Diego)"},null,null,{"$f":"VLOOKUP(LGCountySelect,PRI_both_methods!$G$2:$K$61,5,FALSE)","v":0.57292109557354953},null,null,null,null,null,null,null,null,null,null,null,null,null,null,null,null,null,"Contra Costa"]
[null,"PRI with MOE 2014",null,"High","Low","Point",null,null,null,null,null,null,null,null,null,null,null,null,null,null,null,null,"Humboldt"]
[null,null,null,{"$f":"VLOOKUP($B$41,PRI_MOE!$O$9:$AI$66,19,FALSE)","v":0.60109150461639504},{"$f":"VLOOKUP($B$41,PRI_MOE!$O$9:$AI$66,20,FALSE)","v":0.54727291750771156},{"$f":"VLOOKUP($B$41,PRI_MOE!$O$9:$AI$66,21,FALSE)","v":0.57292109557354953},null,null,null,null,null,null,null,null,null,null,null,null,null,null,null,null,"Imperial"]
[null,null,null,null,null,null,null,null,null,null,null,null,null,null,null,null,null,null,null,null,null,null,"Kings"]
[null,null,null,null,null,null,null,null,null,null,null,null,null,null,null,null,null,null,null,null,null,null,"Madera"]
[null,"MEDIUM COUNTIES","Q4","Q1","Q2","Q3","Q4","Q1","Q2","Q3","Q4","Q1","Q2","Q3","Q4","Q1","Q2","Q3","Q4","Q1","Q2",null,"Merced"]
[null,{"$f":"MedCtyDashboard!L4","v":"Stanislaus"},2011,2012,null,null,null,2013,null,null,null,2014,null,null,null,2015,null,null,null,2016,null,null,"Monterey"]
[null,null,null,null,null,null,null,null,null,null,null,null,null,null,null,null,null,null,null,null,null,null,"San Francisco"]
["Persons Participating",{"$f":"CONCATENATE(B$20,\" (\", B67,\")\")","v":"Persons Participating (Stanislaus)"},{"$f":"VLOOKUP($B$67,AllCountiesData!$A$11:$HZ$68,(AllCountiesData!$E$1+C$15),FALSE)","v":84867},{"$f":"VLOOKUP($B$67,AllCountiesData!$A$11:$HZ$68,(AllCountiesData!$E$1+D$15),FALSE)","v":85530},{"$f":"VLOOKUP($B$67,AllCountiesData!$A$11:$HZ$68,(AllCountiesData!$E$1+E$15),FALSE)","v":86863},{"$f":"VLOOKUP($B$67,AllCountiesData!$A$11:$HZ$68,(AllCountiesData!$E$1+F$15),FALSE)","v":88848},{"$f":"VLOOKUP($B$67,AllCountiesData!$A$11:$HZ$68,(AllCountiesData!$E$1+G$15),FALSE)","v":89458},{"$f":"VLOOKUP($B$67,AllCountiesData!$A$11:$HZ$68,(AllCountiesData!$E$1+H$15),FALSE)","v":90507},{"$f":"VLOOKUP($B$67,AllCountiesData!$A$11:$HZ$68,(AllCountiesData!$E$1+I$15),FALSE)","v":90467},{"$f":"VLOOKUP($B$67,AllCountiesData!$A$11:$HZ$68,(AllCountiesData!$E$1+J$15),FALSE)","v":91048},{"$f":"VLOOKUP($B$67,AllCountiesData!$A$11:$HZ$68,(AllCountiesData!$E$1+K$15),FALSE)","v":90962},{"$f":"VLOOKUP($B$67,AllCountiesData!$A$11:$HZ$68,(AllCountiesData!$E$1+L$15),FALSE)","v":92065},{"$f":"VLOOKUP($B$67,AllCountiesData!$A$11:$HZ$68,(AllCountiesData!$E$1+M$15),FALSE)","v":92163},{"$f":"VLOOKUP($B$67,AllCountiesData!$A$11:$HZ$68,(AllCountiesData!$E$1+N$15),FALSE)","v":92778},{"$f":"VLOOKUP($B$67,AllCountiesData!$A$11:$HZ$68,(AllCountiesData!$E$1+O$15),FALSE)","v":91500},{"$f":"VLOOKUP($B$67,AllCountiesData!$A$11:$HZ$68,(AllCountiesData!$E$1+P$15),FALSE)","v":91585},{"$f":"VLOOKUP($B$67,AllCountiesData!$A$11:$HZ$68,(AllCountiesData!$E$1+Q$15),FALSE)","v":92704},{"$f":"VLOOKUP($B$67,AllCountiesData!$A$11:$HZ$68,(AllCountiesData!$E$1+R$15),FALSE)","v":92572},{"$f":"VLOOKUP($B$67,AllCountiesData!$A$11:$HZ$68,(AllCountiesData!$E$1+S$15),FALSE)","v":92379},{"$f":"VLOOKUP($B$67,AllCountiesData!$A$11:$HZ$68,(AllCountiesData!$E$1+T$15),FALSE)","v":90153},{"$f":"VLOOKUP($B$67,AllCountiesData!$A$11:$HZ$68,(AllCountiesData!$E$1+U$15),FALSE)","v":89096},null,"San Mateo"]
["Persons Participating, % change over prior year",{"$f":"CONCATENATE(\"% change over prior year\", \" (\",B67,\")\")","v":"% change over prior year (Stanislaus)"},null,null,null,null,{"$f":"(G69-C69)/C69","v":5.4096409676317063E-2},5.8190108733777619E-2,4.1490623165214187E-2,2.4761390239510173E-2,1.6812358872319973E-2,1.721413813296209E-2,1.8747167475433032E-2,1.9000966523152623E-2,5.914557727402652E-3,-5.2137077065117039E-3,5.8700346125885655E-3,-2.22035396322404E-3,{"$f":"(S69-O69)/O69","v":9.60655737704918E-3},{"$f":"(T69-P69)/P69","v":-1.5635748212043457E-2},{"$f":"(U69-Q69)/Q69","v":-3.8919571971004485E-2},null,"Santa Barbara"]
["Persons Participating, % change over prior quarter",{"$f":"CONCATENATE(\"% change over prior quarter\", \" (\",B67,\")\")","v":"% change over prior quarter (Stanislaus)"},null,{"$f":"(D69-C69)/C69","v":7.8122238325851034E-3},{"$f":"(E69-D69)/D69","v":1.5585174792470478E-2},2.2852077409253654E-2,6.8656582027732758E-3,1.1726173176239129E-2,-4.4195476592970707E-4,6.4222313108647355E-3,-9.4455671733591077E-4,1.2125942701347816E-2,1.0644653234128062E-3,6.6729598645877417E-3,-1.3774817305826812E-2,9.2896174863387978E-4,1.2218157995304908E-2,-1.4238867794269935E-3,-2.0848636736810265E-3,-2.4096385542168676E-2,-1.1724512772730802E-2,null,"Santa Cruz"]
["% Medi-Cal on CalFresh",{"$f":"CONCATENATE(B$22,\" (\",B67,\")\")","v":"% All Medi-Cal on CalFresh (Stanislaus)"},{"$f":"VLOOKUP($B$67,AllCountiesData!$A$11:$HZ$68,(AllCountiesData!$AO$1+C$15),FALSE)","v":0},{"$f":"VLOOKUP($B$67,AllCountiesData!$A$11:$HZ$68,(AllCountiesData!$AO$1+D$15),FALSE)","v":0},{"$f":"VLOOKUP($B$67,AllCountiesData!$A$11:$HZ$68,(AllCountiesData!$AO$1+E$15),FALSE)","v":0},{"$f":"VLOOKUP($B$67,AllCountiesData!$A$11:$HZ$68,(AllCountiesData!$AO$1+F$15),FALSE)","v":0},{"$f":"VLOOKUP($B$67,AllCountiesData!$A$11:$HZ$68,(AllCountiesData!$AO$1+G$15),FALSE)","v":0},{"$f":"VLOOKUP($B$67,AllCountiesData!$A$11:$HZ$68,(AllCountiesData!$AO$1+H$15),FALSE)","v":0},{"$f":"VLOOKUP($B$67,AllCountiesData!$A$11:$HZ$68,(AllCountiesData!$AO$1+I$15),FALSE)","v":0},{"$f":"VLOOKUP($B$67,AllCountiesData!$A$11:$HZ$68,(AllCountiesData!$AO$1+J$15),FALSE)","v":0},{"$f":"VLOOKUP($B$67,AllCountiesData!$A$11:$HZ$68,(AllCountiesData!$AO$1+K$15),FALSE)","v":0},{"$f":"VLOOKUP($B$67,AllCountiesData!$A$11:$HZ$68,(AllCountiesData!$AO$1+L$15),FALSE)","v":0},{"$f":"VLOOKUP($B$67,AllCountiesData!$A$11:$HZ$68,(AllCountiesData!$AO$1+M$15),FALSE)","v":0},{"$f":"VLOOKUP($B$67,AllCountiesData!$A$11:$HZ$68,(AllCountiesData!$AO$1+N$15),FALSE)","v":0},{"$f":"VLOOKUP($B$67,AllCountiesData!$A$11:$HZ$68,(AllCountiesData!$AO$1+O$15),FALSE)","v":0},{"$f":"VLOOKUP($B$67,AllCountiesData!$A$11:$HZ$68,(AllCountiesData!$AO$1+P$15),FALSE)","v":0},{"$f":"VLOOKUP($B$67,AllCountiesData!$A$11:$HZ$68,(AllCountiesData!$AO$1+Q$15),FALSE)","v":0},{"$f":"VLOOKUP($B$67,AllCountiesData!$A$11:$HZ$68,(AllCountiesData!$AO$1+R$15),FALSE)","v":0},null,null,null,null,"Shasta"]
["% CalFresh on Medi-Cal",{"$f":"CONCATENATE(B$23,\" (\",B67,\")\")","v":"% All CalFresh on Medi-Cal (Stanislaus)"},{"$f":"VLOOKUP($B$67,AllCountiesData!$A$11:$HZ$68,(AllCountiesData!$BJ$1+C$15),FALSE)","v":0},{"$f":"VLOOKUP($B$67,AllCountiesData!$A$11:$HZ$68,(AllCountiesData!$BJ$1+D$15),FALSE)","v":0},{"$f":"VLOOKUP($B$67,AllCountiesData!$A$11:$HZ$68,(AllCountiesData!$BJ$1+E$15),FALSE)","v":0},{"$f":"VLOOKUP($B$67,AllCountiesData!$A$11:$HZ$68,(AllCountiesData!$BJ$1+F$15),FALSE)","v":0},{"$f":"VLOOKUP($B$67,AllCountiesData!$A$11:$HZ$68,(AllCountiesData!$BJ$1+G$15),FALSE)","v":0},{"$f":"VLOOKUP($B$67,AllCountiesData!$A$11:$HZ$68,(AllCountiesData!$BJ$1+H$15),FALSE)","v":0},{"$f":"VLOOKUP($B$67,AllCountiesData!$A$11:$HZ$68,(AllCountiesData!$BJ$1+I$15),FALSE)","v":0},{"$f":"VLOOKUP($B$67,AllCountiesData!$A$11:$HZ$68,(AllCountiesData!$BJ$1+J$15),FALSE)","v":0},{"$f":"VLOOKUP($B$67,AllCountiesData!$A$11:$HZ$68,(AllCountiesData!$BJ$1+K$15),FALSE)","v":0},{"$f":"VLOOKUP($B$67,AllCountiesData!$A$11:$HZ$68,(AllCountiesData!$BJ$1+L$15),FALSE)","v":0},{"$f":"VLOOKUP($B$67,AllCountiesData!$A$11:$HZ$68,(AllCountiesData!$BJ$1+M$15),FALSE)","v":0},{"$f":"VLOOKUP($B$67,AllCountiesData!$A$11:$HZ$68,(AllCountiesData!$BJ$1+N$15),FALSE)","v":0},{"$f":"VLOOKUP($B$67,AllCountiesData!$A$11:$HZ$68,(AllCountiesData!$BJ$1+O$15),FALSE)","v":0},{"$f":"VLOOKUP($B$67,AllCountiesData!$A$11:$HZ$68,(AllCountiesData!$BJ$1+P$15),FALSE)","v":0},{"$f":"VLOOKUP($B$67,AllCountiesData!$A$11:$HZ$68,(AllCountiesData!$BJ$1+Q$15),FALSE)","v":0},{"$f":"VLOOKUP($B$67,AllCountiesData!$A$11:$HZ$68,(AllCountiesData!$BJ$1+R$15),FALSE)","v":0},null,null,null,null,"Solano"]
["Avg Days to Approval",{"$f":"CONCATENATE(B$24,\" (\",B67,\")\")","v":"Avg Days to Approval (Stanislaus)"},{"$f":"VLOOKUP($B$67,AllCountiesData!$A$11:$IB$68,(AllCountiesData!$CE$1+C$15),FALSE)","v":14},{"$f":"VLOOKUP($B$67,AllCountiesData!$A$11:$IB$68,(AllCountiesData!$CE$1+D$15),FALSE)","v":12},{"$f":"VLOOKUP($B$67,AllCountiesData!$A$11:$IB$68,(AllCountiesData!$CE$1+E$15),FALSE)","v":9.6999999999999993},{"$f":"VLOOKUP($B$67,AllCountiesData!$A$11:$IB$68,(AllCountiesData!$CE$1+F$15),FALSE)","v":9},{"$f":"VLOOKUP($B$67,AllCountiesData!$A$11:$IB$68,(AllCountiesData!$CE$1+G$15),FALSE)","v":9.3000000000000007},{"$f":"VLOOKUP($B$67,AllCountiesData!$A$11:$IB$68,(AllCountiesData!$CE$1+H$15),FALSE)","v":8.3000000000000007},{"$f":"VLOOKUP($B$67,AllCountiesData!$A$11:$IB$68,(AllCountiesData!$CE$1+I$15),FALSE)","v":8.6999999999999993},{"$f":"VLOOKUP($B$67,AllCountiesData!$A$11:$IB$68,(AllCountiesData!$CE$1+J$15),FALSE)","v":10},{"$f":"VLOOKUP($B$67,AllCountiesData!$A$11:$IB$68,(AllCountiesData!$CE$1+K$15),FALSE)","v":11.3},{"$f":"VLOOKUP($B$67,AllCountiesData!$A$11:$IB$68,(AllCountiesData!$CE$1+L$15),FALSE)","v":15},{"$f":"VLOOKUP($B$67,AllCountiesData!$A$11:$IB$68,(AllCountiesData!$CE$1+M$15),FALSE)","v":14},{"$f":"VLOOKUP($B$67,AllCountiesData!$A$11:$IB$68,(AllCountiesData!$CE$1+N$15),FALSE)","v":11.3},{"$f":"VLOOKUP($B$67,AllCountiesData!$A$11:$IB$68,(AllCountiesData!$CE$1+O$15),FALSE)","v":13.7},{"$f":"VLOOKUP($B$67,AllCountiesData!$A$11:$IB$68,(AllCountiesData!$CE$1+P$15),FALSE)","v":12.7},{"$f":"VLOOKUP($B$67,AllCountiesData!$A$11:$IB$68,(AllCountiesData!$CE$1+Q$15),FALSE)","v":9},{"$f":"VLOOKUP($B$67,AllCountiesData!$A$11:$IB$68,(AllCountiesData!$CE$1+R$15),FALSE)","v":9.3000000000000007},{"$f":"VLOOKUP($B$67,AllCountiesData!$A$11:$IB$68,(AllCountiesData!$CE$1+S$15),FALSE)","v":9},{"$f":"VLOOKUP($B$67,AllCountiesData!$A$11:$IB$68,(AllCountiesData!$CE$1+T$15),FALSE)","v":8},null,null,"Sonoma"]
["% of All Approvals not timely (>30 days)",{"$f":"CONCATENATE(A75,\" (\",$B$67,\")\")","v":"% of All Approvals not timely (>30 days) (Stanislaus)"},{"$f":"VLOOKUP($B$67,AllCountiesData!$A$11:$HZ$68,(AllCountiesData!$CY$1+C$15),FALSE)","v":0},{"$f":"VLOOKUP($B$67,AllCountiesData!$A$11:$HZ$68,(AllCountiesData!$CY$1+D$15),FALSE)","v":0},{"$f":"VLOOKUP($B$67,AllCountiesData!$A$11:$HZ$68,(AllCountiesData!$CY$1+E$15),FALSE)","v":0},{"$f":"VLOOKUP($B$67,AllCountiesData!$A$11:$HZ$68,(AllCountiesData!$CY$1+F$15),FALSE)","v":0},{"$f":"VLOOKUP($B$67,AllCountiesData!$A$11:$HZ$68,(AllCountiesData!$CY$1+G$15),FALSE)","v":0},{"$f":"VLOOKUP($B$67,AllCountiesData!$A$11:$HZ$68,(AllCountiesData!$CY$1+H$15),FALSE)","v":1.4000000000000012E-2},{"$f":"VLOOKUP($B$67,AllCountiesData!$A$11:$HZ$68,(AllCountiesData!$CY$1+I$15),FALSE)","v":6.0000000000000053E-3},{"$f":"VLOOKUP($B$67,AllCountiesData!$A$11:$HZ$68,(AllCountiesData!$CY$1+J$15),FALSE)","v":1.6000000000000014E-2},{"$f":"VLOOKUP($B$67,AllCountiesData!$A$11:$HZ$68,(AllCountiesData!$CY$1+K$15),FALSE)","v":3.8000000000000034E-2},{"$f":"VLOOKUP($B$67,AllCountiesData!$A$11:$HZ$68,(AllCountiesData!$CY$1+L$15),FALSE)","v":4.7000000000000042E-2},{"$f":"VLOOKUP($B$67,AllCountiesData!$A$11:$HZ$68,(AllCountiesData!$CY$1+M$15),FALSE)","v":8.4999999999999964E-2},{"$f":"VLOOKUP($B$67,AllCountiesData!$A$11:$HZ$68,(AllCountiesData!$CY$1+N$15),FALSE)","v":3.5000000000000031E-2},{"$f":"VLOOKUP($B$67,AllCountiesData!$A$11:$HZ$68,(AllCountiesData!$CY$1+O$15),FALSE)","v":1.5000000000000013E-2},{"$f":"VLOOKUP($B$67,AllCountiesData!$A$11:$HZ$68,(AllCountiesData!$CY$1+P$15),FALSE)","v":3.7000000000000033E-2},{"$f":"VLOOKUP($B$67,AllCountiesData!$A$11:$HZ$68,(AllCountiesData!$CY$1+Q$15),FALSE)","v":1.4000000000000012E-2},{"$f":"VLOOKUP($B$67,AllCountiesData!$A$11:$HZ$68,(AllCountiesData!$CY$1+R$15),FALSE)","v":8.0000000000000071E-3},{"$f":"VLOOKUP($B$67,AllCountiesData!$A$11:$HZ$68,(AllCountiesData!$CY$1+S$15),FALSE)","v":9.000000000000008E-3},{"$f":"VLOOKUP($B$67,AllCountiesData!$A$11:$HZ$68,(AllCountiesData!$CY$1+T$15),FALSE)","v":2.0000000000000018E-3},{"$f":"VLOOKUP($B$67,AllCountiesData!$A$11:$HZ$68,(AllCountiesData!$CY$1+U$15),FALSE)","v":1.0000000000000009E-2},null,"Stanislaus"]
["% ES entitled not timely (> 3 days)",{"$f":"CONCATENATE(A76,\" (\",$B$67,\")\")","v":"% ES entitled not timely (> 3 days) (Stanislaus)"},{"$f":"VLOOKUP($B$67,AllCountiesData!$A$11:$HZ$68,(AllCountiesData!$DW$1+C$15),FALSE)","v":2.200000000000002E-2},{"$f":"VLOOKUP($B$67,AllCountiesData!$A$11:$HZ$68,(AllCountiesData!$DW$1+D$15),FALSE)","v":2.9000000000000026E-2},{"$f":"VLOOKUP($B$67,AllCountiesData!$A$11:$HZ$68,(AllCountiesData!$DW$1+E$15),FALSE)","v":3.3000000000000029E-2},{"$f":"VLOOKUP($B$67,AllCountiesData!$A$11:$HZ$68,(AllCountiesData!$DW$1+F$15),FALSE)","v":4.0000000000000036E-2},{"$f":"VLOOKUP($B$67,AllCountiesData!$A$11:$HZ$68,(AllCountiesData!$DW$1+G$15),FALSE)","v":4.3000000000000038E-2},{"$f":"VLOOKUP($B$67,AllCountiesData!$A$11:$HZ$68,(AllCountiesData!$DW$1+H$15),FALSE)","v":3.3000000000000029E-2},{"$f":"VLOOKUP($B$67,AllCountiesData!$A$11:$HZ$68,(AllCountiesData!$DW$1+I$15),FALSE)","v":3.0000000000000027E-2},{"$f":"VLOOKUP($B$67,AllCountiesData!$A$11:$HZ$68,(AllCountiesData!$DW$1+J$15),FALSE)","v":6.3999999999999946E-2},{"$f":"VLOOKUP($B$67,AllCountiesData!$A$11:$HZ$68,(AllCountiesData!$DW$1+K$15),FALSE)","v":7.1999999999999953E-2},{"$f":"VLOOKUP($B$67,AllCountiesData!$A$11:$HZ$68,(AllCountiesData!$DW$1+L$15),FALSE)","v":0.122},{"$f":"VLOOKUP($B$67,AllCountiesData!$A$11:$HZ$68,(AllCountiesData!$DW$1+M$15),FALSE)","v":0.14700000000000002},{"$f":"VLOOKUP($B$67,AllCountiesData!$A$11:$HZ$68,(AllCountiesData!$DW$1+N$15),FALSE)","v":0.15400000000000003},{"$f":"VLOOKUP($B$67,AllCountiesData!$A$11:$HZ$68,(AllCountiesData!$DW$1+O$15),FALSE)","v":0.14400000000000002},{"$f":"VLOOKUP($B$67,AllCountiesData!$A$11:$HZ$68,(AllCountiesData!$DW$1+P$15),FALSE)","v":0.10599999999999998},{"$f":"VLOOKUP($B$67,AllCountiesData!$A$11:$HZ$68,(AllCountiesData!$DW$1+Q$15),FALSE)","v":8.1999999999999962E-2},{"$f":"VLOOKUP($B$67,AllCountiesData!$A$11:$HZ$68,(AllCountiesData!$DW$1+R$15),FALSE)","v":9.8999999999999977E-2},{"$f":"VLOOKUP($B$67,AllCountiesData!$A$11:$HZ$68,(AllCountiesData!$DW$1+S$15),FALSE)","v":9.4999999999999973E-2},{"$f":"VLOOKUP($B$67,AllCountiesData!$A$11:$HZ$68,(AllCountiesData!$DW$1+T$15),FALSE)","v":8.4999999999999964E-2},{"$f":"VLOOKUP($B$67,AllCountiesData!$A$11:$HZ$68,(AllCountiesData!$DW$1+U$15),FALSE)","v":7.4999999999999956E-2},null,"Ventura"]
["% of Recerts without CF in Following Month",{"$f":"CONCATENATE(A77,\" (\",$B$67,\")\")","v":"% of Recerts without CF in Following Month (Stanislaus)"},{"$f":"VLOOKUP($B$67,AllCountiesData!$A$11:$HZ$68,(AllCountiesData!$ET$1+C$15),FALSE)","v":0.28582739509105304},{"$f":"VLOOKUP($B$67,AllCountiesData!$A$11:$HZ$68,(AllCountiesData!$ET$1+D$15),FALSE)","v":0.26325104797391707},{"$f":"VLOOKUP($B$67,AllCountiesData!$A$11:$HZ$68,(AllCountiesData!$ET$1+E$15),FALSE)","v":0.28483375292994184},{"$f":"VLOOKUP($B$67,AllCountiesData!$A$11:$HZ$68,(AllCountiesData!$ET$1+F$15),FALSE)","v":0.32251100224196627},{"$f":"VLOOKUP($B$67,AllCountiesData!$A$11:$HZ$68,(AllCountiesData!$ET$1+G$15),FALSE)","v":0.28386428386428386},{"$f":"VLOOKUP($B$67,AllCountiesData!$A$11:$HZ$68,(AllCountiesData!$ET$1+H$15),FALSE)","v":0.35642544424414113},{"$f":"VLOOKUP($B$67,AllCountiesData!$A$11:$HZ$68,(AllCountiesData!$ET$1+I$15),FALSE)","v":0.33020848957552124},{"$f":"VLOOKUP($B$67,AllCountiesData!$A$11:$HZ$68,(AllCountiesData!$ET$1+J$15),FALSE)","v":0.33333333333333331},{"$f":"VLOOKUP($B$67,AllCountiesData!$A$11:$HZ$68,(AllCountiesData!$ET$1+K$15),FALSE)","v":0.35131173970394253},{"$f":"VLOOKUP($B$67,AllCountiesData!$A$11:$HZ$68,(AllCountiesData!$ET$1+L$15),FALSE)","v":0.33589624106865484},{"$f":"VLOOKUP($B$67,AllCountiesData!$A$11:$HZ$68,(AllCountiesData!$ET$1+M$15),FALSE)","v":0.36292229085640204},{"$f":"VLOOKUP($B$67,AllCountiesData!$A$11:$HZ$68,(AllCountiesData!$ET$1+N$15),FALSE)","v":0.36927429838648007},{"$f":"VLOOKUP($B$67,AllCountiesData!$A$11:$HZ$68,(AllCountiesData!$ET$1+O$15),FALSE)","v":0.36713145804787622},{"$f":"VLOOKUP($B$67,AllCountiesData!$A$11:$HZ$68,(AllCountiesData!$ET$1+P$15),FALSE)","v":0.36229205175600737},{"$f":"VLOOKUP($B$67,AllCountiesData!$A$11:$HZ$68,(AllCountiesData!$ET$1+Q$15),FALSE)","v":0.3652737183031835},{"$f":"VLOOKUP($B$67,AllCountiesData!$A$11:$HZ$68,(AllCountiesData!$ET$1+R$15),FALSE)","v":0.38214741903974753},{"$f":"VLOOKUP($B$67,AllCountiesData!$A$11:$HZ$68,(AllCountiesData!$ET$1+S$15),FALSE)","v":0.40078100095632768},{"$f":"VLOOKUP($B$67,AllCountiesData!$A$11:$HZ$68,(AllCountiesData!$ET$1+T$15),FALSE)","v":0.39444264419961117},null,null,"Yolo"]
["% of Unsuccessful Recerts that Reapply within 90 Days",{"$f":"CONCATENATE(A78,\" (\",$B$67,\")\")","v":"% of Unsuccessful Recerts that Reapply within 90 Days (Stanislaus)"},{"$f":"VLOOKUP($B$67,AllCountiesData!$A$11:$HZ$68,(AllCountiesData!$FM$1+C$15),FALSE)","v":0.85906040268456374},{"$f":"VLOOKUP($B$67,AllCountiesData!$A$11:$HZ$68,(AllCountiesData!$FM$1+D$15),FALSE)","v":0.68421052631578949},{"$f":"VLOOKUP($B$67,AllCountiesData!$A$11:$HZ$68,(AllCountiesData!$FM$1+E$15),FALSE)","v":0.67354965585054083},{"$f":"VLOOKUP($B$67,AllCountiesData!$A$11:$HZ$68,(AllCountiesData!$FM$1+F$15),FALSE)","v":0.68659420289855078},{"$f":"VLOOKUP($B$67,AllCountiesData!$A$11:$HZ$68,(AllCountiesData!$FM$1+G$15),FALSE)","v":0.66091954022988508},{"$f":"VLOOKUP($B$67,AllCountiesData!$A$11:$HZ$68,(AllCountiesData!$FM$1+H$15),FALSE)","v":0.44129235618597323},{"$f":"VLOOKUP($B$67,AllCountiesData!$A$11:$HZ$68,(AllCountiesData!$FM$1+I$15),FALSE)","v":0.42370475514549327},{"$f":"VLOOKUP($B$67,AllCountiesData!$A$11:$HZ$68,(AllCountiesData!$FM$1+J$15),FALSE)","v":0.46262626262626261},{"$f":"VLOOKUP($B$67,AllCountiesData!$A$11:$HZ$68,(AllCountiesData!$FM$1+K$15),FALSE)","v":0.60756302521008398},{"$f":"VLOOKUP($B$67,AllCountiesData!$A$11:$HZ$68,(AllCountiesData!$FM$1+L$15),FALSE)","v":0.69741985926505079},{"$f":"VLOOKUP($B$67,AllCountiesData!$A$11:$HZ$68,(AllCountiesData!$FM$1+M$15),FALSE)","v":0.69639210347174951},{"$f":"VLOOKUP($B$67,AllCountiesData!$A$11:$HZ$68,(AllCountiesData!$FM$1+N$15),FALSE)","v":0.79250520471894514},{"$f":"VLOOKUP($B$67,AllCountiesData!$A$11:$HZ$68,(AllCountiesData!$FM$1+O$15),FALSE)","v":0.67455621301775148},{"$f":"VLOOKUP($B$67,AllCountiesData!$A$11:$HZ$68,(AllCountiesData!$FM$1+P$15),FALSE)","v":0.73106646058732616},{"$f":"VLOOKUP($B$67,AllCountiesData!$A$11:$HZ$68,(AllCountiesData!$FM$1+Q$15),FALSE)","v":0.67019167217448772},{"$f":"VLOOKUP($B$67,AllCountiesData!$A$11:$HZ$68,(AllCountiesData!$FM$1+R$15),FALSE)","v":0.630859375},{"$f":"VLOOKUP($B$67,AllCountiesData!$A$11:$HZ$68,(AllCountiesData!$FM$1+S$15),FALSE)","v":0.58114812189936216},{"$f":"VLOOKUP($B$67,AllCountiesData!$A$11:$HZ$68,(AllCountiesData!$FM$1+T$15),FALSE)","v":0.66990291262135926}]
["Share that reapply within 90 days (estimate)",{"$f":"CONCATENATE(A79,\" (\",$B$67,\")\")","v":"Share that reapply within 90 days (estimate) (Stanislaus)"},{"$f":"C78*C77","v":0.24554299712519992},{"$f":"D78*D77","v":0.18011913808741695},0.1918496762605803,0.22143418451033556,0.18761145197926807,0.15728782409512926,0.13991090722255939,0.15420875420875418,0.21344402336634491,0.23426070917376082,0.2527362175262759,0.29265180344022224,0.24765080602046088,0.26485956797618471,0.24480340407100334,0.24108128193327821,0.2329131259987163,0.26423827621139001,null,null,"Small counties"]
["% of Apps on CF in previous 90 days",{"$f":"CONCATENATE(\"In previous 90 days\",\" (\",B$67,\")\")","v":"In previous 90 days (Stanislaus)"},{"$f":"VLOOKUP($B$67,AllCountiesData!$A$11:$HZ$68,(AllCountiesData!$GY$1+C$15),FALSE)","v":0.13144517066085692},{"$f":"VLOOKUP($B$67,AllCountiesData!$A$11:$HZ$68,(AllCountiesData!$GY$1+D$15),FALSE)","v":0.12891599667313558},{"$f":"VLOOKUP($B$67,AllCountiesData!$A$11:$HZ$68,(AllCountiesData!$GY$1+E$15),FALSE)","v":0.12953182347148867},{"$f":"VLOOKUP($B$67,AllCountiesData!$A$11:$HZ$68,(AllCountiesData!$GY$1+F$15),FALSE)","v":0.12759748872579363},{"$f":"VLOOKUP($B$67,AllCountiesData!$A$11:$HZ$68,(AllCountiesData!$GY$1+G$15),FALSE)","v":0.15792139384116693},{"$f":"VLOOKUP($B$67,AllCountiesData!$A$11:$HZ$68,(AllCountiesData!$GY$1+H$15),FALSE)","v":0.28709090909090906},{"$f":"VLOOKUP($B$67,AllCountiesData!$A$11:$HZ$68,(AllCountiesData!$GY$1+I$15),FALSE)","v":0.2903049114478729},{"$f":"VLOOKUP($B$67,AllCountiesData!$A$11:$HZ$68,(AllCountiesData!$GY$1+J$15),FALSE)","v":0.27384771230795207},{"$f":"VLOOKUP($B$67,AllCountiesData!$A$11:$HZ$68,(AllCountiesData!$GY$1+K$15),FALSE)","v":0.32084858725241716},{"$f":"VLOOKUP($B$67,AllCountiesData!$A$11:$HZ$68,(AllCountiesData!$GY$1+L$15),FALSE)","v":0.25591769847050255},{"$f":"VLOOKUP($B$67,AllCountiesData!$A$11:$HZ$68,(AllCountiesData!$GY$1+M$15),FALSE)","v":0.25108403881891389},{"$f":"VLOOKUP($B$67,AllCountiesData!$A$11:$HZ$68,(AllCountiesData!$GY$1+N$15),FALSE)","v":0.26328754144954997},{"$f":"VLOOKUP($B$67,AllCountiesData!$A$11:$HZ$68,(AllCountiesData!$GY$1+O$15),FALSE)","v":0.28050063104753892},{"$f":"VLOOKUP($B$67,AllCountiesData!$A$11:$HZ$68,(AllCountiesData!$GY$1+P$15),FALSE)","v":0.27192542848551671},{"$f":"VLOOKUP($B$67,AllCountiesData!$A$11:$HZ$68,(AllCountiesData!$GY$1+Q$15),FALSE)","v":0.27957543281121189},{"$f":"VLOOKUP($B$67,AllCountiesData!$A$11:$HZ$68,(AllCountiesData!$GY$1+R$15),FALSE)","v":0.27690830532885263},{"$f":"VLOOKUP($B$67,AllCountiesData!$A$11:$HZ$68,(AllCountiesData!$GY$1+S$15),FALSE)","v":0.28729456384323643},{"$f":"VLOOKUP($B$67,AllCountiesData!$A$11:$HZ$68,(AllCountiesData!$GY$1+T$15),FALSE)","v":0.29006266786034018},null,null,"Alpine"]
["% of Apps on CF in previous 30 days",{"$f":"CONCATENATE(\"In previous 30 days\",\" (\",B$67,\")\")","v":"In previous 30 days (Stanislaus)"},{"$f":"VLOOKUP($B$67,AllCountiesData!$A$11:$HZ$68,(AllCountiesData!$GF$1+C$15),FALSE)","v":2.3653906006847185E-2},{"$f":"VLOOKUP($B$67,AllCountiesData!$A$11:$HZ$68,(AllCountiesData!$GF$1+D$15),FALSE)","v":1.8205341465668608E-2},{"$f":"VLOOKUP($B$67,AllCountiesData!$A$11:$HZ$68,(AllCountiesData!$GF$1+E$15),FALSE)","v":2.569152269268642E-2},{"$f":"VLOOKUP($B$67,AllCountiesData!$A$11:$HZ$68,(AllCountiesData!$GF$1+F$15),FALSE)","v":2.1487310991245911E-2},{"$f":"VLOOKUP($B$67,AllCountiesData!$A$11:$HZ$68,(AllCountiesData!$GF$1+G$15),FALSE)","v":3.7479740680713129E-2},{"$f":"VLOOKUP($B$67,AllCountiesData!$A$11:$HZ$68,(AllCountiesData!$GF$1+H$15),FALSE)","v":0.19527272727272726},{"$f":"VLOOKUP($B$67,AllCountiesData!$A$11:$HZ$68,(AllCountiesData!$GF$1+I$15),FALSE)","v":0.19901405879130912},{"$f":"VLOOKUP($B$67,AllCountiesData!$A$11:$HZ$68,(AllCountiesData!$GF$1+J$15),FALSE)","v":0.19162586527097755},{"$f":"VLOOKUP($B$67,AllCountiesData!$A$11:$HZ$68,(AllCountiesData!$GF$1+K$15),FALSE)","v":0.2108326293062987},{"$f":"VLOOKUP($B$67,AllCountiesData!$A$11:$HZ$68,(AllCountiesData!$GF$1+L$15),FALSE)","v":0.17479970866715222},{"$f":"VLOOKUP($B$67,AllCountiesData!$A$11:$HZ$68,(AllCountiesData!$GF$1+M$15),FALSE)","v":0.16012801982242411},{"$f":"VLOOKUP($B$67,AllCountiesData!$A$11:$HZ$68,(AllCountiesData!$GF$1+N$15),FALSE)","v":0.1764092846991947},{"$f":"VLOOKUP($B$67,AllCountiesData!$A$11:$HZ$68,(AllCountiesData!$GF$1+O$15),FALSE)","v":0.17848127892301219},{"$f":"VLOOKUP($B$67,AllCountiesData!$A$11:$HZ$68,(AllCountiesData!$GF$1+P$15),FALSE)","v":0.17810965220006014},{"$f":"VLOOKUP($B$67,AllCountiesData!$A$11:$HZ$68,(AllCountiesData!$GF$1+Q$15),FALSE)","v":0.18538746908491344},{"$f":"VLOOKUP($B$67,AllCountiesData!$A$11:$HZ$68,(AllCountiesData!$GF$1+R$15),FALSE)","v":0.1814690350456073},{"$f":"VLOOKUP($B$67,AllCountiesData!$A$11:$HZ$68,(AllCountiesData!$GF$1+S$15),FALSE)","v":0.17193426042983564},{"$f":"VLOOKUP($B$67,AllCountiesData!$A$11:$HZ$68,(AllCountiesData!$GF$1+T$15),FALSE)","v":0.18591465234258431},null,null,"Amador"]
["Unemployment Rate","Unemployment Rate",{"$f":"VLOOKUP($B$67,AllCountiesData!$A$11:$IH$68,(AllCountiesData!$HR$1+C$15),FALSE)","v":0.17299999999999999},{"$f":"VLOOKUP($B$67,AllCountiesData!$A$11:$IH$68,(AllCountiesData!$HR$1+D$15),FALSE)","v":0.16700000000000001},{"$f":"VLOOKUP($B$67,AllCountiesData!$A$11:$IH$68,(AllCountiesData!$HR$1+E$15),FALSE)","v":0.16700000000000001},{"$f":"VLOOKUP($B$67,AllCountiesData!$A$11:$IH$68,(AllCountiesData!$HR$1+F$15),FALSE)","v":0.16700000000000001},{"$f":"VLOOKUP($B$67,AllCountiesData!$A$11:$IH$68,(AllCountiesData!$HR$1+G$15),FALSE)","v":0.16700000000000001},{"$f":"VLOOKUP($B$67,AllCountiesData!$A$11:$IH$68,(AllCountiesData!$HR$1+H$15),FALSE)","v":0.152},{"$f":"VLOOKUP($B$67,AllCountiesData!$A$11:$IH$68,(AllCountiesData!$HR$1+I$15),FALSE)","v":0.152},{"$f":"VLOOKUP($B$67,AllCountiesData!$A$11:$IH$68,(AllCountiesData!$HR$1+J$15),FALSE)","v":0.152},{"$f":"VLOOKUP($B$67,AllCountiesData!$A$11:$IH$68,(AllCountiesData!$HR$1+K$15),FALSE)","v":0.152},{"$f":"VLOOKUP($B$67,AllCountiesData!$A$11:$IH$68,(AllCountiesData!$HR$1+L$15),FALSE)","v":0.129},{"$f":"VLOOKUP($B$67,AllCountiesData!$A$11:$IH$68,(AllCountiesData!$HR$1+M$15),FALSE)","v":0.129},{"$f":"VLOOKUP($B$67,AllCountiesData!$A$11:$IH$68,(AllCountiesData!$HR$1+N$15),FALSE)","v":0.129},{"$f":"VLOOKUP($B$67,AllCountiesData!$A$11:$IH$68,(AllCountiesData!$HR$1+O$15),FALSE)","v":0.129},{"$f":"VLOOKUP($B$67,AllCountiesData!$A$11:$IH$68,(AllCountiesData!$HR$1+P$15),FALSE)","v":0.23599999999999999},{"$f":"VLOOKUP($B$67,AllCountiesData!$A$11:$IH$68,(AllCountiesData!$HR$1+Q$15),FALSE)","v":0.23599999999999999},{"$f":"VLOOKUP($B$67,AllCountiesData!$A$11:$IH$68,(AllCountiesData!$HR$1+R$15),FALSE)","v":0.23599999999999999},{"$f":"VLOOKUP($B$67,AllCountiesData!$A$11:$IH$68,(AllCountiesData!$HR$1+S$15),FALSE)","v":0.23599999999999999},null,null,null,"Calaveras"]
[null,null,2013,2014,2015,null,null,null,null,null,null,null,null,null,null,null,null,null,null,null,null,null,"Colusa"]
[null,"PAI - this county",{"$f":"VLOOKUP(MDCountySelect,'Comp PAI 2013-14'!A1:D60,4,FALSE)","v":0.72791378141018193},{"$f":"VLOOKUP(MDCountySelect,'Comp PAI 2013-14'!A1:D60,2,FALSE)","v":0.72810062026916145},null,null,null,null,null,null,null,null,null,null,null,null,null,null,null,null,null,null,"Del Norte"]
[null,"PAI - state",{"$f":"C$34","v":0.58017722736492616},{"$f":"D$34","v":0.58277791920882505},null,null,null,null,null,null,null,null,null,null,null,null,null,null,null,null,null,null,"El Dorado"]
[null,{"$f":"CONCATENATE(\"PRI (\",MDCountySelect,\")\")","v":"PRI (Stanislaus)"},{"$f":"VLOOKUP(MDCountySelect,PRI_both_methods!$G$2:$K$61, 2, FALSE)","v":0.72214889693563},{"$f":"VLOOKUP(MDCountySelect,PRI_both_methods!$G$2:$K$61, 3, FALSE)","v":0.79497781177320248},{"$f":"VLOOKUP(MDCountySelect,PRI_both_methods!$G$2:$K$61, 4, FALSE)","v":0.84763916078607604},null,null,null,null,null,null,null,null,null,null,null,null,null,null,null,null,null,"Glenn"]
[null,{"$f":"CONCATENATE(\"New Method (\",MDCountySelect,\")\")","v":"New Method (Stanislaus)"},null,null,{"$f":"VLOOKUP(MDCountySelect,PRI_both_methods!$G$2:$K$61,5,FALSE)","v":0.87422444234218655},null,null,null,null,null,null,null,null,null,null,null,null,null,null,null,null,null,"Inyo"]
[null,"PRI with MOE 2014",null,"High","Low","Point",null,null,null,null,null,null,null,null,null,null,null,null,null,null,null,null,"Lake"]
[null,null,null,{"$f":"VLOOKUP($B$67,PRI_MOE!$O$9:$AI$66,19,FALSE)","v":0.98605675888535571},{"$f":"VLOOKUP($B$67,PRI_MOE!$O$9:$AI$66,20,FALSE)","v":0.78517487735983438},{"$f":"VLOOKUP($B$67,PRI_MOE!$O$9:$AI$66,21,FALSE)","v":0.87422444234218655},null,null,null,null,null,null,null,null,null,null,null,null,null,null,null,null,"Lassen"]
[null,null,null,null,null,null,null,null,null,null,null,null,null,null,null,null,null,null,null,null,null,null,"Marin"]
[null,"SMALL COUNTIES",null,null,null,null,null,null,null,null,null,null,null,null,null,null,null,null,null,null,null,null,"Mariposa"]
[null,{"$f":"SmCtyDashboard!L4","v":"Tuolumne"},2011,2012,null,null,null,2013,null,null,null,2014,null,null,null,2015,null,null,null,2016,null,null,"Mendocino"]
[null,null,"Q4","Q1","Q2","Q3","Q4","Q1","Q2","Q3","Q4","Q1","Q2","Q3","Q4","Q1","Q2","Q3","Q4","Q1","Q2",null,"Modoc"]
["Persons Participating",{"$f":"CONCATENATE(B$20,\" (\", B92,\")\")","v":"Persons Participating (Tuolumne)"},{"$f":"VLOOKUP($B$92,AllCountiesData!$A$11:$HZ$68,(AllCountiesData!$E$1+C$15),FALSE)","v":5073},{"$f":"VLOOKUP($B$92,AllCountiesData!$A$11:$HZ$68,(AllCountiesData!$E$1+D$15),FALSE)","v":5211},{"$f":"VLOOKUP($B$92,AllCountiesData!$A$11:$HZ$68,(AllCountiesData!$E$1+E$15),FALSE)","v":5167},{"$f":"VLOOKUP($B$92,AllCountiesData!$A$11:$HZ$68,(AllCountiesData!$E$1+F$15),FALSE)","v":5103},{"$f":"VLOOKUP($B$92,AllCountiesData!$A$11:$HZ$68,(AllCountiesData!$E$1+G$15),FALSE)","v":5153},{"$f":"VLOOKUP($B$92,AllCountiesData!$A$11:$HZ$68,(AllCountiesData!$E$1+H$15),FALSE)","v":5253},{"$f":"VLOOKUP($B$92,AllCountiesData!$A$11:$HZ$68,(AllCountiesData!$E$1+I$15),FALSE)","v":5227},{"$f":"VLOOKUP($B$92,AllCountiesData!$A$11:$HZ$68,(AllCountiesData!$E$1+J$15),FALSE)","v":5153},{"$f":"VLOOKUP($B$92,AllCountiesData!$A$11:$HZ$68,(AllCountiesData!$E$1+K$15),FALSE)","v":5192},{"$f":"VLOOKUP($B$92,AllCountiesData!$A$11:$HZ$68,(AllCountiesData!$E$1+L$15),FALSE)","v":5409},{"$f":"VLOOKUP($B$92,AllCountiesData!$A$11:$HZ$68,(AllCountiesData!$E$1+M$15),FALSE)","v":5567},{"$f":"VLOOKUP($B$92,AllCountiesData!$A$11:$HZ$68,(AllCountiesData!$E$1+N$15),FALSE)","v":5556},{"$f":"VLOOKUP($B$92,AllCountiesData!$A$11:$HZ$68,(AllCountiesData!$E$1+O$15),FALSE)","v":5465},{"$f":"VLOOKUP($B$92,AllCountiesData!$A$11:$HZ$68,(AllCountiesData!$E$1+P$15),FALSE)","v":5414},{"$f":"VLOOKUP($B$92,AllCountiesData!$A$11:$HZ$68,(AllCountiesData!$E$1+Q$15),FALSE)","v":5559},{"$f":"VLOOKUP($B$92,AllCountiesData!$A$11:$HZ$68,(AllCountiesData!$E$1+R$15),FALSE)","v":5603},{"$f":"VLOOKUP($B$92,AllCountiesData!$A$11:$HZ$68,(AllCountiesData!$E$1+S$15),FALSE)","v":5707},{"$f":"VLOOKUP($B$92,AllCountiesData!$A$11:$HZ$68,(AllCountiesData!$E$1+T$15),FALSE)","v":5609},{"$f":"VLOOKUP($B$92,AllCountiesData!$A$11:$HZ$68,(AllCountiesData!$E$1+U$15),FALSE)","v":5493},null,"Mono"]
["Persons Participating, % change over prior year",{"$f":"CONCATENATE(\"% change over prior year\", \" (\",B92,\")\")","v":"% change over prior year (Tuolumne)"},null,null,null,null,{"$f":"(G94-C94)/C94","v":1.5769761482357578E-2},8.0598733448474374E-3,1.1612154054577124E-2,9.7981579463060943E-3,7.5684067533475646E-3,2.9697315819531698E-2,6.5046872010713602E-2,7.8206869784591501E-2,5.25808936825886E-2,9.2438528378628213E-4,-1.4370396982216634E-3,8.4593232541396689E-3,{"$f":"(S94-O94)/O94","v":4.4281793229643186E-2},{"$f":"(T94-P94)/P94","v":3.6017731806427783E-2},{"$f":"(U94-Q94)/Q94","v":-1.1872638963842417E-2},null,"Napa"]
["Persons Participating, % change over prior quarter",{"$f":"CONCATENATE(\"% change over prior quarter\", \" (\",B92,\")\")","v":"% change over prior quarter (Tuolumne)"},null,{"$f":"(D94-C94)/C94","v":2.7202838557066823E-2},{"$f":"(E94-D94)/D94","v":-8.4436768374592207E-3},-1.2386297658215599E-2,9.7981579463060943E-3,1.9406171162429653E-2,-4.9495526365886163E-3,-1.4157260378802373E-2,7.5684067533475646E-3,4.1795069337442217E-2,2.9210574967646515E-2,-1.9759295850547871E-3,-1.6378689704823614E-2,-9.3321134492223238E-3,2.6782415958625783E-2,7.9150926425616119E-3,1.8561484918793503E-2,-1.7171894165060451E-2,-2.0681048315207701E-2,null,"Nevada"]
["% Medi-Cal on CalFresh",{"$f":"CONCATENATE(B$22,\" (\",B92,\")\")","v":"% All Medi-Cal on CalFresh (Tuolumne)"},{"$f":"VLOOKUP($B$92,AllCountiesData!$A$11:$HZ$68,(AllCountiesData!$AO$1+C$15),FALSE)","v":0},{"$f":"VLOOKUP($B$92,AllCountiesData!$A$11:$HZ$68,(AllCountiesData!$AO$1+D$15),FALSE)","v":0},{"$f":"VLOOKUP($B$92,AllCountiesData!$A$11:$HZ$68,(AllCountiesData!$AO$1+E$15),FALSE)","v":0},{"$f":"VLOOKUP($B$92,AllCountiesData!$A$11:$HZ$68,(AllCountiesData!$AO$1+F$15),FALSE)","v":0},{"$f":"VLOOKUP($B$92,AllCountiesData!$A$11:$HZ$68,(AllCountiesData!$AO$1+G$15),FALSE)","v":0},{"$f":"VLOOKUP($B$92,AllCountiesData!$A$11:$HZ$68,(AllCountiesData!$AO$1+H$15),FALSE)","v":0},{"$f":"VLOOKUP($B$92,AllCountiesData!$A$11:$HZ$68,(AllCountiesData!$AO$1+I$15),FALSE)","v":0},{"$f":"VLOOKUP($B$92,AllCountiesData!$A$11:$HZ$68,(AllCountiesData!$AO$1+J$15),FALSE)","v":0},{"$f":"VLOOKUP($B$92,AllCountiesData!$A$11:$HZ$68,(AllCountiesData!$AO$1+K$15),FALSE)","v":0},{"$f":"VLOOKUP($B$92,AllCountiesData!$A$11:$HZ$68,(AllCountiesData!$AO$1+L$15),FALSE)","v":0},{"$f":"VLOOKUP($B$92,AllCountiesData!$A$11:$HZ$68,(AllCountiesData!$AO$1+M$15),FALSE)","v":0},{"$f":"VLOOKUP($B$92,AllCountiesData!$A$11:$HZ$68,(AllCountiesData!$AO$1+N$15),FALSE)","v":0},{"$f":"VLOOKUP($B$92,AllCountiesData!$A$11:$HZ$68,(AllCountiesData!$AO$1+O$15),FALSE)","v":0},{"$f":"VLOOKUP($B$92,AllCountiesData!$A$11:$HZ$68,(AllCountiesData!$AO$1+P$15),FALSE)","v":0},{"$f":"VLOOKUP($B$92,AllCountiesData!$A$11:$HZ$68,(AllCountiesData!$AO$1+Q$15),FALSE)","v":0},{"$f":"VLOOKUP($B$92,AllCountiesData!$A$11:$HZ$68,(AllCountiesData!$AO$1+R$15),FALSE)","v":0},null,null,null,null,"Placer"]
["% CalFresh on Medi-Cal",{"$f":"CONCATENATE(B$23,\" (\",B92,\")\")","v":"% All CalFresh on Medi-Cal (Tuolumne)"},{"$f":"VLOOKUP($B$92,AllCountiesData!$A$11:$HZ$68,(AllCountiesData!$BJ$1+C$15),FALSE)","v":0},{"$f":"VLOOKUP($B$92,AllCountiesData!$A$11:$HZ$68,(AllCountiesData!$BJ$1+D$15),FALSE)","v":0},{"$f":"VLOOKUP($B$92,AllCountiesData!$A$11:$HZ$68,(AllCountiesData!$BJ$1+E$15),FALSE)","v":0},{"$f":"VLOOKUP($B$92,AllCountiesData!$A$11:$HZ$68,(AllCountiesData!$BJ$1+F$15),FALSE)","v":0},{"$f":"VLOOKUP($B$92,AllCountiesData!$A$11:$HZ$68,(AllCountiesData!$BJ$1+G$15),FALSE)","v":0},{"$f":"VLOOKUP($B$92,AllCountiesData!$A$11:$HZ$68,(AllCountiesData!$BJ$1+H$15),FALSE)","v":0},{"$f":"VLOOKUP($B$92,AllCountiesData!$A$11:$HZ$68,(AllCountiesData!$BJ$1+I$15),FALSE)","v":0},{"$f":"VLOOKUP($B$92,AllCountiesData!$A$11:$HZ$68,(AllCountiesData!$BJ$1+J$15),FALSE)","v":0},{"$f":"VLOOKUP($B$92,AllCountiesData!$A$11:$HZ$68,(AllCountiesData!$BJ$1+K$15),FALSE)","v":0},{"$f":"VLOOKUP($B$92,AllCountiesData!$A$11:$HZ$68,(AllCountiesData!$BJ$1+L$15),FALSE)","v":0},{"$f":"VLOOKUP($B$92,AllCountiesData!$A$11:$HZ$68,(AllCountiesData!$BJ$1+M$15),FALSE)","v":0},{"$f":"VLOOKUP($B$92,AllCountiesData!$A$11:$HZ$68,(AllCountiesData!$BJ$1+N$15),FALSE)","v":0},{"$f":"VLOOKUP($B$92,AllCountiesData!$A$11:$HZ$68,(AllCountiesData!$BJ$1+O$15),FALSE)","v":0},{"$f":"VLOOKUP($B$92,AllCountiesData!$A$11:$HZ$68,(AllCountiesData!$BJ$1+P$15),FALSE)","v":0},{"$f":"VLOOKUP($B$92,AllCountiesData!$A$11:$HZ$68,(AllCountiesData!$BJ$1+Q$15),FALSE)","v":0},{"$f":"VLOOKUP($B$92,AllCountiesData!$A$11:$HZ$68,(AllCountiesData!$BJ$1+R$15),FALSE)","v":0},null,null,null,null,"Plumas"]
["Avg Days to Approval",{"$f":"CONCATENATE(B$24,\" (\",B92,\")\")","v":"Avg Days to Approval (Tuolumne)"},{"$f":"VLOOKUP($B$92,AllCountiesData!$A$11:$IB$68,(AllCountiesData!$CE$1+C$15),FALSE)","v":14.3},{"$f":"VLOOKUP($B$92,AllCountiesData!$A$11:$IB$68,(AllCountiesData!$CE$1+D$15),FALSE)","v":14.7},{"$f":"VLOOKUP($B$92,AllCountiesData!$A$11:$IB$68,(AllCountiesData!$CE$1+E$15),FALSE)","v":15.7},{"$f":"VLOOKUP($B$92,AllCountiesData!$A$11:$IB$68,(AllCountiesData!$CE$1+F$15),FALSE)","v":16.7},{"$f":"VLOOKUP($B$92,AllCountiesData!$A$11:$IB$68,(AllCountiesData!$CE$1+G$15),FALSE)","v":14.7},{"$f":"VLOOKUP($B$92,AllCountiesData!$A$11:$IB$68,(AllCountiesData!$CE$1+H$15),FALSE)","v":13},{"$f":"VLOOKUP($B$92,AllCountiesData!$A$11:$IB$68,(AllCountiesData!$CE$1+I$15),FALSE)","v":16.3},{"$f":"VLOOKUP($B$92,AllCountiesData!$A$11:$IB$68,(AllCountiesData!$CE$1+J$15),FALSE)","v":15.3},{"$f":"VLOOKUP($B$92,AllCountiesData!$A$11:$IB$68,(AllCountiesData!$CE$1+K$15),FALSE)","v":14.3},{"$f":"VLOOKUP($B$92,AllCountiesData!$A$11:$IB$68,(AllCountiesData!$CE$1+L$15),FALSE)","v":14.3},{"$f":"VLOOKUP($B$92,AllCountiesData!$A$11:$IB$68,(AllCountiesData!$CE$1+M$15),FALSE)","v":14.3},{"$f":"VLOOKUP($B$92,AllCountiesData!$A$11:$IB$68,(AllCountiesData!$CE$1+N$15),FALSE)","v":16.7},{"$f":"VLOOKUP($B$92,AllCountiesData!$A$11:$IB$68,(AllCountiesData!$CE$1+O$15),FALSE)","v":16.3},{"$f":"VLOOKUP($B$92,AllCountiesData!$A$11:$IB$68,(AllCountiesData!$CE$1+P$15),FALSE)","v":18.3},{"$f":"VLOOKUP($B$92,AllCountiesData!$A$11:$IB$68,(AllCountiesData!$CE$1+Q$15),FALSE)","v":15.3},{"$f":"VLOOKUP($B$92,AllCountiesData!$A$11:$IB$68,(AllCountiesData!$CE$1+R$15),FALSE)","v":15.3},{"$f":"VLOOKUP($B$92,AllCountiesData!$A$11:$IB$68,(AllCountiesData!$CE$1+S$15),FALSE)","v":13.7},{"$f":"VLOOKUP($B$92,AllCountiesData!$A$11:$IB$68,(AllCountiesData!$CE$1+T$15),FALSE)","v":13.3},null,null,"San Benito"]
["% of All Approvals not timely (>30 days)",{"$f":"CONCATENATE(A100,\" (\",$B$92,\")\")","v":"% of All Approvals not timely (>30 days) (Tuolumne)"},{"$f":"VLOOKUP($B$92,AllCountiesData!$A$11:$HZ$68,(AllCountiesData!$CY$1+C$15),FALSE)","v":1.2000000000000011E-2},{"$f":"VLOOKUP($B$92,AllCountiesData!$A$11:$HZ$68,(AllCountiesData!$CY$1+D$15),FALSE)","v":1.0000000000000009E-2},{"$f":"VLOOKUP($B$92,AllCountiesData!$A$11:$HZ$68,(AllCountiesData!$CY$1+E$15),FALSE)","v":3.400000000000003E-2},{"$f":"VLOOKUP($B$92,AllCountiesData!$A$11:$HZ$68,(AllCountiesData!$CY$1+F$15),FALSE)","v":2.200000000000002E-2},{"$f":"VLOOKUP($B$92,AllCountiesData!$A$11:$HZ$68,(AllCountiesData!$CY$1+G$15),FALSE)","v":3.0000000000000027E-2},{"$f":"VLOOKUP($B$92,AllCountiesData!$A$11:$HZ$68,(AllCountiesData!$CY$1+H$15),FALSE)","v":4.6000000000000041E-2},{"$f":"VLOOKUP($B$92,AllCountiesData!$A$11:$HZ$68,(AllCountiesData!$CY$1+I$15),FALSE)","v":4.9000000000000044E-2},{"$f":"VLOOKUP($B$92,AllCountiesData!$A$11:$HZ$68,(AllCountiesData!$CY$1+J$15),FALSE)","v":7.6999999999999957E-2},{"$f":"VLOOKUP($B$92,AllCountiesData!$A$11:$HZ$68,(AllCountiesData!$CY$1+K$15),FALSE)","v":0.11399999999999999},{"$f":"VLOOKUP($B$92,AllCountiesData!$A$11:$HZ$68,(AllCountiesData!$CY$1+L$15),FALSE)","v":6.5999999999999948E-2},{"$f":"VLOOKUP($B$92,AllCountiesData!$A$11:$HZ$68,(AllCountiesData!$CY$1+M$15),FALSE)","v":6.1000000000000054E-2},{"$f":"VLOOKUP($B$92,AllCountiesData!$A$11:$HZ$68,(AllCountiesData!$CY$1+N$15),FALSE)","v":4.6000000000000041E-2},{"$f":"VLOOKUP($B$92,AllCountiesData!$A$11:$HZ$68,(AllCountiesData!$CY$1+O$15),FALSE)","v":3.5000000000000031E-2},{"$f":"VLOOKUP($B$92,AllCountiesData!$A$11:$HZ$68,(AllCountiesData!$CY$1+P$15),FALSE)","v":0.10699999999999998},{"$f":"VLOOKUP($B$92,AllCountiesData!$A$11:$HZ$68,(AllCountiesData!$CY$1+Q$15),FALSE)","v":4.9000000000000044E-2},{"$f":"VLOOKUP($B$92,AllCountiesData!$A$11:$HZ$68,(AllCountiesData!$CY$1+R$15),FALSE)","v":0.123},{"$f":"VLOOKUP($B$92,AllCountiesData!$A$11:$HZ$68,(AllCountiesData!$CY$1+S$15),FALSE)","v":2.9000000000000026E-2},{"$f":"VLOOKUP($B$92,AllCountiesData!$A$11:$HZ$68,(AllCountiesData!$CY$1+T$15),FALSE)","v":7.0000000000000062E-3},{"$f":"VLOOKUP($B$92,AllCountiesData!$A$11:$HZ$68,(AllCountiesData!$CY$1+U$15),FALSE)","v":1.6000000000000014E-2},null,"San Luis Obispo"]
["% ES entitled not timely (> 3 days)",{"$f":"CONCATENATE(A101,\" (\",$B$92,\")\")","v":"% ES entitled not timely (> 3 days) (Tuolumne)"},{"$f":"VLOOKUP($B$92,AllCountiesData!$A$11:$HZ$68,(AllCountiesData!$DW$1+C$15),FALSE)","v":1.7000000000000015E-2},{"$f":"VLOOKUP($B$92,AllCountiesData!$A$11:$HZ$68,(AllCountiesData!$DW$1+D$15),FALSE)","v":6.2999999999999945E-2},{"$f":"VLOOKUP($B$92,AllCountiesData!$A$11:$HZ$68,(AllCountiesData!$DW$1+E$15),FALSE)","v":7.2999999999999954E-2},{"$f":"VLOOKUP($B$92,AllCountiesData!$A$11:$HZ$68,(AllCountiesData!$DW$1+F$15),FALSE)","v":5.4000000000000048E-2},{"$f":"VLOOKUP($B$92,AllCountiesData!$A$11:$HZ$68,(AllCountiesData!$DW$1+G$15),FALSE)","v":4.0000000000000036E-2},{"$f":"VLOOKUP($B$92,AllCountiesData!$A$11:$HZ$68,(AllCountiesData!$DW$1+H$15),FALSE)","v":2.9000000000000026E-2},{"$f":"VLOOKUP($B$92,AllCountiesData!$A$11:$HZ$68,(AllCountiesData!$DW$1+I$15),FALSE)","v":2.7000000000000024E-2},{"$f":"VLOOKUP($B$92,AllCountiesData!$A$11:$HZ$68,(AllCountiesData!$DW$1+J$15),FALSE)","v":4.500000000000004E-2},{"$f":"VLOOKUP($B$92,AllCountiesData!$A$11:$HZ$68,(AllCountiesData!$DW$1+K$15),FALSE)","v":4.1000000000000036E-2},{"$f":"VLOOKUP($B$92,AllCountiesData!$A$11:$HZ$68,(AllCountiesData!$DW$1+L$15),FALSE)","v":8.5999999999999965E-2},{"$f":"VLOOKUP($B$92,AllCountiesData!$A$11:$HZ$68,(AllCountiesData!$DW$1+M$15),FALSE)","v":0.11199999999999999},{"$f":"VLOOKUP($B$92,AllCountiesData!$A$11:$HZ$68,(AllCountiesData!$DW$1+N$15),FALSE)","v":8.7999999999999967E-2},{"$f":"VLOOKUP($B$92,AllCountiesData!$A$11:$HZ$68,(AllCountiesData!$DW$1+O$15),FALSE)","v":0.14200000000000002},{"$f":"VLOOKUP($B$92,AllCountiesData!$A$11:$HZ$68,(AllCountiesData!$DW$1+P$15),FALSE)","v":0.247},{"$f":"VLOOKUP($B$92,AllCountiesData!$A$11:$HZ$68,(AllCountiesData!$DW$1+Q$15),FALSE)","v":0.21299999999999997},{"$f":"VLOOKUP($B$92,AllCountiesData!$A$11:$HZ$68,(AllCountiesData!$DW$1+R$15),FALSE)","v":3.8000000000000034E-2},{"$f":"VLOOKUP($B$92,AllCountiesData!$A$11:$HZ$68,(AllCountiesData!$DW$1+S$15),FALSE)","v":1.7000000000000015E-2},{"$f":"VLOOKUP($B$92,AllCountiesData!$A$11:$HZ$68,(AllCountiesData!$DW$1+T$15),FALSE)","v":3.1000000000000028E-2},{"$f":"VLOOKUP($B$92,AllCountiesData!$A$11:$HZ$68,(AllCountiesData!$DW$1+U$15),FALSE)","v":1.5000000000000013E-2},null,"Sierra"]
["% of Recerts without CF in Following Month",{"$f":"CONCATENATE(A102,\" (\",$B$92,\")\")","v":"% of Recerts without CF in Following Month (Tuolumne)"},{"$f":"VLOOKUP($B$92,AllCountiesData!$A$11:$HZ$68,(AllCountiesData!$ET$1+C$15),FALSE)","v":0.33656957928802589},{"$f":"VLOOKUP($B$92,AllCountiesData!$A$11:$HZ$68,(AllCountiesData!$ET$1+D$15),FALSE)","v":0.22700119474313021},{"$f":"VLOOKUP($B$92,AllCountiesData!$A$11:$HZ$68,(AllCountiesData!$ET$1+E$15),FALSE)","v":0.23277909738717339},{"$f":"VLOOKUP($B$92,AllCountiesData!$A$11:$HZ$68,(AllCountiesData!$ET$1+F$15),FALSE)","v":0.2709677419354839},{"$f":"VLOOKUP($B$92,AllCountiesData!$A$11:$HZ$68,(AllCountiesData!$ET$1+G$15),FALSE)","v":0.23745819397993312},{"$f":"VLOOKUP($B$92,AllCountiesData!$A$11:$HZ$68,(AllCountiesData!$ET$1+H$15),FALSE)","v":0.40740740740740738},{"$f":"VLOOKUP($B$92,AllCountiesData!$A$11:$HZ$68,(AllCountiesData!$ET$1+I$15),FALSE)","v":0.46111111111111114},{"$f":"VLOOKUP($B$92,AllCountiesData!$A$11:$HZ$68,(AllCountiesData!$ET$1+J$15),FALSE)","v":0.45414847161572053},{"$f":"VLOOKUP($B$92,AllCountiesData!$A$11:$HZ$68,(AllCountiesData!$ET$1+K$15),FALSE)","v":0.43487394957983194},{"$f":"VLOOKUP($B$92,AllCountiesData!$A$11:$HZ$68,(AllCountiesData!$ET$1+L$15),FALSE)","v":0.4498448810754912},{"$f":"VLOOKUP($B$92,AllCountiesData!$A$11:$HZ$68,(AllCountiesData!$ET$1+M$15),FALSE)","v":0.43954802259887005},{"$f":"VLOOKUP($B$92,AllCountiesData!$A$11:$HZ$68,(AllCountiesData!$ET$1+N$15),FALSE)","v":0.43446088794926002},{"$f":"VLOOKUP($B$92,AllCountiesData!$A$11:$HZ$68,(AllCountiesData!$ET$1+O$15),FALSE)","v":0.44902386117136661},{"$f":"VLOOKUP($B$92,AllCountiesData!$A$11:$HZ$68,(AllCountiesData!$ET$1+P$15),FALSE)","v":0.44071353620146902},{"$f":"VLOOKUP($B$92,AllCountiesData!$A$11:$HZ$68,(AllCountiesData!$ET$1+Q$15),FALSE)","v":0.42954545454545456},{"$f":"VLOOKUP($B$92,AllCountiesData!$A$11:$HZ$68,(AllCountiesData!$ET$1+R$15),FALSE)","v":0.42695473251028809},{"$f":"VLOOKUP($B$92,AllCountiesData!$A$11:$HZ$68,(AllCountiesData!$ET$1+S$15),FALSE)","v":0.42505133470225875},{"$f":"VLOOKUP($B$92,AllCountiesData!$A$11:$HZ$68,(AllCountiesData!$ET$1+T$15),FALSE)","v":0.4402061855670103},null,null,"Siskiyou"]
["% of Unsuccessful Recerts that Reapply within 90 Days",{"$f":"CONCATENATE(A103,\" (\",$B$92,\")\")","v":"% of Unsuccessful Recerts that Reapply within 90 Days (Tuolumne)"},{"$f":"VLOOKUP($B$92,AllCountiesData!$A$11:$HZ$68,(AllCountiesData!$FM$1+C$15),FALSE)","v":0.69979716024340766},{"$f":"VLOOKUP($B$92,AllCountiesData!$A$11:$HZ$68,(AllCountiesData!$FM$1+D$15),FALSE)","v":0.47956403269754766},{"$f":"VLOOKUP($B$92,AllCountiesData!$A$11:$HZ$68,(AllCountiesData!$FM$1+E$15),FALSE)","v":0.39873417721518989},{"$f":"VLOOKUP($B$92,AllCountiesData!$A$11:$HZ$68,(AllCountiesData!$FM$1+F$15),FALSE)","v":0.56653225806451613},{"$f":"VLOOKUP($B$92,AllCountiesData!$A$11:$HZ$68,(AllCountiesData!$FM$1+G$15),FALSE)","v":0.52242152466367708},{"$f":"VLOOKUP($B$92,AllCountiesData!$A$11:$HZ$68,(AllCountiesData!$FM$1+H$15),FALSE)","v":0.47309417040358742},{"$f":"VLOOKUP($B$92,AllCountiesData!$A$11:$HZ$68,(AllCountiesData!$FM$1+I$15),FALSE)","v":0.30578512396694213},{"$f":"VLOOKUP($B$92,AllCountiesData!$A$11:$HZ$68,(AllCountiesData!$FM$1+J$15),FALSE)","v":0.42105263157894735},{"$f":"VLOOKUP($B$92,AllCountiesData!$A$11:$HZ$68,(AllCountiesData!$FM$1+K$15),FALSE)","v":0.4},{"$f":"VLOOKUP($B$92,AllCountiesData!$A$11:$HZ$68,(AllCountiesData!$FM$1+L$15),FALSE)","v":0.28731343283582089},{"$f":"VLOOKUP($B$92,AllCountiesData!$A$11:$HZ$68,(AllCountiesData!$FM$1+M$15),FALSE)","v":0.28731343283582089},{"$f":"VLOOKUP($B$92,AllCountiesData!$A$11:$HZ$68,(AllCountiesData!$FM$1+N$15),FALSE)","v":0.3273542600896861},{"$f":"VLOOKUP($B$92,AllCountiesData!$A$11:$HZ$68,(AllCountiesData!$FM$1+O$15),FALSE)","v":0.28501628664495116},{"$f":"VLOOKUP($B$92,AllCountiesData!$A$11:$HZ$68,(AllCountiesData!$FM$1+P$15),FALSE)","v":0.21638330757341576},{"$f":"VLOOKUP($B$92,AllCountiesData!$A$11:$HZ$68,(AllCountiesData!$FM$1+Q$15),FALSE)","v":0.17944535073409462},{"$f":"VLOOKUP($B$92,AllCountiesData!$A$11:$HZ$68,(AllCountiesData!$FM$1+R$15),FALSE)","v":0.24233576642335766},{"$f":"VLOOKUP($B$92,AllCountiesData!$A$11:$HZ$68,(AllCountiesData!$FM$1+S$15),FALSE)","v":0.28217821782178215},{"$f":"VLOOKUP($B$92,AllCountiesData!$A$11:$HZ$68,(AllCountiesData!$FM$1+T$15),FALSE)","v":0.20954003407155025},null,null,"Sutter"]
["Share that reapply within 90 days (estimate)",{"$f":"CONCATENATE(A104,\" (\",$B$92,\")\")","v":"Share that reapply within 90 days (estimate) (Tuolumne)"},{"$f":"C103*C102","v":0.23553043581007896},{"$f":"D103*D102","v":0.10886160837817688},9.2816981869569146E-2,0.15351196670135278,0.12405327174287985,0.19274206942368374,0.14100091827364555,0.19122040910135601,0.17394957983193279,0.12924647702542097,0.12628805126907833,0.14222262251253803,0.12797911352604097,9.5363052655650177E-2,7.7079934747145196E-2,0.10346640233096033,0.11994022810905321,9.2240819122218515E-2,null,null,"Tehama"]
["% of Apps on CF in previous 90 days",{"$f":"CONCATENATE(\"In previous 90 days\",\" (\",B$92,\")\")","v":"In previous 90 days (Tuolumne)"},{"$f":"VLOOKUP($B$92,AllCountiesData!$A$11:$HZ$68,(AllCountiesData!$GY$1+C$15),FALSE)","v":0.13356164383561644},{"$f":"VLOOKUP($B$92,AllCountiesData!$A$11:$HZ$68,(AllCountiesData!$GY$1+D$15),FALSE)","v":0.15098241985522234},{"$f":"VLOOKUP($B$92,AllCountiesData!$A$11:$HZ$68,(AllCountiesData!$GY$1+E$15),FALSE)","v":0.1453287197231834},{"$f":"VLOOKUP($B$92,AllCountiesData!$A$11:$HZ$68,(AllCountiesData!$GY$1+F$15),FALSE)","v":0.15783783783783784},{"$f":"VLOOKUP($B$92,AllCountiesData!$A$11:$HZ$68,(AllCountiesData!$GY$1+G$15),FALSE)","v":0.14218009478672985},{"$f":"VLOOKUP($B$92,AllCountiesData!$A$11:$HZ$68,(AllCountiesData!$GY$1+H$15),FALSE)","v":0.22736842105263158},{"$f":"VLOOKUP($B$92,AllCountiesData!$A$11:$HZ$68,(AllCountiesData!$GY$1+I$15),FALSE)","v":0.23414071510957324},{"$f":"VLOOKUP($B$92,AllCountiesData!$A$11:$HZ$68,(AllCountiesData!$GY$1+J$15),FALSE)","v":0.25836820083682011},{"$f":"VLOOKUP($B$92,AllCountiesData!$A$11:$HZ$68,(AllCountiesData!$GY$1+K$15),FALSE)","v":0.25605536332179929},{"$f":"VLOOKUP($B$92,AllCountiesData!$A$11:$HZ$68,(AllCountiesData!$GY$1+L$15),FALSE)","v":0.20792079207920791},{"$f":"VLOOKUP($B$92,AllCountiesData!$A$11:$HZ$68,(AllCountiesData!$GY$1+M$15),FALSE)","v":0.20372836218375498},{"$f":"VLOOKUP($B$92,AllCountiesData!$A$11:$HZ$68,(AllCountiesData!$GY$1+N$15),FALSE)","v":0.2139364303178484},{"$f":"VLOOKUP($B$92,AllCountiesData!$A$11:$HZ$68,(AllCountiesData!$GY$1+O$15),FALSE)","v":0.23945409429280398},{"$f":"VLOOKUP($B$92,AllCountiesData!$A$11:$HZ$68,(AllCountiesData!$GY$1+P$15),FALSE)","v":0.21460674157303372},{"$f":"VLOOKUP($B$92,AllCountiesData!$A$11:$HZ$68,(AllCountiesData!$GY$1+Q$15),FALSE)","v":0.23167848699763594},{"$f":"VLOOKUP($B$92,AllCountiesData!$A$11:$HZ$68,(AllCountiesData!$GY$1+R$15),FALSE)","v":0.20512820512820512},{"$f":"VLOOKUP($B$92,AllCountiesData!$A$11:$HZ$68,(AllCountiesData!$GY$1+S$15),FALSE)","v":0.25733333333333336},{"$f":"VLOOKUP($B$92,AllCountiesData!$A$11:$HZ$68,(AllCountiesData!$GY$1+T$15),FALSE)","v":0.22287735849056603},null,null,"Trinity"]
["% of Apps on CF in previous 30 days",{"$f":"CONCATENATE(\"In previous 30 days\",\" (\",B$92,\")\")","v":"In previous 30 days (Tuolumne)"},{"$f":"VLOOKUP($B$92,AllCountiesData!$A$11:$HZ$68,(AllCountiesData!$GF$1+C$15),FALSE)","v":4.1095890410958902E-2},{"$f":"VLOOKUP($B$92,AllCountiesData!$A$11:$HZ$68,(AllCountiesData!$GF$1+D$15),FALSE)","v":3.8262668045501554E-2},{"$f":"VLOOKUP($B$92,AllCountiesData!$A$11:$HZ$68,(AllCountiesData!$GF$1+E$15),FALSE)","v":3.9215686274509803E-2},{"$f":"VLOOKUP($B$92,AllCountiesData!$A$11:$HZ$68,(AllCountiesData!$GF$1+F$15),FALSE)","v":0.04},{"$f":"VLOOKUP($B$92,AllCountiesData!$A$11:$HZ$68,(AllCountiesData!$GF$1+G$15),FALSE)","v":3.5545023696682464E-2},{"$f":"VLOOKUP($B$92,AllCountiesData!$A$11:$HZ$68,(AllCountiesData!$GF$1+H$15),FALSE)","v":0.16105263157894736},{"$f":"VLOOKUP($B$92,AllCountiesData!$A$11:$HZ$68,(AllCountiesData!$GF$1+I$15),FALSE)","v":0.14763552479815456},{"$f":"VLOOKUP($B$92,AllCountiesData!$A$11:$HZ$68,(AllCountiesData!$GF$1+J$15),FALSE)","v":0.16841004184100419},{"$f":"VLOOKUP($B$92,AllCountiesData!$A$11:$HZ$68,(AllCountiesData!$GF$1+K$15),FALSE)","v":0.16608996539792387},{"$f":"VLOOKUP($B$92,AllCountiesData!$A$11:$HZ$68,(AllCountiesData!$GF$1+L$15),FALSE)","v":0.11221122112211221},{"$f":"VLOOKUP($B$92,AllCountiesData!$A$11:$HZ$68,(AllCountiesData!$GF$1+M$15),FALSE)","v":0.12250332889480692},{"$f":"VLOOKUP($B$92,AllCountiesData!$A$11:$HZ$68,(AllCountiesData!$GF$1+N$15),FALSE)","v":0.13447432762836187},{"$f":"VLOOKUP($B$92,AllCountiesData!$A$11:$HZ$68,(AllCountiesData!$GF$1+O$15),FALSE)","v":0.15880893300248139},{"$f":"VLOOKUP($B$92,AllCountiesData!$A$11:$HZ$68,(AllCountiesData!$GF$1+P$15),FALSE)","v":0.14943820224719101},{"$f":"VLOOKUP($B$92,AllCountiesData!$A$11:$HZ$68,(AllCountiesData!$GF$1+Q$15),FALSE)","v":0.14066193853427897},{"$f":"VLOOKUP($B$92,AllCountiesData!$A$11:$HZ$68,(AllCountiesData!$GF$1+R$15),FALSE)","v":0.115995115995116},{"$f":"VLOOKUP($B$92,AllCountiesData!$A$11:$HZ$68,(AllCountiesData!$GF$1+S$15),FALSE)","v":0.16266666666666665},{"$f":"VLOOKUP($B$92,AllCountiesData!$A$11:$HZ$68,(AllCountiesData!$GF$1+T$15),FALSE)","v":0.13325471698113209},null,null,"Tuolumne"]
["Unemployment Rate","Unemployment Rate",{"$f":"VLOOKUP($B$92,AllCountiesData!$A$11:$IH$68,(AllCountiesData!$HR$1+C$15),FALSE)","v":0.13800000000000001},{"$f":"VLOOKUP($B$92,AllCountiesData!$A$11:$IH$68,(AllCountiesData!$HR$1+D$15),FALSE)","v":0.13},{"$f":"VLOOKUP($B$92,AllCountiesData!$A$11:$IH$68,(AllCountiesData!$HR$1+E$15),FALSE)","v":0.13},{"$f":"VLOOKUP($B$92,AllCountiesData!$A$11:$IH$68,(AllCountiesData!$HR$1+F$15),FALSE)","v":0.13},{"$f":"VLOOKUP($B$92,AllCountiesData!$A$11:$IH$68,(AllCountiesData!$HR$1+G$15),FALSE)","v":0.13},{"$f":"VLOOKUP($B$92,AllCountiesData!$A$11:$IH$68,(AllCountiesData!$HR$1+H$15),FALSE)","v":0.11600000000000001},{"$f":"VLOOKUP($B$92,AllCountiesData!$A$11:$IH$68,(AllCountiesData!$HR$1+I$15),FALSE)","v":0.11600000000000001},{"$f":"VLOOKUP($B$92,AllCountiesData!$A$11:$IH$68,(AllCountiesData!$HR$1+J$15),FALSE)","v":0.11600000000000001},{"$f":"VLOOKUP($B$92,AllCountiesData!$A$11:$IH$68,(AllCountiesData!$HR$1+K$15),FALSE)","v":0.11600000000000001},{"$f":"VLOOKUP($B$92,AllCountiesData!$A$11:$IH$68,(AllCountiesData!$HR$1+L$15),FALSE)","v":0.108},{"$f":"VLOOKUP($B$92,AllCountiesData!$A$11:$IH$68,(AllCountiesData!$HR$1+M$15),FALSE)","v":0.108},{"$f":"VLOOKUP($B$92,AllCountiesData!$A$11:$IH$68,(AllCountiesData!$HR$1+N$15),FALSE)","v":0.108},{"$f":"VLOOKUP($B$92,AllCountiesData!$A$11:$IH$68,(AllCountiesData!$HR$1+O$15),FALSE)","v":0.108},{"$f":"VLOOKUP($B$92,AllCountiesData!$A$11:$IH$68,(AllCountiesData!$HR$1+P$15),FALSE)","v":8.6999999999999994E-2},{"$f":"VLOOKUP($B$92,AllCountiesData!$A$11:$IH$68,(AllCountiesData!$HR$1+Q$15),FALSE)","v":8.6999999999999994E-2},{"$f":"VLOOKUP($B$92,AllCountiesData!$A$11:$IH$68,(AllCountiesData!$HR$1+R$15),FALSE)","v":8.6999999999999994E-2},{"$f":"VLOOKUP($B$92,AllCountiesData!$A$11:$IH$68,(AllCountiesData!$HR$1+S$15),FALSE)","v":8.6999999999999994E-2},null,null,null,"Yuba"]
[null,null,2013,2014,2015]
[null,"PAI - this county",{"$f":"VLOOKUP(SMCountySelect,'Comp PAI 2013-14'!A1:D60,4,FALSE)","v":0.52707957108198022},{"$f":"VLOOKUP(SMCountySelect,'Comp PAI 2013-14'!A1:D60,2,FALSE)","v":0.54704444778985017}]
[null,"PAI - state",{"$f":"C$34","v":0.58017722736492616},{"$f":"D$34","v":0.58277791920882505}]
[null,{"$f":"CONCATENATE(\"PRI (\",SMCountySelect,\")\")","v":"PRI (Tuolumne)"},{"$f":"VLOOKUP(SMCountySelect,PRI_both_methods!$G$2:$K$61, 2, FALSE)","v":0.5308063709413704},{"$f":"VLOOKUP(SMCountySelect,PRI_both_methods!$G$2:$K$61, 3, FALSE)","v":0.55096208037690064},{"$f":"VLOOKUP(SMCountySelect,PRI_both_methods!$G$2:$K$61, 4, FALSE)","v":0.61580153533595838}]
[null,{"$f":"CONCATENATE(\"New Method (\",SMCountySelect,\")\")","v":"New Method (Tuolumne)"},null,null,{"$f":"VLOOKUP(SMCountySelect,PRI_both_methods!$G$2:$K$61,5,FALSE)","v":0.61887154616755258}]
[null,"PRI with MOE 2014",null,"High","Low","Point"]
[null,null,null,{"$f":"VLOOKUP($B$92,PRI_MOE!$O$9:$AI$66,19,FALSE)","v":0.72568506869463745},{"$f":"VLOOKUP($B$92,PRI_MOE!$O$9:$AI$66,20,FALSE)","v":0.53946738796840199},{"$f":"VLOOKUP($B$92,PRI_MOE!$O$9:$AI$66,21,FALSE)","v":0.61887154616755258}]

{"sheet":"Comp PAI 2013-14","index":15,"n_rows":60,"n_cols":7,"rows_kept":60,"cut":false,"hidden":true,"merged":[]}
["County","2014 PAI","2014 Rank","2013 PAI","2013 Rank","Diff PAI","Diff Rank"]
["Statewide",{"$f":"'[2]2014 PAI SSI Adj'!J2","v":0.58277791920882505},{"$f":"'[2]2014 PAI SSI Adj'!K2","v":"N/A"},0.58017722736492616,"N/A",{"$f":"B2-D2","v":2.6006918438988835E-3},"N/A"]
["Alameda",{"$f":"'[2]2014 PAI SSI Adj'!J3","v":0.53241749722191112},{"$f":"'[2]2014 PAI SSI Adj'!K3","v":38},0.56591822549376103,32,{"$f":"B3-D3","v":-3.3500728271849911E-2},{"$f":"E3-C3","v":-6}]
["Alpine",{"$f":"'[2]2014 PAI SSI Adj'!J4","v":0.83068181818181819},{"$f":"'[2]2014 PAI SSI Adj'!K4","v":3},0.71814471802200652,11,0.11253710015981166,{"$f":"E4-C4","v":8}]
["Amador",{"$f":"'[2]2014 PAI SSI Adj'!J5","v":0.65592498699947999},{"$f":"'[2]2014 PAI SSI Adj'!K5","v":20},0.65170565336893482,22,4.2193336305451634E-3,2]
["Butte",{"$f":"'[2]2014 PAI SSI Adj'!J6","v":0.55655547906509251},{"$f":"'[2]2014 PAI SSI Adj'!K6","v":33},0.5820117965313466,29,-2.5456317466254097E-2,-4]
["Calaveras",{"$f":"'[2]2014 PAI SSI Adj'!J7","v":0.77977530901266068},{"$f":"'[2]2014 PAI SSI Adj'!K7","v":6},0.80897811990966606,2,-2.9202810897005382E-2,-4]
["Colusa",{"$f":"'[2]2014 PAI SSI Adj'!J8","v":0.36564757130229958},{"$f":"'[2]2014 PAI SSI Adj'!K8","v":58},0.41950778846356118,49,-5.3860217161261603E-2,-9]
["Contra Costa",{"$f":"'[2]2014 PAI SSI Adj'!J9","v":0.51150175884602933},{"$f":"'[2]2014 PAI SSI Adj'!K9","v":42},0.4854470351579559,42,2.6054723688073433E-2,0]
["Del Norte",{"$f":"'[2]2014 PAI SSI Adj'!J10","v":0.93077498503889888},{"$f":"'[2]2014 PAI SSI Adj'!K10","v":1},0.9210595575826428,1,9.7154274562560872E-3,0]
["El Dorado",{"$f":"'[2]2014 PAI SSI Adj'!J11","v":0.53726199240685402},{"$f":"'[2]2014 PAI SSI Adj'!K11","v":37},0.58490864376806839,28,-4.7646651361214376E-2,-9]
["Fresno",{"$f":"'[2]2014 PAI SSI Adj'!J12","v":0.75409781942316978},{"$f":"'[2]2014 PAI SSI Adj'!K12","v":7},0.78529057500711008,5,-3.1192755583940301E-2,-2]
["Glenn",{"$f":"'[2]2014 PAI SSI Adj'!J13","v":0.52152681736934303},{"$f":"'[2]2014 PAI SSI Adj'!K13","v":40},0.52550428427522478,37,-3.9774669058817436E-3,-3]
["Humboldt",{"$f":"'[2]2014 PAI SSI Adj'!J14","v":0.59639594535268747},{"$f":"'[2]2014 PAI SSI Adj'!K14","v":31},0.53658716865751954,33,5.9808776695167931E-2,2]
["Imperial",{"$f":"'[2]2014 PAI SSI Adj'!J15","v":0.84229892865735434},{"$f":"'[2]2014 PAI SSI Adj'!K15","v":2},0.77063526977095154,6,7.1663658886402803E-2,4]
["Inyo",{"$f":"'[2]2014 PAI SSI Adj'!J16","v":0.67126128964503262},{"$f":"'[2]2014 PAI SSI Adj'!K16","v":18},0.68613241026911298,14,-1.4871120624080358E-2,-4]
["Kern",{"$f":"'[2]2014 PAI SSI Adj'!J17","v":0.6243254348188878},{"$f":"'[2]2014 PAI SSI Adj'!K17","v":24},0.62323922174111201,24,1.0862130777757883E-3,0]
["Kings",{"$f":"'[2]2014 PAI SSI Adj'!J18","v":0.6368810917318446},{"$f":"'[2]2014 PAI SSI Adj'!K18","v":22},0.67966920191057723,16,-4.278811017873263E-2,-6]
["Lake",{"$f":"'[2]2014 PAI SSI Adj'!J19","v":0.62135117780009363},{"$f":"'[2]2014 PAI SSI Adj'!K19","v":25},0.58513591447640367,27,3.6215263323689961E-2,2]
["Lassen",{"$f":"'[2]2014 PAI SSI Adj'!J20","v":0.75127875807841815},{"$f":"'[2]2014 PAI SSI Adj'!K20","v":8},0.69076553064253898,13,6.0513227435879169E-2,5]
["Los Angeles",{"$f":"'[2]2014 PAI SSI Adj'!J21","v":0.52698458178236596},{"$f":"'[2]2014 PAI SSI Adj'!K21","v":39},0.53034609308963832,34,-3.3615113072723579E-3,-5]
["Madera",{"$f":"'[2]2014 PAI SSI Adj'!J22","v":0.67359434012647534},{"$f":"'[2]2014 PAI SSI Adj'!K22","v":16},0.66108603944005373,19,1.2508300686421614E-2,3]
["Marin",{"$f":"'[2]2014 PAI SSI Adj'!J23","v":0.38720241559012553},{"$f":"'[2]2014 PAI SSI Adj'!K23","v":55},0.38157461427767347,55,5.6278013124520521E-3,0]
["Mariposa",{"$f":"'[2]2014 PAI SSI Adj'!J24","v":0.63727196035010025},{"$f":"'[2]2014 PAI SSI Adj'!K24","v":21},0.58950747229049605,26,4.7764488059604204E-2,5]
["Mendocino",{"$f":"'[2]2014 PAI SSI Adj'!J25","v":0.66107453898716706},{"$f":"'[2]2014 PAI SSI Adj'!K25","v":19},0.68264016104227165,15,-2.1565622055104594E-2,-4]
["Merced",{"$f":"'[2]2014 PAI SSI Adj'!J26","v":0.71856264186249463},{"$f":"'[2]2014 PAI SSI Adj'!K26","v":12},0.72027005179686698,10,-1.7074099343723503E-3,-2]
["Modoc",{"$f":"'[2]2014 PAI SSI Adj'!J27","v":0.45991609458428678},{"$f":"'[2]2014 PAI SSI Adj'!K27","v":48},0.37050828791683016,56,8.9407806667456624E-2,8]
["Mono",{"$f":"'[2]2014 PAI SSI Adj'!J28","v":0.46053340517241381},{"$f":"'[2]2014 PAI SSI Adj'!K28","v":47},0.30114524133128734,58,0.15938816384112647,11]
["Monterey",{"$f":"'[2]2014 PAI SSI Adj'!J29","v":0.54158058412891719},{"$f":"'[2]2014 PAI SSI Adj'!K29","v":36},0.52906264427938299,35,1.2517939849534199E-2,-1]
["Napa",{"$f":"'[2]2014 PAI SSI Adj'!J30","v":0.37689730200174065},{"$f":"'[2]2014 PAI SSI Adj'!K30","v":57},0.3647829958594408,57,1.2114306142299858E-2,0]
["Nevada",{"$f":"'[2]2014 PAI SSI Adj'!J31","v":0.54682033096926719},{"$f":"'[2]2014 PAI SSI Adj'!K31","v":35},0.51265787547646779,38,3.4162455492799393E-2,3]
["Orange",{"$f":"'[2]2014 PAI SSI Adj'!J32","v":0.51156621684323189},{"$f":"'[2]2014 PAI SSI Adj'!K32","v":41},0.48628223632967926,41,2.5283980513552629E-2,0]
["Placer",{"$f":"'[2]2014 PAI SSI Adj'!J33","v":0.44690528100775195},{"$f":"'[2]2014 PAI SSI Adj'!K33","v":49},0.44454218725435934,48,2.3630937533926089E-3,-1]
["Plumas",{"$f":"'[2]2014 PAI SSI Adj'!J34","v":0.50574560999624574},{"$f":"'[2]2014 PAI SSI Adj'!K34","v":43},0.45968889524099349,46,4.6056714755252248E-2,3]
["Riverside",{"$f":"'[2]2014 PAI SSI Adj'!J35","v":0.60042387510867257},{"$f":"'[2]2014 PAI SSI Adj'!K35","v":30},0.6148112446208901,25,-1.4387369512217529E-2,-5]
["Sacramento",{"$f":"'[2]2014 PAI SSI Adj'!J36","v":0.71184359662860219},{"$f":"'[2]2014 PAI SSI Adj'!K36","v":13},0.72080865580941966,9,-8.9650591808174696E-3,-4]
["San Benito",{"$f":"'[2]2014 PAI SSI Adj'!J37","v":0.63570226070226066},{"$f":"'[2]2014 PAI SSI Adj'!K37","v":23},0.65763839685973724,21,-2.1936136157476582E-2,-2]
["San Bernardino",{"$f":"'[2]2014 PAI SSI Adj'!J38","v":0.82290024432574049},{"$f":"'[2]2014 PAI SSI Adj'!K38","v":4},0.8069636225632677,3,1.5936621762472791E-2,-1]
["San Diego",{"$f":"'[2]2014 PAI SSI Adj'!J39","v":0.49414531005602169},{"$f":"'[2]2014 PAI SSI Adj'!K39","v":45},0.47634231479264028,44,1.7802995263381416E-2,-1]
["San Francisco",{"$f":"'[2]2014 PAI SSI Adj'!J40","v":0.4287508488976407},{"$f":"'[2]2014 PAI SSI Adj'!K40","v":51},0.41671675491008753,50,1.2034093987553174E-2,-1]
["San Joaquin",{"$f":"'[2]2014 PAI SSI Adj'!J41","v":0.73321544605741851},{"$f":"'[2]2014 PAI SSI Adj'!K41","v":9},0.7543961853128055,7,-2.1180739255386993E-2,-2]
["San Luis Obispo",{"$f":"'[2]2014 PAI SSI Adj'!J42","v":0.37846821516747453},{"$f":"'[2]2014 PAI SSI Adj'!K42","v":56},0.39965263560052777,51,-2.1184420433053242E-2,-5]
["San Mateo",{"$f":"'[2]2014 PAI SSI Adj'!J43","v":0.41704330448730731},{"$f":"'[2]2014 PAI SSI Adj'!K43","v":52},0.39152250106676617,52,2.5520803420541138E-2,0]
["Santa Barbara",{"$f":"'[2]2014 PAI SSI Adj'!J44","v":0.39804786774063211},{"$f":"'[2]2014 PAI SSI Adj'!K44","v":53},0.38654317952611578,54,1.1504688214516334E-2,1]
["Santa Clara",{"$f":"'[2]2014 PAI SSI Adj'!J45","v":0.48901018473158242},{"$f":"'[2]2014 PAI SSI Adj'!K45","v":46},0.47514440849362055,45,1.3865776237961869E-2,-1]
["Santa Cruz",{"$f":"'[2]2014 PAI SSI Adj'!J46","v":0.4984744390709645},{"$f":"'[2]2014 PAI SSI Adj'!K46","v":44},0.49594484994026461,39,2.5295891306998941E-3,-5]
["Shasta",{"$f":"'[2]2014 PAI SSI Adj'!J47","v":0.67245412764034918},{"$f":"'[2]2014 PAI SSI Adj'!K47","v":17},0.66237720116829524,18,1.0076926472053938E-2,1]
["Sierra",{"$f":"'[2]2014 PAI SSI Adj'!J48","v":0.60240963855421692},{"$f":"'[2]2014 PAI SSI Adj'!K48","v":29},0.45427586632730038,47,0.14813377222691654,18]
["Siskiyou",{"$f":"'[2]2014 PAI SSI Adj'!J49","v":0.61377134830010427},{"$f":"'[2]2014 PAI SSI Adj'!K49","v":28},0.66000557746419086,20,-4.6234229164086593E-2,-8]
["Solano",{"$f":"'[2]2014 PAI SSI Adj'!J50","v":0.68632025478787106},{"$f":"'[2]2014 PAI SSI Adj'!K50","v":15},0.66858714019423882,17,1.7733114593632249E-2,2]
["Sonoma",{"$f":"'[2]2014 PAI SSI Adj'!J51","v":0.44291470149665768},{"$f":"'[2]2014 PAI SSI Adj'!K51","v":50},0.47735171662070197,43,-3.443701512404429E-2,-7]
["Stanislaus",{"$f":"'[2]2014 PAI SSI Adj'!J52","v":0.72810062026916145},{"$f":"'[2]2014 PAI SSI Adj'!K52","v":10},0.72791378141018193,8,1.8683885897952113E-4,-2]
["Sutter",{"$f":"'[2]2014 PAI SSI Adj'!J53","v":0.61490631683004104},{"$f":"'[2]2014 PAI SSI Adj'!K53","v":27},0.58176623169346531,30,3.3140085136575737E-2,3]
["Tehama",{"$f":"'[2]2014 PAI SSI Adj'!J54","v":0.70589679419962847},{"$f":"'[2]2014 PAI SSI Adj'!K54","v":14},0.64616810841457606,23,5.9728685785052416E-2,9]
["Trinity",{"$f":"'[2]2014 PAI SSI Adj'!J55","v":0.57925073746774336},{"$f":"'[2]2014 PAI SSI Adj'!K55","v":32},0.48941780503351456,40,8.9832932434228796E-2,8]
["Tulare",{"$f":"'[2]2014 PAI SSI Adj'!J56","v":0.82054629070207474},{"$f":"'[2]2014 PAI SSI Adj'!K56","v":5},0.7951162465434175,4,2.5430044158657239E-2,-1]
["Tuolumne",{"$f":"'[2]2014 PAI SSI Adj'!J57","v":0.54704444778985017},{"$f":"'[2]2014 PAI SSI Adj'!K57","v":34},0.52707957108198022,36,1.996487670786995E-2,2]
["Ventura",{"$f":"'[2]2014 PAI SSI Adj'!J58","v":0.61569751878063883},{"$f":"'[2]2014 PAI SSI Adj'!K58","v":26},0.5814376537132967,31,3.4259865067342132E-2,5]
["Yolo",{"$f":"'[2]2014 PAI SSI Adj'!J59","v":0.39485087529716878},{"$f":"'[2]2014 PAI SSI Adj'!K59","v":54},0.38664562538653163,53,8.2052499106371468E-3,-1]
["Yuba",{"$f":"'[2]2014 PAI SSI Adj'!J60","v":0.72170714763720578},{"$f":"'[2]2014 PAI SSI Adj'!K60","v":11},0.71493925950260973,12,6.7678881345960562E-3,1]

{"sheet":"HowTo","index":16,"n_rows":29,"n_cols":7,"rows_kept":29,"cut":false,"hidden":false,"merged":[[15,0,16,2],[18,0,19,2],[0,0,0,2],[2,0,3,2],[5,0,6,2],[8,0,10,2]]}
["How to run your own county dashboard",null,null,null,"Large","Medium","Small"]
[null,null,null,null,"Alameda","Butte","Alpine"]
["1) Determine your county's size based on the number of CalFresh participants (see table to the right).",null,null,null,"Fresno","Contra Costa","Amador"]
[null,null,null,null,"Kern","Humboldt","Calaveras"]
[null,null,null,null,"Los Angeles","Imperial","Colusa"]
["2) Select the corresponding worksheet (e.g., LrgCtyDashboard for Large counties).",null,null,null,"Orange","Kings","Del Norte"]
[null,null,null,null,"Riverside","Madera","El Dorado"]
[null,null,null,null,"Sacramento","Merced","Glenn"]
["3) Click on the county name at the top of the page, then click the down arrow to choose your county. The appropriate data will auto-populate.",null,null,null,"San Bernardino","Monterey","Inyo"]
[null,null,null,null,"San Diego","San Francisco","Lake"]
[null,null,null,null,"San Joaquin","San Mateo","Lassen"]
[null,null,null,null,"Santa Clara","Santa Barbara","Marin"]
[null,null,null,null,"Tulare","Santa Cruz","Mariposa"]
[null,null,null,null,null,"Shasta","Mendocino"]
[null,null,null,null,null,"Solano","Modoc"]
["4) Select the File tab to save to Adobe PDF and/or print the dashboard.",null,null,null,null,"Sonoma","Mono"]
[null,null,null,null,null,"Stanislaus","Napa"]
[null,null,null,null,null,"Ventura","Nevada"]
["Note that some small counties may not have data available for this participation chart due to small sample sizes.",null,null,null,null,"Yolo","Placer"]
[null,null,null,null,null,null,"Plumas"]
[null,null,null,null,null,null,"San Benito"]
[null,null,null,null,null,null,"San Luis Obispo"]
[null,null,null,null,null,null,"Sierra"]
[null,null,null,null,null,null,"Siskiyou"]
[null,null,null,null,null,null,"Sutter"]
[null,null,null,null,null,null,"Tehama"]
[null,null,null,null,null,null,"Trinity"]
[null,null,null,null,null,null,"Tuolumne"]
[null,null,null,null,null,null,"Yuba"]

{"sheet":"LrgCtyDashboard","index":17,"n_rows":106,"n_cols":14,"rows_kept":106,"cut":false,"hidden":false,"merged":[[4,13,14,13],[68,0,69,10],[103,0,103,12],[104,0,104,12],[105,0,105,12],[68,11,69,12],[84,0,85,10],[84,11,85,12],[0,2,1,10],[2,2,2,10],[3,0,4,10],[3,11,4,12],[34,0,35,10],[34,11,35,12]]}
[null,null,"CalFresh County Performance Trends"]
[]
[null,null,"Analysis of CDSS CalFresh Data Dashboard"]
["Participation",null,null,null,null,null,null,null,null,null,null,"San Diego"]
[null,null,null,null,null,null,null,null,null,null,null,null,null,"Click on county name to show drop-down arrow and choose county."]
[]
[]
[]
[]
[]
[]
[]
[]
[]
[]
[]
[]
[]
[]
[]
[]
[]
[]
[]
[]
[]
[]
[]
[]
[]
[]
[]
[]
[]
["Dual Participation - Current quarter",null,null,null,null,null,null,null,null,null,null,{"$f":"L4","v":"San Diego"}]
[]
[]
[]
[]
[]
[]
[]
[]
[]
[]
[]
[]
[]
[]
[]
[]
[]
[]
[]
[]
[]
[]
[]
[]
[]
[]
[]
[]
[]
[]
[]
[]
[]
["Timeliness",null,null,null,null,null,null,null,null,null,null,{"$f":"L4","v":"San Diego"}]
[]
[]
[]
[]
[]
[]
[]
[]
[]
[]
[]
[]
[]
[]
[]
["Churn",null,null,null,null,null,null,null,null,null,null,{"$f":"L4","v":"San Diego"}]
[]
[]
[]
[]
[]
[]
[]
[]
[]
[]
[]
[]
[]
[]
[]
[]
[]
["Sources:"]
["Program Access Index: California Food Policy Advocates Website - http://cfpa.net/"]
["Margins of Error are based on American Community Survey 1-year and 5-year estimates."]
["All remaining data: California Department of Social Services CalFresh Program Data Dashboard and Churn Rates Reports - http://www.cdsscounties.ca.gov/foodstamps/ - Data reflects files posted as of January 20, 2017."]

{"sheet":"MedCtyDashboard","index":18,"n_rows":106,"n_cols":14,"rows_kept":106,"cut":false,"hidden":false,"merged":[[4,13,14,13],[105,0,105,12],[106,0,106,12],[68,0,69,10],[68,11,69,12],[84,0,85,10],[84,11,85,12],[103,0,103,12],[104,0,104,12],[0,2,1,10],[2,2,2,10],[3,0,4,10],[3,11,4,12],[34,0,35,10],[34,11,35,12]]}
[null,null,"CalFresh County Performance Trends"]
[]
[null,null,"Analysis of CDSS CalFresh Data Dashboard"]
["Participation",null,null,null,null,null,null,null,null,null,null,"Stanislaus"]
[null,null,null,null,null,null,null,null,null,null,null,null,null,"Click on county name to show drop-down arrow and choose county."]
[]
[]
[]
[]
[]
[]
[]
[]
[]
[]
[]
[]
[]
[]
[]
[]
[]
[]
[]
[]
[]
[]
[]
[]
[]
[]
[]
[]
[]
["Dual Participation - current quarter",null,null,null,null,null,null,null,null,null,null,{"$f":"CONCATENATE(LgMedSmCountyData!B$67,\" County\")","v":"Stanislaus County"}]
[]
[]
[]
[]
[]
[]
[]
[]
[]
[]
[]
[]
[]
[]
[]
[]
[]
[]
[]
[]
[]
[]
[]
[]
[]
[]
[]
[]
[]
[]
[]
[]
[]
["Timeliness",null,null,null,null,null,null,null,null,null,null,{"$f":"CONCATENATE(LgMedSmCountyData!B$67,\" County\")","v":"Stanislaus County"}]
[]
[]
[]
[]
[]
[]
[]
[]
[]
[]
[]
[]
[]
[]
[]
["Churn",null,null,null,null,null,null,null,null,null,null,{"$f":"CONCATENATE(LgMedSmCountyData!B$67,\" County\")","v":"Stanislaus County"}]
[]
[]
[]
[]
[]
[]
[]
[]
[]
[]
[]
[]
[]
[]
[]
[]
[]
["Sources:"]
[{"$f":"LrgCtyDashboard!A104","v":"Program Access Index: California Food Policy Advocates Website - http://cfpa.net/"}]
[{"$f":"LrgCtyDashboard!A105","v":"Margins of Error are based on American Community Survey 1-year and 5-year estimates."}]
[{"$f":"LrgCtyDashboard!A106","v":"All remaining data: California Department of Social Services CalFresh Program Data Dashboard and Churn Rates Reports - http://www.cdsscounties.ca.gov/foodstamps/ - Data reflects files posted as of January 20, 2017."}]

{"sheet":"SmCtyDashboard","index":19,"n_rows":106,"n_cols":14,"rows_kept":106,"cut":false,"hidden":false,"merged":[[14,13,33,13],[4,13,13,13],[105,0,105,12],[106,0,106,12],[68,0,69,10],[68,11,69,12],[84,0,85,10],[84,11,85,12],[103,0,103,12],[104,0,104,12],[0,2,1,10],[2,2,2,10],[3,0,4,10],[3,11,4,12],[34,0,35,10],[34,11,35,12]]}
[null,null,"CalFresh County Performance Trends"]
[]
[null,null,"Analysis of CDSS CalFresh Data Dashboard"]
["Participation",null,null,null,null,null,null,null,null,null,null,"Tuolumne"]
[null,null,null,null,null,null,null,null,null,null,null,null,null,"Click on county name to show drop-down arrow and choose county."]
[]
[]
[]
[]
[]
[]
[]
[]
[]
[null,null,null,null,null,null,null,null,null,null,null,null,null,"This PRI chart may be blank for some small counties if population is small enough that estimates are not available at the county level."]
[]
[]
[]
[]
[]
[]
[]
[]
[]
[]
[]
[]
[]
[]
[]
[]
[]
[]
[]
["Dual Participation - current quarter",null,null,null,null,null,null,null,null,null,null,{"$f":"CONCATENATE(LgMedSmCountyData!B$92,\" County\")","v":"Tuolumne County"}]
[]
[]
[]
[]
[]
[]
[]
[]
[]
[]
[]
[]
[]
[]
[]
[]
[]
[]
[]
[]
[]
[]
[]
[]
[]
[]
[]
[]
[]
[]
[]
[]
[]
["Timeliness",null,null,null,null,null,null,null,null,null,null,{"$f":"CONCATENATE(LgMedSmCountyData!B$92,\" County\")","v":"Tuolumne County"}]
[]
[]
[]
[]
[]
[]
[]
[]
[]
[]
[]
[]
[]
[]
[]
["Churn",null,null,null,null,null,null,null,null,null,null,{"$f":"CONCATENATE(LgMedSmCountyData!B$92,\" County\")","v":"Tuolumne County"}]
[]
[]
[]
[]
[]
[]
[]
[]
[]
[]
[]
[]
[]
[]
[]
[]
[]
["Sources:"]
[{"$f":"LrgCtyDashboard!A104","v":"Program Access Index: California Food Policy Advocates Website - http://cfpa.net/"}]
[{"$f":"LrgCtyDashboard!A105","v":"Margins of Error are based on American Community Survey 1-year and 5-year estimates."}]
[{"$f":"LrgCtyDashboard!A106","v":"All remaining data: California Department of Social Services CalFresh Program Data Dashboard and Churn Rates Reports - http://www.cdsscounties.ca.gov/foodstamps/ - Data reflects files posted as of January 20, 2017."}]